{"text_format":"1","workbook":"xlsx","n_sheets":4,"sheets":["horses","the race","control","players"],"not_rendered":{"charts":0,"images":3,"macros":1,"external_links":0,"defined_names":8,"comments":1,"pivot_tables":0},"unopened":[],"bounds":{"document_bytes":16777216,"sheet_cells":100000,"rows_first":2000,"rows_last":500,"rows_between":2000,"halvings":0,"cell_chars":16384,"cell_head_chars":4096},"cells_cut":0,"cells_raw":0,"read":"whole","date_system":"1900"}

{"sheet":"horses","index":0,"n_rows":4764,"n_cols":12,"rows_kept":4764,"cut":false,"hidden":false,"merged":[]}
["HORSE","SPEED (m/s)","STAMINA (seconds at normal pace)","STRATEGY (S = starter, D = finisher, M = average)","estimated finish time","TRUE SPEED (for non-randomized races only, makes it so that the horse performs better than it's predicted odds)","for distance: uses 1 stamina per turn but max speed is 1/3. at .2 race completion, uses 3 stamina per turn at max speed until run out of stamina then goes to 1/4 speed"]
["D.J.",22,72,"M",{"$f":"MIN(B2*C2/6,400)/(B2/2)+(control!$B$4-MIN(B2*C2/6,400))/(B2/8)","v":73.454545454545453},23,"for sprinter: from start uses 3 stamina per turn at max speed and goes to 1/4 speed when runs out of stamina"]
["Abaccus",20,83,"M",{"$f":"MIN(B3*C3/6,400)/(B3/2)+(control!$B$4-MIN(B3*C3/6,400))/(B3/8)","v":77},21,"for moderate: uses 1 stamina per turn but max speed is 1/3. at 0.06 race completion, uses 2 stamina at 2/3 speed until 0.33 then 3 stamina at max speed"]
["Abbervail Dream",26,91,"M",{"$f":"MIN(B4*C4/6,400)/(B4/2)+(control!$B$4-MIN(B4*C4/6,400))/(B4/8)","v":32.07692307692308},30,"each turn: move distance equal to random between (1,speed)",null,null,null,null,"Yes"]
["Abby",25,70,"S",{"$f":"MIN(B5*C5/6,400)/(B5/2)+(control!$B$4-MIN(B5*C5/6,400))/(B5/8)","v":57.999999999999993},25,"distance of races:",null,null,null,null,"No"]
["Abdullah",21,76,"S",{"$f":"MIN(B6*C6/6,400)/(B6/2)+(control!$B$4-MIN(B6*C6/6,400))/(B6/8)","v":76.38095238095238},25,"quarter race: 400 m ",null,"*we will only use this race type",null,null,"INCLUDE RANDOMIZATION?"]
["Abercrombie",15,90,"S",{"$f":"MIN(B7*C7/6,400)/(B7/2)+(control!$B$4-MIN(B7*C7/6,400))/(B7/8)","v":123.33333333333333},19,"pleasure ride endurance race: 16000 m",null,null,null,null,"Yes"]
["Able Master",18,96,"D",{"$f":"MIN(B8*C8/6,400)/(B8/2)+(control!$B$4-MIN(B8*C8/6,400))/(B8/8)","v":81.777777777777771},18,"non-competitive trail race: 40000 m"]
["Above and Beyond",27,71,"S",{"$f":"MIN(B9*C9/6,400)/(B9/2)+(control!$B$4-MIN(B9*C9/6,400))/(B9/8)","v":47.518518518518519},31,"competitive trail race: 64000 m"]
["Above The Clouds",26,108,"D",{"$f":"MIN(B10*C10/6,400)/(B10/2)+(control!$B$4-MIN(B10*C10/6,400))/(B10/8)","v":30.76923076923077},30,"endurace race: 100000 m"]
["Abracadabra",16,77,"S",{"$f":"MIN(B11*C11/6,400)/(B11/2)+(control!$B$4-MIN(B11*C11/6,400))/(B11/8)","v":123},16]
["Absent",17,96,"S",{"$f":"MIN(B12*C12/6,400)/(B12/2)+(control!$B$4-MIN(B12*C12/6,400))/(B12/8)","v":92.235294117647058},20,{"$f":"MIN(B:B)","v":10},{"$f":"MIN(C:C)","v":40},{"$f":"COUNTIF(D:D,\"S\")","v":2626},{"$f":"MIN(E:E)","v":28.571428571428573}]
["Absolute Bullet Proof",27,92,"S",{"$f":"MIN(B13*C13/6,400)/(B13/2)+(control!$B$4-MIN(B13*C13/6,400))/(B13/8)","v":29.62962962962963},29,{"$f":"MAX(B:B)","v":28},{"$f":"MAX(C:C)","v":130},{"$f":"COUNTA(D:D)-1","v":4763},{"$f":"MAX(E:E)","v":279.99999999999994}]
["Abu",19,109,"M",{"$f":"MIN(B14*C14/6,400)/(B14/2)+(control!$B$4-MIN(B14*C14/6,400))/(B14/8)","v":59.421052631578945},23,{"$f":"AVERAGE(B:B)","v":20.791937854293511},{"$f":"AVERAGE(C:C)","v":87.99832038631115},{"$f":"I12/I13","v":0.55133319336552589},{"$f":"AVERAGE(E:E)","v":71.175029914427455}]
["Acapella",20,69,"S",{"$f":"MIN(B15*C15/6,400)/(B15/2)+(control!$B$4-MIN(B15*C15/6,400))/(B15/8)","v":91},23,null,null,"S"]
["Ace",15,98,"D",{"$f":"MIN(B16*C16/6,400)/(B16/2)+(control!$B$4-MIN(B16*C16/6,400))/(B16/8)","v":115.33333333333334},16,null,null,{"$f":"COUNTIF(D:D,\"S\")","v":2626},"s"]
["Ace of Spades",18,92,"D",{"$f":"MIN(B17*C17/6,400)/(B17/2)+(control!$B$4-MIN(B17*C17/6,400))/(B17/8)","v":85.777777777777786},21,null,null,{"$f":"COUNTIF(D:D,\"M\")","v":1301},"m"]
["Acer",19,89,"S",{"$f":"MIN(B18*C18/6,400)/(B18/2)+(control!$B$4-MIN(B18*C18/6,400))/(B18/8)","v":79.421052631578959},23,"NUMBER:",null,{"$f":"COUNTIF(D:D,\"D\")","v":836},"d"]
["Aces Diamond Rio",22,67,"S",{"$f":"MIN(B19*C19/6,400)/(B19/2)+(control!$B$4-MIN(B19*C19/6,400))/(B19/8)","v":78.454545454545453},26,{"$f":"COUNTA(A:A)-1","v":4763}]
["Acker Bilk",21,79,"M",{"$f":"MIN(B20*C20/6,400)/(B20/2)+(control!$B$4-MIN(B20*C20/6,400))/(B20/8)","v":73.38095238095238},23]
["Acorn",22,80,"S",{"$f":"MIN(B21*C21/6,400)/(B21/2)+(control!$B$4-MIN(B21*C21/6,400))/(B21/8)","v":65.454545454545467},26]
["Acromantula",26,99,"D",{"$f":"MIN(B22*C22/6,400)/(B22/2)+(control!$B$4-MIN(B22*C22/6,400))/(B22/8)","v":30.76923076923077},29]
["Ad Alta",16,100,"S",{"$f":"MIN(B23*C23/6,400)/(B23/2)+(control!$B$4-MIN(B23*C23/6,400))/(B23/8)","v":100},17]
["Adagio",27,92,"S",{"$f":"MIN(B24*C24/6,400)/(B24/2)+(control!$B$4-MIN(B24*C24/6,400))/(B24/8)","v":29.62962962962963},30]
["Adat",18,116,"D",{"$f":"MIN(B25*C25/6,400)/(B25/2)+(control!$B$4-MIN(B25*C25/6,400))/(B25/8)","v":61.777777777777771},18]
["Addie Over",21,78,"S",{"$f":"MIN(B26*C26/6,400)/(B26/2)+(control!$B$4-MIN(B26*C26/6,400))/(B26/8)","v":74.38095238095238},22]
["Admiral",25,105,"S",{"$f":"MIN(B27*C27/6,400)/(B27/2)+(control!$B$4-MIN(B27*C27/6,400))/(B27/8)","v":32},29]
["Adrian",27,62,"M",{"$f":"MIN(B28*C28/6,400)/(B28/2)+(control!$B$4-MIN(B28*C28/6,400))/(B28/8)","v":56.518518518518519},30]
["Aeris",22,119,"M",{"$f":"MIN(B29*C29/6,400)/(B29/2)+(control!$B$4-MIN(B29*C29/6,400))/(B29/8)","v":36.363636363636367},26]
["Aerosmith",19,83,"S",{"$f":"MIN(B30*C30/6,400)/(B30/2)+(control!$B$4-MIN(B30*C30/6,400))/(B30/8)","v":85.421052631578959},22]
["Aferditie",16,113,"S",{"$f":"MIN(B31*C31/6,400)/(B31/2)+(control!$B$4-MIN(B31*C31/6,400))/(B31/8)","v":87},16]
["Africa",26,93,"M",{"$f":"MIN(B32*C32/6,400)/(B32/2)+(control!$B$4-MIN(B32*C32/6,400))/(B32/8)","v":30.76923076923077},26]
["Afterglow",19,95,"D",{"$f":"MIN(B33*C33/6,400)/(B33/2)+(control!$B$4-MIN(B33*C33/6,400))/(B33/8)","v":73.421052631578959},21]
["Afternoon Delight",27,92,"M",{"$f":"MIN(B34*C34/6,400)/(B34/2)+(control!$B$4-MIN(B34*C34/6,400))/(B34/8)","v":29.62962962962963},31]
["Aftershock",19,121,"S",{"$f":"MIN(B35*C35/6,400)/(B35/2)+(control!$B$4-MIN(B35*C35/6,400))/(B35/8)","v":47.421052631578945},21]
["Agape",15,87,"M",{"$f":"MIN(B36*C36/6,400)/(B36/2)+(control!$B$4-MIN(B36*C36/6,400))/(B36/8)","v":126.33333333333333},16]
["Agent 007",15,71,"M",{"$f":"MIN(B37*C37/6,400)/(B37/2)+(control!$B$4-MIN(B37*C37/6,400))/(B37/8)","v":142.33333333333334},17]
["Aggie's Diamond",21,84,"S",{"$f":"MIN(B38*C38/6,400)/(B38/2)+(control!$B$4-MIN(B38*C38/6,400))/(B38/8)","v":68.38095238095238},22]
["Ahlerich",27,92,"S",{"$f":"MIN(B39*C39/6,400)/(B39/2)+(control!$B$4-MIN(B39*C39/6,400))/(B39/8)","v":29.62962962962963},27]
["Ahwa",26,69,"M",{"$f":"MIN(B40*C40/6,400)/(B40/2)+(control!$B$4-MIN(B40*C40/6,400))/(B40/8)","v":54.07692307692308},29]
["Ai",22,74,"S",{"$f":"MIN(B41*C41/6,400)/(B41/2)+(control!$B$4-MIN(B41*C41/6,400))/(B41/8)","v":71.454545454545467},25]
["Aida",27,91,"D",{"$f":"MIN(B42*C42/6,400)/(B42/2)+(control!$B$4-MIN(B42*C42/6,400))/(B42/8)","v":29.62962962962963},31]
["Aidan",16,106,"D",{"$f":"MIN(B43*C43/6,400)/(B43/2)+(control!$B$4-MIN(B43*C43/6,400))/(B43/8)","v":94},20]
["Aiko",27,89,"M",{"$f":"MIN(B44*C44/6,400)/(B44/2)+(control!$B$4-MIN(B44*C44/6,400))/(B44/8)","v":29.62962962962963},28]
["Ain't Misbehavin",19,90,"M",{"$f":"MIN(B45*C45/6,400)/(B45/2)+(control!$B$4-MIN(B45*C45/6,400))/(B45/8)","v":78.421052631578945},19]
["Air",21,83,"S",{"$f":"MIN(B46*C46/6,400)/(B46/2)+(control!$B$4-MIN(B46*C46/6,400))/(B46/8)","v":69.38095238095238},24]
["Air Born",19,99,"D",{"$f":"MIN(B47*C47/6,400)/(B47/2)+(control!$B$4-MIN(B47*C47/6,400))/(B47/8)","v":69.421052631578945},20]
["Air Express",20,64,"S",{"$f":"MIN(B48*C48/6,400)/(B48/2)+(control!$B$4-MIN(B48*C48/6,400))/(B48/8)","v":96},24]
["Airborne Magic",16,75,"S",{"$f":"MIN(B49*C49/6,400)/(B49/2)+(control!$B$4-MIN(B49*C49/6,400))/(B49/8)","v":125},16]
["Aitch",17,84,"S",{"$f":"MIN(B50*C50/6,400)/(B50/2)+(control!$B$4-MIN(B50*C50/6,400))/(B50/8)","v":104.23529411764706},19]
["Akasha",23,81,"S",{"$f":"MIN(B51*C51/6,400)/(B51/2)+(control!$B$4-MIN(B51*C51/6,400))/(B51/8)","v":58.130434782608695},24]
["Akhademy",24,99,"D",{"$f":"MIN(B52*C52/6,400)/(B52/2)+(control!$B$4-MIN(B52*C52/6,400))/(B52/8)","v":34.333333333333336},28]
["Al",21,61,"S",{"$f":"MIN(B53*C53/6,400)/(B53/2)+(control!$B$4-MIN(B53*C53/6,400))/(B53/8)","v":91.38095238095238},24]
["Al Akbar",20,102,"D",{"$f":"MIN(B54*C54/6,400)/(B54/2)+(control!$B$4-MIN(B54*C54/6,400))/(B54/8)","v":58},23]
["Alacazam",22,75,"M",{"$f":"MIN(B55*C55/6,400)/(B55/2)+(control!$B$4-MIN(B55*C55/6,400))/(B55/8)","v":70.454545454545453},22]
["Aladdin",19,85,"S",{"$f":"MIN(B56*C56/6,400)/(B56/2)+(control!$B$4-MIN(B56*C56/6,400))/(B56/8)","v":83.421052631578945},21]
["Alanah",18,100,"D",{"$f":"MIN(B57*C57/6,400)/(B57/2)+(control!$B$4-MIN(B57*C57/6,400))/(B57/8)","v":77.777777777777771},18]
["Alaska",15,75,"S",{"$f":"MIN(B58*C58/6,400)/(B58/2)+(control!$B$4-MIN(B58*C58/6,400))/(B58/8)","v":138.33333333333331},17]
["Alberton Star",22,98,"M",{"$f":"MIN(B59*C59/6,400)/(B59/2)+(control!$B$4-MIN(B59*C59/6,400))/(B59/8)","v":47.45454545454546},23]
["Alcatraz",27,72,"M",{"$f":"MIN(B60*C60/6,400)/(B60/2)+(control!$B$4-MIN(B60*C60/6,400))/(B60/8)","v":46.518518518518519},28]
["Alex",20,84,"S",{"$f":"MIN(B61*C61/6,400)/(B61/2)+(control!$B$4-MIN(B61*C61/6,400))/(B61/8)","v":76},22]
["Alexa",19,119,"D",{"$f":"MIN(B62*C62/6,400)/(B62/2)+(control!$B$4-MIN(B62*C62/6,400))/(B62/8)","v":49.421052631578952},20]
["Alexander the Great",25,100,"M",{"$f":"MIN(B63*C63/6,400)/(B63/2)+(control!$B$4-MIN(B63*C63/6,400))/(B63/8)","v":32},29]
["Alfie",21,116,"M",{"$f":"MIN(B64*C64/6,400)/(B64/2)+(control!$B$4-MIN(B64*C64/6,400))/(B64/8)","v":38.095238095238095},24]
["Ali",17,63,"S",{"$f":"MIN(B65*C65/6,400)/(B65/2)+(control!$B$4-MIN(B65*C65/6,400))/(B65/8)","v":125.23529411764706},20]
["Ali Baba",26,96,"M",{"$f":"MIN(B66*C66/6,400)/(B66/2)+(control!$B$4-MIN(B66*C66/6,400))/(B66/8)","v":30.76923076923077},28]
["Alia Kazam",27,89,"S",{"$f":"MIN(B67*C67/6,400)/(B67/2)+(control!$B$4-MIN(B67*C67/6,400))/(B67/8)","v":29.62962962962963},28]
["Alizay",21,87,"S",{"$f":"MIN(B68*C68/6,400)/(B68/2)+(control!$B$4-MIN(B68*C68/6,400))/(B68/8)","v":65.38095238095238},22]
["All My Heart",21,99,"S",{"$f":"MIN(B69*C69/6,400)/(B69/2)+(control!$B$4-MIN(B69*C69/6,400))/(B69/8)","v":53.38095238095238},22]
["All Natural",17,87,"S",{"$f":"MIN(B70*C70/6,400)/(B70/2)+(control!$B$4-MIN(B70*C70/6,400))/(B70/8)","v":101.23529411764706},21]
["All that Jazz",16,80,"S",{"$f":"MIN(B71*C71/6,400)/(B71/2)+(control!$B$4-MIN(B71*C71/6,400))/(B71/8)","v":120},19]
["Alladin's Treasure",22,70,"S",{"$f":"MIN(B72*C72/6,400)/(B72/2)+(control!$B$4-MIN(B72*C72/6,400))/(B72/8)","v":75.454545454545453},24]
["All-American Rocket",19,123,"M",{"$f":"MIN(B73*C73/6,400)/(B73/2)+(control!$B$4-MIN(B73*C73/6,400))/(B73/8)","v":45.421052631578945},20]
["Allegra",21,82,"M",{"$f":"MIN(B74*C74/6,400)/(B74/2)+(control!$B$4-MIN(B74*C74/6,400))/(B74/8)","v":70.38095238095238},21]
["Allegria",18,95,"S",{"$f":"MIN(B75*C75/6,400)/(B75/2)+(control!$B$4-MIN(B75*C75/6,400))/(B75/8)","v":82.777777777777786},22]
["Allegro",25,73,"S",{"$f":"MIN(B76*C76/6,400)/(B76/2)+(control!$B$4-MIN(B76*C76/6,400))/(B76/8)","v":55},27]
["Allison Fast",21,85,"S",{"$f":"MIN(B77*C77/6,400)/(B77/2)+(control!$B$4-MIN(B77*C77/6,400))/(B77/8)","v":67.38095238095238},21]
["Allouette",19,102,"S",{"$f":"MIN(B78*C78/6,400)/(B78/2)+(control!$B$4-MIN(B78*C78/6,400))/(B78/8)","v":66.421052631578945},23]
["Alloverdaplace",22,101,"S",{"$f":"MIN(B79*C79/6,400)/(B79/2)+(control!$B$4-MIN(B79*C79/6,400))/(B79/8)","v":44.45454545454546},23]
["Allstar",20,88,"S",{"$f":"MIN(B80*C80/6,400)/(B80/2)+(control!$B$4-MIN(B80*C80/6,400))/(B80/8)","v":72},20]
["Ally",18,98,"D",{"$f":"MIN(B81*C81/6,400)/(B81/2)+(control!$B$4-MIN(B81*C81/6,400))/(B81/8)","v":79.777777777777771},20]
["Almonds",16,76,"S",{"$f":"MIN(B82*C82/6,400)/(B82/2)+(control!$B$4-MIN(B82*C82/6,400))/(B82/8)","v":124},18]
["Almost Illegal",22,93,"D",{"$f":"MIN(B83*C83/6,400)/(B83/2)+(control!$B$4-MIN(B83*C83/6,400))/(B83/8)","v":52.454545454545453},25]
["Alomar",19,94,"S",{"$f":"MIN(B84*C84/6,400)/(B84/2)+(control!$B$4-MIN(B84*C84/6,400))/(B84/8)","v":74.421052631578945},19]
["Alotastuff",26,92,"D",{"$f":"MIN(B85*C85/6,400)/(B85/2)+(control!$B$4-MIN(B85*C85/6,400))/(B85/8)","v":31.076923076923073},28]
["Alouette",20,72,"M",{"$f":"MIN(B86*C86/6,400)/(B86/2)+(control!$B$4-MIN(B86*C86/6,400))/(B86/8)","v":88},23]
["Altair",15,74,"S",{"$f":"MIN(B87*C87/6,400)/(B87/2)+(control!$B$4-MIN(B87*C87/6,400))/(B87/8)","v":139.33333333333334},17]
["Altivo",19,97,"S",{"$f":"MIN(B88*C88/6,400)/(B88/2)+(control!$B$4-MIN(B88*C88/6,400))/(B88/8)","v":71.421052631578945},22]
["Alto Vito",19,59,"S",{"$f":"MIN(B89*C89/6,400)/(B89/2)+(control!$B$4-MIN(B89*C89/6,400))/(B89/8)","v":109.42105263157895},22]
["Always",24,84,"M",{"$f":"MIN(B90*C90/6,400)/(B90/2)+(control!$B$4-MIN(B90*C90/6,400))/(B90/8)","v":49.333333333333329},26]
["Always A Dot",22,100,"S",{"$f":"MIN(B91*C91/6,400)/(B91/2)+(control!$B$4-MIN(B91*C91/6,400))/(B91/8)","v":45.454545454545453},23]
["Amadeus",20,87,"M",{"$f":"MIN(B92*C92/6,400)/(B92/2)+(control!$B$4-MIN(B92*C92/6,400))/(B92/8)","v":73},20]
["Amanda",15,90,"S",{"$f":"MIN(B93*C93/6,400)/(B93/2)+(control!$B$4-MIN(B93*C93/6,400))/(B93/8)","v":123.33333333333333},18]
["Amaretto",17,90,"S",{"$f":"MIN(B94*C94/6,400)/(B94/2)+(control!$B$4-MIN(B94*C94/6,400))/(B94/8)","v":98.235294117647058},21]
["Amarillo Rose",16,113,"S",{"$f":"MIN(B95*C95/6,400)/(B95/2)+(control!$B$4-MIN(B95*C95/6,400))/(B95/8)","v":87},16]
["Amazing",20,68,"S",{"$f":"MIN(B96*C96/6,400)/(B96/2)+(control!$B$4-MIN(B96*C96/6,400))/(B96/8)","v":92},22]
["Amazing Grace",19,101,"D",{"$f":"MIN(B97*C97/6,400)/(B97/2)+(control!$B$4-MIN(B97*C97/6,400))/(B97/8)","v":67.421052631578959},20]
["Amazon",27,105,"D",{"$f":"MIN(B98*C98/6,400)/(B98/2)+(control!$B$4-MIN(B98*C98/6,400))/(B98/8)","v":29.62962962962963},28]
["Ambara",19,123,"S",{"$f":"MIN(B99*C99/6,400)/(B99/2)+(control!$B$4-MIN(B99*C99/6,400))/(B99/8)","v":45.421052631578945},20]
["Ambassador",21,99,"D",{"$f":"MIN(B100*C100/6,400)/(B100/2)+(control!$B$4-MIN(B100*C100/6,400))/(B100/8)","v":53.38095238095238},25]
["Amber",17,110,"S",{"$f":"MIN(B101*C101/6,400)/(B101/2)+(control!$B$4-MIN(B101*C101/6,400))/(B101/8)","v":78.235294117647058},20]
["Amber Dancer",20,74,"M",{"$f":"MIN(B102*C102/6,400)/(B102/2)+(control!$B$4-MIN(B102*C102/6,400))/(B102/8)","v":86},21]
["Ambition",17,85,"S",{"$f":"MIN(B103*C103/6,400)/(B103/2)+(control!$B$4-MIN(B103*C103/6,400))/(B103/8)","v":103.23529411764704},20]
["Ambitious",24,123,"D",{"$f":"MIN(B104*C104/6,400)/(B104/2)+(control!$B$4-MIN(B104*C104/6,400))/(B104/8)","v":33.333333333333336},24]
["Ameera",20,79,"M",{"$f":"MIN(B105*C105/6,400)/(B105/2)+(control!$B$4-MIN(B105*C105/6,400))/(B105/8)","v":81},24]
["American Beauty",17,123,"S",{"$f":"MIN(B106*C106/6,400)/(B106/2)+(control!$B$4-MIN(B106*C106/6,400))/(B106/8)","v":65.235294117647058},18]
["American Pie",22,86,"M",{"$f":"MIN(B107*C107/6,400)/(B107/2)+(control!$B$4-MIN(B107*C107/6,400))/(B107/8)","v":59.45454545454546},23]
["Amethyst",17,93,"D",{"$f":"MIN(B108*C108/6,400)/(B108/2)+(control!$B$4-MIN(B108*C108/6,400))/(B108/8)","v":95.235294117647058},18]
["Amfortas",23,108,"S",{"$f":"MIN(B109*C109/6,400)/(B109/2)+(control!$B$4-MIN(B109*C109/6,400))/(B109/8)","v":34.782608695652172},23]
["Amigo",20,60,"S",{"$f":"MIN(B110*C110/6,400)/(B110/2)+(control!$B$4-MIN(B110*C110/6,400))/(B110/8)","v":100},23]
["Amulet",16,63,"S",{"$f":"MIN(B111*C111/6,400)/(B111/2)+(control!$B$4-MIN(B111*C111/6,400))/(B111/8)","v":137},17]
["Amy",23,101,"S",{"$f":"MIN(B112*C112/6,400)/(B112/2)+(control!$B$4-MIN(B112*C112/6,400))/(B112/8)","v":38.130434782608695},23]
["An Affair to Remember",20,101,"S",{"$f":"MIN(B113*C113/6,400)/(B113/2)+(control!$B$4-MIN(B113*C113/6,400))/(B113/8)","v":59},23]
["Anakin",15,88,"S",{"$f":"MIN(B114*C114/6,400)/(B114/2)+(control!$B$4-MIN(B114*C114/6,400))/(B114/8)","v":125.33333333333333},15]
["Ananda",15,76,"S",{"$f":"MIN(B115*C115/6,400)/(B115/2)+(control!$B$4-MIN(B115*C115/6,400))/(B115/8)","v":137.33333333333334},19]
["Anchor,",17,115,"S",{"$f":"MIN(B116*C116/6,400)/(B116/2)+(control!$B$4-MIN(B116*C116/6,400))/(B116/8)","v":73.235294117647072},21]
["Ancient Orange",17,87,"M",{"$f":"MIN(B117*C117/6,400)/(B117/2)+(control!$B$4-MIN(B117*C117/6,400))/(B117/8)","v":101.23529411764706},18]
["Andale",21,77,"S",{"$f":"MIN(B118*C118/6,400)/(B118/2)+(control!$B$4-MIN(B118*C118/6,400))/(B118/8)","v":75.38095238095238},24]
["Andrejana",25,69,"M",{"$f":"MIN(B119*C119/6,400)/(B119/2)+(control!$B$4-MIN(B119*C119/6,400))/(B119/8)","v":59},29]
["Angel",22,75,"S",{"$f":"MIN(B120*C120/6,400)/(B120/2)+(control!$B$4-MIN(B120*C120/6,400))/(B120/8)","v":70.454545454545453},26]
["Angel Eyes",24,92,"D",{"$f":"MIN(B121*C121/6,400)/(B121/2)+(control!$B$4-MIN(B121*C121/6,400))/(B121/8)","v":41.333333333333336},26]
["Angel of Mine",15,82,"S",{"$f":"MIN(B122*C122/6,400)/(B122/2)+(control!$B$4-MIN(B122*C122/6,400))/(B122/8)","v":131.33333333333334},18]
["Angelfire",19,96,"D",{"$f":"MIN(B123*C123/6,400)/(B123/2)+(control!$B$4-MIN(B123*C123/6,400))/(B123/8)","v":72.421052631578945},23]
["Angelina",16,75,"S",{"$f":"MIN(B124*C124/6,400)/(B124/2)+(control!$B$4-MIN(B124*C124/6,400))/(B124/8)","v":125},16]
["Angelo",24,84,"S",{"$f":"MIN(B125*C125/6,400)/(B125/2)+(control!$B$4-MIN(B125*C125/6,400))/(B125/8)","v":49.333333333333329},27]
["Angel's Glory",24,65,"S",{"$f":"MIN(B126*C126/6,400)/(B126/2)+(control!$B$4-MIN(B126*C126/6,400))/(B126/8)","v":68.333333333333329},28]
["Angle",19,63,"S",{"$f":"MIN(B127*C127/6,400)/(B127/2)+(control!$B$4-MIN(B127*C127/6,400))/(B127/8)","v":105.42105263157895},22]
["Anita",17,105,"S",{"$f":"MIN(B128*C128/6,400)/(B128/2)+(control!$B$4-MIN(B128*C128/6,400))/(B128/8)","v":83.235294117647058},20]
["Anna Bell",27,66,"S",{"$f":"MIN(B129*C129/6,400)/(B129/2)+(control!$B$4-MIN(B129*C129/6,400))/(B129/8)","v":52.518518518518519},28]
["Annabel",16,74,"M",{"$f":"MIN(B130*C130/6,400)/(B130/2)+(control!$B$4-MIN(B130*C130/6,400))/(B130/8)","v":126},18]
["Annabelle",19,82,"S",{"$f":"MIN(B131*C131/6,400)/(B131/2)+(control!$B$4-MIN(B131*C131/6,400))/(B131/8)","v":86.421052631578945},20]
["Annie",23,114,"S",{"$f":"MIN(B132*C132/6,400)/(B132/2)+(control!$B$4-MIN(B132*C132/6,400))/(B132/8)","v":34.782608695652172},25]
["Annie Oakley",20,77,"S",{"$f":"MIN(B133*C133/6,400)/(B133/2)+(control!$B$4-MIN(B133*C133/6,400))/(B133/8)","v":83},24]
["Ann's Misty Gal",25,111,"S",{"$f":"MIN(B134*C134/6,400)/(B134/2)+(control!$B$4-MIN(B134*C134/6,400))/(B134/8)","v":32},25]
["Another Chance",24,85,"S",{"$f":"MIN(B135*C135/6,400)/(B135/2)+(control!$B$4-MIN(B135*C135/6,400))/(B135/8)","v":48.333333333333329},27]
["Answered Prayers",19,79,"S",{"$f":"MIN(B136*C136/6,400)/(B136/2)+(control!$B$4-MIN(B136*C136/6,400))/(B136/8)","v":89.421052631578945},21]
["Anthem",25,85,"S",{"$f":"MIN(B137*C137/6,400)/(B137/2)+(control!$B$4-MIN(B137*C137/6,400))/(B137/8)","v":43},26]
["Anthony",22,66,"S",{"$f":"MIN(B138*C138/6,400)/(B138/2)+(control!$B$4-MIN(B138*C138/6,400))/(B138/8)","v":79.454545454545453},24]
["Anton",20,69,"M",{"$f":"MIN(B139*C139/6,400)/(B139/2)+(control!$B$4-MIN(B139*C139/6,400))/(B139/8)","v":91},21]
["Any Victory Will Do",22,72,"M",{"$f":"MIN(B140*C140/6,400)/(B140/2)+(control!$B$4-MIN(B140*C140/6,400))/(B140/8)","v":73.454545454545453},25]
["Anziyan",25,86,"M",{"$f":"MIN(B141*C141/6,400)/(B141/2)+(control!$B$4-MIN(B141*C141/6,400))/(B141/8)","v":42},25]
["Apache",20,90,"S",{"$f":"MIN(B142*C142/6,400)/(B142/2)+(control!$B$4-MIN(B142*C142/6,400))/(B142/8)","v":70},22]
["Apache Clouds",21,71,"S",{"$f":"MIN(B143*C143/6,400)/(B143/2)+(control!$B$4-MIN(B143*C143/6,400))/(B143/8)","v":81.38095238095238},24]
["Apache Outlaw",22,102,"M",{"$f":"MIN(B144*C144/6,400)/(B144/2)+(control!$B$4-MIN(B144*C144/6,400))/(B144/8)","v":43.454545454545453},25]
["Apache Sunrise",23,123,"S",{"$f":"MIN(B145*C145/6,400)/(B145/2)+(control!$B$4-MIN(B145*C145/6,400))/(B145/8)","v":34.782608695652172},23]
["Aphrodite",19,100,"S",{"$f":"MIN(B146*C146/6,400)/(B146/2)+(control!$B$4-MIN(B146*C146/6,400))/(B146/8)","v":68.421052631578945},20]
["Apollo",20,95,"D",{"$f":"MIN(B147*C147/6,400)/(B147/2)+(control!$B$4-MIN(B147*C147/6,400))/(B147/8)","v":65},21]
["Apollo's Chariot",22,98,"M",{"$f":"MIN(B148*C148/6,400)/(B148/2)+(control!$B$4-MIN(B148*C148/6,400))/(B148/8)","v":47.45454545454546},22]
["Appalooa",19,93,"S",{"$f":"MIN(B149*C149/6,400)/(B149/2)+(control!$B$4-MIN(B149*C149/6,400))/(B149/8)","v":75.421052631578945},20]
["Appichi",21,71,"M",{"$f":"MIN(B150*C150/6,400)/(B150/2)+(control!$B$4-MIN(B150*C150/6,400))/(B150/8)","v":81.38095238095238},21]
["Applause",22,76,"S",{"$f":"MIN(B151*C151/6,400)/(B151/2)+(control!$B$4-MIN(B151*C151/6,400))/(B151/8)","v":69.454545454545453},26]
["Apple",22,80,"S",{"$f":"MIN(B152*C152/6,400)/(B152/2)+(control!$B$4-MIN(B152*C152/6,400))/(B152/8)","v":65.454545454545467},23]
["Apple Butter",22,74,"S",{"$f":"MIN(B153*C153/6,400)/(B153/2)+(control!$B$4-MIN(B153*C153/6,400))/(B153/8)","v":71.454545454545467},23]
["Apple Candy",16,100,"D",{"$f":"MIN(B154*C154/6,400)/(B154/2)+(control!$B$4-MIN(B154*C154/6,400))/(B154/8)","v":100},19]
["Apple Dew",20,106,"D",{"$f":"MIN(B155*C155/6,400)/(B155/2)+(control!$B$4-MIN(B155*C155/6,400))/(B155/8)","v":54},24]
["Applejack",21,91,"M",{"$f":"MIN(B156*C156/6,400)/(B156/2)+(control!$B$4-MIN(B156*C156/6,400))/(B156/8)","v":61.38095238095238},21]
["AppleJacks",27,93,"M",{"$f":"MIN(B157*C157/6,400)/(B157/2)+(control!$B$4-MIN(B157*C157/6,400))/(B157/8)","v":29.62962962962963},27]
["Applejax",20,112,"M",{"$f":"MIN(B158*C158/6,400)/(B158/2)+(control!$B$4-MIN(B158*C158/6,400))/(B158/8)","v":48},24]
["Apples",21,79,"S",{"$f":"MIN(B159*C159/6,400)/(B159/2)+(control!$B$4-MIN(B159*C159/6,400))/(B159/8)","v":73.38095238095238},23]
["April",22,84,"M",{"$f":"MIN(B160*C160/6,400)/(B160/2)+(control!$B$4-MIN(B160*C160/6,400))/(B160/8)","v":61.454545454545453},23]
["April Babe",15,91,"D",{"$f":"MIN(B161*C161/6,400)/(B161/2)+(control!$B$4-MIN(B161*C161/6,400))/(B161/8)","v":122.33333333333333},17]
["April Showers",22,117,"S",{"$f":"MIN(B162*C162/6,400)/(B162/2)+(control!$B$4-MIN(B162*C162/6,400))/(B162/8)","v":36.363636363636367},26]
["Aqua",25,69,"S",{"$f":"MIN(B163*C163/6,400)/(B163/2)+(control!$B$4-MIN(B163*C163/6,400))/(B163/8)","v":59},29]
["Aquarius",20,84,"S",{"$f":"MIN(B164*C164/6,400)/(B164/2)+(control!$B$4-MIN(B164*C164/6,400))/(B164/8)","v":76},24]
["Arabella",19,60,"S",{"$f":"MIN(B165*C165/6,400)/(B165/2)+(control!$B$4-MIN(B165*C165/6,400))/(B165/8)","v":108.42105263157895},22]
["Arabian Dancer",22,66,"S",{"$f":"MIN(B166*C166/6,400)/(B166/2)+(control!$B$4-MIN(B166*C166/6,400))/(B166/8)","v":79.454545454545453},25]
["Arabian Knight",19,93,"S",{"$f":"MIN(B167*C167/6,400)/(B167/2)+(control!$B$4-MIN(B167*C167/6,400))/(B167/8)","v":75.421052631578945},19]
["Arabian Night",26,67,"S",{"$f":"MIN(B168*C168/6,400)/(B168/2)+(control!$B$4-MIN(B168*C168/6,400))/(B168/8)","v":56.07692307692308},28]
["Aragon",15,117,"D",{"$f":"MIN(B169*C169/6,400)/(B169/2)+(control!$B$4-MIN(B169*C169/6,400))/(B169/8)","v":96.333333333333343},18]
["Aramis",17,105,"D",{"$f":"MIN(B170*C170/6,400)/(B170/2)+(control!$B$4-MIN(B170*C170/6,400))/(B170/8)","v":83.235294117647058},20]
["Arbor ann",20,67,"S",{"$f":"MIN(B171*C171/6,400)/(B171/2)+(control!$B$4-MIN(B171*C171/6,400))/(B171/8)","v":93},21]
["Arcadia",18,61,"S",{"$f":"MIN(B172*C172/6,400)/(B172/2)+(control!$B$4-MIN(B172*C172/6,400))/(B172/8)","v":116.77777777777777},20]
["Archer",21,85,"M",{"$f":"MIN(B173*C173/6,400)/(B173/2)+(control!$B$4-MIN(B173*C173/6,400))/(B173/8)","v":67.38095238095238},22]
["Archie",16,95,"S",{"$f":"MIN(B174*C174/6,400)/(B174/2)+(control!$B$4-MIN(B174*C174/6,400))/(B174/8)","v":105},19]
["Archimedes",17,95,"S",{"$f":"MIN(B175*C175/6,400)/(B175/2)+(control!$B$4-MIN(B175*C175/6,400))/(B175/8)","v":93.235294117647058},18]
["Arctic Sun",26,115,"S",{"$f":"MIN(B176*C176/6,400)/(B176/2)+(control!$B$4-MIN(B176*C176/6,400))/(B176/8)","v":30.76923076923077},26]
["Areo",21,86,"S",{"$f":"MIN(B177*C177/6,400)/(B177/2)+(control!$B$4-MIN(B177*C177/6,400))/(B177/8)","v":66.38095238095238},24]
["Argo",21,80,"S",{"$f":"MIN(B178*C178/6,400)/(B178/2)+(control!$B$4-MIN(B178*C178/6,400))/(B178/8)","v":72.38095238095238},22]
["Ariadne",26,101,"D",{"$f":"MIN(B179*C179/6,400)/(B179/2)+(control!$B$4-MIN(B179*C179/6,400))/(B179/8)","v":30.76923076923077},30]
["Arial",20,99,"D",{"$f":"MIN(B180*C180/6,400)/(B180/2)+(control!$B$4-MIN(B180*C180/6,400))/(B180/8)","v":61},24]
["Aries",27,60,"S",{"$f":"MIN(B181*C181/6,400)/(B181/2)+(control!$B$4-MIN(B181*C181/6,400))/(B181/8)","v":58.518518518518519},30]
["Aristo",18,96,"M",{"$f":"MIN(B182*C182/6,400)/(B182/2)+(control!$B$4-MIN(B182*C182/6,400))/(B182/8)","v":81.777777777777771},18]
["Aristotle",22,68,"S",{"$f":"MIN(B183*C183/6,400)/(B183/2)+(control!$B$4-MIN(B183*C183/6,400))/(B183/8)","v":77.454545454545453},25]
["Arizona",19,91,"M",{"$f":"MIN(B184*C184/6,400)/(B184/2)+(control!$B$4-MIN(B184*C184/6,400))/(B184/8)","v":77.421052631578945},20]
["Arizona Sunset",25,88,"M",{"$f":"MIN(B185*C185/6,400)/(B185/2)+(control!$B$4-MIN(B185*C185/6,400))/(B185/8)","v":40},25]
["Armand",15,81,"M",{"$f":"MIN(B186*C186/6,400)/(B186/2)+(control!$B$4-MIN(B186*C186/6,400))/(B186/8)","v":132.33333333333331},15]
["Armed & Dangerous",27,66,"M",{"$f":"MIN(B187*C187/6,400)/(B187/2)+(control!$B$4-MIN(B187*C187/6,400))/(B187/8)","v":52.518518518518519},31]
["Armful of Tiger Lilies",19,89,"M",{"$f":"MIN(B188*C188/6,400)/(B188/2)+(control!$B$4-MIN(B188*C188/6,400))/(B188/8)","v":79.421052631578959},19]
["Arnica de la Barre",19,85,"S",{"$f":"MIN(B189*C189/6,400)/(B189/2)+(control!$B$4-MIN(B189*C189/6,400))/(B189/8)","v":83.421052631578945},21]
["Arnie",16,92,"D",{"$f":"MIN(B190*C190/6,400)/(B190/2)+(control!$B$4-MIN(B190*C190/6,400))/(B190/8)","v":108},20]
["Arrow",26,77,"S",{"$f":"MIN(B191*C191/6,400)/(B191/2)+(control!$B$4-MIN(B191*C191/6,400))/(B191/8)","v":46.076923076923073},26]
["Artemis",25,89,"M",{"$f":"MIN(B192*C192/6,400)/(B192/2)+(control!$B$4-MIN(B192*C192/6,400))/(B192/8)","v":39},29]
["Artex",21,110,"S",{"$f":"MIN(B193*C193/6,400)/(B193/2)+(control!$B$4-MIN(B193*C193/6,400))/(B193/8)","v":42.38095238095238},23]
["Arthur",22,103,"S",{"$f":"MIN(B194*C194/6,400)/(B194/2)+(control!$B$4-MIN(B194*C194/6,400))/(B194/8)","v":42.454545454545453},25]
["Artist",22,119,"D",{"$f":"MIN(B195*C195/6,400)/(B195/2)+(control!$B$4-MIN(B195*C195/6,400))/(B195/8)","v":36.363636363636367},26]
["Artoo",16,80,"M",{"$f":"MIN(B196*C196/6,400)/(B196/2)+(control!$B$4-MIN(B196*C196/6,400))/(B196/8)","v":120},19]
["As Good As it Gets",19,97,"S",{"$f":"MIN(B197*C197/6,400)/(B197/2)+(control!$B$4-MIN(B197*C197/6,400))/(B197/8)","v":71.421052631578945},19]
["Asgard",18,64,"S",{"$f":"MIN(B198*C198/6,400)/(B198/2)+(control!$B$4-MIN(B198*C198/6,400))/(B198/8)","v":113.77777777777777},19]
["Ash",26,87,"M",{"$f":"MIN(B199*C199/6,400)/(B199/2)+(control!$B$4-MIN(B199*C199/6,400))/(B199/8)","v":36.07692307692308},26]
["Ash Kalini",16,82,"M",{"$f":"MIN(B200*C200/6,400)/(B200/2)+(control!$B$4-MIN(B200*C200/6,400))/(B200/8)","v":118},19]
["Ash Winder",26,98,"S",{"$f":"MIN(B201*C201/6,400)/(B201/2)+(control!$B$4-MIN(B201*C201/6,400))/(B201/8)","v":30.76923076923077},27]
["Ashanti",19,100,"D",{"$f":"MIN(B202*C202/6,400)/(B202/2)+(control!$B$4-MIN(B202*C202/6,400))/(B202/8)","v":68.421052631578945},22]
["Ashes",19,82,"S",{"$f":"MIN(B203*C203/6,400)/(B203/2)+(control!$B$4-MIN(B203*C203/6,400))/(B203/8)","v":86.421052631578945},22]
["Ashka",24,93,"S",{"$f":"MIN(B204*C204/6,400)/(B204/2)+(control!$B$4-MIN(B204*C204/6,400))/(B204/8)","v":40.333333333333336},27]
["Ashleigh",21,104,"S",{"$f":"MIN(B205*C205/6,400)/(B205/2)+(control!$B$4-MIN(B205*C205/6,400))/(B205/8)","v":48.38095238095238},23]
["Ashley",19,70,"S",{"$f":"MIN(B206*C206/6,400)/(B206/2)+(control!$B$4-MIN(B206*C206/6,400))/(B206/8)","v":98.421052631578945},21]
["Asia",23,59,"S",{"$f":"MIN(B207*C207/6,400)/(B207/2)+(control!$B$4-MIN(B207*C207/6,400))/(B207/8)","v":80.130434782608688},24]
["Aspects of Love",20,112,"D",{"$f":"MIN(B208*C208/6,400)/(B208/2)+(control!$B$4-MIN(B208*C208/6,400))/(B208/8)","v":48},20]
["Aspen",15,66,"M",{"$f":"MIN(B209*C209/6,400)/(B209/2)+(control!$B$4-MIN(B209*C209/6,400))/(B209/8)","v":147.33333333333331},15]
["Assistance",20,60,"S",{"$f":"MIN(B210*C210/6,400)/(B210/2)+(control!$B$4-MIN(B210*C210/6,400))/(B210/8)","v":100},23]
["Astro Boy",21,75,"S",{"$f":"MIN(B211*C211/6,400)/(B211/2)+(control!$B$4-MIN(B211*C211/6,400))/(B211/8)","v":77.38095238095238},23]
["Astrology",20,104,"S",{"$f":"MIN(B212*C212/6,400)/(B212/2)+(control!$B$4-MIN(B212*C212/6,400))/(B212/8)","v":56},21]
["At Last",18,79,"M",{"$f":"MIN(B213*C213/6,400)/(B213/2)+(control!$B$4-MIN(B213*C213/6,400))/(B213/8)","v":98.777777777777771},19]
["Athena",19,98,"M",{"$f":"MIN(B214*C214/6,400)/(B214/2)+(control!$B$4-MIN(B214*C214/6,400))/(B214/8)","v":70.421052631578959},23]
["Athos",19,75,"S",{"$f":"MIN(B215*C215/6,400)/(B215/2)+(control!$B$4-MIN(B215*C215/6,400))/(B215/8)","v":93.421052631578945},21]
["Atkins Gold",24,115,"D",{"$f":"MIN(B216*C216/6,400)/(B216/2)+(control!$B$4-MIN(B216*C216/6,400))/(B216/8)","v":33.333333333333336},25]
["Atlanta",27,66,"S",{"$f":"MIN(B217*C217/6,400)/(B217/2)+(control!$B$4-MIN(B217*C217/6,400))/(B217/8)","v":52.518518518518519},31]
["Atom",20,82,"S",{"$f":"MIN(B218*C218/6,400)/(B218/2)+(control!$B$4-MIN(B218*C218/6,400))/(B218/8)","v":78},21]
["Au Lait",19,70,"M",{"$f":"MIN(B219*C219/6,400)/(B219/2)+(control!$B$4-MIN(B219*C219/6,400))/(B219/8)","v":98.421052631578945},23]
["Audrey",21,97,"M",{"$f":"MIN(B220*C220/6,400)/(B220/2)+(control!$B$4-MIN(B220*C220/6,400))/(B220/8)","v":55.38095238095238},21]
["Aurel",19,122,"S",{"$f":"MIN(B221*C221/6,400)/(B221/2)+(control!$B$4-MIN(B221*C221/6,400))/(B221/8)","v":46.421052631578952},21]
["Aurora",21,93,"D",{"$f":"MIN(B222*C222/6,400)/(B222/2)+(control!$B$4-MIN(B222*C222/6,400))/(B222/8)","v":59.38095238095238},24]
["Austin",21,78,"M",{"$f":"MIN(B223*C223/6,400)/(B223/2)+(control!$B$4-MIN(B223*C223/6,400))/(B223/8)","v":74.38095238095238},25]
["Auto Rotate",19,93,"S",{"$f":"MIN(B224*C224/6,400)/(B224/2)+(control!$B$4-MIN(B224*C224/6,400))/(B224/8)","v":75.421052631578945},23]
["Autum",19,97,"S",{"$f":"MIN(B225*C225/6,400)/(B225/2)+(control!$B$4-MIN(B225*C225/6,400))/(B225/8)","v":71.421052631578945},20]
["Autumn Gold",19,60,"S",{"$f":"MIN(B226*C226/6,400)/(B226/2)+(control!$B$4-MIN(B226*C226/6,400))/(B226/8)","v":108.42105263157895},21]
["Autumn Rein",17,99,"D",{"$f":"MIN(B227*C227/6,400)/(B227/2)+(control!$B$4-MIN(B227*C227/6,400))/(B227/8)","v":89.235294117647058},18]
["Autumn Spirit",19,108,"S",{"$f":"MIN(B228*C228/6,400)/(B228/2)+(control!$B$4-MIN(B228*C228/6,400))/(B228/8)","v":60.421052631578945},23]
["Autumn Star",20,98,"S",{"$f":"MIN(B229*C229/6,400)/(B229/2)+(control!$B$4-MIN(B229*C229/6,400))/(B229/8)","v":62},22]
["Autumn Storm",20,94,"D",{"$f":"MIN(B230*C230/6,400)/(B230/2)+(control!$B$4-MIN(B230*C230/6,400))/(B230/8)","v":66},20]
["Ava",20,93,"M",{"$f":"MIN(B231*C231/6,400)/(B231/2)+(control!$B$4-MIN(B231*C231/6,400))/(B231/8)","v":67},20]
["Avasha",20,102,"S",{"$f":"MIN(B232*C232/6,400)/(B232/2)+(control!$B$4-MIN(B232*C232/6,400))/(B232/8)","v":58},24]
["Avenida",20,117,"D",{"$f":"MIN(B233*C233/6,400)/(B233/2)+(control!$B$4-MIN(B233*C233/6,400))/(B233/8)","v":43},21]
["Averti",21,79,"M",{"$f":"MIN(B234*C234/6,400)/(B234/2)+(control!$B$4-MIN(B234*C234/6,400))/(B234/8)","v":73.38095238095238},25]
["Aviance",22,118,"D",{"$f":"MIN(B235*C235/6,400)/(B235/2)+(control!$B$4-MIN(B235*C235/6,400))/(B235/8)","v":36.363636363636367},23]
["Avril",24,91,"S",{"$f":"MIN(B236*C236/6,400)/(B236/2)+(control!$B$4-MIN(B236*C236/6,400))/(B236/8)","v":42.333333333333329},26]
["Awesome Wild One",27,68,"M",{"$f":"MIN(B237*C237/6,400)/(B237/2)+(control!$B$4-MIN(B237*C237/6,400))/(B237/8)","v":50.518518518518519},27]
["Ayla",16,85,"S",{"$f":"MIN(B238*C238/6,400)/(B238/2)+(control!$B$4-MIN(B238*C238/6,400))/(B238/8)","v":115},16]
["Ayr Tyme",17,106,"D",{"$f":"MIN(B239*C239/6,400)/(B239/2)+(control!$B$4-MIN(B239*C239/6,400))/(B239/8)","v":82.235294117647072},21]
["Azbo",27,75,"S",{"$f":"MIN(B240*C240/6,400)/(B240/2)+(control!$B$4-MIN(B240*C240/6,400))/(B240/8)","v":43.518518518518519},27]
["Azi Makasi",24,67,"M",{"$f":"MIN(B241*C241/6,400)/(B241/2)+(control!$B$4-MIN(B241*C241/6,400))/(B241/8)","v":66.333333333333329},25]
["Aznavour",23,78,"S",{"$f":"MIN(B242*C242/6,400)/(B242/2)+(control!$B$4-MIN(B242*C242/6,400))/(B242/8)","v":61.130434782608695},25]
["Aztec",15,74,"S",{"$f":"MIN(B243*C243/6,400)/(B243/2)+(control!$B$4-MIN(B243*C243/6,400))/(B243/8)","v":139.33333333333334},18]
["Azur",22,109,"S",{"$f":"MIN(B244*C244/6,400)/(B244/2)+(control!$B$4-MIN(B244*C244/6,400))/(B244/8)","v":36.454545454545453},26]
["Azure",16,111,"D",{"$f":"MIN(B245*C245/6,400)/(B245/2)+(control!$B$4-MIN(B245*C245/6,400))/(B245/8)","v":89},17]
["B.C.",22,73,"S",{"$f":"MIN(B246*C246/6,400)/(B246/2)+(control!$B$4-MIN(B246*C246/6,400))/(B246/8)","v":72.454545454545453},23]
["Babauska",26,83,"S",{"$f":"MIN(B247*C247/6,400)/(B247/2)+(control!$B$4-MIN(B247*C247/6,400))/(B247/8)","v":40.076923076923073},27]
["Babbelute",15,85,"M",{"$f":"MIN(B248*C248/6,400)/(B248/2)+(control!$B$4-MIN(B248*C248/6,400))/(B248/8)","v":128.33333333333334},18]
["Babe",27,85,"M",{"$f":"MIN(B249*C249/6,400)/(B249/2)+(control!$B$4-MIN(B249*C249/6,400))/(B249/8)","v":33.518518518518519},29]
["Babe Ruth",18,69,"S",{"$f":"MIN(B250*C250/6,400)/(B250/2)+(control!$B$4-MIN(B250*C250/6,400))/(B250/8)","v":108.77777777777777},19]
["Babes",19,88,"M",{"$f":"MIN(B251*C251/6,400)/(B251/2)+(control!$B$4-MIN(B251*C251/6,400))/(B251/8)","v":80.421052631578945},23]
["Baby Blue",21,89,"M",{"$f":"MIN(B252*C252/6,400)/(B252/2)+(control!$B$4-MIN(B252*C252/6,400))/(B252/8)","v":63.38095238095238},22]
["Baby Boom",17,75,"S",{"$f":"MIN(B253*C253/6,400)/(B253/2)+(control!$B$4-MIN(B253*C253/6,400))/(B253/8)","v":113.23529411764706},21]
["Baby Doll",23,101,"D",{"$f":"MIN(B254*C254/6,400)/(B254/2)+(control!$B$4-MIN(B254*C254/6,400))/(B254/8)","v":38.130434782608695},24]
["Baby Faith",21,115,"M",{"$f":"MIN(B255*C255/6,400)/(B255/2)+(control!$B$4-MIN(B255*C255/6,400))/(B255/8)","v":38.095238095238095},23]
["Baby G",20,80,"M",{"$f":"MIN(B256*C256/6,400)/(B256/2)+(control!$B$4-MIN(B256*C256/6,400))/(B256/8)","v":80},22]
["Baby Mae Bars",18,113,"M",{"$f":"MIN(B257*C257/6,400)/(B257/2)+(control!$B$4-MIN(B257*C257/6,400))/(B257/8)","v":64.777777777777771},18]
["Baby Moon",26,101,"D",{"$f":"MIN(B258*C258/6,400)/(B258/2)+(control!$B$4-MIN(B258*C258/6,400))/(B258/8)","v":30.76923076923077},27]
["Babycakes",27,85,"S",{"$f":"MIN(B259*C259/6,400)/(B259/2)+(control!$B$4-MIN(B259*C259/6,400))/(B259/8)","v":33.518518518518519},29]
["Babycham",27,86,"S",{"$f":"MIN(B260*C260/6,400)/(B260/2)+(control!$B$4-MIN(B260*C260/6,400))/(B260/8)","v":32.518518518518519},30]
["Bacardi",24,96,"S",{"$f":"MIN(B261*C261/6,400)/(B261/2)+(control!$B$4-MIN(B261*C261/6,400))/(B261/8)","v":37.333333333333336},28]
["Back In A Flash",21,105,"D",{"$f":"MIN(B262*C262/6,400)/(B262/2)+(control!$B$4-MIN(B262*C262/6,400))/(B262/8)","v":47.38095238095238},22]
["Backstreet Bay",16,85,"S",{"$f":"MIN(B263*C263/6,400)/(B263/2)+(control!$B$4-MIN(B263*C263/6,400))/(B263/8)","v":115},19]
["Bad Time",25,64,"M",{"$f":"MIN(B264*C264/6,400)/(B264/2)+(control!$B$4-MIN(B264*C264/6,400))/(B264/8)","v":63.999999999999993},29]
["Bad Whisky",26,93,"S",{"$f":"MIN(B265*C265/6,400)/(B265/2)+(control!$B$4-MIN(B265*C265/6,400))/(B265/8)","v":30.76923076923077},28]
["Badge",22,109,"D",{"$f":"MIN(B266*C266/6,400)/(B266/2)+(control!$B$4-MIN(B266*C266/6,400))/(B266/8)","v":36.454545454545453},25]
["Badger",20,83,"M",{"$f":"MIN(B267*C267/6,400)/(B267/2)+(control!$B$4-MIN(B267*C267/6,400))/(B267/8)","v":77},24]
["Bagels",24,78,"S",{"$f":"MIN(B268*C268/6,400)/(B268/2)+(control!$B$4-MIN(B268*C268/6,400))/(B268/8)","v":55.333333333333329},26]
["Bail Me Out",18,89,"S",{"$f":"MIN(B269*C269/6,400)/(B269/2)+(control!$B$4-MIN(B269*C269/6,400))/(B269/8)","v":88.777777777777786},20]
["Bailey",16,88,"S",{"$f":"MIN(B270*C270/6,400)/(B270/2)+(control!$B$4-MIN(B270*C270/6,400))/(B270/8)","v":112},20]
["Baileys Irish Cream",17,77,"S",{"$f":"MIN(B271*C271/6,400)/(B271/2)+(control!$B$4-MIN(B271*C271/6,400))/(B271/8)","v":111.23529411764707},19]
["Balancing Belle",20,75,"S",{"$f":"MIN(B272*C272/6,400)/(B272/2)+(control!$B$4-MIN(B272*C272/6,400))/(B272/8)","v":85},23]
["Baldemar",24,61,"S",{"$f":"MIN(B273*C273/6,400)/(B273/2)+(control!$B$4-MIN(B273*C273/6,400))/(B273/8)","v":72.333333333333329},25]
["Baldy",24,106,"S",{"$f":"MIN(B274*C274/6,400)/(B274/2)+(control!$B$4-MIN(B274*C274/6,400))/(B274/8)","v":33.333333333333336},28]
["Ball Park",15,88,"S",{"$f":"MIN(B275*C275/6,400)/(B275/2)+(control!$B$4-MIN(B275*C275/6,400))/(B275/8)","v":125.33333333333333},19]
["Ballet",25,110,"S",{"$f":"MIN(B276*C276/6,400)/(B276/2)+(control!$B$4-MIN(B276*C276/6,400))/(B276/8)","v":32},25]
["Baloo",20,81,"S",{"$f":"MIN(B277*C277/6,400)/(B277/2)+(control!$B$4-MIN(B277*C277/6,400))/(B277/8)","v":79},22]
["Bama",19,71,"M",{"$f":"MIN(B278*C278/6,400)/(B278/2)+(control!$B$4-MIN(B278*C278/6,400))/(B278/8)","v":97.421052631578945},23]
["Bam-Bam",15,60,"S",{"$f":"MIN(B279*C279/6,400)/(B279/2)+(control!$B$4-MIN(B279*C279/6,400))/(B279/8)","v":153.33333333333334},19]
["Bambi",22,86,"M",{"$f":"MIN(B280*C280/6,400)/(B280/2)+(control!$B$4-MIN(B280*C280/6,400))/(B280/8)","v":59.45454545454546},25]
["Bambino",23,73,"S",{"$f":"MIN(B281*C281/6,400)/(B281/2)+(control!$B$4-MIN(B281*C281/6,400))/(B281/8)","v":66.130434782608702},26]
["Bammer",20,62,"S",{"$f":"MIN(B282*C282/6,400)/(B282/2)+(control!$B$4-MIN(B282*C282/6,400))/(B282/8)","v":98},20]
["Bandana",20,81,"M",{"$f":"MIN(B283*C283/6,400)/(B283/2)+(control!$B$4-MIN(B283*C283/6,400))/(B283/8)","v":79},22]
["Bandido",19,79,"S",{"$f":"MIN(B284*C284/6,400)/(B284/2)+(control!$B$4-MIN(B284*C284/6,400))/(B284/8)","v":89.421052631578945},21]
["Bandit",15,93,"D",{"$f":"MIN(B285*C285/6,400)/(B285/2)+(control!$B$4-MIN(B285*C285/6,400))/(B285/8)","v":120.33333333333333},15]
["Banjo",17,102,"S",{"$f":"MIN(B286*C286/6,400)/(B286/2)+(control!$B$4-MIN(B286*C286/6,400))/(B286/8)","v":86.235294117647058},19]
["Banner",23,69,"S",{"$f":"MIN(B287*C287/6,400)/(B287/2)+(control!$B$4-MIN(B287*C287/6,400))/(B287/8)","v":70.130434782608688},26]
["Banner Blossom",19,87,"S",{"$f":"MIN(B288*C288/6,400)/(B288/2)+(control!$B$4-MIN(B288*C288/6,400))/(B288/8)","v":81.421052631578945},20]
["Bar King",20,70,"S",{"$f":"MIN(B289*C289/6,400)/(B289/2)+(control!$B$4-MIN(B289*C289/6,400))/(B289/8)","v":90},22]
["Bar Mount",27,100,"S",{"$f":"MIN(B290*C290/6,400)/(B290/2)+(control!$B$4-MIN(B290*C290/6,400))/(B290/8)","v":29.62962962962963},27]
["Bar Room",19,79,"S",{"$f":"MIN(B291*C291/6,400)/(B291/2)+(control!$B$4-MIN(B291*C291/6,400))/(B291/8)","v":89.421052631578945},21]
["Barbie",26,121,"S",{"$f":"MIN(B292*C292/6,400)/(B292/2)+(control!$B$4-MIN(B292*C292/6,400))/(B292/8)","v":30.76923076923077},29]
["Bare Necessities",23,60,"S",{"$f":"MIN(B293*C293/6,400)/(B293/2)+(control!$B$4-MIN(B293*C293/6,400))/(B293/8)","v":79.130434782608688},23]
["Baringr",16,96,"D",{"$f":"MIN(B294*C294/6,400)/(B294/2)+(control!$B$4-MIN(B294*C294/6,400))/(B294/8)","v":104},17]
["Bar-K Truffles",23,79,"S",{"$f":"MIN(B295*C295/6,400)/(B295/2)+(control!$B$4-MIN(B295*C295/6,400))/(B295/8)","v":60.130434782608702},26]
["Barkley",27,112,"M",{"$f":"MIN(B296*C296/6,400)/(B296/2)+(control!$B$4-MIN(B296*C296/6,400))/(B296/8)","v":29.62962962962963},30]
["Barleda",19,81,"S",{"$f":"MIN(B297*C297/6,400)/(B297/2)+(control!$B$4-MIN(B297*C297/6,400))/(B297/8)","v":87.421052631578945},23]
["Barney",27,71,"M",{"$f":"MIN(B298*C298/6,400)/(B298/2)+(control!$B$4-MIN(B298*C298/6,400))/(B298/8)","v":47.518518518518519},27]
["Barnum",22,70,"S",{"$f":"MIN(B299*C299/6,400)/(B299/2)+(control!$B$4-MIN(B299*C299/6,400))/(B299/8)","v":75.454545454545453},25]
["Baron",22,101,"M",{"$f":"MIN(B300*C300/6,400)/(B300/2)+(control!$B$4-MIN(B300*C300/6,400))/(B300/8)","v":44.45454545454546},24]
["Barq",26,107,"D",{"$f":"MIN(B301*C301/6,400)/(B301/2)+(control!$B$4-MIN(B301*C301/6,400))/(B301/8)","v":30.76923076923077},29]
["Barreness",27,116,"M",{"$f":"MIN(B302*C302/6,400)/(B302/2)+(control!$B$4-MIN(B302*C302/6,400))/(B302/8)","v":29.62962962962963},27]
["Barron",22,71,"M",{"$f":"MIN(B303*C303/6,400)/(B303/2)+(control!$B$4-MIN(B303*C303/6,400))/(B303/8)","v":74.454545454545467},26]
["Bart",22,98,"S",{"$f":"MIN(B304*C304/6,400)/(B304/2)+(control!$B$4-MIN(B304*C304/6,400))/(B304/8)","v":47.45454545454546},24]
["Baryshnikov",20,78,"S",{"$f":"MIN(B305*C305/6,400)/(B305/2)+(control!$B$4-MIN(B305*C305/6,400))/(B305/8)","v":82},23]
["Barzanadana",22,110,"D",{"$f":"MIN(B306*C306/6,400)/(B306/2)+(control!$B$4-MIN(B306*C306/6,400))/(B306/8)","v":36.363636363636367},25]
["Basha",25,96,"S",{"$f":"MIN(B307*C307/6,400)/(B307/2)+(control!$B$4-MIN(B307*C307/6,400))/(B307/8)","v":32},25]
["Bashful",21,67,"S",{"$f":"MIN(B308*C308/6,400)/(B308/2)+(control!$B$4-MIN(B308*C308/6,400))/(B308/8)","v":85.38095238095238},24]
["Basil",17,79,"M",{"$f":"MIN(B309*C309/6,400)/(B309/2)+(control!$B$4-MIN(B309*C309/6,400))/(B309/8)","v":109.23529411764704},20]
["Basilas",22,93,"M",{"$f":"MIN(B310*C310/6,400)/(B310/2)+(control!$B$4-MIN(B310*C310/6,400))/(B310/8)","v":52.454545454545453},25]
["Bask",22,84,"S",{"$f":"MIN(B311*C311/6,400)/(B311/2)+(control!$B$4-MIN(B311*C311/6,400))/(B311/8)","v":61.454545454545453},23]
["Bassenthwaite",20,91,"S",{"$f":"MIN(B312*C312/6,400)/(B312/2)+(control!$B$4-MIN(B312*C312/6,400))/(B312/8)","v":69},23]
["Bastiaan",25,71,"S",{"$f":"MIN(B313*C313/6,400)/(B313/2)+(control!$B$4-MIN(B313*C313/6,400))/(B313/8)","v":57.000000000000007},28]
["Bathsheba",22,81,"M",{"$f":"MIN(B314*C314/6,400)/(B314/2)+(control!$B$4-MIN(B314*C314/6,400))/(B314/8)","v":64.454545454545453},23]
["Batman",21,99,"D",{"$f":"MIN(B315*C315/6,400)/(B315/2)+(control!$B$4-MIN(B315*C315/6,400))/(B315/8)","v":53.38095238095238},25]
["Batman",22,79,"S",{"$f":"MIN(B316*C316/6,400)/(B316/2)+(control!$B$4-MIN(B316*C316/6,400))/(B316/8)","v":66.454545454545453},23]
["Batovian",20,72,"S",{"$f":"MIN(B317*C317/6,400)/(B317/2)+(control!$B$4-MIN(B317*C317/6,400))/(B317/8)","v":88},23]
["Batteries Not Included",17,77,"S",{"$f":"MIN(B318*C318/6,400)/(B318/2)+(control!$B$4-MIN(B318*C318/6,400))/(B318/8)","v":111.23529411764707},21]
["Battlecry",21,113,"S",{"$f":"MIN(B319*C319/6,400)/(B319/2)+(control!$B$4-MIN(B319*C319/6,400))/(B319/8)","v":39.38095238095238},25]
["Batty",15,66,"M",{"$f":"MIN(B320*C320/6,400)/(B320/2)+(control!$B$4-MIN(B320*C320/6,400))/(B320/8)","v":147.33333333333331},17]
["Baxter",19,73,"S",{"$f":"MIN(B321*C321/6,400)/(B321/2)+(control!$B$4-MIN(B321*C321/6,400))/(B321/8)","v":95.421052631578945},23]
["Bay",26,102,"S",{"$f":"MIN(B322*C322/6,400)/(B322/2)+(control!$B$4-MIN(B322*C322/6,400))/(B322/8)","v":30.76923076923077},27]
["Bay Petite",19,99,"D",{"$f":"MIN(B323*C323/6,400)/(B323/2)+(control!$B$4-MIN(B323*C323/6,400))/(B323/8)","v":69.421052631578945},21]
["Bayard",27,80,"S",{"$f":"MIN(B324*C324/6,400)/(B324/2)+(control!$B$4-MIN(B324*C324/6,400))/(B324/8)","v":38.518518518518519},27]
["Bayjour",22,94,"D",{"$f":"MIN(B325*C325/6,400)/(B325/2)+(control!$B$4-MIN(B325*C325/6,400))/(B325/8)","v":51.454545454545453},23]
["Baymont",25,93,"M",{"$f":"MIN(B326*C326/6,400)/(B326/2)+(control!$B$4-MIN(B326*C326/6,400))/(B326/8)","v":35},28]
["Baystreet",20,87,"S",{"$f":"MIN(B327*C327/6,400)/(B327/2)+(control!$B$4-MIN(B327*C327/6,400))/(B327/8)","v":73},20]
["Baywatch Babe",26,72,"S",{"$f":"MIN(B328*C328/6,400)/(B328/2)+(control!$B$4-MIN(B328*C328/6,400))/(B328/8)","v":51.07692307692308},29]
["Bazooka",24,109,"S",{"$f":"MIN(B329*C329/6,400)/(B329/2)+(control!$B$4-MIN(B329*C329/6,400))/(B329/8)","v":33.333333333333336},27]
["BBQ",15,80,"M",{"$f":"MIN(B330*C330/6,400)/(B330/2)+(control!$B$4-MIN(B330*C330/6,400))/(B330/8)","v":133.33333333333334},17]
["Be My Guest",27,92,"S",{"$f":"MIN(B331*C331/6,400)/(B331/2)+(control!$B$4-MIN(B331*C331/6,400))/(B331/8)","v":29.62962962962963},27]
["Be My Valentine",20,79,"S",{"$f":"MIN(B332*C332/6,400)/(B332/2)+(control!$B$4-MIN(B332*C332/6,400))/(B332/8)","v":81},21]
["Beach",18,70,"M",{"$f":"MIN(B333*C333/6,400)/(B333/2)+(control!$B$4-MIN(B333*C333/6,400))/(B333/8)","v":107.77777777777777},19]
["Beach Game",24,69,"S",{"$f":"MIN(B334*C334/6,400)/(B334/2)+(control!$B$4-MIN(B334*C334/6,400))/(B334/8)","v":64.333333333333343},27]
["Beachcomber",27,84,"M",{"$f":"MIN(B335*C335/6,400)/(B335/2)+(control!$B$4-MIN(B335*C335/6,400))/(B335/8)","v":34.518518518518519},29]
["Beam Me Up Scottie",18,111,"D",{"$f":"MIN(B336*C336/6,400)/(B336/2)+(control!$B$4-MIN(B336*C336/6,400))/(B336/8)","v":66.777777777777771},18]
["Beaming",15,76,"S",{"$f":"MIN(B337*C337/6,400)/(B337/2)+(control!$B$4-MIN(B337*C337/6,400))/(B337/8)","v":137.33333333333334},15]
["Bear",17,73,"M",{"$f":"MIN(B338*C338/6,400)/(B338/2)+(control!$B$4-MIN(B338*C338/6,400))/(B338/8)","v":115.23529411764704},19]
["Beat the Clock",20,67,"M",{"$f":"MIN(B339*C339/6,400)/(B339/2)+(control!$B$4-MIN(B339*C339/6,400))/(B339/8)","v":93},23]
["Beau",22,66,"S",{"$f":"MIN(B340*C340/6,400)/(B340/2)+(control!$B$4-MIN(B340*C340/6,400))/(B340/8)","v":79.454545454545453},25]
["Beau Dancer",16,114,"S",{"$f":"MIN(B341*C341/6,400)/(B341/2)+(control!$B$4-MIN(B341*C341/6,400))/(B341/8)","v":86},17]
["Beau Zam",18,100,"D",{"$f":"MIN(B342*C342/6,400)/(B342/2)+(control!$B$4-MIN(B342*C342/6,400))/(B342/8)","v":77.777777777777771},21]
["Beau Zephyr",20,119,"M",{"$f":"MIN(B343*C343/6,400)/(B343/2)+(control!$B$4-MIN(B343*C343/6,400))/(B343/8)","v":41},24]
["Beautiful Dreamer",21,99,"D",{"$f":"MIN(B344*C344/6,400)/(B344/2)+(control!$B$4-MIN(B344*C344/6,400))/(B344/8)","v":53.38095238095238},22]
["Beautiful Oblivian",15,93,"S",{"$f":"MIN(B345*C345/6,400)/(B345/2)+(control!$B$4-MIN(B345*C345/6,400))/(B345/8)","v":120.33333333333333},18]
["Beauty",23,91,"D",{"$f":"MIN(B346*C346/6,400)/(B346/2)+(control!$B$4-MIN(B346*C346/6,400))/(B346/8)","v":48.130434782608702},26]
["Beauty's Star",24,84,"S",{"$f":"MIN(B347*C347/6,400)/(B347/2)+(control!$B$4-MIN(B347*C347/6,400))/(B347/8)","v":49.333333333333329},24]
["Beaver",27,69,"S",{"$f":"MIN(B348*C348/6,400)/(B348/2)+(control!$B$4-MIN(B348*C348/6,400))/(B348/8)","v":49.518518518518519},28]
["Beck",20,101,"D",{"$f":"MIN(B349*C349/6,400)/(B349/2)+(control!$B$4-MIN(B349*C349/6,400))/(B349/8)","v":59},22]
["Bedazzaled",23,74,"S",{"$f":"MIN(B350*C350/6,400)/(B350/2)+(control!$B$4-MIN(B350*C350/6,400))/(B350/8)","v":65.130434782608688},24]
["Beech Sky",21,117,"D",{"$f":"MIN(B351*C351/6,400)/(B351/2)+(control!$B$4-MIN(B351*C351/6,400))/(B351/8)","v":38.095238095238095},25]
["Beezely",21,97,"D",{"$f":"MIN(B352*C352/6,400)/(B352/2)+(control!$B$4-MIN(B352*C352/6,400))/(B352/8)","v":55.38095238095238},22]
["Beigh",20,119,"D",{"$f":"MIN(B353*C353/6,400)/(B353/2)+(control!$B$4-MIN(B353*C353/6,400))/(B353/8)","v":41},23]
["Bekki",27,76,"S",{"$f":"MIN(B354*C354/6,400)/(B354/2)+(control!$B$4-MIN(B354*C354/6,400))/(B354/8)","v":42.518518518518519},31]
["Believe",16,77,"S",{"$f":"MIN(B355*C355/6,400)/(B355/2)+(control!$B$4-MIN(B355*C355/6,400))/(B355/8)","v":123},17]
["Believe n Miracles",19,118,"D",{"$f":"MIN(B356*C356/6,400)/(B356/2)+(control!$B$4-MIN(B356*C356/6,400))/(B356/8)","v":50.421052631578945},20]
["Bell",27,69,"S",{"$f":"MIN(B357*C357/6,400)/(B357/2)+(control!$B$4-MIN(B357*C357/6,400))/(B357/8)","v":49.518518518518519},29]
["Bella",17,75,"S",{"$f":"MIN(B358*C358/6,400)/(B358/2)+(control!$B$4-MIN(B358*C358/6,400))/(B358/8)","v":113.23529411764706},21]
["Bella Baby",17,68,"M",{"$f":"MIN(B359*C359/6,400)/(B359/2)+(control!$B$4-MIN(B359*C359/6,400))/(B359/8)","v":120.23529411764707},17]
["Belladonte",25,86,"M",{"$f":"MIN(B360*C360/6,400)/(B360/2)+(control!$B$4-MIN(B360*C360/6,400))/(B360/8)","v":42},28]
["Belle",22,77,"S",{"$f":"MIN(B361*C361/6,400)/(B361/2)+(control!$B$4-MIN(B361*C361/6,400))/(B361/8)","v":68.454545454545467},23]
["Belle of the Ball",20,97,"S",{"$f":"MIN(B362*C362/6,400)/(B362/2)+(control!$B$4-MIN(B362*C362/6,400))/(B362/8)","v":63},20]
["Bellefire",21,70,"S",{"$f":"MIN(B363*C363/6,400)/(B363/2)+(control!$B$4-MIN(B363*C363/6,400))/(B363/8)","v":82.38095238095238},23]
["Belleza",25,92,"D",{"$f":"MIN(B364*C364/6,400)/(B364/2)+(control!$B$4-MIN(B364*C364/6,400))/(B364/8)","v":36},26]
["Bellini",15,67,"M",{"$f":"MIN(B365*C365/6,400)/(B365/2)+(control!$B$4-MIN(B365*C365/6,400))/(B365/8)","v":146.33333333333334},19]
["Bellino",24,121,"D",{"$f":"MIN(B366*C366/6,400)/(B366/2)+(control!$B$4-MIN(B366*C366/6,400))/(B366/8)","v":33.333333333333336},27]
["Bellota's Jewel",23,80,"M",{"$f":"MIN(B367*C367/6,400)/(B367/2)+(control!$B$4-MIN(B367*C367/6,400))/(B367/8)","v":59.130434782608688},26]
["Belltello",23,89,"S",{"$f":"MIN(B368*C368/6,400)/(B368/2)+(control!$B$4-MIN(B368*C368/6,400))/(B368/8)","v":50.130434782608688},26]
["Belmont",22,75,"M",{"$f":"MIN(B369*C369/6,400)/(B369/2)+(control!$B$4-MIN(B369*C369/6,400))/(B369/8)","v":70.454545454545453},24]
["Ben",27,83,"S",{"$f":"MIN(B370*C370/6,400)/(B370/2)+(control!$B$4-MIN(B370*C370/6,400))/(B370/8)","v":35.518518518518519},31]
["Benjamin",23,76,"S",{"$f":"MIN(B371*C371/6,400)/(B371/2)+(control!$B$4-MIN(B371*C371/6,400))/(B371/8)","v":63.130434782608702},26]
["Benny",19,67,"S",{"$f":"MIN(B372*C372/6,400)/(B372/2)+(control!$B$4-MIN(B372*C372/6,400))/(B372/8)","v":101.42105263157895},20]
["Benny Boy",23,77,"S",{"$f":"MIN(B373*C373/6,400)/(B373/2)+(control!$B$4-MIN(B373*C373/6,400))/(B373/8)","v":62.130434782608688},26]
["Benson",18,72,"M",{"$f":"MIN(B374*C374/6,400)/(B374/2)+(control!$B$4-MIN(B374*C374/6,400))/(B374/8)","v":105.77777777777777},20]
["Bento",22,90,"M",{"$f":"MIN(B375*C375/6,400)/(B375/2)+(control!$B$4-MIN(B375*C375/6,400))/(B375/8)","v":55.454545454545453},22]
["Bermuda",15,93,"S",{"$f":"MIN(B376*C376/6,400)/(B376/2)+(control!$B$4-MIN(B376*C376/6,400))/(B376/8)","v":120.33333333333333},16]
["Berry",20,123,"S",{"$f":"MIN(B377*C377/6,400)/(B377/2)+(control!$B$4-MIN(B377*C377/6,400))/(B377/8)","v":40},21]
["Berry Blitz",15,80,"S",{"$f":"MIN(B378*C378/6,400)/(B378/2)+(control!$B$4-MIN(B378*C378/6,400))/(B378/8)","v":133.33333333333334},15]
["Bert",20,63,"M",{"$f":"MIN(B379*C379/6,400)/(B379/2)+(control!$B$4-MIN(B379*C379/6,400))/(B379/8)","v":97},23]
["Best Bet",22,105,"D",{"$f":"MIN(B380*C380/6,400)/(B380/2)+(control!$B$4-MIN(B380*C380/6,400))/(B380/8)","v":40.454545454545453},23]
["Best of Luck",21,85,"S",{"$f":"MIN(B381*C381/6,400)/(B381/2)+(control!$B$4-MIN(B381*C381/6,400))/(B381/8)","v":67.38095238095238},24]
["Betty",17,65,"S",{"$f":"MIN(B382*C382/6,400)/(B382/2)+(control!$B$4-MIN(B382*C382/6,400))/(B382/8)","v":123.23529411764707},21]
["Beyond the Limits",18,120,"S",{"$f":"MIN(B383*C383/6,400)/(B383/2)+(control!$B$4-MIN(B383*C383/6,400))/(B383/8)","v":57.777777777777779},21]
["Bianca",20,73,"M",{"$f":"MIN(B384*C384/6,400)/(B384/2)+(control!$B$4-MIN(B384*C384/6,400))/(B384/8)","v":87},23]
["Big Ben",22,75,"S",{"$f":"MIN(B385*C385/6,400)/(B385/2)+(control!$B$4-MIN(B385*C385/6,400))/(B385/8)","v":70.454545454545453},24]
["Big Bert",25,94,"M",{"$f":"MIN(B386*C386/6,400)/(B386/2)+(control!$B$4-MIN(B386*C386/6,400))/(B386/8)","v":34},29]
["Big Bird",19,99,"S",{"$f":"MIN(B387*C387/6,400)/(B387/2)+(control!$B$4-MIN(B387*C387/6,400))/(B387/8)","v":69.421052631578945},19]
["Big Foot",25,77,"S",{"$f":"MIN(B388*C388/6,400)/(B388/2)+(control!$B$4-MIN(B388*C388/6,400))/(B388/8)","v":51},25]
["Big Hustler",20,109,"S",{"$f":"MIN(B389*C389/6,400)/(B389/2)+(control!$B$4-MIN(B389*C389/6,400))/(B389/8)","v":51},21]
["Big Jake",24,65,"S",{"$f":"MIN(B390*C390/6,400)/(B390/2)+(control!$B$4-MIN(B390*C390/6,400))/(B390/8)","v":68.333333333333329},24]
["Big League",15,65,"S",{"$f":"MIN(B391*C391/6,400)/(B391/2)+(control!$B$4-MIN(B391*C391/6,400))/(B391/8)","v":148.33333333333334},19]
["Big Mac",23,73,"S",{"$f":"MIN(B392*C392/6,400)/(B392/2)+(control!$B$4-MIN(B392*C392/6,400))/(B392/8)","v":66.130434782608702},25]
["Big News",23,73,"S",{"$f":"MIN(B393*C393/6,400)/(B393/2)+(control!$B$4-MIN(B393*C393/6,400))/(B393/8)","v":66.130434782608702},23]
["Big Red",21,79,"M",{"$f":"MIN(B394*C394/6,400)/(B394/2)+(control!$B$4-MIN(B394*C394/6,400))/(B394/8)","v":73.38095238095238},21]
["Big'n",18,61,"S",{"$f":"MIN(B395*C395/6,400)/(B395/2)+(control!$B$4-MIN(B395*C395/6,400))/(B395/8)","v":116.77777777777777},21]
["Bigstone",25,69,"S",{"$f":"MIN(B396*C396/6,400)/(B396/2)+(control!$B$4-MIN(B396*C396/6,400))/(B396/8)","v":59},29]
["Bijoux",21,70,"M",{"$f":"MIN(B397*C397/6,400)/(B397/2)+(control!$B$4-MIN(B397*C397/6,400))/(B397/8)","v":82.38095238095238},23]
["Bikini",19,79,"M",{"$f":"MIN(B398*C398/6,400)/(B398/2)+(control!$B$4-MIN(B398*C398/6,400))/(B398/8)","v":89.421052631578945},19]
["Bilbo",21,93,"D",{"$f":"MIN(B399*C399/6,400)/(B399/2)+(control!$B$4-MIN(B399*C399/6,400))/(B399/8)","v":59.38095238095238},21]
["Billie",16,99,"M",{"$f":"MIN(B400*C400/6,400)/(B400/2)+(control!$B$4-MIN(B400*C400/6,400))/(B400/8)","v":101},18]
["Billy",21,62,"S",{"$f":"MIN(B401*C401/6,400)/(B401/2)+(control!$B$4-MIN(B401*C401/6,400))/(B401/8)","v":90.38095238095238},22]
["Billy the Kid",22,103,"D",{"$f":"MIN(B402*C402/6,400)/(B402/2)+(control!$B$4-MIN(B402*C402/6,400))/(B402/8)","v":42.454545454545453},26]
["Bindi",17,117,"M",{"$f":"MIN(B403*C403/6,400)/(B403/2)+(control!$B$4-MIN(B403*C403/6,400))/(B403/8)","v":71.235294117647058},18]
["Bindy",19,98,"D",{"$f":"MIN(B404*C404/6,400)/(B404/2)+(control!$B$4-MIN(B404*C404/6,400))/(B404/8)","v":70.421052631578959},23]
["Bingo",19,108,"S",{"$f":"MIN(B405*C405/6,400)/(B405/2)+(control!$B$4-MIN(B405*C405/6,400))/(B405/8)","v":60.421052631578945},21]
["Bio",18,100,"D",{"$f":"MIN(B406*C406/6,400)/(B406/2)+(control!$B$4-MIN(B406*C406/6,400))/(B406/8)","v":77.777777777777771},20]
["Biraldo",27,72,"M",{"$f":"MIN(B407*C407/6,400)/(B407/2)+(control!$B$4-MIN(B407*C407/6,400))/(B407/8)","v":46.518518518518519},29]
["Bird",17,110,"D",{"$f":"MIN(B408*C408/6,400)/(B408/2)+(control!$B$4-MIN(B408*C408/6,400))/(B408/8)","v":78.235294117647058},20]
["Biscuit",27,89,"S",{"$f":"MIN(B409*C409/6,400)/(B409/2)+(control!$B$4-MIN(B409*C409/6,400))/(B409/8)","v":29.62962962962963},29]
["Bistro",21,73,"M",{"$f":"MIN(B410*C410/6,400)/(B410/2)+(control!$B$4-MIN(B410*C410/6,400))/(B410/8)","v":79.38095238095238},22]
["Bit of a Pickle",24,95,"S",{"$f":"MIN(B411*C411/6,400)/(B411/2)+(control!$B$4-MIN(B411*C411/6,400))/(B411/8)","v":38.333333333333336},24]
["Bit of Masquerade",20,69,"M",{"$f":"MIN(B412*C412/6,400)/(B412/2)+(control!$B$4-MIN(B412*C412/6,400))/(B412/8)","v":91},21]
["Bite My Dust",22,84,"S",{"$f":"MIN(B413*C413/6,400)/(B413/2)+(control!$B$4-MIN(B413*C413/6,400))/(B413/8)","v":61.454545454545453},24]
["Bits",16,88,"S",{"$f":"MIN(B414*C414/6,400)/(B414/2)+(control!$B$4-MIN(B414*C414/6,400))/(B414/8)","v":112},19]
["Bitsy",21,95,"D",{"$f":"MIN(B415*C415/6,400)/(B415/2)+(control!$B$4-MIN(B415*C415/6,400))/(B415/8)","v":57.38095238095238},24]
["BJ",15,69,"S",{"$f":"MIN(B416*C416/6,400)/(B416/2)+(control!$B$4-MIN(B416*C416/6,400))/(B416/8)","v":144.33333333333331},18]
["Black",21,84,"M",{"$f":"MIN(B417*C417/6,400)/(B417/2)+(control!$B$4-MIN(B417*C417/6,400))/(B417/8)","v":68.38095238095238},25]
["Black Bar",22,75,"M",{"$f":"MIN(B418*C418/6,400)/(B418/2)+(control!$B$4-MIN(B418*C418/6,400))/(B418/8)","v":70.454545454545453},25]
["Black Bart",20,90,"S",{"$f":"MIN(B419*C419/6,400)/(B419/2)+(control!$B$4-MIN(B419*C419/6,400))/(B419/8)","v":70},24]
["Black Beauty",22,79,"M",{"$f":"MIN(B420*C420/6,400)/(B420/2)+(control!$B$4-MIN(B420*C420/6,400))/(B420/8)","v":66.454545454545453},25]
["Black Bess",21,96,"S",{"$f":"MIN(B421*C421/6,400)/(B421/2)+(control!$B$4-MIN(B421*C421/6,400))/(B421/8)","v":56.38095238095238},21]
["Black Future",25,93,"S",{"$f":"MIN(B422*C422/6,400)/(B422/2)+(control!$B$4-MIN(B422*C422/6,400))/(B422/8)","v":35},27]
["Black Jack",23,84,"M",{"$f":"MIN(B423*C423/6,400)/(B423/2)+(control!$B$4-MIN(B423*C423/6,400))/(B423/8)","v":55.130434782608695},26]
["Black Kyber",19,101,"S",{"$f":"MIN(B424*C424/6,400)/(B424/2)+(control!$B$4-MIN(B424*C424/6,400))/(B424/8)","v":67.421052631578959},21]
["Black Lightning",19,65,"S",{"$f":"MIN(B425*C425/6,400)/(B425/2)+(control!$B$4-MIN(B425*C425/6,400))/(B425/8)","v":103.42105263157895},22]
["Black Magic",22,77,"S",{"$f":"MIN(B426*C426/6,400)/(B426/2)+(control!$B$4-MIN(B426*C426/6,400))/(B426/8)","v":68.454545454545467},23]
["Black Rose",16,72,"S",{"$f":"MIN(B427*C427/6,400)/(B427/2)+(control!$B$4-MIN(B427*C427/6,400))/(B427/8)","v":128},17]
["Black Shadows",26,91,"D",{"$f":"MIN(B428*C428/6,400)/(B428/2)+(control!$B$4-MIN(B428*C428/6,400))/(B428/8)","v":32.07692307692308},26]
["Black Showgirl",24,83,"S",{"$f":"MIN(B429*C429/6,400)/(B429/2)+(control!$B$4-MIN(B429*C429/6,400))/(B429/8)","v":50.333333333333336},24]
["Black Tide",20,91,"D",{"$f":"MIN(B430*C430/6,400)/(B430/2)+(control!$B$4-MIN(B430*C430/6,400))/(B430/8)","v":69},20]
["Black Tie Affair",25,76,"S",{"$f":"MIN(B431*C431/6,400)/(B431/2)+(control!$B$4-MIN(B431*C431/6,400))/(B431/8)","v":52},26]
["Black Toes",15,111,"D",{"$f":"MIN(B432*C432/6,400)/(B432/2)+(control!$B$4-MIN(B432*C432/6,400))/(B432/8)","v":102.33333333333333},17]
["Black Zephyr",20,90,"M",{"$f":"MIN(B433*C433/6,400)/(B433/2)+(control!$B$4-MIN(B433*C433/6,400))/(B433/8)","v":70},22]
["Blackberry",19,60,"S",{"$f":"MIN(B434*C434/6,400)/(B434/2)+(control!$B$4-MIN(B434*C434/6,400))/(B434/8)","v":108.42105263157895},19]
["Blackhawk",17,75,"S",{"$f":"MIN(B435*C435/6,400)/(B435/2)+(control!$B$4-MIN(B435*C435/6,400))/(B435/8)","v":113.23529411764706},18]
["Blackie",26,123,"M",{"$f":"MIN(B436*C436/6,400)/(B436/2)+(control!$B$4-MIN(B436*C436/6,400))/(B436/8)","v":30.76923076923077},27]
["Blackjack",27,98,"S",{"$f":"MIN(B437*C437/6,400)/(B437/2)+(control!$B$4-MIN(B437*C437/6,400))/(B437/8)","v":29.62962962962963},30]
["Blacky",18,69,"M",{"$f":"MIN(B438*C438/6,400)/(B438/2)+(control!$B$4-MIN(B438*C438/6,400))/(B438/8)","v":108.77777777777777},18]
["Blanca",24,94,"D",{"$f":"MIN(B439*C439/6,400)/(B439/2)+(control!$B$4-MIN(B439*C439/6,400))/(B439/8)","v":39.333333333333329},25]
["Blarney",18,66,"S",{"$f":"MIN(B440*C440/6,400)/(B440/2)+(control!$B$4-MIN(B440*C440/6,400))/(B440/8)","v":111.77777777777777},21]
["Blaster",24,101,"D",{"$f":"MIN(B441*C441/6,400)/(B441/2)+(control!$B$4-MIN(B441*C441/6,400))/(B441/8)","v":33.333333333333336},24]
["Blaze",24,82,"M",{"$f":"MIN(B442*C442/6,400)/(B442/2)+(control!$B$4-MIN(B442*C442/6,400))/(B442/8)","v":51.333333333333329},24]
["Blaze of Enchantment",24,61,"M",{"$f":"MIN(B443*C443/6,400)/(B443/2)+(control!$B$4-MIN(B443*C443/6,400))/(B443/8)","v":72.333333333333329},24]
["Blazing Berry",22,81,"S",{"$f":"MIN(B444*C444/6,400)/(B444/2)+(control!$B$4-MIN(B444*C444/6,400))/(B444/8)","v":64.454545454545453},25]
["Blazing Comet",27,97,"D",{"$f":"MIN(B445*C445/6,400)/(B445/2)+(control!$B$4-MIN(B445*C445/6,400))/(B445/8)","v":29.62962962962963},28]
["Blazing Heart",23,66,"M",{"$f":"MIN(B446*C446/6,400)/(B446/2)+(control!$B$4-MIN(B446*C446/6,400))/(B446/8)","v":73.130434782608688},26]
["Blazing Keel",21,87,"S",{"$f":"MIN(B447*C447/6,400)/(B447/2)+(control!$B$4-MIN(B447*C447/6,400))/(B447/8)","v":65.38095238095238},24]
["Blazing Speed",22,101,"S",{"$f":"MIN(B448*C448/6,400)/(B448/2)+(control!$B$4-MIN(B448*C448/6,400))/(B448/8)","v":44.45454545454546},24]
["Blessing",25,79,"S",{"$f":"MIN(B449*C449/6,400)/(B449/2)+(control!$B$4-MIN(B449*C449/6,400))/(B449/8)","v":49},29]
["Bling Bling",23,120,"D",{"$f":"MIN(B450*C450/6,400)/(B450/2)+(control!$B$4-MIN(B450*C450/6,400))/(B450/8)","v":34.782608695652172},26]
["Bliss",21,98,"S",{"$f":"MIN(B451*C451/6,400)/(B451/2)+(control!$B$4-MIN(B451*C451/6,400))/(B451/8)","v":54.38095238095238},23]
["Bliss",27,94,"S",{"$f":"MIN(B452*C452/6,400)/(B452/2)+(control!$B$4-MIN(B452*C452/6,400))/(B452/8)","v":29.62962962962963},31]
["Blissful",19,111,"M",{"$f":"MIN(B453*C453/6,400)/(B453/2)+(control!$B$4-MIN(B453*C453/6,400))/(B453/8)","v":57.421052631578945},19]
["Blitz",22,89,"M",{"$f":"MIN(B454*C454/6,400)/(B454/2)+(control!$B$4-MIN(B454*C454/6,400))/(B454/8)","v":56.45454545454546},23]
["Blitzen",27,98,"S",{"$f":"MIN(B455*C455/6,400)/(B455/2)+(control!$B$4-MIN(B455*C455/6,400))/(B455/8)","v":29.62962962962963},31]
["Blizzard",21,89,"S",{"$f":"MIN(B456*C456/6,400)/(B456/2)+(control!$B$4-MIN(B456*C456/6,400))/(B456/8)","v":63.38095238095238},21]
["Blondie",18,71,"S",{"$f":"MIN(B457*C457/6,400)/(B457/2)+(control!$B$4-MIN(B457*C457/6,400))/(B457/8)","v":106.77777777777779},20]
["Blossom",20,112,"S",{"$f":"MIN(B458*C458/6,400)/(B458/2)+(control!$B$4-MIN(B458*C458/6,400))/(B458/8)","v":48},24]
["Blue",16,94,"D",{"$f":"MIN(B459*C459/6,400)/(B459/2)+(control!$B$4-MIN(B459*C459/6,400))/(B459/8)","v":106},18]
["Blue Angel",16,80,"M",{"$f":"MIN(B460*C460/6,400)/(B460/2)+(control!$B$4-MIN(B460*C460/6,400))/(B460/8)","v":120},19]
["Blue Chip",20,80,"M",{"$f":"MIN(B461*C461/6,400)/(B461/2)+(control!$B$4-MIN(B461*C461/6,400))/(B461/8)","v":80},20]
["Blue Cloud",22,86,"S",{"$f":"MIN(B462*C462/6,400)/(B462/2)+(control!$B$4-MIN(B462*C462/6,400))/(B462/8)","v":59.45454545454546},26]
["Blue Eyed Bandit",23,67,"M",{"$f":"MIN(B463*C463/6,400)/(B463/2)+(control!$B$4-MIN(B463*C463/6,400))/(B463/8)","v":72.130434782608702},27]
["Blue Eyes",19,94,"M",{"$f":"MIN(B464*C464/6,400)/(B464/2)+(control!$B$4-MIN(B464*C464/6,400))/(B464/8)","v":74.421052631578945},21]
["Blue lands Rosey",15,95,"D",{"$f":"MIN(B465*C465/6,400)/(B465/2)+(control!$B$4-MIN(B465*C465/6,400))/(B465/8)","v":118.33333333333334},19]
["Blue Legend",23,90,"S",{"$f":"MIN(B466*C466/6,400)/(B466/2)+(control!$B$4-MIN(B466*C466/6,400))/(B466/8)","v":49.130434782608695},26]
["Blue Max",21,113,"D",{"$f":"MIN(B467*C467/6,400)/(B467/2)+(control!$B$4-MIN(B467*C467/6,400))/(B467/8)","v":39.38095238095238},21]
["Blue Moon",19,75,"S",{"$f":"MIN(B468*C468/6,400)/(B468/2)+(control!$B$4-MIN(B468*C468/6,400))/(B468/8)","v":93.421052631578945},20]
["Blue Murder",20,75,"M",{"$f":"MIN(B469*C469/6,400)/(B469/2)+(control!$B$4-MIN(B469*C469/6,400))/(B469/8)","v":85},21]
["Blue Patent",17,83,"S",{"$f":"MIN(B470*C470/6,400)/(B470/2)+(control!$B$4-MIN(B470*C470/6,400))/(B470/8)","v":105.23529411764707},21]
["Blue Stone",15,123,"D",{"$f":"MIN(B471*C471/6,400)/(B471/2)+(control!$B$4-MIN(B471*C471/6,400))/(B471/8)","v":90.333333333333343},16]
["Blue Valentine",26,112,"S",{"$f":"MIN(B472*C472/6,400)/(B472/2)+(control!$B$4-MIN(B472*C472/6,400))/(B472/8)","v":30.76923076923077},27]
["Bluebell",22,113,"S",{"$f":"MIN(B473*C473/6,400)/(B473/2)+(control!$B$4-MIN(B473*C473/6,400))/(B473/8)","v":36.363636363636367},26]
["Blueberry Hill",26,103,"D",{"$f":"MIN(B474*C474/6,400)/(B474/2)+(control!$B$4-MIN(B474*C474/6,400))/(B474/8)","v":30.76923076923077},29]
["Bluebird the Word",16,76,"M",{"$f":"MIN(B475*C475/6,400)/(B475/2)+(control!$B$4-MIN(B475*C475/6,400))/(B475/8)","v":124},20]
["Bluegrass",22,88,"S",{"$f":"MIN(B476*C476/6,400)/(B476/2)+(control!$B$4-MIN(B476*C476/6,400))/(B476/8)","v":57.454545454545453},26]
["Blueprint",27,96,"D",{"$f":"MIN(B477*C477/6,400)/(B477/2)+(control!$B$4-MIN(B477*C477/6,400))/(B477/8)","v":29.62962962962963},27]
["Blues Traveler",22,66,"S",{"$f":"MIN(B478*C478/6,400)/(B478/2)+(control!$B$4-MIN(B478*C478/6,400))/(B478/8)","v":79.454545454545453},22]
["Blustery",17,71,"S",{"$f":"MIN(B479*C479/6,400)/(B479/2)+(control!$B$4-MIN(B479*C479/6,400))/(B479/8)","v":117.23529411764707},21]
["Bo",27,86,"S",{"$f":"MIN(B480*C480/6,400)/(B480/2)+(control!$B$4-MIN(B480*C480/6,400))/(B480/8)","v":32.518518518518519},29]
["Bo Didley",15,116,"D",{"$f":"MIN(B481*C481/6,400)/(B481/2)+(control!$B$4-MIN(B481*C481/6,400))/(B481/8)","v":97.333333333333329},18]
["Bo Hunk",17,71,"S",{"$f":"MIN(B482*C482/6,400)/(B482/2)+(control!$B$4-MIN(B482*C482/6,400))/(B482/8)","v":117.23529411764707},20]
["Bob",23,83,"M",{"$f":"MIN(B483*C483/6,400)/(B483/2)+(control!$B$4-MIN(B483*C483/6,400))/(B483/8)","v":56.130434782608688},25]
["Boba Fett",22,86,"S",{"$f":"MIN(B484*C484/6,400)/(B484/2)+(control!$B$4-MIN(B484*C484/6,400))/(B484/8)","v":59.45454545454546},25]
["Bobbi",25,84,"S",{"$f":"MIN(B485*C485/6,400)/(B485/2)+(control!$B$4-MIN(B485*C485/6,400))/(B485/8)","v":44},28]
["Bobbie",19,93,"D",{"$f":"MIN(B486*C486/6,400)/(B486/2)+(control!$B$4-MIN(B486*C486/6,400))/(B486/8)","v":75.421052631578945},23]
["Bobby",20,116,"S",{"$f":"MIN(B487*C487/6,400)/(B487/2)+(control!$B$4-MIN(B487*C487/6,400))/(B487/8)","v":44},24]
["Bobby Jo",27,80,"S",{"$f":"MIN(B488*C488/6,400)/(B488/2)+(control!$B$4-MIN(B488*C488/6,400))/(B488/8)","v":38.518518518518519},30]
["Boe",22,96,"D",{"$f":"MIN(B489*C489/6,400)/(B489/2)+(control!$B$4-MIN(B489*C489/6,400))/(B489/8)","v":49.454545454545453},25]
["Boiling Beauty",22,82,"S",{"$f":"MIN(B490*C490/6,400)/(B490/2)+(control!$B$4-MIN(B490*C490/6,400))/(B490/8)","v":63.454545454545453},24]
["Bojangles",18,95,"S",{"$f":"MIN(B491*C491/6,400)/(B491/2)+(control!$B$4-MIN(B491*C491/6,400))/(B491/8)","v":82.777777777777786},21]
["Bolaro",20,100,"M",{"$f":"MIN(B492*C492/6,400)/(B492/2)+(control!$B$4-MIN(B492*C492/6,400))/(B492/8)","v":60},23]
["Bold Lad",22,122,"D",{"$f":"MIN(B493*C493/6,400)/(B493/2)+(control!$B$4-MIN(B493*C493/6,400))/(B493/8)","v":36.363636363636367},24]
["Bold Venture",17,101,"D",{"$f":"MIN(B494*C494/6,400)/(B494/2)+(control!$B$4-MIN(B494*C494/6,400))/(B494/8)","v":87.235294117647058},20]
["Bolero",22,78,"M",{"$f":"MIN(B495*C495/6,400)/(B495/2)+(control!$B$4-MIN(B495*C495/6,400))/(B495/8)","v":67.454545454545453},23]
["Bolt",19,75,"M",{"$f":"MIN(B496*C496/6,400)/(B496/2)+(control!$B$4-MIN(B496*C496/6,400))/(B496/8)","v":93.421052631578945},21]
["Bonzo",20,99,"M",{"$f":"MIN(B497*C497/6,400)/(B497/2)+(control!$B$4-MIN(B497*C497/6,400))/(B497/8)","v":61},20]
["Boo",19,94,"D",{"$f":"MIN(B498*C498/6,400)/(B498/2)+(control!$B$4-MIN(B498*C498/6,400))/(B498/8)","v":74.421052631578945},21]
["Booger",19,84,"S",{"$f":"MIN(B499*C499/6,400)/(B499/2)+(control!$B$4-MIN(B499*C499/6,400))/(B499/8)","v":84.421052631578945},21]
["Booger Baby",26,69,"S",{"$f":"MIN(B500*C500/6,400)/(B500/2)+(control!$B$4-MIN(B500*C500/6,400))/(B500/8)","v":54.07692307692308},28]
["Boogie",22,93,"D",{"$f":"MIN(B501*C501/6,400)/(B501/2)+(control!$B$4-MIN(B501*C501/6,400))/(B501/8)","v":52.454545454545453},24]
["Bookmark",19,108,"S",{"$f":"MIN(B502*C502/6,400)/(B502/2)+(control!$B$4-MIN(B502*C502/6,400))/(B502/8)","v":60.421052631578945},22]
["Boomer",19,65,"S",{"$f":"MIN(B503*C503/6,400)/(B503/2)+(control!$B$4-MIN(B503*C503/6,400))/(B503/8)","v":103.42105263157895},21]
["Boomerang",22,59,"S",{"$f":"MIN(B504*C504/6,400)/(B504/2)+(control!$B$4-MIN(B504*C504/6,400))/(B504/8)","v":86.454545454545453},25]
["Boots",19,99,"M",{"$f":"MIN(B505*C505/6,400)/(B505/2)+(control!$B$4-MIN(B505*C505/6,400))/(B505/8)","v":69.421052631578945},20]
["Boot's Scootn'",21,64,"S",{"$f":"MIN(B506*C506/6,400)/(B506/2)+(control!$B$4-MIN(B506*C506/6,400))/(B506/8)","v":88.38095238095238},24]
["Born To Be Bad",19,88,"S",{"$f":"MIN(B507*C507/6,400)/(B507/2)+(control!$B$4-MIN(B507*C507/6,400))/(B507/8)","v":80.421052631578945},20]
["Born To Do It",27,62,"S",{"$f":"MIN(B508*C508/6,400)/(B508/2)+(control!$B$4-MIN(B508*C508/6,400))/(B508/8)","v":56.518518518518519},29]
["Born To Fly",17,90,"S",{"$f":"MIN(B509*C509/6,400)/(B509/2)+(control!$B$4-MIN(B509*C509/6,400))/(B509/8)","v":98.235294117647058},21]
["Bossinova",16,66,"M",{"$f":"MIN(B510*C510/6,400)/(B510/2)+(control!$B$4-MIN(B510*C510/6,400))/(B510/8)","v":134},17]
["Bossy",26,101,"S",{"$f":"MIN(B511*C511/6,400)/(B511/2)+(control!$B$4-MIN(B511*C511/6,400))/(B511/8)","v":30.76923076923077},26]
["Boston",21,80,"M",{"$f":"MIN(B512*C512/6,400)/(B512/2)+(control!$B$4-MIN(B512*C512/6,400))/(B512/8)","v":72.38095238095238},21]
["Boston Cream",20,94,"D",{"$f":"MIN(B513*C513/6,400)/(B513/2)+(control!$B$4-MIN(B513*C513/6,400))/(B513/8)","v":66},22]
["Botanic",21,97,"D",{"$f":"MIN(B514*C514/6,400)/(B514/2)+(control!$B$4-MIN(B514*C514/6,400))/(B514/8)","v":55.38095238095238},25]
["Bounty",26,117,"S",{"$f":"MIN(B515*C515/6,400)/(B515/2)+(control!$B$4-MIN(B515*C515/6,400))/(B515/8)","v":30.76923076923077},27]
["Bourbon",15,99,"S",{"$f":"MIN(B516*C516/6,400)/(B516/2)+(control!$B$4-MIN(B516*C516/6,400))/(B516/8)","v":114.33333333333333},19]
["Bow",20,75,"M",{"$f":"MIN(B517*C517/6,400)/(B517/2)+(control!$B$4-MIN(B517*C517/6,400))/(B517/8)","v":85},21]
["Bow Tie",22,110,"D",{"$f":"MIN(B518*C518/6,400)/(B518/2)+(control!$B$4-MIN(B518*C518/6,400))/(B518/8)","v":36.363636363636367},24]
["Boy",22,100,"D",{"$f":"MIN(B519*C519/6,400)/(B519/2)+(control!$B$4-MIN(B519*C519/6,400))/(B519/8)","v":45.454545454545453},22]
["Bracken",21,93,"D",{"$f":"MIN(B520*C520/6,400)/(B520/2)+(control!$B$4-MIN(B520*C520/6,400))/(B520/8)","v":59.38095238095238},23]
["Bramble",26,88,"S",{"$f":"MIN(B521*C521/6,400)/(B521/2)+(control!$B$4-MIN(B521*C521/6,400))/(B521/8)","v":35.07692307692308},30]
["Branagan",27,64,"S",{"$f":"MIN(B522*C522/6,400)/(B522/2)+(control!$B$4-MIN(B522*C522/6,400))/(B522/8)","v":54.518518518518519},31]
["Brandon",25,83,"M",{"$f":"MIN(B523*C523/6,400)/(B523/2)+(control!$B$4-MIN(B523*C523/6,400))/(B523/8)","v":45},25]
["Brandy",20,123,"D",{"$f":"MIN(B524*C524/6,400)/(B524/2)+(control!$B$4-MIN(B524*C524/6,400))/(B524/8)","v":40},23]
["Brash n Sassy",21,75,"M",{"$f":"MIN(B525*C525/6,400)/(B525/2)+(control!$B$4-MIN(B525*C525/6,400))/(B525/8)","v":77.38095238095238},21]
["Brass Plum",15,108,"S",{"$f":"MIN(B526*C526/6,400)/(B526/2)+(control!$B$4-MIN(B526*C526/6,400))/(B526/8)","v":105.33333333333333},18]
["Brat",25,96,"M",{"$f":"MIN(B527*C527/6,400)/(B527/2)+(control!$B$4-MIN(B527*C527/6,400))/(B527/8)","v":32},28]
["Brave",15,79,"M",{"$f":"MIN(B528*C528/6,400)/(B528/2)+(control!$B$4-MIN(B528*C528/6,400))/(B528/8)","v":134.33333333333334},15]
["Brave One",18,61,"S",{"$f":"MIN(B529*C529/6,400)/(B529/2)+(control!$B$4-MIN(B529*C529/6,400))/(B529/8)","v":116.77777777777777},18]
["Brave Vision",22,91,"D",{"$f":"MIN(B530*C530/6,400)/(B530/2)+(control!$B$4-MIN(B530*C530/6,400))/(B530/8)","v":54.454545454545453},24]
["Braveheart",16,114,"D",{"$f":"MIN(B531*C531/6,400)/(B531/2)+(control!$B$4-MIN(B531*C531/6,400))/(B531/8)","v":86},16]
["Bravo",20,99,"S",{"$f":"MIN(B532*C532/6,400)/(B532/2)+(control!$B$4-MIN(B532*C532/6,400))/(B532/8)","v":61},20]
["Breeze",21,79,"S",{"$f":"MIN(B533*C533/6,400)/(B533/2)+(control!$B$4-MIN(B533*C533/6,400))/(B533/8)","v":73.38095238095238},24]
["Breeze Bar",27,94,"D",{"$f":"MIN(B534*C534/6,400)/(B534/2)+(control!$B$4-MIN(B534*C534/6,400))/(B534/8)","v":29.62962962962963},29]
["Breeze of the South",24,72,"M",{"$f":"MIN(B535*C535/6,400)/(B535/2)+(control!$B$4-MIN(B535*C535/6,400))/(B535/8)","v":61.333333333333336},25]
["Breezy",23,91,"D",{"$f":"MIN(B536*C536/6,400)/(B536/2)+(control!$B$4-MIN(B536*C536/6,400))/(B536/8)","v":48.130434782608702},26]
["Breman",17,118,"D",{"$f":"MIN(B537*C537/6,400)/(B537/2)+(control!$B$4-MIN(B537*C537/6,400))/(B537/8)","v":70.235294117647058},17]
["Brenner",18,86,"M",{"$f":"MIN(B538*C538/6,400)/(B538/2)+(control!$B$4-MIN(B538*C538/6,400))/(B538/8)","v":91.777777777777786},20]
["Brewski",17,80,"M",{"$f":"MIN(B539*C539/6,400)/(B539/2)+(control!$B$4-MIN(B539*C539/6,400))/(B539/8)","v":108.23529411764707},17]
["Brianna",25,122,"S",{"$f":"MIN(B540*C540/6,400)/(B540/2)+(control!$B$4-MIN(B540*C540/6,400))/(B540/8)","v":32},29]
["Bridal Run",25,93,"D",{"$f":"MIN(B541*C541/6,400)/(B541/2)+(control!$B$4-MIN(B541*C541/6,400))/(B541/8)","v":35},27]
["Brie",17,106,"D",{"$f":"MIN(B542*C542/6,400)/(B542/2)+(control!$B$4-MIN(B542*C542/6,400))/(B542/8)","v":82.235294117647072},21]
["Brigham",20,87,"M",{"$f":"MIN(B543*C543/6,400)/(B543/2)+(control!$B$4-MIN(B543*C543/6,400))/(B543/8)","v":73},24]
["Bright Idea",25,102,"S",{"$f":"MIN(B544*C544/6,400)/(B544/2)+(control!$B$4-MIN(B544*C544/6,400))/(B544/8)","v":32},28]
["British Banker",22,112,"M",{"$f":"MIN(B545*C545/6,400)/(B545/2)+(control!$B$4-MIN(B545*C545/6,400))/(B545/8)","v":36.363636363636367},25]
["Britt",19,96,"S",{"$f":"MIN(B546*C546/6,400)/(B546/2)+(control!$B$4-MIN(B546*C546/6,400))/(B546/8)","v":72.421052631578945},21]
["Brocco",22,98,"M",{"$f":"MIN(B547*C547/6,400)/(B547/2)+(control!$B$4-MIN(B547*C547/6,400))/(B547/8)","v":47.45454545454546},25]
["Broken Arrow",22,76,"S",{"$f":"MIN(B548*C548/6,400)/(B548/2)+(control!$B$4-MIN(B548*C548/6,400))/(B548/8)","v":69.454545454545453},23]
["Broker",18,74,"M",{"$f":"MIN(B549*C549/6,400)/(B549/2)+(control!$B$4-MIN(B549*C549/6,400))/(B549/8)","v":103.77777777777779},18]
["Bronson",18,85,"S",{"$f":"MIN(B550*C550/6,400)/(B550/2)+(control!$B$4-MIN(B550*C550/6,400))/(B550/8)","v":92.777777777777771},21]
["Bronze Cross",22,87,"S",{"$f":"MIN(B551*C551/6,400)/(B551/2)+(control!$B$4-MIN(B551*C551/6,400))/(B551/8)","v":58.454545454545453},23]
["Brook",18,104,"M",{"$f":"MIN(B552*C552/6,400)/(B552/2)+(control!$B$4-MIN(B552*C552/6,400))/(B552/8)","v":73.777777777777771},18]
["Brooke",16,87,"S",{"$f":"MIN(B553*C553/6,400)/(B553/2)+(control!$B$4-MIN(B553*C553/6,400))/(B553/8)","v":113},16]
["Brownie",20,81,"S",{"$f":"MIN(B554*C554/6,400)/(B554/2)+(control!$B$4-MIN(B554*C554/6,400))/(B554/8)","v":79},24]
["Bruce",21,87,"S",{"$f":"MIN(B555*C555/6,400)/(B555/2)+(control!$B$4-MIN(B555*C555/6,400))/(B555/8)","v":65.38095238095238},24]
["Bruiser",19,96,"D",{"$f":"MIN(B556*C556/6,400)/(B556/2)+(control!$B$4-MIN(B556*C556/6,400))/(B556/8)","v":72.421052631578945},21]
["Brunello",27,90,"M",{"$f":"MIN(B557*C557/6,400)/(B557/2)+(control!$B$4-MIN(B557*C557/6,400))/(B557/8)","v":29.62962962962963},30]
["Bruno",17,73,"S",{"$f":"MIN(B558*C558/6,400)/(B558/2)+(control!$B$4-MIN(B558*C558/6,400))/(B558/8)","v":115.23529411764704},18]
["Brutus",26,73,"S",{"$f":"MIN(B559*C559/6,400)/(B559/2)+(control!$B$4-MIN(B559*C559/6,400))/(B559/8)","v":50.07692307692308},28]
["Buba",21,85,"S",{"$f":"MIN(B560*C560/6,400)/(B560/2)+(control!$B$4-MIN(B560*C560/6,400))/(B560/8)","v":67.38095238095238},21]
["Bubba",22,121,"S",{"$f":"MIN(B561*C561/6,400)/(B561/2)+(control!$B$4-MIN(B561*C561/6,400))/(B561/8)","v":36.363636363636367},25]
["Bubble",21,70,"S",{"$f":"MIN(B562*C562/6,400)/(B562/2)+(control!$B$4-MIN(B562*C562/6,400))/(B562/8)","v":82.38095238095238},23]
["Bubble Gum",16,120,"M",{"$f":"MIN(B563*C563/6,400)/(B563/2)+(control!$B$4-MIN(B563*C563/6,400))/(B563/8)","v":80},18]
["Bubbles",21,102,"S",{"$f":"MIN(B564*C564/6,400)/(B564/2)+(control!$B$4-MIN(B564*C564/6,400))/(B564/8)","v":50.38095238095238},24]
["Bubs",23,66,"M",{"$f":"MIN(B565*C565/6,400)/(B565/2)+(control!$B$4-MIN(B565*C565/6,400))/(B565/8)","v":73.130434782608688},23]
["Buck",24,95,"S",{"$f":"MIN(B566*C566/6,400)/(B566/2)+(control!$B$4-MIN(B566*C566/6,400))/(B566/8)","v":38.333333333333336},25]
["Buck of Sugar",20,93,"S",{"$f":"MIN(B567*C567/6,400)/(B567/2)+(control!$B$4-MIN(B567*C567/6,400))/(B567/8)","v":67},21]
["Buck Or Two",20,82,"S",{"$f":"MIN(B568*C568/6,400)/(B568/2)+(control!$B$4-MIN(B568*C568/6,400))/(B568/8)","v":78},24]
["Buck-A-Roo",24,66,"S",{"$f":"MIN(B569*C569/6,400)/(B569/2)+(control!$B$4-MIN(B569*C569/6,400))/(B569/8)","v":67.333333333333343},27]
["Buckeroo Times Two",19,75,"S",{"$f":"MIN(B570*C570/6,400)/(B570/2)+(control!$B$4-MIN(B570*C570/6,400))/(B570/8)","v":93.421052631578945},21]
["Buckminster",18,100,"S",{"$f":"MIN(B571*C571/6,400)/(B571/2)+(control!$B$4-MIN(B571*C571/6,400))/(B571/8)","v":77.777777777777771},22]
["Buckshot",19,82,"S",{"$f":"MIN(B572*C572/6,400)/(B572/2)+(control!$B$4-MIN(B572*C572/6,400))/(B572/8)","v":86.421052631578945},22]
["Buckwheat",19,70,"S",{"$f":"MIN(B573*C573/6,400)/(B573/2)+(control!$B$4-MIN(B573*C573/6,400))/(B573/8)","v":98.421052631578945},20]
["Bucky",26,94,"S",{"$f":"MIN(B574*C574/6,400)/(B574/2)+(control!$B$4-MIN(B574*C574/6,400))/(B574/8)","v":30.76923076923077},30]
["Bud",17,77,"M",{"$f":"MIN(B575*C575/6,400)/(B575/2)+(control!$B$4-MIN(B575*C575/6,400))/(B575/8)","v":111.23529411764707},21]
["Buddy",21,82,"S",{"$f":"MIN(B576*C576/6,400)/(B576/2)+(control!$B$4-MIN(B576*C576/6,400))/(B576/8)","v":70.38095238095238},25]
["Budha",18,103,"D",{"$f":"MIN(B577*C577/6,400)/(B577/2)+(control!$B$4-MIN(B577*C577/6,400))/(B577/8)","v":74.777777777777771},19]
["Bueno",20,76,"S",{"$f":"MIN(B578*C578/6,400)/(B578/2)+(control!$B$4-MIN(B578*C578/6,400))/(B578/8)","v":84},22]
["Buffy",18,66,"S",{"$f":"MIN(B579*C579/6,400)/(B579/2)+(control!$B$4-MIN(B579*C579/6,400))/(B579/8)","v":111.77777777777777},20]
["Bugaboo",23,82,"S",{"$f":"MIN(B580*C580/6,400)/(B580/2)+(control!$B$4-MIN(B580*C580/6,400))/(B580/8)","v":57.130434782608702},27]
["Bugs",18,78,"S",{"$f":"MIN(B581*C581/6,400)/(B581/2)+(control!$B$4-MIN(B581*C581/6,400))/(B581/8)","v":99.777777777777771},18]
["Bugs Bunny",20,79,"S",{"$f":"MIN(B582*C582/6,400)/(B582/2)+(control!$B$4-MIN(B582*C582/6,400))/(B582/8)","v":81},22]
["Bugsy",22,110,"S",{"$f":"MIN(B583*C583/6,400)/(B583/2)+(control!$B$4-MIN(B583*C583/6,400))/(B583/8)","v":36.363636363636367},22]
["Bull Marker",20,92,"D",{"$f":"MIN(B584*C584/6,400)/(B584/2)+(control!$B$4-MIN(B584*C584/6,400))/(B584/8)","v":68},21]
["Bullet",19,75,"M",{"$f":"MIN(B585*C585/6,400)/(B585/2)+(control!$B$4-MIN(B585*C585/6,400))/(B585/8)","v":93.421052631578945},20]
["Bullseye",21,99,"S",{"$f":"MIN(B586*C586/6,400)/(B586/2)+(control!$B$4-MIN(B586*C586/6,400))/(B586/8)","v":53.38095238095238},21]
["Bumble",19,60,"S",{"$f":"MIN(B587*C587/6,400)/(B587/2)+(control!$B$4-MIN(B587*C587/6,400))/(B587/8)","v":108.42105263157895},22]
["Bumble Bee",26,83,"S",{"$f":"MIN(B588*C588/6,400)/(B588/2)+(control!$B$4-MIN(B588*C588/6,400))/(B588/8)","v":40.076923076923073},28]
["Bumbles",16,88,"M",{"$f":"MIN(B589*C589/6,400)/(B589/2)+(control!$B$4-MIN(B589*C589/6,400))/(B589/8)","v":112},18]
["Bumper",19,69,"S",{"$f":"MIN(B590*C590/6,400)/(B590/2)+(control!$B$4-MIN(B590*C590/6,400))/(B590/8)","v":99.421052631578945},23]
["Bumpkin",23,74,"M",{"$f":"MIN(B591*C591/6,400)/(B591/2)+(control!$B$4-MIN(B591*C591/6,400))/(B591/8)","v":65.130434782608688},26]
["Bumpy",27,90,"S",{"$f":"MIN(B592*C592/6,400)/(B592/2)+(control!$B$4-MIN(B592*C592/6,400))/(B592/8)","v":29.62962962962963},27]
["Bunny",27,83,"S",{"$f":"MIN(B593*C593/6,400)/(B593/2)+(control!$B$4-MIN(B593*C593/6,400))/(B593/8)","v":35.518518518518519},31]
["Burgandy Rose",19,70,"S",{"$f":"MIN(B594*C594/6,400)/(B594/2)+(control!$B$4-MIN(B594*C594/6,400))/(B594/8)","v":98.421052631578945},21]
["Burst of Stardust",22,60,"S",{"$f":"MIN(B595*C595/6,400)/(B595/2)+(control!$B$4-MIN(B595*C595/6,400))/(B595/8)","v":85.454545454545453},25]
["Busco",21,69,"M",{"$f":"MIN(B596*C596/6,400)/(B596/2)+(control!$B$4-MIN(B596*C596/6,400))/(B596/8)","v":83.38095238095238},24]
["Buster",19,100,"M",{"$f":"MIN(B597*C597/6,400)/(B597/2)+(control!$B$4-MIN(B597*C597/6,400))/(B597/8)","v":68.421052631578945},20]
["Butter",17,76,"M",{"$f":"MIN(B598*C598/6,400)/(B598/2)+(control!$B$4-MIN(B598*C598/6,400))/(B598/8)","v":112.23529411764704},21]
["Butterball",15,112,"S",{"$f":"MIN(B599*C599/6,400)/(B599/2)+(control!$B$4-MIN(B599*C599/6,400))/(B599/8)","v":101.33333333333334},16]
["Buttercup",17,92,"M",{"$f":"MIN(B600*C600/6,400)/(B600/2)+(control!$B$4-MIN(B600*C600/6,400))/(B600/8)","v":96.235294117647058},17]
["Butterfly",20,73,"S",{"$f":"MIN(B601*C601/6,400)/(B601/2)+(control!$B$4-MIN(B601*C601/6,400))/(B601/8)","v":87},21]
["Butterfly Kisses",19,78,"S",{"$f":"MIN(B602*C602/6,400)/(B602/2)+(control!$B$4-MIN(B602*C602/6,400))/(B602/8)","v":90.421052631578945},20]
["Buttermilk",17,94,"S",{"$f":"MIN(B603*C603/6,400)/(B603/2)+(control!$B$4-MIN(B603*C603/6,400))/(B603/8)","v":94.235294117647072},17]
["Butterscotch",18,78,"S",{"$f":"MIN(B604*C604/6,400)/(B604/2)+(control!$B$4-MIN(B604*C604/6,400))/(B604/8)","v":99.777777777777771},19]
["Butterworth",21,74,"S",{"$f":"MIN(B605*C605/6,400)/(B605/2)+(control!$B$4-MIN(B605*C605/6,400))/(B605/8)","v":78.38095238095238},21]
["Buttons",21,71,"S",{"$f":"MIN(B606*C606/6,400)/(B606/2)+(control!$B$4-MIN(B606*C606/6,400))/(B606/8)","v":81.38095238095238},22]
["Buzz",17,70,"M",{"$f":"MIN(B607*C607/6,400)/(B607/2)+(control!$B$4-MIN(B607*C607/6,400))/(B607/8)","v":118.23529411764704},17]
["Buzz Lightyear",23,91,"S",{"$f":"MIN(B608*C608/6,400)/(B608/2)+(control!$B$4-MIN(B608*C608/6,400))/(B608/8)","v":48.130434782608702},24]
["C.B.",20,94,"D",{"$f":"MIN(B609*C609/6,400)/(B609/2)+(control!$B$4-MIN(B609*C609/6,400))/(B609/8)","v":66},21]
["C.C.",21,95,"S",{"$f":"MIN(B610*C610/6,400)/(B610/2)+(control!$B$4-MIN(B610*C610/6,400))/(B610/8)","v":57.38095238095238},23]
["Cable",19,100,"S",{"$f":"MIN(B611*C611/6,400)/(B611/2)+(control!$B$4-MIN(B611*C611/6,400))/(B611/8)","v":68.421052631578945},20]
["Cactus",21,92,"S",{"$f":"MIN(B612*C612/6,400)/(B612/2)+(control!$B$4-MIN(B612*C612/6,400))/(B612/8)","v":60.38095238095238},23]
["Cadalac",22,64,"S",{"$f":"MIN(B613*C613/6,400)/(B613/2)+(control!$B$4-MIN(B613*C613/6,400))/(B613/8)","v":81.454545454545453},25]
["Cade",19,72,"S",{"$f":"MIN(B614*C614/6,400)/(B614/2)+(control!$B$4-MIN(B614*C614/6,400))/(B614/8)","v":96.421052631578945},21]
["Cadence",22,76,"M",{"$f":"MIN(B615*C615/6,400)/(B615/2)+(control!$B$4-MIN(B615*C615/6,400))/(B615/8)","v":69.454545454545453},23]
["Cadillac Jack",16,94,"M",{"$f":"MIN(B616*C616/6,400)/(B616/2)+(control!$B$4-MIN(B616*C616/6,400))/(B616/8)","v":106},20]
["Cadre Noir",19,97,"S",{"$f":"MIN(B617*C617/6,400)/(B617/2)+(control!$B$4-MIN(B617*C617/6,400))/(B617/8)","v":71.421052631578945},22]
["Caeser",16,117,"D",{"$f":"MIN(B618*C618/6,400)/(B618/2)+(control!$B$4-MIN(B618*C618/6,400))/(B618/8)","v":83},16]
["Cafe Latte",15,79,"S",{"$f":"MIN(B619*C619/6,400)/(B619/2)+(control!$B$4-MIN(B619*C619/6,400))/(B619/8)","v":134.33333333333334},16]
["Caine",24,72,"S",{"$f":"MIN(B620*C620/6,400)/(B620/2)+(control!$B$4-MIN(B620*C620/6,400))/(B620/8)","v":61.333333333333336},25]
["Cajun",23,116,"D",{"$f":"MIN(B621*C621/6,400)/(B621/2)+(control!$B$4-MIN(B621*C621/6,400))/(B621/8)","v":34.782608695652172},27]
["Calamity Jane",21,106,"D",{"$f":"MIN(B622*C622/6,400)/(B622/2)+(control!$B$4-MIN(B622*C622/6,400))/(B622/8)","v":46.38095238095238},22]
["Calico",20,73,"S",{"$f":"MIN(B623*C623/6,400)/(B623/2)+(control!$B$4-MIN(B623*C623/6,400))/(B623/8)","v":87},21]
["Caliméro",16,122,"D",{"$f":"MIN(B624*C624/6,400)/(B624/2)+(control!$B$4-MIN(B624*C624/6,400))/(B624/8)","v":78},18]
["Call Me",22,88,"S",{"$f":"MIN(B625*C625/6,400)/(B625/2)+(control!$B$4-MIN(B625*C625/6,400))/(B625/8)","v":57.454545454545453},23]
["Cally",17,122,"D",{"$f":"MIN(B626*C626/6,400)/(B626/2)+(control!$B$4-MIN(B626*C626/6,400))/(B626/8)","v":66.235294117647058},21]
["Calua",20,87,"S",{"$f":"MIN(B627*C627/6,400)/(B627/2)+(control!$B$4-MIN(B627*C627/6,400))/(B627/8)","v":73},24]
["Calvin",21,83,"M",{"$f":"MIN(B628*C628/6,400)/(B628/2)+(control!$B$4-MIN(B628*C628/6,400))/(B628/8)","v":69.38095238095238},25]
["Camanchi",21,94,"D",{"$f":"MIN(B629*C629/6,400)/(B629/2)+(control!$B$4-MIN(B629*C629/6,400))/(B629/8)","v":58.38095238095238},21]
["Cambridge",16,122,"M",{"$f":"MIN(B630*C630/6,400)/(B630/2)+(control!$B$4-MIN(B630*C630/6,400))/(B630/8)","v":78},18]
["Cameo",26,66,"S",{"$f":"MIN(B631*C631/6,400)/(B631/2)+(control!$B$4-MIN(B631*C631/6,400))/(B631/8)","v":57.07692307692308},27]
["Cammander",17,75,"S",{"$f":"MIN(B632*C632/6,400)/(B632/2)+(control!$B$4-MIN(B632*C632/6,400))/(B632/8)","v":113.23529411764706},18]
["Camoren",17,98,"D",{"$f":"MIN(B633*C633/6,400)/(B633/2)+(control!$B$4-MIN(B633*C633/6,400))/(B633/8)","v":90.235294117647058},17]
["Campari",24,65,"S",{"$f":"MIN(B634*C634/6,400)/(B634/2)+(control!$B$4-MIN(B634*C634/6,400))/(B634/8)","v":68.333333333333329},28]
["Campino",20,110,"S",{"$f":"MIN(B635*C635/6,400)/(B635/2)+(control!$B$4-MIN(B635*C635/6,400))/(B635/8)","v":50},23]
["Canada",27,90,"S",{"$f":"MIN(B636*C636/6,400)/(B636/2)+(control!$B$4-MIN(B636*C636/6,400))/(B636/8)","v":29.62962962962963},30]
["Canadian Winner",20,86,"S",{"$f":"MIN(B637*C637/6,400)/(B637/2)+(control!$B$4-MIN(B637*C637/6,400))/(B637/8)","v":74},22]
["Canal King",18,113,"M",{"$f":"MIN(B638*C638/6,400)/(B638/2)+(control!$B$4-MIN(B638*C638/6,400))/(B638/8)","v":64.777777777777771},20]
["Cancer",25,122,"D",{"$f":"MIN(B639*C639/6,400)/(B639/2)+(control!$B$4-MIN(B639*C639/6,400))/(B639/8)","v":32},26]
["Candlelight",17,111,"D",{"$f":"MIN(B640*C640/6,400)/(B640/2)+(control!$B$4-MIN(B640*C640/6,400))/(B640/8)","v":77.235294117647058},17]
["Candy",20,95,"D",{"$f":"MIN(B641*C641/6,400)/(B641/2)+(control!$B$4-MIN(B641*C641/6,400))/(B641/8)","v":65},20]
["Candy Apple",20,103,"S",{"$f":"MIN(B642*C642/6,400)/(B642/2)+(control!$B$4-MIN(B642*C642/6,400))/(B642/8)","v":57},20]
["Candy Kisses",17,73,"S",{"$f":"MIN(B643*C643/6,400)/(B643/2)+(control!$B$4-MIN(B643*C643/6,400))/(B643/8)","v":115.23529411764704},21]
["Candyman",24,73,"M",{"$f":"MIN(B644*C644/6,400)/(B644/2)+(control!$B$4-MIN(B644*C644/6,400))/(B644/8)","v":60.333333333333329},25]
["Cant Deny It",18,64,"S",{"$f":"MIN(B645*C645/6,400)/(B645/2)+(control!$B$4-MIN(B645*C645/6,400))/(B645/8)","v":113.77777777777777},21]
["Cant Get Enough",21,66,"S",{"$f":"MIN(B646*C646/6,400)/(B646/2)+(control!$B$4-MIN(B646*C646/6,400))/(B646/8)","v":86.38095238095238},25]
["Capella",21,99,"D",{"$f":"MIN(B647*C647/6,400)/(B647/2)+(control!$B$4-MIN(B647*C647/6,400))/(B647/8)","v":53.38095238095238},25]
["Caper",22,120,"M",{"$f":"MIN(B648*C648/6,400)/(B648/2)+(control!$B$4-MIN(B648*C648/6,400))/(B648/8)","v":36.363636363636367},26]
["Capitaine",25,67,"S",{"$f":"MIN(B649*C649/6,400)/(B649/2)+(control!$B$4-MIN(B649*C649/6,400))/(B649/8)","v":60.999999999999993},25]
["Cappicino",22,105,"D",{"$f":"MIN(B650*C650/6,400)/(B650/2)+(control!$B$4-MIN(B650*C650/6,400))/(B650/8)","v":40.454545454545453},24]
["Cappie",20,77,"M",{"$f":"MIN(B651*C651/6,400)/(B651/2)+(control!$B$4-MIN(B651*C651/6,400))/(B651/8)","v":83},23]
["Cappo",19,71,"M",{"$f":"MIN(B652*C652/6,400)/(B652/2)+(control!$B$4-MIN(B652*C652/6,400))/(B652/8)","v":97.421052631578945},22]
["Cappocina",20,90,"S",{"$f":"MIN(B653*C653/6,400)/(B653/2)+(control!$B$4-MIN(B653*C653/6,400))/(B653/8)","v":70},21]
["Cappuiccino",25,69,"M",{"$f":"MIN(B654*C654/6,400)/(B654/2)+(control!$B$4-MIN(B654*C654/6,400))/(B654/8)","v":59},28]
["Cappy",22,63,"S",{"$f":"MIN(B655*C655/6,400)/(B655/2)+(control!$B$4-MIN(B655*C655/6,400))/(B655/8)","v":82.454545454545453},26]
["Capriccio",19,91,"D",{"$f":"MIN(B656*C656/6,400)/(B656/2)+(control!$B$4-MIN(B656*C656/6,400))/(B656/8)","v":77.421052631578945},19]
["Capricorn",20,109,"S",{"$f":"MIN(B657*C657/6,400)/(B657/2)+(control!$B$4-MIN(B657*C657/6,400))/(B657/8)","v":51},22]
["Captain",15,74,"M",{"$f":"MIN(B658*C658/6,400)/(B658/2)+(control!$B$4-MIN(B658*C658/6,400))/(B658/8)","v":139.33333333333334},19]
["Captain Canada",19,85,"M",{"$f":"MIN(B659*C659/6,400)/(B659/2)+(control!$B$4-MIN(B659*C659/6,400))/(B659/8)","v":83.421052631578945},19]
["Caramel",20,103,"S",{"$f":"MIN(B660*C660/6,400)/(B660/2)+(control!$B$4-MIN(B660*C660/6,400))/(B660/8)","v":57},24]
["Caramel Sensation",26,97,"M",{"$f":"MIN(B661*C661/6,400)/(B661/2)+(control!$B$4-MIN(B661*C661/6,400))/(B661/8)","v":30.76923076923077},30]
["Caraway",22,100,"S",{"$f":"MIN(B662*C662/6,400)/(B662/2)+(control!$B$4-MIN(B662*C662/6,400))/(B662/8)","v":45.454545454545453},26]
["Carcajou",23,85,"M",{"$f":"MIN(B663*C663/6,400)/(B663/2)+(control!$B$4-MIN(B663*C663/6,400))/(B663/8)","v":54.130434782608702},24]
["Careless",20,59,"S",{"$f":"MIN(B664*C664/6,400)/(B664/2)+(control!$B$4-MIN(B664*C664/6,400))/(B664/8)","v":101},20]
["Carmel",18,86,"S",{"$f":"MIN(B665*C665/6,400)/(B665/2)+(control!$B$4-MIN(B665*C665/6,400))/(B665/8)","v":91.777777777777786},18]
["Carmella",16,86,"M",{"$f":"MIN(B666*C666/6,400)/(B666/2)+(control!$B$4-MIN(B666*C666/6,400))/(B666/8)","v":114},19]
["Carmen",17,70,"S",{"$f":"MIN(B667*C667/6,400)/(B667/2)+(control!$B$4-MIN(B667*C667/6,400))/(B667/8)","v":118.23529411764704},18]
["Carnation",16,117,"D",{"$f":"MIN(B668*C668/6,400)/(B668/2)+(control!$B$4-MIN(B668*C668/6,400))/(B668/8)","v":83},17]
["Carosel",20,76,"S",{"$f":"MIN(B669*C669/6,400)/(B669/2)+(control!$B$4-MIN(B669*C669/6,400))/(B669/8)","v":84},21]
["Carribou",18,77,"S",{"$f":"MIN(B670*C670/6,400)/(B670/2)+(control!$B$4-MIN(B670*C670/6,400))/(B670/8)","v":100.77777777777779},18]
["Carrie",15,71,"S",{"$f":"MIN(B671*C671/6,400)/(B671/2)+(control!$B$4-MIN(B671*C671/6,400))/(B671/8)","v":142.33333333333334},15]
["Carrots",20,98,"D",{"$f":"MIN(B672*C672/6,400)/(B672/2)+(control!$B$4-MIN(B672*C672/6,400))/(B672/8)","v":62},20]
["Cartier",21,122,"S",{"$f":"MIN(B673*C673/6,400)/(B673/2)+(control!$B$4-MIN(B673*C673/6,400))/(B673/8)","v":38.095238095238095},23]
["Cartoon",19,100,"D",{"$f":"MIN(B674*C674/6,400)/(B674/2)+(control!$B$4-MIN(B674*C674/6,400))/(B674/8)","v":68.421052631578945},20]
["Carumba",20,94,"D",{"$f":"MIN(B675*C675/6,400)/(B675/2)+(control!$B$4-MIN(B675*C675/6,400))/(B675/8)","v":66},20]
["Carver",21,90,"M",{"$f":"MIN(B676*C676/6,400)/(B676/2)+(control!$B$4-MIN(B676*C676/6,400))/(B676/8)","v":62.38095238095238},21]
["Casanova",24,86,"S",{"$f":"MIN(B677*C677/6,400)/(B677/2)+(control!$B$4-MIN(B677*C677/6,400))/(B677/8)","v":47.333333333333336},25]
["Cascade",19,63,"M",{"$f":"MIN(B678*C678/6,400)/(B678/2)+(control!$B$4-MIN(B678*C678/6,400))/(B678/8)","v":105.42105263157895},21]
["Casey",20,89,"S",{"$f":"MIN(B679*C679/6,400)/(B679/2)+(control!$B$4-MIN(B679*C679/6,400))/(B679/8)","v":71},23]
["Cash",18,99,"D",{"$f":"MIN(B680*C680/6,400)/(B680/2)+(control!$B$4-MIN(B680*C680/6,400))/(B680/8)","v":78.777777777777771},21]
["Cash the Check",22,97,"D",{"$f":"MIN(B681*C681/6,400)/(B681/2)+(control!$B$4-MIN(B681*C681/6,400))/(B681/8)","v":48.454545454545453},22]
["Casper",20,82,"S",{"$f":"MIN(B682*C682/6,400)/(B682/2)+(control!$B$4-MIN(B682*C682/6,400))/(B682/8)","v":78},24]
["Caspian",24,63,"M",{"$f":"MIN(B683*C683/6,400)/(B683/2)+(control!$B$4-MIN(B683*C683/6,400))/(B683/8)","v":70.333333333333343},26]
["Casse Noisette",25,106,"D",{"$f":"MIN(B684*C684/6,400)/(B684/2)+(control!$B$4-MIN(B684*C684/6,400))/(B684/8)","v":32},28]
["Cassidy",17,100,"S",{"$f":"MIN(B685*C685/6,400)/(B685/2)+(control!$B$4-MIN(B685*C685/6,400))/(B685/8)","v":88.235294117647072},21]
["Cassie",20,77,"M",{"$f":"MIN(B686*C686/6,400)/(B686/2)+(control!$B$4-MIN(B686*C686/6,400))/(B686/8)","v":83},20]
["Cast No Shadow",15,113,"D",{"$f":"MIN(B687*C687/6,400)/(B687/2)+(control!$B$4-MIN(B687*C687/6,400))/(B687/8)","v":100.33333333333333},18]
["Castaway",19,88,"S",{"$f":"MIN(B688*C688/6,400)/(B688/2)+(control!$B$4-MIN(B688*C688/6,400))/(B688/8)","v":80.421052631578945},21]
["Castle Rock",21,97,"S",{"$f":"MIN(B689*C689/6,400)/(B689/2)+(control!$B$4-MIN(B689*C689/6,400))/(B689/8)","v":55.38095238095238},24]
["Catamaran",15,68,"S",{"$f":"MIN(B690*C690/6,400)/(B690/2)+(control!$B$4-MIN(B690*C690/6,400))/(B690/8)","v":145.33333333333334},16]
["Catch The Wind",22,121,"S",{"$f":"MIN(B691*C691/6,400)/(B691/2)+(control!$B$4-MIN(B691*C691/6,400))/(B691/8)","v":36.363636363636367},23]
["Caution",19,81,"S",{"$f":"MIN(B692*C692/6,400)/(B692/2)+(control!$B$4-MIN(B692*C692/6,400))/(B692/8)","v":87.421052631578945},21]
["Cava",16,65,"S",{"$f":"MIN(B693*C693/6,400)/(B693/2)+(control!$B$4-MIN(B693*C693/6,400))/(B693/8)","v":135},16]
["Cavier",22,95,"D",{"$f":"MIN(B694*C694/6,400)/(B694/2)+(control!$B$4-MIN(B694*C694/6,400))/(B694/8)","v":50.45454545454546},25]
["Caz",23,91,"S",{"$f":"MIN(B695*C695/6,400)/(B695/2)+(control!$B$4-MIN(B695*C695/6,400))/(B695/8)","v":48.130434782608702},24]
["Ceasar",22,91,"D",{"$f":"MIN(B696*C696/6,400)/(B696/2)+(control!$B$4-MIN(B696*C696/6,400))/(B696/8)","v":54.454545454545453},24]
["Cedar",26,62,"S",{"$f":"MIN(B697*C697/6,400)/(B697/2)+(control!$B$4-MIN(B697*C697/6,400))/(B697/8)","v":61.076923076923066},28]
["Ceffyl",18,104,"S",{"$f":"MIN(B698*C698/6,400)/(B698/2)+(control!$B$4-MIN(B698*C698/6,400))/(B698/8)","v":73.777777777777771},22]
["Celandine",15,94,"D",{"$f":"MIN(B699*C699/6,400)/(B699/2)+(control!$B$4-MIN(B699*C699/6,400))/(B699/8)","v":119.33333333333333},17]
["Celebrity",21,72,"S",{"$f":"MIN(B700*C700/6,400)/(B700/2)+(control!$B$4-MIN(B700*C700/6,400))/(B700/8)","v":80.38095238095238},21]
["Celeste",16,91,"M",{"$f":"MIN(B701*C701/6,400)/(B701/2)+(control!$B$4-MIN(B701*C701/6,400))/(B701/8)","v":109},20]
["Cellini",21,96,"S",{"$f":"MIN(B702*C702/6,400)/(B702/2)+(control!$B$4-MIN(B702*C702/6,400))/(B702/8)","v":56.38095238095238},23]
["Celtic Charm",26,83,"M",{"$f":"MIN(B703*C703/6,400)/(B703/2)+(control!$B$4-MIN(B703*C703/6,400))/(B703/8)","v":40.076923076923073},28]
["Celtic Jewel",22,84,"S",{"$f":"MIN(B704*C704/6,400)/(B704/2)+(control!$B$4-MIN(B704*C704/6,400))/(B704/8)","v":61.454545454545453},25]
["Celtic Rose",18,64,"M",{"$f":"MIN(B705*C705/6,400)/(B705/2)+(control!$B$4-MIN(B705*C705/6,400))/(B705/8)","v":113.77777777777777},22]
["Celtic Shot",22,99,"D",{"$f":"MIN(B706*C706/6,400)/(B706/2)+(control!$B$4-MIN(B706*C706/6,400))/(B706/8)","v":46.454545454545453},22]
["Celtic Sun",18,82,"S",{"$f":"MIN(B707*C707/6,400)/(B707/2)+(control!$B$4-MIN(B707*C707/6,400))/(B707/8)","v":95.777777777777771},21]
["Century",19,87,"S",{"$f":"MIN(B708*C708/6,400)/(B708/2)+(control!$B$4-MIN(B708*C708/6,400))/(B708/8)","v":81.421052631578945},22]
["Century's Odyssey",19,79,"S",{"$f":"MIN(B709*C709/6,400)/(B709/2)+(control!$B$4-MIN(B709*C709/6,400))/(B709/8)","v":89.421052631578945},19]
["Céphée",16,81,"M",{"$f":"MIN(B710*C710/6,400)/(B710/2)+(control!$B$4-MIN(B710*C710/6,400))/(B710/8)","v":119},16]
["Cera",19,73,"S",{"$f":"MIN(B711*C711/6,400)/(B711/2)+(control!$B$4-MIN(B711*C711/6,400))/(B711/8)","v":95.421052631578945},22]
["Ceres",21,75,"S",{"$f":"MIN(B712*C712/6,400)/(B712/2)+(control!$B$4-MIN(B712*C712/6,400))/(B712/8)","v":77.38095238095238},24]
["Cha-Cha",18,117,"D",{"$f":"MIN(B713*C713/6,400)/(B713/2)+(control!$B$4-MIN(B713*C713/6,400))/(B713/8)","v":60.777777777777779},19]
["Chad",25,84,"S",{"$f":"MIN(B714*C714/6,400)/(B714/2)+(control!$B$4-MIN(B714*C714/6,400))/(B714/8)","v":44},29]
["Chakote",23,84,"S",{"$f":"MIN(B715*C715/6,400)/(B715/2)+(control!$B$4-MIN(B715*C715/6,400))/(B715/8)","v":55.130434782608695},27]
["Chalk",27,94,"S",{"$f":"MIN(B716*C716/6,400)/(B716/2)+(control!$B$4-MIN(B716*C716/6,400))/(B716/8)","v":29.62962962962963},29]
["Challie",22,69,"M",{"$f":"MIN(B717*C717/6,400)/(B717/2)+(control!$B$4-MIN(B717*C717/6,400))/(B717/8)","v":76.454545454545453},24]
["Cham",24,83,"M",{"$f":"MIN(B718*C718/6,400)/(B718/2)+(control!$B$4-MIN(B718*C718/6,400))/(B718/8)","v":50.333333333333336},24]
["Chamber",19,72,"S",{"$f":"MIN(B719*C719/6,400)/(B719/2)+(control!$B$4-MIN(B719*C719/6,400))/(B719/8)","v":96.421052631578945},21]
["Chamlan",21,59,"S",{"$f":"MIN(B720*C720/6,400)/(B720/2)+(control!$B$4-MIN(B720*C720/6,400))/(B720/8)","v":93.38095238095238},24]
["Champagne",21,100,"D",{"$f":"MIN(B721*C721/6,400)/(B721/2)+(control!$B$4-MIN(B721*C721/6,400))/(B721/8)","v":52.38095238095238},24]
["Champagne on Deck",23,78,"S",{"$f":"MIN(B722*C722/6,400)/(B722/2)+(control!$B$4-MIN(B722*C722/6,400))/(B722/8)","v":61.130434782608695},23]
["Champane",26,75,"S",{"$f":"MIN(B723*C723/6,400)/(B723/2)+(control!$B$4-MIN(B723*C723/6,400))/(B723/8)","v":48.07692307692308},28]
["Champion",26,71,"M",{"$f":"MIN(B724*C724/6,400)/(B724/2)+(control!$B$4-MIN(B724*C724/6,400))/(B724/8)","v":52.076923076923073},26]
["Champion Heartache",24,82,"M",{"$f":"MIN(B725*C725/6,400)/(B725/2)+(control!$B$4-MIN(B725*C725/6,400))/(B725/8)","v":51.333333333333329},27]
["Chance",18,82,"S",{"$f":"MIN(B726*C726/6,400)/(B726/2)+(control!$B$4-MIN(B726*C726/6,400))/(B726/8)","v":95.777777777777771},20]
["Chance gets Lucky",24,98,"M",{"$f":"MIN(B727*C727/6,400)/(B727/2)+(control!$B$4-MIN(B727*C727/6,400))/(B727/8)","v":35.333333333333329},27]
["Chancer",19,71,"M",{"$f":"MIN(B728*C728/6,400)/(B728/2)+(control!$B$4-MIN(B728*C728/6,400))/(B728/8)","v":97.421052631578945},19]
["Chances Dream",22,95,"M",{"$f":"MIN(B729*C729/6,400)/(B729/2)+(control!$B$4-MIN(B729*C729/6,400))/(B729/8)","v":50.45454545454546},23]
["Chance's Wish",16,76,"S",{"$f":"MIN(B730*C730/6,400)/(B730/2)+(control!$B$4-MIN(B730*C730/6,400))/(B730/8)","v":124},16]
["Chancey",24,118,"S",{"$f":"MIN(B731*C731/6,400)/(B731/2)+(control!$B$4-MIN(B731*C731/6,400))/(B731/8)","v":33.333333333333336},26]
["Channel",20,89,"M",{"$f":"MIN(B732*C732/6,400)/(B732/2)+(control!$B$4-MIN(B732*C732/6,400))/(B732/8)","v":71},22]
["Channel Three",26,96,"S",{"$f":"MIN(B733*C733/6,400)/(B733/2)+(control!$B$4-MIN(B733*C733/6,400))/(B733/8)","v":30.76923076923077},29]
["Chaos",16,83,"S",{"$f":"MIN(B734*C734/6,400)/(B734/2)+(control!$B$4-MIN(B734*C734/6,400))/(B734/8)","v":117},19]
["Char Do Neigh",15,117,"D",{"$f":"MIN(B735*C735/6,400)/(B735/2)+(control!$B$4-MIN(B735*C735/6,400))/(B735/8)","v":96.333333333333343},17]
["Charger",20,74,"S",{"$f":"MIN(B736*C736/6,400)/(B736/2)+(control!$B$4-MIN(B736*C736/6,400))/(B736/8)","v":86},21]
["Chargey",18,97,"S",{"$f":"MIN(B737*C737/6,400)/(B737/2)+(control!$B$4-MIN(B737*C737/6,400))/(B737/8)","v":80.777777777777771},19]
["Charished Hope",22,104,"D",{"$f":"MIN(B738*C738/6,400)/(B738/2)+(control!$B$4-MIN(B738*C738/6,400))/(B738/8)","v":41.45454545454546},25]
["Charisma",25,78,"S",{"$f":"MIN(B739*C739/6,400)/(B739/2)+(control!$B$4-MIN(B739*C739/6,400))/(B739/8)","v":50},27]
["Charity",22,95,"D",{"$f":"MIN(B740*C740/6,400)/(B740/2)+(control!$B$4-MIN(B740*C740/6,400))/(B740/8)","v":50.45454545454546},25]
["Charlene",22,111,"S",{"$f":"MIN(B741*C741/6,400)/(B741/2)+(control!$B$4-MIN(B741*C741/6,400))/(B741/8)","v":36.363636363636367},22]
["Charles",25,72,"S",{"$f":"MIN(B742*C742/6,400)/(B742/2)+(control!$B$4-MIN(B742*C742/6,400))/(B742/8)","v":56},28]
["Charlie",20,107,"M",{"$f":"MIN(B743*C743/6,400)/(B743/2)+(control!$B$4-MIN(B743*C743/6,400))/(B743/8)","v":53},23]
["Charlie Bean",26,72,"S",{"$f":"MIN(B744*C744/6,400)/(B744/2)+(control!$B$4-MIN(B744*C744/6,400))/(B744/8)","v":51.07692307692308},28]
["Charlie Brown",24,64,"M",{"$f":"MIN(B745*C745/6,400)/(B745/2)+(control!$B$4-MIN(B745*C745/6,400))/(B745/8)","v":69.333333333333329},26]
["Charlies Angel",16,93,"S",{"$f":"MIN(B746*C746/6,400)/(B746/2)+(control!$B$4-MIN(B746*C746/6,400))/(B746/8)","v":107},16]
["Charlies Next",17,96,"D",{"$f":"MIN(B747*C747/6,400)/(B747/2)+(control!$B$4-MIN(B747*C747/6,400))/(B747/8)","v":92.235294117647058},18]
["Charm",19,99,"S",{"$f":"MIN(B748*C748/6,400)/(B748/2)+(control!$B$4-MIN(B748*C748/6,400))/(B748/8)","v":69.421052631578945},21]
["Charmed",25,123,"S",{"$f":"MIN(B749*C749/6,400)/(B749/2)+(control!$B$4-MIN(B749*C749/6,400))/(B749/8)","v":32},28]
["Charmer",19,83,"S",{"$f":"MIN(B750*C750/6,400)/(B750/2)+(control!$B$4-MIN(B750*C750/6,400))/(B750/8)","v":85.421052631578959},21]
["Charrished Secret",20,64,"S",{"$f":"MIN(B751*C751/6,400)/(B751/2)+(control!$B$4-MIN(B751*C751/6,400))/(B751/8)","v":96},23]
["Chase",22,82,"S",{"$f":"MIN(B752*C752/6,400)/(B752/2)+(control!$B$4-MIN(B752*C752/6,400))/(B752/8)","v":63.454545454545453},22]
["Chattanooga Choo Choo",18,104,"S",{"$f":"MIN(B753*C753/6,400)/(B753/2)+(control!$B$4-MIN(B753*C753/6,400))/(B753/8)","v":73.777777777777771},20]
["Chatterbox",16,102,"S",{"$f":"MIN(B754*C754/6,400)/(B754/2)+(control!$B$4-MIN(B754*C754/6,400))/(B754/8)","v":98},19]
["Chebe",19,100,"D",{"$f":"MIN(B755*C755/6,400)/(B755/2)+(control!$B$4-MIN(B755*C755/6,400))/(B755/8)","v":68.421052631578945},20]
["Checkers",27,87,"M",{"$f":"MIN(B756*C756/6,400)/(B756/2)+(control!$B$4-MIN(B756*C756/6,400))/(B756/8)","v":31.518518518518519},29]
["Cheeky",19,62,"S",{"$f":"MIN(B757*C757/6,400)/(B757/2)+(control!$B$4-MIN(B757*C757/6,400))/(B757/8)","v":106.42105263157895},22]
["Cheerioes",26,59,"S",{"$f":"MIN(B758*C758/6,400)/(B758/2)+(control!$B$4-MIN(B758*C758/6,400))/(B758/8)","v":64.07692307692308},26]
["Cheetah",21,123,"M",{"$f":"MIN(B759*C759/6,400)/(B759/2)+(control!$B$4-MIN(B759*C759/6,400))/(B759/8)","v":38.095238095238095},25]
["Chelsea",19,60,"S",{"$f":"MIN(B760*C760/6,400)/(B760/2)+(control!$B$4-MIN(B760*C760/6,400))/(B760/8)","v":108.42105263157895},23]
["Cher",21,80,"S",{"$f":"MIN(B761*C761/6,400)/(B761/2)+(control!$B$4-MIN(B761*C761/6,400))/(B761/8)","v":72.38095238095238},24]
["Cherab",16,94,"M",{"$f":"MIN(B762*C762/6,400)/(B762/2)+(control!$B$4-MIN(B762*C762/6,400))/(B762/8)","v":106},18]
["Cherish",21,115,"D",{"$f":"MIN(B763*C763/6,400)/(B763/2)+(control!$B$4-MIN(B763*C763/6,400))/(B763/8)","v":38.095238095238095},23]
["Cherish the Moment",22,71,"S",{"$f":"MIN(B764*C764/6,400)/(B764/2)+(control!$B$4-MIN(B764*C764/6,400))/(B764/8)","v":74.454545454545467},24]
["Cherokee",26,62,"S",{"$f":"MIN(B765*C765/6,400)/(B765/2)+(control!$B$4-MIN(B765*C765/6,400))/(B765/8)","v":61.076923076923066},28]
["Cherokee Chief",21,86,"M",{"$f":"MIN(B766*C766/6,400)/(B766/2)+(control!$B$4-MIN(B766*C766/6,400))/(B766/8)","v":66.38095238095238},22]
["Cherokee Promise",25,65,"S",{"$f":"MIN(B767*C767/6,400)/(B767/2)+(control!$B$4-MIN(B767*C767/6,400))/(B767/8)","v":63.000000000000007},26]
["Cherokee Rose",20,70,"S",{"$f":"MIN(B768*C768/6,400)/(B768/2)+(control!$B$4-MIN(B768*C768/6,400))/(B768/8)","v":90},20]
["Cheska",26,88,"M",{"$f":"MIN(B769*C769/6,400)/(B769/2)+(control!$B$4-MIN(B769*C769/6,400))/(B769/8)","v":35.07692307692308},27]
["Chess",25,73,"S",{"$f":"MIN(B770*C770/6,400)/(B770/2)+(control!$B$4-MIN(B770*C770/6,400))/(B770/8)","v":55},27]
["Chess Player",22,82,"S",{"$f":"MIN(B771*C771/6,400)/(B771/2)+(control!$B$4-MIN(B771*C771/6,400))/(B771/8)","v":63.454545454545453},23]
["Chester",25,119,"S",{"$f":"MIN(B772*C772/6,400)/(B772/2)+(control!$B$4-MIN(B772*C772/6,400))/(B772/8)","v":32},28]
["Chesterfield",24,99,"S",{"$f":"MIN(B773*C773/6,400)/(B773/2)+(control!$B$4-MIN(B773*C773/6,400))/(B773/8)","v":34.333333333333336},25]
["Chevy",17,119,"D",{"$f":"MIN(B774*C774/6,400)/(B774/2)+(control!$B$4-MIN(B774*C774/6,400))/(B774/8)","v":69.235294117647058},19]
["Chewbacca",25,102,"M",{"$f":"MIN(B775*C775/6,400)/(B775/2)+(control!$B$4-MIN(B775*C775/6,400))/(B775/8)","v":32},26]
["Chewy",18,95,"S",{"$f":"MIN(B776*C776/6,400)/(B776/2)+(control!$B$4-MIN(B776*C776/6,400))/(B776/8)","v":82.777777777777786},18]
["Chex",22,120,"M",{"$f":"MIN(B777*C777/6,400)/(B777/2)+(control!$B$4-MIN(B777*C777/6,400))/(B777/8)","v":36.363636363636367},26]
["Cheyanne",19,60,"S",{"$f":"MIN(B778*C778/6,400)/(B778/2)+(control!$B$4-MIN(B778*C778/6,400))/(B778/8)","v":108.42105263157895},20]
["Cheyenne",25,75,"S",{"$f":"MIN(B779*C779/6,400)/(B779/2)+(control!$B$4-MIN(B779*C779/6,400))/(B779/8)","v":53},25]
["Chianti",26,81,"S",{"$f":"MIN(B780*C780/6,400)/(B780/2)+(control!$B$4-MIN(B780*C780/6,400))/(B780/8)","v":42.07692307692308},26]
["Chic in Time",26,71,"S",{"$f":"MIN(B781*C781/6,400)/(B781/2)+(control!$B$4-MIN(B781*C781/6,400))/(B781/8)","v":52.076923076923073},30]
["Chicagos Lady",20,84,"S",{"$f":"MIN(B782*C782/6,400)/(B782/2)+(control!$B$4-MIN(B782*C782/6,400))/(B782/8)","v":76},24]
["Chick",18,89,"S",{"$f":"MIN(B783*C783/6,400)/(B783/2)+(control!$B$4-MIN(B783*C783/6,400))/(B783/8)","v":88.777777777777786},22]
["Chickaboo",20,96,"M",{"$f":"MIN(B784*C784/6,400)/(B784/2)+(control!$B$4-MIN(B784*C784/6,400))/(B784/8)","v":64},20]
["Chicken",17,85,"S",{"$f":"MIN(B785*C785/6,400)/(B785/2)+(control!$B$4-MIN(B785*C785/6,400))/(B785/8)","v":103.23529411764704},17]
["Chicky",17,107,"S",{"$f":"MIN(B786*C786/6,400)/(B786/2)+(control!$B$4-MIN(B786*C786/6,400))/(B786/8)","v":81.235294117647058},21]
["Chico",20,93,"D",{"$f":"MIN(B787*C787/6,400)/(B787/2)+(control!$B$4-MIN(B787*C787/6,400))/(B787/8)","v":67},21]
["Chief",22,93,"S",{"$f":"MIN(B788*C788/6,400)/(B788/2)+(control!$B$4-MIN(B788*C788/6,400))/(B788/8)","v":52.454545454545453},25]
["Chiko",21,89,"S",{"$f":"MIN(B789*C789/6,400)/(B789/2)+(control!$B$4-MIN(B789*C789/6,400))/(B789/8)","v":63.38095238095238},25]
["Chilla",16,80,"M",{"$f":"MIN(B790*C790/6,400)/(B790/2)+(control!$B$4-MIN(B790*C790/6,400))/(B790/8)","v":120},16]
["Chilli",15,77,"M",{"$f":"MIN(B791*C791/6,400)/(B791/2)+(control!$B$4-MIN(B791*C791/6,400))/(B791/8)","v":136.33333333333334},18]
["Chimera",20,95,"D",{"$f":"MIN(B792*C792/6,400)/(B792/2)+(control!$B$4-MIN(B792*C792/6,400))/(B792/8)","v":65},20]
["China's Gold",21,72,"S",{"$f":"MIN(B793*C793/6,400)/(B793/2)+(control!$B$4-MIN(B793*C793/6,400))/(B793/8)","v":80.38095238095238},24]
["Chino",24,90,"S",{"$f":"MIN(B794*C794/6,400)/(B794/2)+(control!$B$4-MIN(B794*C794/6,400))/(B794/8)","v":43.333333333333336},26]
["Chinook",20,65,"M",{"$f":"MIN(B795*C795/6,400)/(B795/2)+(control!$B$4-MIN(B795*C795/6,400))/(B795/8)","v":95},20]
["Chip",26,104,"S",{"$f":"MIN(B796*C796/6,400)/(B796/2)+(control!$B$4-MIN(B796*C796/6,400))/(B796/8)","v":30.76923076923077},30]
["Chippy",21,81,"S",{"$f":"MIN(B797*C797/6,400)/(B797/2)+(control!$B$4-MIN(B797*C797/6,400))/(B797/8)","v":71.38095238095238},22]
["Chips",20,92,"S",{"$f":"MIN(B798*C798/6,400)/(B798/2)+(control!$B$4-MIN(B798*C798/6,400))/(B798/8)","v":68},23]
["Chipwich",24,74,"S",{"$f":"MIN(B799*C799/6,400)/(B799/2)+(control!$B$4-MIN(B799*C799/6,400))/(B799/8)","v":59.333333333333329},24]
["Chiquita",20,101,"S",{"$f":"MIN(B800*C800/6,400)/(B800/2)+(control!$B$4-MIN(B800*C800/6,400))/(B800/8)","v":59},22]
["Chiquito",26,100,"D",{"$f":"MIN(B801*C801/6,400)/(B801/2)+(control!$B$4-MIN(B801*C801/6,400))/(B801/8)","v":30.76923076923077},27]
["Chloe",22,108,"D",{"$f":"MIN(B802*C802/6,400)/(B802/2)+(control!$B$4-MIN(B802*C802/6,400))/(B802/8)","v":37.454545454545453},23]
["Chocolate",23,78,"M",{"$f":"MIN(B803*C803/6,400)/(B803/2)+(control!$B$4-MIN(B803*C803/6,400))/(B803/8)","v":61.130434782608695},27]
["Chocolate",15,121,"S",{"$f":"MIN(B804*C804/6,400)/(B804/2)+(control!$B$4-MIN(B804*C804/6,400))/(B804/8)","v":92.333333333333343},18]
["Chocolate Brownie",15,74,"S",{"$f":"MIN(B805*C805/6,400)/(B805/2)+(control!$B$4-MIN(B805*C805/6,400))/(B805/8)","v":139.33333333333334},18]
["Chocolate Chip",22,67,"S",{"$f":"MIN(B806*C806/6,400)/(B806/2)+(control!$B$4-MIN(B806*C806/6,400))/(B806/8)","v":78.454545454545453},22]
["Chocolate Chip Surprise",27,100,"S",{"$f":"MIN(B807*C807/6,400)/(B807/2)+(control!$B$4-MIN(B807*C807/6,400))/(B807/8)","v":29.62962962962963},27]
["Chocolate Covered Marshmallows",23,77,"M",{"$f":"MIN(B808*C808/6,400)/(B808/2)+(control!$B$4-MIN(B808*C808/6,400))/(B808/8)","v":62.130434782608688},23]
["Chocolate Mocha",25,88,"S",{"$f":"MIN(B809*C809/6,400)/(B809/2)+(control!$B$4-MIN(B809*C809/6,400))/(B809/8)","v":40},28]
["Chocolate Sundae",19,65,"M",{"$f":"MIN(B810*C810/6,400)/(B810/2)+(control!$B$4-MIN(B810*C810/6,400))/(B810/8)","v":103.42105263157895},23]
["Choctaw",21,92,"D",{"$f":"MIN(B811*C811/6,400)/(B811/2)+(control!$B$4-MIN(B811*C811/6,400))/(B811/8)","v":60.38095238095238},24]
["Choice",23,61,"S",{"$f":"MIN(B812*C812/6,400)/(B812/2)+(control!$B$4-MIN(B812*C812/6,400))/(B812/8)","v":78.130434782608688},24]
["Christmas in July",27,85,"S",{"$f":"MIN(B813*C813/6,400)/(B813/2)+(control!$B$4-MIN(B813*C813/6,400))/(B813/8)","v":33.518518518518519},27]
["Christopher Robin",26,91,"D",{"$f":"MIN(B814*C814/6,400)/(B814/2)+(control!$B$4-MIN(B814*C814/6,400))/(B814/8)","v":32.07692307692308},29]
["Chrome",24,94,"D",{"$f":"MIN(B815*C815/6,400)/(B815/2)+(control!$B$4-MIN(B815*C815/6,400))/(B815/8)","v":39.333333333333329},24]
["Chrystal and Roses",19,121,"D",{"$f":"MIN(B816*C816/6,400)/(B816/2)+(control!$B$4-MIN(B816*C816/6,400))/(B816/8)","v":47.421052631578945},20]
["Chuck",16,60,"S",{"$f":"MIN(B817*C817/6,400)/(B817/2)+(control!$B$4-MIN(B817*C817/6,400))/(B817/8)","v":140},16]
["Chuckles",16,84,"M",{"$f":"MIN(B818*C818/6,400)/(B818/2)+(control!$B$4-MIN(B818*C818/6,400))/(B818/8)","v":116},17]
["Chunky",22,74,"S",{"$f":"MIN(B819*C819/6,400)/(B819/2)+(control!$B$4-MIN(B819*C819/6,400))/(B819/8)","v":71.454545454545467},23]
["Chynas Silk",24,119,"D",{"$f":"MIN(B820*C820/6,400)/(B820/2)+(control!$B$4-MIN(B820*C820/6,400))/(B820/8)","v":33.333333333333336},26]
["Cider",26,83,"S",{"$f":"MIN(B821*C821/6,400)/(B821/2)+(control!$B$4-MIN(B821*C821/6,400))/(B821/8)","v":40.076923076923073},27]
["Cimarron",20,96,"D",{"$f":"MIN(B822*C822/6,400)/(B822/2)+(control!$B$4-MIN(B822*C822/6,400))/(B822/8)","v":64},20]
["Cimeron",19,65,"S",{"$f":"MIN(B823*C823/6,400)/(B823/2)+(control!$B$4-MIN(B823*C823/6,400))/(B823/8)","v":103.42105263157895},20]
["Cinamon",18,82,"S",{"$f":"MIN(B824*C824/6,400)/(B824/2)+(control!$B$4-MIN(B824*C824/6,400))/(B824/8)","v":95.777777777777771},21]
["Cincinatti",21,85,"S",{"$f":"MIN(B825*C825/6,400)/(B825/2)+(control!$B$4-MIN(B825*C825/6,400))/(B825/8)","v":67.38095238095238},21]
["Cincinnati's Treasure",15,94,"D",{"$f":"MIN(B826*C826/6,400)/(B826/2)+(control!$B$4-MIN(B826*C826/6,400))/(B826/8)","v":119.33333333333333},16]
["Cinderella",17,119,"M",{"$f":"MIN(B827*C827/6,400)/(B827/2)+(control!$B$4-MIN(B827*C827/6,400))/(B827/8)","v":69.235294117647058},17]
["Cinders",20,77,"S",{"$f":"MIN(B828*C828/6,400)/(B828/2)+(control!$B$4-MIN(B828*C828/6,400))/(B828/8)","v":83},22]
["Cindy",21,66,"M",{"$f":"MIN(B829*C829/6,400)/(B829/2)+(control!$B$4-MIN(B829*C829/6,400))/(B829/8)","v":86.38095238095238},25]
["Cinnamon",18,94,"D",{"$f":"MIN(B830*C830/6,400)/(B830/2)+(control!$B$4-MIN(B830*C830/6,400))/(B830/8)","v":83.777777777777771},18]
["Cinnamon Toast",18,90,"S",{"$f":"MIN(B831*C831/6,400)/(B831/2)+(control!$B$4-MIN(B831*C831/6,400))/(B831/8)","v":87.777777777777771},21]
["Cippy",15,118,"S",{"$f":"MIN(B832*C832/6,400)/(B832/2)+(control!$B$4-MIN(B832*C832/6,400))/(B832/8)","v":95.333333333333343},16]
["Cirrus",20,84,"M",{"$f":"MIN(B833*C833/6,400)/(B833/2)+(control!$B$4-MIN(B833*C833/6,400))/(B833/8)","v":76},20]
["Cisco",21,89,"S",{"$f":"MIN(B834*C834/6,400)/(B834/2)+(control!$B$4-MIN(B834*C834/6,400))/(B834/8)","v":63.38095238095238},24]
["Cisco Kid",22,60,"S",{"$f":"MIN(B835*C835/6,400)/(B835/2)+(control!$B$4-MIN(B835*C835/6,400))/(B835/8)","v":85.454545454545453},24]
["Citation",20,79,"S",{"$f":"MIN(B836*C836/6,400)/(B836/2)+(control!$B$4-MIN(B836*C836/6,400))/(B836/8)","v":81},20]
["City",17,104,"S",{"$f":"MIN(B837*C837/6,400)/(B837/2)+(control!$B$4-MIN(B837*C837/6,400))/(B837/8)","v":84.235294117647058},21]
["City Girl",21,73,"S",{"$f":"MIN(B838*C838/6,400)/(B838/2)+(control!$B$4-MIN(B838*C838/6,400))/(B838/8)","v":79.38095238095238},21]
["CJ",19,107,"S",{"$f":"MIN(B839*C839/6,400)/(B839/2)+(control!$B$4-MIN(B839*C839/6,400))/(B839/8)","v":61.421052631578952},20]
["Clancy",20,100,"M",{"$f":"MIN(B840*C840/6,400)/(B840/2)+(control!$B$4-MIN(B840*C840/6,400))/(B840/8)","v":60},24]
["Classic",16,116,"M",{"$f":"MIN(B841*C841/6,400)/(B841/2)+(control!$B$4-MIN(B841*C841/6,400))/(B841/8)","v":84},18]
["Classic Touch",19,119,"D",{"$f":"MIN(B842*C842/6,400)/(B842/2)+(control!$B$4-MIN(B842*C842/6,400))/(B842/8)","v":49.421052631578952},21]
["Classical Dancer",23,76,"S",{"$f":"MIN(B843*C843/6,400)/(B843/2)+(control!$B$4-MIN(B843*C843/6,400))/(B843/8)","v":63.130434782608702},26]
["Classy",25,119,"M",{"$f":"MIN(B844*C844/6,400)/(B844/2)+(control!$B$4-MIN(B844*C844/6,400))/(B844/8)","v":32},29]
["Classy Dancer",23,111,"S",{"$f":"MIN(B845*C845/6,400)/(B845/2)+(control!$B$4-MIN(B845*C845/6,400))/(B845/8)","v":34.782608695652172},25]
["Clear",16,86,"S",{"$f":"MIN(B846*C846/6,400)/(B846/2)+(control!$B$4-MIN(B846*C846/6,400))/(B846/8)","v":114},19]
["Clear Red",21,118,"M",{"$f":"MIN(B847*C847/6,400)/(B847/2)+(control!$B$4-MIN(B847*C847/6,400))/(B847/8)","v":38.095238095238095},24]
["Clemantine",25,91,"S",{"$f":"MIN(B848*C848/6,400)/(B848/2)+(control!$B$4-MIN(B848*C848/6,400))/(B848/8)","v":37},25]
["Cleo",18,70,"S",{"$f":"MIN(B849*C849/6,400)/(B849/2)+(control!$B$4-MIN(B849*C849/6,400))/(B849/8)","v":107.77777777777777},21]
["Clever Trick",17,100,"D",{"$f":"MIN(B850*C850/6,400)/(B850/2)+(control!$B$4-MIN(B850*C850/6,400))/(B850/8)","v":88.235294117647072},19]
["Clifford",19,82,"S",{"$f":"MIN(B851*C851/6,400)/(B851/2)+(control!$B$4-MIN(B851*C851/6,400))/(B851/8)","v":86.421052631578945},20]
["Cloe",24,99,"S",{"$f":"MIN(B852*C852/6,400)/(B852/2)+(control!$B$4-MIN(B852*C852/6,400))/(B852/8)","v":34.333333333333336},24]
["Clone Lass",15,122,"S",{"$f":"MIN(B853*C853/6,400)/(B853/2)+(control!$B$4-MIN(B853*C853/6,400))/(B853/8)","v":91.333333333333329},15]
["Cloud",27,100,"S",{"$f":"MIN(B854*C854/6,400)/(B854/2)+(control!$B$4-MIN(B854*C854/6,400))/(B854/8)","v":29.62962962962963},30]
["Cloud 9",18,71,"S",{"$f":"MIN(B855*C855/6,400)/(B855/2)+(control!$B$4-MIN(B855*C855/6,400))/(B855/8)","v":106.77777777777779},22]
["Cloud Dancer",25,94,"D",{"$f":"MIN(B856*C856/6,400)/(B856/2)+(control!$B$4-MIN(B856*C856/6,400))/(B856/8)","v":34},29]
["Cloud Dancing",21,112,"S",{"$f":"MIN(B857*C857/6,400)/(B857/2)+(control!$B$4-MIN(B857*C857/6,400))/(B857/8)","v":40.38095238095238},24]
["Cloud Nine",22,109,"S",{"$f":"MIN(B858*C858/6,400)/(B858/2)+(control!$B$4-MIN(B858*C858/6,400))/(B858/8)","v":36.454545454545453},26]
["Cloven",26,105,"S",{"$f":"MIN(B859*C859/6,400)/(B859/2)+(control!$B$4-MIN(B859*C859/6,400))/(B859/8)","v":30.76923076923077},30]
["Clover",27,60,"S",{"$f":"MIN(B860*C860/6,400)/(B860/2)+(control!$B$4-MIN(B860*C860/6,400))/(B860/8)","v":58.518518518518519},30]
["Clueless",20,122,"M",{"$f":"MIN(B861*C861/6,400)/(B861/2)+(control!$B$4-MIN(B861*C861/6,400))/(B861/8)","v":40},21]
["Cluster",17,64,"S",{"$f":"MIN(B862*C862/6,400)/(B862/2)+(control!$B$4-MIN(B862*C862/6,400))/(B862/8)","v":124.23529411764704},21]
["Clyde",26,109,"M",{"$f":"MIN(B863*C863/6,400)/(B863/2)+(control!$B$4-MIN(B863*C863/6,400))/(B863/8)","v":30.76923076923077},27]
["Coal",23,97,"S",{"$f":"MIN(B864*C864/6,400)/(B864/2)+(control!$B$4-MIN(B864*C864/6,400))/(B864/8)","v":42.130434782608695},26]
["Cobalt",22,68,"S",{"$f":"MIN(B865*C865/6,400)/(B865/2)+(control!$B$4-MIN(B865*C865/6,400))/(B865/8)","v":77.454545454545453},22]
["Cobweb",18,115,"D",{"$f":"MIN(B866*C866/6,400)/(B866/2)+(control!$B$4-MIN(B866*C866/6,400))/(B866/8)","v":62.777777777777779},22]
["Coby",26,69,"S",{"$f":"MIN(B867*C867/6,400)/(B867/2)+(control!$B$4-MIN(B867*C867/6,400))/(B867/8)","v":54.07692307692308},26]
["Coca-Cola",20,79,"S",{"$f":"MIN(B868*C868/6,400)/(B868/2)+(control!$B$4-MIN(B868*C868/6,400))/(B868/8)","v":81},21]
["Coccinelle",25,89,"S",{"$f":"MIN(B869*C869/6,400)/(B869/2)+(control!$B$4-MIN(B869*C869/6,400))/(B869/8)","v":39},25]
["Cochise",27,74,"S",{"$f":"MIN(B870*C870/6,400)/(B870/2)+(control!$B$4-MIN(B870*C870/6,400))/(B870/8)","v":44.518518518518519},28]
["Cochise Warfeather",16,112,"S",{"$f":"MIN(B871*C871/6,400)/(B871/2)+(control!$B$4-MIN(B871*C871/6,400))/(B871/8)","v":88},17]
["Cocklebur",15,77,"M",{"$f":"MIN(B872*C872/6,400)/(B872/2)+(control!$B$4-MIN(B872*C872/6,400))/(B872/8)","v":136.33333333333334},18]
["Coco",22,73,"M",{"$f":"MIN(B873*C873/6,400)/(B873/2)+(control!$B$4-MIN(B873*C873/6,400))/(B873/8)","v":72.454545454545453},26]
["Coco",25,80,"M",{"$f":"MIN(B874*C874/6,400)/(B874/2)+(control!$B$4-MIN(B874*C874/6,400))/(B874/8)","v":48},25]
["Co-Co",22,76,"S",{"$f":"MIN(B875*C875/6,400)/(B875/2)+(control!$B$4-MIN(B875*C875/6,400))/(B875/8)","v":69.454545454545453},25]
["Coco Lady",18,91,"M",{"$f":"MIN(B876*C876/6,400)/(B876/2)+(control!$B$4-MIN(B876*C876/6,400))/(B876/8)","v":86.777777777777771},20]
["Coco Puffs",22,96,"D",{"$f":"MIN(B877*C877/6,400)/(B877/2)+(control!$B$4-MIN(B877*C877/6,400))/(B877/8)","v":49.454545454545453},24]
["Cocoamo",27,116,"M",{"$f":"MIN(B878*C878/6,400)/(B878/2)+(control!$B$4-MIN(B878*C878/6,400))/(B878/8)","v":29.62962962962963},31]
["Coconut",27,85,"S",{"$f":"MIN(B879*C879/6,400)/(B879/2)+(control!$B$4-MIN(B879*C879/6,400))/(B879/8)","v":33.518518518518519},31]
["Coco-Rose",27,84,"S",{"$f":"MIN(B880*C880/6,400)/(B880/2)+(control!$B$4-MIN(B880*C880/6,400))/(B880/8)","v":34.518518518518519},28]
["Code Blue",21,99,"D",{"$f":"MIN(B881*C881/6,400)/(B881/2)+(control!$B$4-MIN(B881*C881/6,400))/(B881/8)","v":53.38095238095238},21]
["Cody",26,79,"S",{"$f":"MIN(B882*C882/6,400)/(B882/2)+(control!$B$4-MIN(B882*C882/6,400))/(B882/8)","v":44.07692307692308},29]
["Colby",18,92,"M",{"$f":"MIN(B883*C883/6,400)/(B883/2)+(control!$B$4-MIN(B883*C883/6,400))/(B883/8)","v":85.777777777777786},19]
["Cole",20,100,"S",{"$f":"MIN(B884*C884/6,400)/(B884/2)+(control!$B$4-MIN(B884*C884/6,400))/(B884/8)","v":60},23]
["Colin",20,93,"D",{"$f":"MIN(B885*C885/6,400)/(B885/2)+(control!$B$4-MIN(B885*C885/6,400))/(B885/8)","v":67},20]
["Color Field",16,76,"S",{"$f":"MIN(B886*C886/6,400)/(B886/2)+(control!$B$4-MIN(B886*C886/6,400))/(B886/8)","v":124},19]
["Color Me Bad",22,117,"S",{"$f":"MIN(B887*C887/6,400)/(B887/2)+(control!$B$4-MIN(B887*C887/6,400))/(B887/8)","v":36.363636363636367},22]
["Color Me Crazy",21,120,"D",{"$f":"MIN(B888*C888/6,400)/(B888/2)+(control!$B$4-MIN(B888*C888/6,400))/(B888/8)","v":38.095238095238095},22]
["Color Me Pretty",19,119,"D",{"$f":"MIN(B889*C889/6,400)/(B889/2)+(control!$B$4-MIN(B889*C889/6,400))/(B889/8)","v":49.421052631578952},21]
["Color Me Red",15,66,"M",{"$f":"MIN(B890*C890/6,400)/(B890/2)+(control!$B$4-MIN(B890*C890/6,400))/(B890/8)","v":147.33333333333331},19]
["Colorado",22,94,"M",{"$f":"MIN(B891*C891/6,400)/(B891/2)+(control!$B$4-MIN(B891*C891/6,400))/(B891/8)","v":51.454545454545453},26]
["Coloring Book",26,63,"S",{"$f":"MIN(B892*C892/6,400)/(B892/2)+(control!$B$4-MIN(B892*C892/6,400))/(B892/8)","v":60.07692307692308},27]
["Colors Of The Wind",18,118,"S",{"$f":"MIN(B893*C893/6,400)/(B893/2)+(control!$B$4-MIN(B893*C893/6,400))/(B893/8)","v":59.777777777777779},22]
["Coltyn",17,61,"S",{"$f":"MIN(B894*C894/6,400)/(B894/2)+(control!$B$4-MIN(B894*C894/6,400))/(B894/8)","v":127.23529411764704},17]
["Columbo",17,93,"D",{"$f":"MIN(B895*C895/6,400)/(B895/2)+(control!$B$4-MIN(B895*C895/6,400))/(B895/8)","v":95.235294117647058},20]
["Comanche",16,79,"M",{"$f":"MIN(B896*C896/6,400)/(B896/2)+(control!$B$4-MIN(B896*C896/6,400))/(B896/8)","v":121},19]
["Comet",19,60,"S",{"$f":"MIN(B897*C897/6,400)/(B897/2)+(control!$B$4-MIN(B897*C897/6,400))/(B897/8)","v":108.42105263157895},21]
["Command Performance",22,73,"M",{"$f":"MIN(B898*C898/6,400)/(B898/2)+(control!$B$4-MIN(B898*C898/6,400))/(B898/8)","v":72.454545454545453},22]
["Condor",18,113,"S",{"$f":"MIN(B899*C899/6,400)/(B899/2)+(control!$B$4-MIN(B899*C899/6,400))/(B899/8)","v":64.777777777777771},20]
["Confetti",21,97,"S",{"$f":"MIN(B900*C900/6,400)/(B900/2)+(control!$B$4-MIN(B900*C900/6,400))/(B900/8)","v":55.38095238095238},24]
["Confetti's Cowboy",23,71,"S",{"$f":"MIN(B901*C901/6,400)/(B901/2)+(control!$B$4-MIN(B901*C901/6,400))/(B901/8)","v":68.130434782608688},23]
["Confidental",18,72,"S",{"$f":"MIN(B902*C902/6,400)/(B902/2)+(control!$B$4-MIN(B902*C902/6,400))/(B902/8)","v":105.77777777777777},20]
["Congarie",24,70,"S",{"$f":"MIN(B903*C903/6,400)/(B903/2)+(control!$B$4-MIN(B903*C903/6,400))/(B903/8)","v":63.333333333333329},25]
["Conker",25,84,"M",{"$f":"MIN(B904*C904/6,400)/(B904/2)+(control!$B$4-MIN(B904*C904/6,400))/(B904/8)","v":44},28]
["Conquest",23,73,"S",{"$f":"MIN(B905*C905/6,400)/(B905/2)+(control!$B$4-MIN(B905*C905/6,400))/(B905/8)","v":66.130434782608702},26]
["Conrad",26,104,"D",{"$f":"MIN(B906*C906/6,400)/(B906/2)+(control!$B$4-MIN(B906*C906/6,400))/(B906/8)","v":30.76923076923077},26]
["Contiki",18,72,"S",{"$f":"MIN(B907*C907/6,400)/(B907/2)+(control!$B$4-MIN(B907*C907/6,400))/(B907/8)","v":105.77777777777777},21]
["Conztanza",23,99,"S",{"$f":"MIN(B908*C908/6,400)/(B908/2)+(control!$B$4-MIN(B908*C908/6,400))/(B908/8)","v":40.130434782608695},23]
["Coocoo For Coconuts",19,113,"S",{"$f":"MIN(B909*C909/6,400)/(B909/2)+(control!$B$4-MIN(B909*C909/6,400))/(B909/8)","v":55.421052631578952},19]
["Cookie",16,110,"D",{"$f":"MIN(B910*C910/6,400)/(B910/2)+(control!$B$4-MIN(B910*C910/6,400))/(B910/8)","v":90},20]
["Cookie Dough",17,100,"S",{"$f":"MIN(B911*C911/6,400)/(B911/2)+(control!$B$4-MIN(B911*C911/6,400))/(B911/8)","v":88.235294117647072},18]
["Cookies 'n' Cream",17,87,"S",{"$f":"MIN(B912*C912/6,400)/(B912/2)+(control!$B$4-MIN(B912*C912/6,400))/(B912/8)","v":101.23529411764706},18]
["Cool Dawn",26,82,"M",{"$f":"MIN(B913*C913/6,400)/(B913/2)+(control!$B$4-MIN(B913*C913/6,400))/(B913/8)","v":41.07692307692308},29]
["Cool Mount",23,122,"D",{"$f":"MIN(B914*C914/6,400)/(B914/2)+(control!$B$4-MIN(B914*C914/6,400))/(B914/8)","v":34.782608695652172},23]
["Coosa",21,82,"S",{"$f":"MIN(B915*C915/6,400)/(B915/2)+(control!$B$4-MIN(B915*C915/6,400))/(B915/8)","v":70.38095238095238},24]
["Cooter",21,81,"S",{"$f":"MIN(B916*C916/6,400)/(B916/2)+(control!$B$4-MIN(B916*C916/6,400))/(B916/8)","v":71.38095238095238},24]
["CoPilot",22,80,"M",{"$f":"MIN(B917*C917/6,400)/(B917/2)+(control!$B$4-MIN(B917*C917/6,400))/(B917/8)","v":65.454545454545467},23]
["Copper",27,83,"M",{"$f":"MIN(B918*C918/6,400)/(B918/2)+(control!$B$4-MIN(B918*C918/6,400))/(B918/8)","v":35.518518518518519},27]
["Copper Glow",21,104,"S",{"$f":"MIN(B919*C919/6,400)/(B919/2)+(control!$B$4-MIN(B919*C919/6,400))/(B919/8)","v":48.38095238095238},25]
["Copper Penny",19,88,"M",{"$f":"MIN(B920*C920/6,400)/(B920/2)+(control!$B$4-MIN(B920*C920/6,400))/(B920/8)","v":80.421052631578945},19]
["Copperhead",18,117,"S",{"$f":"MIN(B921*C921/6,400)/(B921/2)+(control!$B$4-MIN(B921*C921/6,400))/(B921/8)","v":60.777777777777779},22]
["Copy Cat",24,87,"S",{"$f":"MIN(B922*C922/6,400)/(B922/2)+(control!$B$4-MIN(B922*C922/6,400))/(B922/8)","v":46.333333333333329},25]
["Corey",17,59,"S",{"$f":"MIN(B923*C923/6,400)/(B923/2)+(control!$B$4-MIN(B923*C923/6,400))/(B923/8)","v":129.23529411764707},18]
["Cork",23,84,"S",{"$f":"MIN(B924*C924/6,400)/(B924/2)+(control!$B$4-MIN(B924*C924/6,400))/(B924/8)","v":55.130434782608695},27]
["Corn",16,111,"S",{"$f":"MIN(B925*C925/6,400)/(B925/2)+(control!$B$4-MIN(B925*C925/6,400))/(B925/8)","v":89},20]
["Cornol",20,96,"M",{"$f":"MIN(B926*C926/6,400)/(B926/2)+(control!$B$4-MIN(B926*C926/6,400))/(B926/8)","v":64},23]
["Coshy",16,82,"S",{"$f":"MIN(B927*C927/6,400)/(B927/2)+(control!$B$4-MIN(B927*C927/6,400))/(B927/8)","v":118},16]
["Cosmic Flower",19,87,"S",{"$f":"MIN(B928*C928/6,400)/(B928/2)+(control!$B$4-MIN(B928*C928/6,400))/(B928/8)","v":81.421052631578945},21]
["Cosmo",22,99,"D",{"$f":"MIN(B929*C929/6,400)/(B929/2)+(control!$B$4-MIN(B929*C929/6,400))/(B929/8)","v":46.454545454545453},22]
["Costal Sunset",21,114,"D",{"$f":"MIN(B930*C930/6,400)/(B930/2)+(control!$B$4-MIN(B930*C930/6,400))/(B930/8)","v":38.38095238095238},24]
["Cotton",21,87,"S",{"$f":"MIN(B931*C931/6,400)/(B931/2)+(control!$B$4-MIN(B931*C931/6,400))/(B931/8)","v":65.38095238095238},21]
["Cougar",27,93,"D",{"$f":"MIN(B932*C932/6,400)/(B932/2)+(control!$B$4-MIN(B932*C932/6,400))/(B932/8)","v":29.62962962962963},29]
["Count",15,69,"M",{"$f":"MIN(B933*C933/6,400)/(B933/2)+(control!$B$4-MIN(B933*C933/6,400))/(B933/8)","v":144.33333333333331},17]
["Courageous",15,93,"M",{"$f":"MIN(B934*C934/6,400)/(B934/2)+(control!$B$4-MIN(B934*C934/6,400))/(B934/8)","v":120.33333333333333},15]
["Coureur des Bois",20,112,"D",{"$f":"MIN(B935*C935/6,400)/(B935/2)+(control!$B$4-MIN(B935*C935/6,400))/(B935/8)","v":48},22]
["Court Jester",23,72,"M",{"$f":"MIN(B936*C936/6,400)/(B936/2)+(control!$B$4-MIN(B936*C936/6,400))/(B936/8)","v":67.130434782608688},23]
["Courvosier",24,71,"S",{"$f":"MIN(B937*C937/6,400)/(B937/2)+(control!$B$4-MIN(B937*C937/6,400))/(B937/8)","v":62.333333333333329},25]
["Cover Girl",21,92,"D",{"$f":"MIN(B938*C938/6,400)/(B938/2)+(control!$B$4-MIN(B938*C938/6,400))/(B938/8)","v":60.38095238095238},23]
["Cover Story",21,113,"M",{"$f":"MIN(B939*C939/6,400)/(B939/2)+(control!$B$4-MIN(B939*C939/6,400))/(B939/8)","v":39.38095238095238},24]
["Cowboy",16,81,"M",{"$f":"MIN(B940*C940/6,400)/(B940/2)+(control!$B$4-MIN(B940*C940/6,400))/(B940/8)","v":119},19]
["Cowboy Joe",22,63,"S",{"$f":"MIN(B941*C941/6,400)/(B941/2)+(control!$B$4-MIN(B941*C941/6,400))/(B941/8)","v":82.454545454545453},23]
["Cowboys Delight",17,113,"S",{"$f":"MIN(B942*C942/6,400)/(B942/2)+(control!$B$4-MIN(B942*C942/6,400))/(B942/8)","v":75.235294117647058},20]
["Cowboy's Dream",20,98,"S",{"$f":"MIN(B943*C943/6,400)/(B943/2)+(control!$B$4-MIN(B943*C943/6,400))/(B943/8)","v":62},22]
["Cowboy's First Choice",17,77,"M",{"$f":"MIN(B944*C944/6,400)/(B944/2)+(control!$B$4-MIN(B944*C944/6,400))/(B944/8)","v":111.23529411764707},21]
["Cowboys Golden Blizzard",19,106,"D",{"$f":"MIN(B945*C945/6,400)/(B945/2)+(control!$B$4-MIN(B945*C945/6,400))/(B945/8)","v":62.421052631578945},22]
["Cowboy's Revege",18,74,"S",{"$f":"MIN(B946*C946/6,400)/(B946/2)+(control!$B$4-MIN(B946*C946/6,400))/(B946/8)","v":103.77777777777779},18]
["Cowgirl",24,76,"S",{"$f":"MIN(B947*C947/6,400)/(B947/2)+(control!$B$4-MIN(B947*C947/6,400))/(B947/8)","v":57.333333333333329},25]
["Coyote",21,86,"S",{"$f":"MIN(B948*C948/6,400)/(B948/2)+(control!$B$4-MIN(B948*C948/6,400))/(B948/8)","v":66.38095238095238},24]
["Cracker Barrel",16,60,"S",{"$f":"MIN(B949*C949/6,400)/(B949/2)+(control!$B$4-MIN(B949*C949/6,400))/(B949/8)","v":140},20]
["Cracker Jack",17,118,"S",{"$f":"MIN(B950*C950/6,400)/(B950/2)+(control!$B$4-MIN(B950*C950/6,400))/(B950/8)","v":70.235294117647058},18]
["Crackerjack",17,92,"M",{"$f":"MIN(B951*C951/6,400)/(B951/2)+(control!$B$4-MIN(B951*C951/6,400))/(B951/8)","v":96.235294117647058},20]
["Crazy",22,96,"S",{"$f":"MIN(B952*C952/6,400)/(B952/2)+(control!$B$4-MIN(B952*C952/6,400))/(B952/8)","v":49.454545454545453},23]
["Crazy Dream",19,106,"S",{"$f":"MIN(B953*C953/6,400)/(B953/2)+(control!$B$4-MIN(B953*C953/6,400))/(B953/8)","v":62.421052631578945},22]
["Crazy Paint",23,71,"M",{"$f":"MIN(B954*C954/6,400)/(B954/2)+(control!$B$4-MIN(B954*C954/6,400))/(B954/8)","v":68.130434782608688},25]
["Cream",16,95,"M",{"$f":"MIN(B955*C955/6,400)/(B955/2)+(control!$B$4-MIN(B955*C955/6,400))/(B955/8)","v":105},20]
["Creme Soda",25,111,"S",{"$f":"MIN(B956*C956/6,400)/(B956/2)+(control!$B$4-MIN(B956*C956/6,400))/(B956/8)","v":32},26]
["Cremmdalla Crem",18,59,"S",{"$f":"MIN(B957*C957/6,400)/(B957/2)+(control!$B$4-MIN(B957*C957/6,400))/(B957/8)","v":118.77777777777779},22]
["Creola Rosette",19,65,"S",{"$f":"MIN(B958*C958/6,400)/(B958/2)+(control!$B$4-MIN(B958*C958/6,400))/(B958/8)","v":103.42105263157895},22]
["Creole",25,101,"D",{"$f":"MIN(B959*C959/6,400)/(B959/2)+(control!$B$4-MIN(B959*C959/6,400))/(B959/8)","v":32},28]
["Cricket",22,75,"M",{"$f":"MIN(B960*C960/6,400)/(B960/2)+(control!$B$4-MIN(B960*C960/6,400))/(B960/8)","v":70.454545454545453},23]
["Crimson",21,87,"S",{"$f":"MIN(B961*C961/6,400)/(B961/2)+(control!$B$4-MIN(B961*C961/6,400))/(B961/8)","v":65.38095238095238},23]
["Crisp",25,75,"S",{"$f":"MIN(B962*C962/6,400)/(B962/2)+(control!$B$4-MIN(B962*C962/6,400))/(B962/8)","v":53},26]
["Crispy",25,107,"S",{"$f":"MIN(B963*C963/6,400)/(B963/2)+(control!$B$4-MIN(B963*C963/6,400))/(B963/8)","v":32},27]
["Crissy",17,113,"D",{"$f":"MIN(B964*C964/6,400)/(B964/2)+(control!$B$4-MIN(B964*C964/6,400))/(B964/8)","v":75.235294117647058},18]
["Cristabell",22,79,"M",{"$f":"MIN(B965*C965/6,400)/(B965/2)+(control!$B$4-MIN(B965*C965/6,400))/(B965/8)","v":66.454545454545453},25]
["Crocuzula",24,92,"M",{"$f":"MIN(B966*C966/6,400)/(B966/2)+(control!$B$4-MIN(B966*C966/6,400))/(B966/8)","v":41.333333333333336},24]
["Cross Roads",18,92,"S",{"$f":"MIN(B967*C967/6,400)/(B967/2)+(control!$B$4-MIN(B967*C967/6,400))/(B967/8)","v":85.777777777777786},21]
["Crouching Tiger",15,60,"S",{"$f":"MIN(B968*C968/6,400)/(B968/2)+(control!$B$4-MIN(B968*C968/6,400))/(B968/8)","v":153.33333333333334},15]
["Crown Royal",20,81,"S",{"$f":"MIN(B969*C969/6,400)/(B969/2)+(control!$B$4-MIN(B969*C969/6,400))/(B969/8)","v":79},23]
["Cruise",25,78,"S",{"$f":"MIN(B970*C970/6,400)/(B970/2)+(control!$B$4-MIN(B970*C970/6,400))/(B970/8)","v":50},29]
["Cruser",19,87,"S",{"$f":"MIN(B971*C971/6,400)/(B971/2)+(control!$B$4-MIN(B971*C971/6,400))/(B971/8)","v":81.421052631578945},19]
["Crystal",15,90,"M",{"$f":"MIN(B972*C972/6,400)/(B972/2)+(control!$B$4-MIN(B972*C972/6,400))/(B972/8)","v":123.33333333333333},15]
["Cuddles",21,97,"S",{"$f":"MIN(B973*C973/6,400)/(B973/2)+(control!$B$4-MIN(B973*C973/6,400))/(B973/8)","v":55.38095238095238},23]
["Cuervo",17,80,"S",{"$f":"MIN(B974*C974/6,400)/(B974/2)+(control!$B$4-MIN(B974*C974/6,400))/(B974/8)","v":108.23529411764707},20]
["Culver",15,92,"S",{"$f":"MIN(B975*C975/6,400)/(B975/2)+(control!$B$4-MIN(B975*C975/6,400))/(B975/8)","v":121.33333333333334},15]
["Cupid",21,81,"S",{"$f":"MIN(B976*C976/6,400)/(B976/2)+(control!$B$4-MIN(B976*C976/6,400))/(B976/8)","v":71.38095238095238},22]
["Cupids Cowboy",15,61,"M",{"$f":"MIN(B977*C977/6,400)/(B977/2)+(control!$B$4-MIN(B977*C977/6,400))/(B977/8)","v":152.33333333333334},15]
["Curiosity",18,73,"S",{"$f":"MIN(B978*C978/6,400)/(B978/2)+(control!$B$4-MIN(B978*C978/6,400))/(B978/8)","v":104.77777777777777},22]
["Curious",23,82,"S",{"$f":"MIN(B979*C979/6,400)/(B979/2)+(control!$B$4-MIN(B979*C979/6,400))/(B979/8)","v":57.130434782608702},24]
["Curiso",22,88,"M",{"$f":"MIN(B980*C980/6,400)/(B980/2)+(control!$B$4-MIN(B980*C980/6,400))/(B980/8)","v":57.454545454545453},23]
["Curley",20,97,"M",{"$f":"MIN(B981*C981/6,400)/(B981/2)+(control!$B$4-MIN(B981*C981/6,400))/(B981/8)","v":63},23]
["Curly",22,75,"S",{"$f":"MIN(B982*C982/6,400)/(B982/2)+(control!$B$4-MIN(B982*C982/6,400))/(B982/8)","v":70.454545454545453},25]
["Curly-q",20,88,"M",{"$f":"MIN(B983*C983/6,400)/(B983/2)+(control!$B$4-MIN(B983*C983/6,400))/(B983/8)","v":72},24]
["Curtain Call",27,62,"M",{"$f":"MIN(B984*C984/6,400)/(B984/2)+(control!$B$4-MIN(B984*C984/6,400))/(B984/8)","v":56.518518518518519},27]
["Custer",25,123,"S",{"$f":"MIN(B985*C985/6,400)/(B985/2)+(control!$B$4-MIN(B985*C985/6,400))/(B985/8)","v":32},27]
["Cut The Cuteness",22,94,"S",{"$f":"MIN(B986*C986/6,400)/(B986/2)+(control!$B$4-MIN(B986*C986/6,400))/(B986/8)","v":51.454545454545453},25]
["Cute As A Button",16,80,"S",{"$f":"MIN(B987*C987/6,400)/(B987/2)+(control!$B$4-MIN(B987*C987/6,400))/(B987/8)","v":120},16]
["Cute Tee",15,69,"S",{"$f":"MIN(B988*C988/6,400)/(B988/2)+(control!$B$4-MIN(B988*C988/6,400))/(B988/8)","v":144.33333333333331},16]
["Cute Wedding",21,114,"D",{"$f":"MIN(B989*C989/6,400)/(B989/2)+(control!$B$4-MIN(B989*C989/6,400))/(B989/8)","v":38.38095238095238},21]
["Cutest lil' babyface",20,69,"S",{"$f":"MIN(B990*C990/6,400)/(B990/2)+(control!$B$4-MIN(B990*C990/6,400))/(B990/8)","v":91},24]
["Cutter",19,63,"M",{"$f":"MIN(B991*C991/6,400)/(B991/2)+(control!$B$4-MIN(B991*C991/6,400))/(B991/8)","v":105.42105263157895},19]
["Cyclone",19,72,"S",{"$f":"MIN(B992*C992/6,400)/(B992/2)+(control!$B$4-MIN(B992*C992/6,400))/(B992/8)","v":96.421052631578945},19]
["Cymba",20,75,"S",{"$f":"MIN(B993*C993/6,400)/(B993/2)+(control!$B$4-MIN(B993*C993/6,400))/(B993/8)","v":85},20]
["Cymbal",16,84,"M",{"$f":"MIN(B994*C994/6,400)/(B994/2)+(control!$B$4-MIN(B994*C994/6,400))/(B994/8)","v":116},20]
["Cyndara",26,64,"S",{"$f":"MIN(B995*C995/6,400)/(B995/2)+(control!$B$4-MIN(B995*C995/6,400))/(B995/8)","v":59.07692307692308},30]
["Cypress Way",20,96,"M",{"$f":"MIN(B996*C996/6,400)/(B996/2)+(control!$B$4-MIN(B996*C996/6,400))/(B996/8)","v":64},23]
["Cyrus",16,106,"M",{"$f":"MIN(B997*C997/6,400)/(B997/2)+(control!$B$4-MIN(B997*C997/6,400))/(B997/8)","v":94},19]
["Czar",25,60,"S",{"$f":"MIN(B998*C998/6,400)/(B998/2)+(control!$B$4-MIN(B998*C998/6,400))/(B998/8)","v":68},27]
["Daddys Dollars",23,90,"M",{"$f":"MIN(B999*C999/6,400)/(B999/2)+(control!$B$4-MIN(B999*C999/6,400))/(B999/8)","v":49.130434782608695},23]
["Daddy's Overdraft",26,115,"D",{"$f":"MIN(B1000*C1000/6,400)/(B1000/2)+(control!$B$4-MIN(B1000*C1000/6,400))/(B1000/8)","v":30.76923076923077},29]
["Daggers Point",19,60,"S",{"$f":"MIN(B1001*C1001/6,400)/(B1001/2)+(control!$B$4-MIN(B1001*C1001/6,400))/(B1001/8)","v":108.42105263157895},19]
["Dagworth Maestro",23,67,"S",{"$f":"MIN(B1002*C1002/6,400)/(B1002/2)+(control!$B$4-MIN(B1002*C1002/6,400))/(B1002/8)","v":72.130434782608702},24]
["Dairy Cream",17,89,"M",{"$f":"MIN(B1003*C1003/6,400)/(B1003/2)+(control!$B$4-MIN(B1003*C1003/6,400))/(B1003/8)","v":99.235294117647072},20]
["Daisy",19,75,"M",{"$f":"MIN(B1004*C1004/6,400)/(B1004/2)+(control!$B$4-MIN(B1004*C1004/6,400))/(B1004/8)","v":93.421052631578945},21]
["Daisy Mama",26,68,"M",{"$f":"MIN(B1005*C1005/6,400)/(B1005/2)+(control!$B$4-MIN(B1005*C1005/6,400))/(B1005/8)","v":55.076923076923066},30]
["Daisy May",27,73,"S",{"$f":"MIN(B1006*C1006/6,400)/(B1006/2)+(control!$B$4-MIN(B1006*C1006/6,400))/(B1006/8)","v":45.518518518518519},30]
["Dakota",17,99,"S",{"$f":"MIN(B1007*C1007/6,400)/(B1007/2)+(control!$B$4-MIN(B1007*C1007/6,400))/(B1007/8)","v":89.235294117647058},18]
["Dakota Dreamer",20,112,"M",{"$f":"MIN(B1008*C1008/6,400)/(B1008/2)+(control!$B$4-MIN(B1008*C1008/6,400))/(B1008/8)","v":48},21]
["Dakota Grace",15,78,"S",{"$f":"MIN(B1009*C1009/6,400)/(B1009/2)+(control!$B$4-MIN(B1009*C1009/6,400))/(B1009/8)","v":135.33333333333331},18]
["Dakota Smith",23,81,"S",{"$f":"MIN(B1010*C1010/6,400)/(B1010/2)+(control!$B$4-MIN(B1010*C1010/6,400))/(B1010/8)","v":58.130434782608695},24]
["Dale",24,78,"S",{"$f":"MIN(B1011*C1011/6,400)/(B1011/2)+(control!$B$4-MIN(B1011*C1011/6,400))/(B1011/8)","v":55.333333333333329},28]
["Dalesman",24,109,"S",{"$f":"MIN(B1012*C1012/6,400)/(B1012/2)+(control!$B$4-MIN(B1012*C1012/6,400))/(B1012/8)","v":33.333333333333336},26]
["Dallas",20,92,"S",{"$f":"MIN(B1013*C1013/6,400)/(B1013/2)+(control!$B$4-MIN(B1013*C1013/6,400))/(B1013/8)","v":68},24]
["Dalton",23,100,"S",{"$f":"MIN(B1014*C1014/6,400)/(B1014/2)+(control!$B$4-MIN(B1014*C1014/6,400))/(B1014/8)","v":39.130434782608695},24]
["Dame de Pique",23,95,"S",{"$f":"MIN(B1015*C1015/6,400)/(B1015/2)+(control!$B$4-MIN(B1015*C1015/6,400))/(B1015/8)","v":44.130434782608688},26]
["Dameon",24,88,"S",{"$f":"MIN(B1016*C1016/6,400)/(B1016/2)+(control!$B$4-MIN(B1016*C1016/6,400))/(B1016/8)","v":45.333333333333329},25]
["Damien",22,91,"D",{"$f":"MIN(B1017*C1017/6,400)/(B1017/2)+(control!$B$4-MIN(B1017*C1017/6,400))/(B1017/8)","v":54.454545454545453},24]
["Damsel",19,102,"S",{"$f":"MIN(B1018*C1018/6,400)/(B1018/2)+(control!$B$4-MIN(B1018*C1018/6,400))/(B1018/8)","v":66.421052631578945},20]
["Dan",22,66,"S",{"$f":"MIN(B1019*C1019/6,400)/(B1019/2)+(control!$B$4-MIN(B1019*C1019/6,400))/(B1019/8)","v":79.454545454545453},26]
["Dance Away",23,80,"S",{"$f":"MIN(B1020*C1020/6,400)/(B1020/2)+(control!$B$4-MIN(B1020*C1020/6,400))/(B1020/8)","v":59.130434782608688},23]
["Dancer",22,120,"D",{"$f":"MIN(B1021*C1021/6,400)/(B1021/2)+(control!$B$4-MIN(B1021*C1021/6,400))/(B1021/8)","v":36.363636363636367},24]
["Dancing Queen",21,117,"D",{"$f":"MIN(B1022*C1022/6,400)/(B1022/2)+(control!$B$4-MIN(B1022*C1022/6,400))/(B1022/8)","v":38.095238095238095},21]
["Dandelion",27,105,"D",{"$f":"MIN(B1023*C1023/6,400)/(B1023/2)+(control!$B$4-MIN(B1023*C1023/6,400))/(B1023/8)","v":29.62962962962963},27]
["Dandi",20,72,"S",{"$f":"MIN(B1024*C1024/6,400)/(B1024/2)+(control!$B$4-MIN(B1024*C1024/6,400))/(B1024/8)","v":88},21]
["Dandy",15,122,"S",{"$f":"MIN(B1025*C1025/6,400)/(B1025/2)+(control!$B$4-MIN(B1025*C1025/6,400))/(B1025/8)","v":91.333333333333329},17]
["Dandy Suitor",20,76,"M",{"$f":"MIN(B1026*C1026/6,400)/(B1026/2)+(control!$B$4-MIN(B1026*C1026/6,400))/(B1026/8)","v":84},24]
["D'Angelo",22,80,"M",{"$f":"MIN(B1027*C1027/6,400)/(B1027/2)+(control!$B$4-MIN(B1027*C1027/6,400))/(B1027/8)","v":65.454545454545467},23]
["Dani",20,121,"D",{"$f":"MIN(B1028*C1028/6,400)/(B1028/2)+(control!$B$4-MIN(B1028*C1028/6,400))/(B1028/8)","v":40},23]
["Daniel",18,69,"M",{"$f":"MIN(B1029*C1029/6,400)/(B1029/2)+(control!$B$4-MIN(B1029*C1029/6,400))/(B1029/8)","v":108.77777777777777},18]
["Danny",27,79,"M",{"$f":"MIN(B1030*C1030/6,400)/(B1030/2)+(control!$B$4-MIN(B1030*C1030/6,400))/(B1030/8)","v":39.518518518518519},28]
["Danny Boy",26,75,"M",{"$f":"MIN(B1031*C1031/6,400)/(B1031/2)+(control!$B$4-MIN(B1031*C1031/6,400))/(B1031/8)","v":48.07692307692308},28]
["Dante",24,122,"D",{"$f":"MIN(B1032*C1032/6,400)/(B1032/2)+(control!$B$4-MIN(B1032*C1032/6,400))/(B1032/8)","v":33.333333333333336},26]
["Dapple",18,95,"S",{"$f":"MIN(B1033*C1033/6,400)/(B1033/2)+(control!$B$4-MIN(B1033*C1033/6,400))/(B1033/8)","v":82.777777777777786},22]
["Dapple Apple",23,63,"S",{"$f":"MIN(B1034*C1034/6,400)/(B1034/2)+(control!$B$4-MIN(B1034*C1034/6,400))/(B1034/8)","v":76.130434782608688},24]
["Daquiri",22,64,"S",{"$f":"MIN(B1035*C1035/6,400)/(B1035/2)+(control!$B$4-MIN(B1035*C1035/6,400))/(B1035/8)","v":81.454545454545453},22]
["Darby",20,108,"D",{"$f":"MIN(B1036*C1036/6,400)/(B1036/2)+(control!$B$4-MIN(B1036*C1036/6,400))/(B1036/8)","v":52},20]
["Darcy",15,108,"M",{"$f":"MIN(B1037*C1037/6,400)/(B1037/2)+(control!$B$4-MIN(B1037*C1037/6,400))/(B1037/8)","v":105.33333333333333},19]
["Dare to Dream",19,91,"S",{"$f":"MIN(B1038*C1038/6,400)/(B1038/2)+(control!$B$4-MIN(B1038*C1038/6,400))/(B1038/8)","v":77.421052631578945},22]
["Daredevil",15,76,"M",{"$f":"MIN(B1039*C1039/6,400)/(B1039/2)+(control!$B$4-MIN(B1039*C1039/6,400))/(B1039/8)","v":137.33333333333334},18]
["Daring Dancer",21,64,"S",{"$f":"MIN(B1040*C1040/6,400)/(B1040/2)+(control!$B$4-MIN(B1040*C1040/6,400))/(B1040/8)","v":88.38095238095238},24]
["Darius",22,116,"M",{"$f":"MIN(B1041*C1041/6,400)/(B1041/2)+(control!$B$4-MIN(B1041*C1041/6,400))/(B1041/8)","v":36.363636363636367},25]
["Dark Intentions",16,67,"S",{"$f":"MIN(B1042*C1042/6,400)/(B1042/2)+(control!$B$4-MIN(B1042*C1042/6,400))/(B1042/8)","v":133},20]
["Dark Secret",17,80,"M",{"$f":"MIN(B1043*C1043/6,400)/(B1043/2)+(control!$B$4-MIN(B1043*C1043/6,400))/(B1043/8)","v":108.23529411764707},18]
["Dark Squawl",21,103,"D",{"$f":"MIN(B1044*C1044/6,400)/(B1044/2)+(control!$B$4-MIN(B1044*C1044/6,400))/(B1044/8)","v":49.38095238095238},24]
["Darkness",19,85,"S",{"$f":"MIN(B1045*C1045/6,400)/(B1045/2)+(control!$B$4-MIN(B1045*C1045/6,400))/(B1045/8)","v":83.421052631578945},19]
["Darling",26,64,"S",{"$f":"MIN(B1046*C1046/6,400)/(B1046/2)+(control!$B$4-MIN(B1046*C1046/6,400))/(B1046/8)","v":59.07692307692308},26]
["Dash of Class",24,104,"S",{"$f":"MIN(B1047*C1047/6,400)/(B1047/2)+(control!$B$4-MIN(B1047*C1047/6,400))/(B1047/8)","v":33.333333333333336},28]
["Dasher",17,112,"D",{"$f":"MIN(B1048*C1048/6,400)/(B1048/2)+(control!$B$4-MIN(B1048*C1048/6,400))/(B1048/8)","v":76.235294117647072},17]
["Dava",15,104,"S",{"$f":"MIN(B1049*C1049/6,400)/(B1049/2)+(control!$B$4-MIN(B1049*C1049/6,400))/(B1049/8)","v":109.33333333333334},18]
["Davis",26,68,"S",{"$f":"MIN(B1050*C1050/6,400)/(B1050/2)+(control!$B$4-MIN(B1050*C1050/6,400))/(B1050/8)","v":55.076923076923066},27]
["Dawn",19,85,"M",{"$f":"MIN(B1051*C1051/6,400)/(B1051/2)+(control!$B$4-MIN(B1051*C1051/6,400))/(B1051/8)","v":83.421052631578945},22]
["Dawning Hope",22,82,"S",{"$f":"MIN(B1052*C1052/6,400)/(B1052/2)+(control!$B$4-MIN(B1052*C1052/6,400))/(B1052/8)","v":63.454545454545453},23]
["Dawson",22,91,"S",{"$f":"MIN(B1053*C1053/6,400)/(B1053/2)+(control!$B$4-MIN(B1053*C1053/6,400))/(B1053/8)","v":54.454545454545453},22]
["Dax",26,69,"S",{"$f":"MIN(B1054*C1054/6,400)/(B1054/2)+(control!$B$4-MIN(B1054*C1054/6,400))/(B1054/8)","v":54.07692307692308},26]
["Day by Day",19,104,"S",{"$f":"MIN(B1055*C1055/6,400)/(B1055/2)+(control!$B$4-MIN(B1055*C1055/6,400))/(B1055/8)","v":64.421052631578959},20]
["Day Trader",25,61,"M",{"$f":"MIN(B1056*C1056/6,400)/(B1056/2)+(control!$B$4-MIN(B1056*C1056/6,400))/(B1056/8)","v":67},25]
["Daybreak",20,76,"S",{"$f":"MIN(B1057*C1057/6,400)/(B1057/2)+(control!$B$4-MIN(B1057*C1057/6,400))/(B1057/8)","v":84},21]
["Days of Thunder",20,75,"M",{"$f":"MIN(B1058*C1058/6,400)/(B1058/2)+(control!$B$4-MIN(B1058*C1058/6,400))/(B1058/8)","v":85},20]
["Dayspring",24,86,"M",{"$f":"MIN(B1059*C1059/6,400)/(B1059/2)+(control!$B$4-MIN(B1059*C1059/6,400))/(B1059/8)","v":47.333333333333336},25]
["Daze",17,82,"S",{"$f":"MIN(B1060*C1060/6,400)/(B1060/2)+(control!$B$4-MIN(B1060*C1060/6,400))/(B1060/8)","v":106.23529411764704},18]
["Dazling Spirit",24,66,"S",{"$f":"MIN(B1061*C1061/6,400)/(B1061/2)+(control!$B$4-MIN(B1061*C1061/6,400))/(B1061/8)","v":67.333333333333343},28]
["Dazzle",19,82,"S",{"$f":"MIN(B1062*C1062/6,400)/(B1062/2)+(control!$B$4-MIN(B1062*C1062/6,400))/(B1062/8)","v":86.421052631578945},22]
["Dazzle'n'Daze",25,119,"S",{"$f":"MIN(B1063*C1063/6,400)/(B1063/2)+(control!$B$4-MIN(B1063*C1063/6,400))/(B1063/8)","v":32},28]
["Dazzler",23,120,"M",{"$f":"MIN(B1064*C1064/6,400)/(B1064/2)+(control!$B$4-MIN(B1064*C1064/6,400))/(B1064/8)","v":34.782608695652172},24]
["Deacon",17,103,"D",{"$f":"MIN(B1065*C1065/6,400)/(B1065/2)+(control!$B$4-MIN(B1065*C1065/6,400))/(B1065/8)","v":85.235294117647072},21]
["Deal Me In",15,92,"D",{"$f":"MIN(B1066*C1066/6,400)/(B1066/2)+(control!$B$4-MIN(B1066*C1066/6,400))/(B1066/8)","v":121.33333333333334},16]
["Deano",20,121,"S",{"$f":"MIN(B1067*C1067/6,400)/(B1067/2)+(control!$B$4-MIN(B1067*C1067/6,400))/(B1067/8)","v":40},22]
["Dear Abby",18,88,"S",{"$f":"MIN(B1068*C1068/6,400)/(B1068/2)+(control!$B$4-MIN(B1068*C1068/6,400))/(B1068/8)","v":89.777777777777771},22]
["Deck of Cards",25,120,"M",{"$f":"MIN(B1069*C1069/6,400)/(B1069/2)+(control!$B$4-MIN(B1069*C1069/6,400))/(B1069/8)","v":32},27]
["Decker",19,68,"S",{"$f":"MIN(B1070*C1070/6,400)/(B1070/2)+(control!$B$4-MIN(B1070*C1070/6,400))/(B1070/8)","v":100.42105263157895},22]
["Decoder",25,112,"S",{"$f":"MIN(B1071*C1071/6,400)/(B1071/2)+(control!$B$4-MIN(B1071*C1071/6,400))/(B1071/8)","v":32},29]
["Dee",20,78,"S",{"$f":"MIN(B1072*C1072/6,400)/(B1072/2)+(control!$B$4-MIN(B1072*C1072/6,400))/(B1072/8)","v":82},22]
["Dee Dee",17,104,"S",{"$f":"MIN(B1073*C1073/6,400)/(B1073/2)+(control!$B$4-MIN(B1073*C1073/6,400))/(B1073/8)","v":84.235294117647058},17]
["Deep Line",22,69,"S",{"$f":"MIN(B1074*C1074/6,400)/(B1074/2)+(control!$B$4-MIN(B1074*C1074/6,400))/(B1074/8)","v":76.454545454545453},22]
["Deep Pacific",26,72,"S",{"$f":"MIN(B1075*C1075/6,400)/(B1075/2)+(control!$B$4-MIN(B1075*C1075/6,400))/(B1075/8)","v":51.07692307692308},29]
["Déja Vue",17,102,"S",{"$f":"MIN(B1076*C1076/6,400)/(B1076/2)+(control!$B$4-MIN(B1076*C1076/6,400))/(B1076/8)","v":86.235294117647058},19]
["Delia",20,104,"D",{"$f":"MIN(B1077*C1077/6,400)/(B1077/2)+(control!$B$4-MIN(B1077*C1077/6,400))/(B1077/8)","v":56},24]
["Delilah",18,92,"D",{"$f":"MIN(B1078*C1078/6,400)/(B1078/2)+(control!$B$4-MIN(B1078*C1078/6,400))/(B1078/8)","v":85.777777777777786},22]
["Delphine",24,76,"S",{"$f":"MIN(B1079*C1079/6,400)/(B1079/2)+(control!$B$4-MIN(B1079*C1079/6,400))/(B1079/8)","v":57.333333333333329},27]
["Delta",15,115,"D",{"$f":"MIN(B1080*C1080/6,400)/(B1080/2)+(control!$B$4-MIN(B1080*C1080/6,400))/(B1080/8)","v":98.333333333333343},16]
["Demi",19,121,"D",{"$f":"MIN(B1081*C1081/6,400)/(B1081/2)+(control!$B$4-MIN(B1081*C1081/6,400))/(B1081/8)","v":47.421052631578945},23]
["Demiguise",22,94,"M",{"$f":"MIN(B1082*C1082/6,400)/(B1082/2)+(control!$B$4-MIN(B1082*C1082/6,400))/(B1082/8)","v":51.454545454545453},22]
["Denali,",15,87,"S",{"$f":"MIN(B1083*C1083/6,400)/(B1083/2)+(control!$B$4-MIN(B1083*C1083/6,400))/(B1083/8)","v":126.33333333333333},17]
["Denmark",22,67,"M",{"$f":"MIN(B1084*C1084/6,400)/(B1084/2)+(control!$B$4-MIN(B1084*C1084/6,400))/(B1084/8)","v":78.454545454545453},26]
["Denni",16,72,"S",{"$f":"MIN(B1085*C1085/6,400)/(B1085/2)+(control!$B$4-MIN(B1085*C1085/6,400))/(B1085/8)","v":128},16]
["Dennis",17,110,"D",{"$f":"MIN(B1086*C1086/6,400)/(B1086/2)+(control!$B$4-MIN(B1086*C1086/6,400))/(B1086/8)","v":78.235294117647058},21]
["Dennis the Menace",23,97,"S",{"$f":"MIN(B1087*C1087/6,400)/(B1087/2)+(control!$B$4-MIN(B1087*C1087/6,400))/(B1087/8)","v":42.130434782608695},24]
["Denver",19,75,"S",{"$f":"MIN(B1088*C1088/6,400)/(B1088/2)+(control!$B$4-MIN(B1088*C1088/6,400))/(B1088/8)","v":93.421052631578945},20]
["Dependable",15,82,"M",{"$f":"MIN(B1089*C1089/6,400)/(B1089/2)+(control!$B$4-MIN(B1089*C1089/6,400))/(B1089/8)","v":131.33333333333334},19]
["Depth Charge",21,100,"D",{"$f":"MIN(B1090*C1090/6,400)/(B1090/2)+(control!$B$4-MIN(B1090*C1090/6,400))/(B1090/8)","v":52.38095238095238},23]
["Deputy",19,75,"S",{"$f":"MIN(B1091*C1091/6,400)/(B1091/2)+(control!$B$4-MIN(B1091*C1091/6,400))/(B1091/8)","v":93.421052631578945},19]
["Derby",25,110,"M",{"$f":"MIN(B1092*C1092/6,400)/(B1092/2)+(control!$B$4-MIN(B1092*C1092/6,400))/(B1092/8)","v":32},25]
["Descaro",18,84,"S",{"$f":"MIN(B1093*C1093/6,400)/(B1093/2)+(control!$B$4-MIN(B1093*C1093/6,400))/(B1093/8)","v":93.777777777777771},21]
["Desert angel",15,85,"S",{"$f":"MIN(B1094*C1094/6,400)/(B1094/2)+(control!$B$4-MIN(B1094*C1094/6,400))/(B1094/8)","v":128.33333333333334},15]
["Desert King",19,81,"S",{"$f":"MIN(B1095*C1095/6,400)/(B1095/2)+(control!$B$4-MIN(B1095*C1095/6,400))/(B1095/8)","v":87.421052631578945},20]
["Desert Mirage",19,120,"D",{"$f":"MIN(B1096*C1096/6,400)/(B1096/2)+(control!$B$4-MIN(B1096*C1096/6,400))/(B1096/8)","v":48.421052631578945},21]
["Desert Rays",17,91,"M",{"$f":"MIN(B1097*C1097/6,400)/(B1097/2)+(control!$B$4-MIN(B1097*C1097/6,400))/(B1097/8)","v":97.235294117647058},19]
["Desert Sands",19,101,"D",{"$f":"MIN(B1098*C1098/6,400)/(B1098/2)+(control!$B$4-MIN(B1098*C1098/6,400))/(B1098/8)","v":67.421052631578959},19]
["Desert Storm",21,60,"S",{"$f":"MIN(B1099*C1099/6,400)/(B1099/2)+(control!$B$4-MIN(B1099*C1099/6,400))/(B1099/8)","v":92.38095238095238},22]
["Designated Prints",20,100,"D",{"$f":"MIN(B1100*C1100/6,400)/(B1100/2)+(control!$B$4-MIN(B1100*C1100/6,400))/(B1100/8)","v":60},24]
["Desirae",25,67,"M",{"$f":"MIN(B1101*C1101/6,400)/(B1101/2)+(control!$B$4-MIN(B1101*C1101/6,400))/(B1101/8)","v":60.999999999999993},27]
["Desire",18,101,"D",{"$f":"MIN(B1102*C1102/6,400)/(B1102/2)+(control!$B$4-MIN(B1102*C1102/6,400))/(B1102/8)","v":76.777777777777771},20]
["Destin To Dream",23,66,"M",{"$f":"MIN(B1103*C1103/6,400)/(B1103/2)+(control!$B$4-MIN(B1103*C1103/6,400))/(B1103/8)","v":73.130434782608688},27]
["Destination",24,77,"M",{"$f":"MIN(B1104*C1104/6,400)/(B1104/2)+(control!$B$4-MIN(B1104*C1104/6,400))/(B1104/8)","v":56.333333333333336},28]
["Destine To Be",19,103,"S",{"$f":"MIN(B1105*C1105/6,400)/(B1105/2)+(control!$B$4-MIN(B1105*C1105/6,400))/(B1105/8)","v":65.421052631578945},19]
["Destiny",20,86,"S",{"$f":"MIN(B1106*C1106/6,400)/(B1106/2)+(control!$B$4-MIN(B1106*C1106/6,400))/(B1106/8)","v":74},21]
["Deuce",15,120,"D",{"$f":"MIN(B1107*C1107/6,400)/(B1107/2)+(control!$B$4-MIN(B1107*C1107/6,400))/(B1107/8)","v":93.333333333333343},18]
["Devi",19,83,"M",{"$f":"MIN(B1108*C1108/6,400)/(B1108/2)+(control!$B$4-MIN(B1108*C1108/6,400))/(B1108/8)","v":85.421052631578959},22]
["Devil's Advocate",15,62,"S",{"$f":"MIN(B1109*C1109/6,400)/(B1109/2)+(control!$B$4-MIN(B1109*C1109/6,400))/(B1109/8)","v":151.33333333333331},16]
["Devil's Choas",23,111,"D",{"$f":"MIN(B1110*C1110/6,400)/(B1110/2)+(control!$B$4-MIN(B1110*C1110/6,400))/(B1110/8)","v":34.782608695652172},26]
["Devil's Fire",17,90,"S",{"$f":"MIN(B1111*C1111/6,400)/(B1111/2)+(control!$B$4-MIN(B1111*C1111/6,400))/(B1111/8)","v":98.235294117647058},18]
["Devil's Myth",22,80,"M",{"$f":"MIN(B1112*C1112/6,400)/(B1112/2)+(control!$B$4-MIN(B1112*C1112/6,400))/(B1112/8)","v":65.454545454545467},23]
["Devious",19,100,"D",{"$f":"MIN(B1113*C1113/6,400)/(B1113/2)+(control!$B$4-MIN(B1113*C1113/6,400))/(B1113/8)","v":68.421052631578945},19]
["Devon",18,78,"S",{"$f":"MIN(B1114*C1114/6,400)/(B1114/2)+(control!$B$4-MIN(B1114*C1114/6,400))/(B1114/8)","v":99.777777777777771},19]
["Dew Drop",19,83,"S",{"$f":"MIN(B1115*C1115/6,400)/(B1115/2)+(control!$B$4-MIN(B1115*C1115/6,400))/(B1115/8)","v":85.421052631578959},22]
["Dex",18,89,"S",{"$f":"MIN(B1116*C1116/6,400)/(B1116/2)+(control!$B$4-MIN(B1116*C1116/6,400))/(B1116/8)","v":88.777777777777786},20]
["Dexter",26,59,"S",{"$f":"MIN(B1117*C1117/6,400)/(B1117/2)+(control!$B$4-MIN(B1117*C1117/6,400))/(B1117/8)","v":64.07692307692308},29]
["Diablo",16,81,"S",{"$f":"MIN(B1118*C1118/6,400)/(B1118/2)+(control!$B$4-MIN(B1118*C1118/6,400))/(B1118/8)","v":119},19]
["Diago",20,69,"M",{"$f":"MIN(B1119*C1119/6,400)/(B1119/2)+(control!$B$4-MIN(B1119*C1119/6,400))/(B1119/8)","v":91},20]
["Dia'Mante",19,99,"D",{"$f":"MIN(B1120*C1120/6,400)/(B1120/2)+(control!$B$4-MIN(B1120*C1120/6,400))/(B1120/8)","v":69.421052631578945},23]
["Diamond",15,65,"M",{"$f":"MIN(B1121*C1121/6,400)/(B1121/2)+(control!$B$4-MIN(B1121*C1121/6,400))/(B1121/8)","v":148.33333333333334},18]
["Diamond Dancer",25,86,"S",{"$f":"MIN(B1122*C1122/6,400)/(B1122/2)+(control!$B$4-MIN(B1122*C1122/6,400))/(B1122/8)","v":42},28]
["Diamond Flame",19,89,"S",{"$f":"MIN(B1123*C1123/6,400)/(B1123/2)+(control!$B$4-MIN(B1123*C1123/6,400))/(B1123/8)","v":79.421052631578959},21]
["Diamond in the Rough",16,72,"S",{"$f":"MIN(B1124*C1124/6,400)/(B1124/2)+(control!$B$4-MIN(B1124*C1124/6,400))/(B1124/8)","v":128},20]
["Diamond In The Sky",23,89,"S",{"$f":"MIN(B1125*C1125/6,400)/(B1125/2)+(control!$B$4-MIN(B1125*C1125/6,400))/(B1125/8)","v":50.130434782608688},23]
["Diamond Rock",21,118,"M",{"$f":"MIN(B1126*C1126/6,400)/(B1126/2)+(control!$B$4-MIN(B1126*C1126/6,400))/(B1126/8)","v":38.095238095238095},21]
["Diamond Someday",19,81,"M",{"$f":"MIN(B1127*C1127/6,400)/(B1127/2)+(control!$B$4-MIN(B1127*C1127/6,400))/(B1127/8)","v":87.421052631578945},23]
["Diamond Star",22,62,"M",{"$f":"MIN(B1128*C1128/6,400)/(B1128/2)+(control!$B$4-MIN(B1128*C1128/6,400))/(B1128/8)","v":83.454545454545453},26]
["Diamonds 'R Us",20,101,"S",{"$f":"MIN(B1129*C1129/6,400)/(B1129/2)+(control!$B$4-MIN(B1129*C1129/6,400))/(B1129/8)","v":59},21]
["Diana",17,97,"D",{"$f":"MIN(B1130*C1130/6,400)/(B1130/2)+(control!$B$4-MIN(B1130*C1130/6,400))/(B1130/8)","v":91.235294117647072},21]
["Dibble",22,68,"S",{"$f":"MIN(B1131*C1131/6,400)/(B1131/2)+(control!$B$4-MIN(B1131*C1131/6,400))/(B1131/8)","v":77.454545454545453},25]
["Dibby",16,111,"D",{"$f":"MIN(B1132*C1132/6,400)/(B1132/2)+(control!$B$4-MIN(B1132*C1132/6,400))/(B1132/8)","v":89},19]
["Dick",22,69,"M",{"$f":"MIN(B1133*C1133/6,400)/(B1133/2)+(control!$B$4-MIN(B1133*C1133/6,400))/(B1133/8)","v":76.454545454545453},25]
["Diego",19,80,"S",{"$f":"MIN(B1134*C1134/6,400)/(B1134/2)+(control!$B$4-MIN(B1134*C1134/6,400))/(B1134/8)","v":88.421052631578945},22]
["Digby",19,62,"S",{"$f":"MIN(B1135*C1135/6,400)/(B1135/2)+(control!$B$4-MIN(B1135*C1135/6,400))/(B1135/8)","v":106.42105263157895},23]
["Digger",24,82,"S",{"$f":"MIN(B1136*C1136/6,400)/(B1136/2)+(control!$B$4-MIN(B1136*C1136/6,400))/(B1136/8)","v":51.333333333333329},25]
["Dillan",15,84,"S",{"$f":"MIN(B1137*C1137/6,400)/(B1137/2)+(control!$B$4-MIN(B1137*C1137/6,400))/(B1137/8)","v":129.33333333333331},16]
["Dilly",15,98,"M",{"$f":"MIN(B1138*C1138/6,400)/(B1138/2)+(control!$B$4-MIN(B1138*C1138/6,400))/(B1138/8)","v":115.33333333333334},19]
["DiMazio",25,63,"S",{"$f":"MIN(B1139*C1139/6,400)/(B1139/2)+(control!$B$4-MIN(B1139*C1139/6,400))/(B1139/8)","v":65},28]
["Dime a Dozen",15,89,"M",{"$f":"MIN(B1140*C1140/6,400)/(B1140/2)+(control!$B$4-MIN(B1140*C1140/6,400))/(B1140/8)","v":124.33333333333334},16]
["Dimple",22,93,"M",{"$f":"MIN(B1141*C1141/6,400)/(B1141/2)+(control!$B$4-MIN(B1141*C1141/6,400))/(B1141/8)","v":52.454545454545453},26]
["Dineena",21,119,"S",{"$f":"MIN(B1142*C1142/6,400)/(B1142/2)+(control!$B$4-MIN(B1142*C1142/6,400))/(B1142/8)","v":38.095238095238095},25]
["Dines",19,120,"D",{"$f":"MIN(B1143*C1143/6,400)/(B1143/2)+(control!$B$4-MIN(B1143*C1143/6,400))/(B1143/8)","v":48.421052631578945},21]
["Dinky",22,104,"D",{"$f":"MIN(B1144*C1144/6,400)/(B1144/2)+(control!$B$4-MIN(B1144*C1144/6,400))/(B1144/8)","v":41.45454545454546},24]
["Dipsy",20,83,"S",{"$f":"MIN(B1145*C1145/6,400)/(B1145/2)+(control!$B$4-MIN(B1145*C1145/6,400))/(B1145/8)","v":77},22]
["Dirrty",17,106,"S",{"$f":"MIN(B1146*C1146/6,400)/(B1146/2)+(control!$B$4-MIN(B1146*C1146/6,400))/(B1146/8)","v":82.235294117647072},21]
["Dirty Harry",21,109,"S",{"$f":"MIN(B1147*C1147/6,400)/(B1147/2)+(control!$B$4-MIN(B1147*C1147/6,400))/(B1147/8)","v":43.38095238095238},25]
["Disani",22,71,"M",{"$f":"MIN(B1148*C1148/6,400)/(B1148/2)+(control!$B$4-MIN(B1148*C1148/6,400))/(B1148/8)","v":74.454545454545467},24]
["Disco",17,99,"D",{"$f":"MIN(B1149*C1149/6,400)/(B1149/2)+(control!$B$4-MIN(B1149*C1149/6,400))/(B1149/8)","v":89.235294117647058},17]
["Disney Land",24,75,"M",{"$f":"MIN(B1150*C1150/6,400)/(B1150/2)+(control!$B$4-MIN(B1150*C1150/6,400))/(B1150/8)","v":58.333333333333336},28]
["Ditto",18,104,"M",{"$f":"MIN(B1151*C1151/6,400)/(B1151/2)+(control!$B$4-MIN(B1151*C1151/6,400))/(B1151/8)","v":73.777777777777771},19]
["Diva",21,86,"S",{"$f":"MIN(B1152*C1152/6,400)/(B1152/2)+(control!$B$4-MIN(B1152*C1152/6,400))/(B1152/8)","v":66.38095238095238},21]
["Diva By Blood",15,74,"S",{"$f":"MIN(B1153*C1153/6,400)/(B1153/2)+(control!$B$4-MIN(B1153*C1153/6,400))/(B1153/8)","v":139.33333333333334},18]
["Diva Dancer",22,83,"M",{"$f":"MIN(B1154*C1154/6,400)/(B1154/2)+(control!$B$4-MIN(B1154*C1154/6,400))/(B1154/8)","v":62.45454545454546},23]
["Dixie",24,75,"M",{"$f":"MIN(B1155*C1155/6,400)/(B1155/2)+(control!$B$4-MIN(B1155*C1155/6,400))/(B1155/8)","v":58.333333333333336},28]
["Dixie Chick",26,60,"S",{"$f":"MIN(B1156*C1156/6,400)/(B1156/2)+(control!$B$4-MIN(B1156*C1156/6,400))/(B1156/8)","v":63.07692307692308},27]
["Dixie Conclusion",21,116,"M",{"$f":"MIN(B1157*C1157/6,400)/(B1157/2)+(control!$B$4-MIN(B1157*C1157/6,400))/(B1157/8)","v":38.095238095238095},24]
["Dixie Delight",19,118,"D",{"$f":"MIN(B1158*C1158/6,400)/(B1158/2)+(control!$B$4-MIN(B1158*C1158/6,400))/(B1158/8)","v":50.421052631578945},19]
["Dixie Land Delight",15,81,"S",{"$f":"MIN(B1159*C1159/6,400)/(B1159/2)+(control!$B$4-MIN(B1159*C1159/6,400))/(B1159/8)","v":132.33333333333331},15]
["DJ",20,77,"S",{"$f":"MIN(B1160*C1160/6,400)/(B1160/2)+(control!$B$4-MIN(B1160*C1160/6,400))/(B1160/8)","v":83},20]
["Dobber",16,71,"S",{"$f":"MIN(B1161*C1161/6,400)/(B1161/2)+(control!$B$4-MIN(B1161*C1161/6,400))/(B1161/8)","v":129},20]
["Dobbin",20,75,"S",{"$f":"MIN(B1162*C1162/6,400)/(B1162/2)+(control!$B$4-MIN(B1162*C1162/6,400))/(B1162/8)","v":85},23]
["Doc",26,79,"S",{"$f":"MIN(B1163*C1163/6,400)/(B1163/2)+(control!$B$4-MIN(B1163*C1163/6,400))/(B1163/8)","v":44.07692307692308},29]
["Doc Holiday",20,117,"M",{"$f":"MIN(B1164*C1164/6,400)/(B1164/2)+(control!$B$4-MIN(B1164*C1164/6,400))/(B1164/8)","v":43},22]
["Dock a da Bay",19,117,"S",{"$f":"MIN(B1165*C1165/6,400)/(B1165/2)+(control!$B$4-MIN(B1165*C1165/6,400))/(B1165/8)","v":51.421052631578945},19]
["Docs Buck'n Baby",21,80,"S",{"$f":"MIN(B1166*C1166/6,400)/(B1166/2)+(control!$B$4-MIN(B1166*C1166/6,400))/(B1166/8)","v":72.38095238095238},23]
["Docs Rock",20,83,"S",{"$f":"MIN(B1167*C1167/6,400)/(B1167/2)+(control!$B$4-MIN(B1167*C1167/6,400))/(B1167/8)","v":77},21]
["Doctor Feelgood",18,100,"S",{"$f":"MIN(B1168*C1168/6,400)/(B1168/2)+(control!$B$4-MIN(B1168*C1168/6,400))/(B1168/8)","v":77.777777777777771},20]
["Doctor Johnny",20,75,"S",{"$f":"MIN(B1169*C1169/6,400)/(B1169/2)+(control!$B$4-MIN(B1169*C1169/6,400))/(B1169/8)","v":85},24]
["Doctor Tari",26,69,"M",{"$f":"MIN(B1170*C1170/6,400)/(B1170/2)+(control!$B$4-MIN(B1170*C1170/6,400))/(B1170/8)","v":54.07692307692308},28]
["Dog Bone",27,87,"S",{"$f":"MIN(B1171*C1171/6,400)/(B1171/2)+(control!$B$4-MIN(B1171*C1171/6,400))/(B1171/8)","v":31.518518518518519},30]
["Dolby",16,94,"M",{"$f":"MIN(B1172*C1172/6,400)/(B1172/2)+(control!$B$4-MIN(B1172*C1172/6,400))/(B1172/8)","v":106},20]
["Dollar",22,109,"S",{"$f":"MIN(B1173*C1173/6,400)/(B1173/2)+(control!$B$4-MIN(B1173*C1173/6,400))/(B1173/8)","v":36.454545454545453},24]
["Dolly",26,69,"S",{"$f":"MIN(B1174*C1174/6,400)/(B1174/2)+(control!$B$4-MIN(B1174*C1174/6,400))/(B1174/8)","v":54.07692307692308},29]
["Dolphin",27,122,"D",{"$f":"MIN(B1175*C1175/6,400)/(B1175/2)+(control!$B$4-MIN(B1175*C1175/6,400))/(B1175/8)","v":29.62962962962963},28]
["Domingo",21,76,"S",{"$f":"MIN(B1176*C1176/6,400)/(B1176/2)+(control!$B$4-MIN(B1176*C1176/6,400))/(B1176/8)","v":76.38095238095238},21]
["Dominion",23,121,"S",{"$f":"MIN(B1177*C1177/6,400)/(B1177/2)+(control!$B$4-MIN(B1177*C1177/6,400))/(B1177/8)","v":34.782608695652172},25]
["Domino",18,72,"S",{"$f":"MIN(B1178*C1178/6,400)/(B1178/2)+(control!$B$4-MIN(B1178*C1178/6,400))/(B1178/8)","v":105.77777777777777},19]
["Don Juan",21,97,"D",{"$f":"MIN(B1179*C1179/6,400)/(B1179/2)+(control!$B$4-MIN(B1179*C1179/6,400))/(B1179/8)","v":55.38095238095238},21]
["Donald",20,81,"M",{"$f":"MIN(B1180*C1180/6,400)/(B1180/2)+(control!$B$4-MIN(B1180*C1180/6,400))/(B1180/8)","v":79},24]
["Donatello",21,59,"S",{"$f":"MIN(B1181*C1181/6,400)/(B1181/2)+(control!$B$4-MIN(B1181*C1181/6,400))/(B1181/8)","v":93.38095238095238},25]
["Donner",24,81,"M",{"$f":"MIN(B1182*C1182/6,400)/(B1182/2)+(control!$B$4-MIN(B1182*C1182/6,400))/(B1182/8)","v":52.333333333333329},27]
["Don't Go",19,91,"S",{"$f":"MIN(B1183*C1183/6,400)/(B1183/2)+(control!$B$4-MIN(B1183*C1183/6,400))/(B1183/8)","v":77.421052631578945},23]
["Don't Know",18,75,"S",{"$f":"MIN(B1184*C1184/6,400)/(B1184/2)+(control!$B$4-MIN(B1184*C1184/6,400))/(B1184/8)","v":102.77777777777777},20]
["Dont Stop",19,84,"M",{"$f":"MIN(B1185*C1185/6,400)/(B1185/2)+(control!$B$4-MIN(B1185*C1185/6,400))/(B1185/8)","v":84.421052631578945},19]
["Donut",19,90,"M",{"$f":"MIN(B1186*C1186/6,400)/(B1186/2)+(control!$B$4-MIN(B1186*C1186/6,400))/(B1186/8)","v":78.421052631578945},21]
["Dooby",25,96,"D",{"$f":"MIN(B1187*C1187/6,400)/(B1187/2)+(control!$B$4-MIN(B1187*C1187/6,400))/(B1187/8)","v":32},25]
["Doodle-Bug",20,84,"S",{"$f":"MIN(B1188*C1188/6,400)/(B1188/2)+(control!$B$4-MIN(B1188*C1188/6,400))/(B1188/8)","v":76},22]
["Dopey",21,111,"S",{"$f":"MIN(B1189*C1189/6,400)/(B1189/2)+(control!$B$4-MIN(B1189*C1189/6,400))/(B1189/8)","v":41.38095238095238},22]
["Dora",17,103,"M",{"$f":"MIN(B1190*C1190/6,400)/(B1190/2)+(control!$B$4-MIN(B1190*C1190/6,400))/(B1190/8)","v":85.235294117647072},17]
["Doris",21,87,"M",{"$f":"MIN(B1191*C1191/6,400)/(B1191/2)+(control!$B$4-MIN(B1191*C1191/6,400))/(B1191/8)","v":65.38095238095238},24]
["Dorito",21,84,"S",{"$f":"MIN(B1192*C1192/6,400)/(B1192/2)+(control!$B$4-MIN(B1192*C1192/6,400))/(B1192/8)","v":68.38095238095238},25]
["Dorn",25,96,"M",{"$f":"MIN(B1193*C1193/6,400)/(B1193/2)+(control!$B$4-MIN(B1193*C1193/6,400))/(B1193/8)","v":32},28]
["Dorothy",19,69,"M",{"$f":"MIN(B1194*C1194/6,400)/(B1194/2)+(control!$B$4-MIN(B1194*C1194/6,400))/(B1194/8)","v":99.421052631578945},23]
["Dottso",16,69,"M",{"$f":"MIN(B1195*C1195/6,400)/(B1195/2)+(control!$B$4-MIN(B1195*C1195/6,400))/(B1195/8)","v":131},16]
["Double Delight",17,95,"S",{"$f":"MIN(B1196*C1196/6,400)/(B1196/2)+(control!$B$4-MIN(B1196*C1196/6,400))/(B1196/8)","v":93.235294117647058},19]
["Double Indemnity",20,71,"S",{"$f":"MIN(B1197*C1197/6,400)/(B1197/2)+(control!$B$4-MIN(B1197*C1197/6,400))/(B1197/8)","v":89},24]
["Double Trouble",19,90,"M",{"$f":"MIN(B1198*C1198/6,400)/(B1198/2)+(control!$B$4-MIN(B1198*C1198/6,400))/(B1198/8)","v":78.421052631578945},22]
["Dougal",22,83,"S",{"$f":"MIN(B1199*C1199/6,400)/(B1199/2)+(control!$B$4-MIN(B1199*C1199/6,400))/(B1199/8)","v":62.45454545454546},25]
["Douglas",20,68,"S",{"$f":"MIN(B1200*C1200/6,400)/(B1200/2)+(control!$B$4-MIN(B1200*C1200/6,400))/(B1200/8)","v":92},22]
["Doulton",19,100,"S",{"$f":"MIN(B1201*C1201/6,400)/(B1201/2)+(control!$B$4-MIN(B1201*C1201/6,400))/(B1201/8)","v":68.421052631578945},23]
["Dr. Pepper",15,74,"M",{"$f":"MIN(B1202*C1202/6,400)/(B1202/2)+(control!$B$4-MIN(B1202*C1202/6,400))/(B1202/8)","v":139.33333333333334},17]
["Dr.Jumpsalot",19,83,"M",{"$f":"MIN(B1203*C1203/6,400)/(B1203/2)+(control!$B$4-MIN(B1203*C1203/6,400))/(B1203/8)","v":85.421052631578959},19]
["Draco",22,89,"M",{"$f":"MIN(B1204*C1204/6,400)/(B1204/2)+(control!$B$4-MIN(B1204*C1204/6,400))/(B1204/8)","v":56.45454545454546},25]
["Draft",15,107,"D",{"$f":"MIN(B1205*C1205/6,400)/(B1205/2)+(control!$B$4-MIN(B1205*C1205/6,400))/(B1205/8)","v":106.33333333333334},15]
["Dragon",19,75,"M",{"$f":"MIN(B1206*C1206/6,400)/(B1206/2)+(control!$B$4-MIN(B1206*C1206/6,400))/(B1206/8)","v":93.421052631578945},23]
["Dragonfly",20,101,"M",{"$f":"MIN(B1207*C1207/6,400)/(B1207/2)+(control!$B$4-MIN(B1207*C1207/6,400))/(B1207/8)","v":59},22]
["Drakar",21,80,"S",{"$f":"MIN(B1208*C1208/6,400)/(B1208/2)+(control!$B$4-MIN(B1208*C1208/6,400))/(B1208/8)","v":72.38095238095238},25]
["Dream",18,91,"S",{"$f":"MIN(B1209*C1209/6,400)/(B1209/2)+(control!$B$4-MIN(B1209*C1209/6,400))/(B1209/8)","v":86.777777777777771},22]
["Dream Catcher",16,78,"M",{"$f":"MIN(B1210*C1210/6,400)/(B1210/2)+(control!$B$4-MIN(B1210*C1210/6,400))/(B1210/8)","v":122},18]
["Dream Come True",16,88,"M",{"$f":"MIN(B1211*C1211/6,400)/(B1211/2)+(control!$B$4-MIN(B1211*C1211/6,400))/(B1211/8)","v":112},17]
["Dream Of Mine",21,63,"S",{"$f":"MIN(B1212*C1212/6,400)/(B1212/2)+(control!$B$4-MIN(B1212*C1212/6,400))/(B1212/8)","v":89.38095238095238},25]
["Dream On",20,91,"S",{"$f":"MIN(B1213*C1213/6,400)/(B1213/2)+(control!$B$4-MIN(B1213*C1213/6,400))/(B1213/8)","v":69},20]
["Dream Size",19,81,"S",{"$f":"MIN(B1214*C1214/6,400)/(B1214/2)+(control!$B$4-MIN(B1214*C1214/6,400))/(B1214/8)","v":87.421052631578945},22]
["Dream Trail",21,80,"S",{"$f":"MIN(B1215*C1215/6,400)/(B1215/2)+(control!$B$4-MIN(B1215*C1215/6,400))/(B1215/8)","v":72.38095238095238},21]
["Dream Weaver",16,96,"D",{"$f":"MIN(B1216*C1216/6,400)/(B1216/2)+(control!$B$4-MIN(B1216*C1216/6,400))/(B1216/8)","v":104},18]
["Dreamer",18,91,"M",{"$f":"MIN(B1217*C1217/6,400)/(B1217/2)+(control!$B$4-MIN(B1217*C1217/6,400))/(B1217/8)","v":86.777777777777771},18]
["Dreamkeeper",17,79,"M",{"$f":"MIN(B1218*C1218/6,400)/(B1218/2)+(control!$B$4-MIN(B1218*C1218/6,400))/(B1218/8)","v":109.23529411764704},20]
["Dreams Of Silver",21,68,"M",{"$f":"MIN(B1219*C1219/6,400)/(B1219/2)+(control!$B$4-MIN(B1219*C1219/6,400))/(B1219/8)","v":84.38095238095238},23]
["Dreamy",17,106,"M",{"$f":"MIN(B1220*C1220/6,400)/(B1220/2)+(control!$B$4-MIN(B1220*C1220/6,400))/(B1220/8)","v":82.235294117647072},17]
["Dressage Diva",24,98,"S",{"$f":"MIN(B1221*C1221/6,400)/(B1221/2)+(control!$B$4-MIN(B1221*C1221/6,400))/(B1221/8)","v":35.333333333333329},28]
["Drift",22,90,"S",{"$f":"MIN(B1222*C1222/6,400)/(B1222/2)+(control!$B$4-MIN(B1222*C1222/6,400))/(B1222/8)","v":55.454545454545453},22]
["Drifter",22,59,"S",{"$f":"MIN(B1223*C1223/6,400)/(B1223/2)+(control!$B$4-MIN(B1223*C1223/6,400))/(B1223/8)","v":86.454545454545453},23]
["Driftwood Pacific",22,61,"M",{"$f":"MIN(B1224*C1224/6,400)/(B1224/2)+(control!$B$4-MIN(B1224*C1224/6,400))/(B1224/8)","v":84.454545454545453},25]
["Drop Dead Gorgeous",21,60,"S",{"$f":"MIN(B1225*C1225/6,400)/(B1225/2)+(control!$B$4-MIN(B1225*C1225/6,400))/(B1225/8)","v":92.38095238095238},21]
["Drove",25,116,"M",{"$f":"MIN(B1226*C1226/6,400)/(B1226/2)+(control!$B$4-MIN(B1226*C1226/6,400))/(B1226/8)","v":32},26]
["Druckster",26,77,"M",{"$f":"MIN(B1227*C1227/6,400)/(B1227/2)+(control!$B$4-MIN(B1227*C1227/6,400))/(B1227/8)","v":46.076923076923073},28]
["Drue",18,100,"D",{"$f":"MIN(B1228*C1228/6,400)/(B1228/2)+(control!$B$4-MIN(B1228*C1228/6,400))/(B1228/8)","v":77.777777777777771},20]
["Drum",17,68,"S",{"$f":"MIN(B1229*C1229/6,400)/(B1229/2)+(control!$B$4-MIN(B1229*C1229/6,400))/(B1229/8)","v":120.23529411764707},18]
["Drummer",15,100,"M",{"$f":"MIN(B1230*C1230/6,400)/(B1230/2)+(control!$B$4-MIN(B1230*C1230/6,400))/(B1230/8)","v":113.33333333333334},17]
["Dryad",17,100,"S",{"$f":"MIN(B1231*C1231/6,400)/(B1231/2)+(control!$B$4-MIN(B1231*C1231/6,400))/(B1231/8)","v":88.235294117647072},20]
["Duchess",23,90,"S",{"$f":"MIN(B1232*C1232/6,400)/(B1232/2)+(control!$B$4-MIN(B1232*C1232/6,400))/(B1232/8)","v":49.130434782608695},23]
["Dude",20,85,"S",{"$f":"MIN(B1233*C1233/6,400)/(B1233/2)+(control!$B$4-MIN(B1233*C1233/6,400))/(B1233/8)","v":75},21]
["Dudley",19,73,"S",{"$f":"MIN(B1234*C1234/6,400)/(B1234/2)+(control!$B$4-MIN(B1234*C1234/6,400))/(B1234/8)","v":95.421052631578945},19]
["Duke",19,83,"S",{"$f":"MIN(B1235*C1235/6,400)/(B1235/2)+(control!$B$4-MIN(B1235*C1235/6,400))/(B1235/8)","v":85.421052631578959},22]
["Dulcinea",16,72,"M",{"$f":"MIN(B1236*C1236/6,400)/(B1236/2)+(control!$B$4-MIN(B1236*C1236/6,400))/(B1236/8)","v":128},20]
["Dundee",16,90,"M",{"$f":"MIN(B1237*C1237/6,400)/(B1237/2)+(control!$B$4-MIN(B1237*C1237/6,400))/(B1237/8)","v":110},20]
["Dune",17,96,"S",{"$f":"MIN(B1238*C1238/6,400)/(B1238/2)+(control!$B$4-MIN(B1238*C1238/6,400))/(B1238/8)","v":92.235294117647058},20]
["Duo",20,96,"M",{"$f":"MIN(B1239*C1239/6,400)/(B1239/2)+(control!$B$4-MIN(B1239*C1239/6,400))/(B1239/8)","v":64},21]
["Durack",15,74,"S",{"$f":"MIN(B1240*C1240/6,400)/(B1240/2)+(control!$B$4-MIN(B1240*C1240/6,400))/(B1240/8)","v":139.33333333333334},16]
["Duran",22,91,"D",{"$f":"MIN(B1241*C1241/6,400)/(B1241/2)+(control!$B$4-MIN(B1241*C1241/6,400))/(B1241/8)","v":54.454545454545453},23]
["Durango",17,86,"S",{"$f":"MIN(B1242*C1242/6,400)/(B1242/2)+(control!$B$4-MIN(B1242*C1242/6,400))/(B1242/8)","v":102.23529411764707},17]
["Duranimo",22,101,"S",{"$f":"MIN(B1243*C1243/6,400)/(B1243/2)+(control!$B$4-MIN(B1243*C1243/6,400))/(B1243/8)","v":44.45454545454546},25]
["Duskany",19,106,"S",{"$f":"MIN(B1244*C1244/6,400)/(B1244/2)+(control!$B$4-MIN(B1244*C1244/6,400))/(B1244/8)","v":62.421052631578945},21]
["Dust Bunny",21,94,"S",{"$f":"MIN(B1245*C1245/6,400)/(B1245/2)+(control!$B$4-MIN(B1245*C1245/6,400))/(B1245/8)","v":58.38095238095238},23]
["Dustbuster",18,68,"M",{"$f":"MIN(B1246*C1246/6,400)/(B1246/2)+(control!$B$4-MIN(B1246*C1246/6,400))/(B1246/8)","v":109.77777777777779},20]
["Duster",22,69,"S",{"$f":"MIN(B1247*C1247/6,400)/(B1247/2)+(control!$B$4-MIN(B1247*C1247/6,400))/(B1247/8)","v":76.454545454545453},22]
["Dusty",23,99,"D",{"$f":"MIN(B1248*C1248/6,400)/(B1248/2)+(control!$B$4-MIN(B1248*C1248/6,400))/(B1248/8)","v":40.130434782608695},23]
["Dusty Cheyanne",19,107,"S",{"$f":"MIN(B1249*C1249/6,400)/(B1249/2)+(control!$B$4-MIN(B1249*C1249/6,400))/(B1249/8)","v":61.421052631578952},21]
["Dusty Duke",24,115,"M",{"$f":"MIN(B1250*C1250/6,400)/(B1250/2)+(control!$B$4-MIN(B1250*C1250/6,400))/(B1250/8)","v":33.333333333333336},28]
["Dusty Lady",21,78,"S",{"$f":"MIN(B1251*C1251/6,400)/(B1251/2)+(control!$B$4-MIN(B1251*C1251/6,400))/(B1251/8)","v":74.38095238095238},23]
["Dusty Moon",19,114,"M",{"$f":"MIN(B1252*C1252/6,400)/(B1252/2)+(control!$B$4-MIN(B1252*C1252/6,400))/(B1252/8)","v":54.421052631578945},22]
["Dusty Treasure",22,74,"M",{"$f":"MIN(B1253*C1253/6,400)/(B1253/2)+(control!$B$4-MIN(B1253*C1253/6,400))/(B1253/8)","v":71.454545454545467},23]
["Dutch",22,94,"S",{"$f":"MIN(B1254*C1254/6,400)/(B1254/2)+(control!$B$4-MIN(B1254*C1254/6,400))/(B1254/8)","v":51.454545454545453},25]
["Dutchess",26,65,"S",{"$f":"MIN(B1255*C1255/6,400)/(B1255/2)+(control!$B$4-MIN(B1255*C1255/6,400))/(B1255/8)","v":58.076923076923066},26]
["Dylan",27,68,"S",{"$f":"MIN(B1256*C1256/6,400)/(B1256/2)+(control!$B$4-MIN(B1256*C1256/6,400))/(B1256/8)","v":50.518518518518519},30]
["Dynamite",22,99,"D",{"$f":"MIN(B1257*C1257/6,400)/(B1257/2)+(control!$B$4-MIN(B1257*C1257/6,400))/(B1257/8)","v":46.454545454545453},26]
["Dynamite Jack",19,113,"S",{"$f":"MIN(B1258*C1258/6,400)/(B1258/2)+(control!$B$4-MIN(B1258*C1258/6,400))/(B1258/8)","v":55.421052631578952},21]
["E.Z. Rider",15,72,"S",{"$f":"MIN(B1259*C1259/6,400)/(B1259/2)+(control!$B$4-MIN(B1259*C1259/6,400))/(B1259/8)","v":141.33333333333331},18]
["Eagle",24,59,"S",{"$f":"MIN(B1260*C1260/6,400)/(B1260/2)+(control!$B$4-MIN(B1260*C1260/6,400))/(B1260/8)","v":74.333333333333329},24]
["Eagle Eye",18,65,"S",{"$f":"MIN(B1261*C1261/6,400)/(B1261/2)+(control!$B$4-MIN(B1261*C1261/6,400))/(B1261/8)","v":112.77777777777779},21]
["Eagle Spirit",19,79,"S",{"$f":"MIN(B1262*C1262/6,400)/(B1262/2)+(control!$B$4-MIN(B1262*C1262/6,400))/(B1262/8)","v":89.421052631578945},19]
["Ears",17,81,"S",{"$f":"MIN(B1263*C1263/6,400)/(B1263/2)+(control!$B$4-MIN(B1263*C1263/6,400))/(B1263/8)","v":107.23529411764706},20]
["Easy Girl",24,87,"S",{"$f":"MIN(B1264*C1264/6,400)/(B1264/2)+(control!$B$4-MIN(B1264*C1264/6,400))/(B1264/8)","v":46.333333333333329},27]
["Easy Street",21,94,"M",{"$f":"MIN(B1265*C1265/6,400)/(B1265/2)+(control!$B$4-MIN(B1265*C1265/6,400))/(B1265/8)","v":58.38095238095238},25]
["Eben",19,95,"S",{"$f":"MIN(B1266*C1266/6,400)/(B1266/2)+(control!$B$4-MIN(B1266*C1266/6,400))/(B1266/8)","v":73.421052631578959},19]
["Ebony",20,80,"M",{"$f":"MIN(B1267*C1267/6,400)/(B1267/2)+(control!$B$4-MIN(B1267*C1267/6,400))/(B1267/8)","v":80},23]
["Ebony Everthing",17,99,"S",{"$f":"MIN(B1268*C1268/6,400)/(B1268/2)+(control!$B$4-MIN(B1268*C1268/6,400))/(B1268/8)","v":89.235294117647058},18]
["Ebony Knight",18,121,"D",{"$f":"MIN(B1269*C1269/6,400)/(B1269/2)+(control!$B$4-MIN(B1269*C1269/6,400))/(B1269/8)","v":56.777777777777779},18]
["Ebony Princess",17,75,"S",{"$f":"MIN(B1270*C1270/6,400)/(B1270/2)+(control!$B$4-MIN(B1270*C1270/6,400))/(B1270/8)","v":113.23529411764706},21]
["Ebony Rose",19,84,"S",{"$f":"MIN(B1271*C1271/6,400)/(B1271/2)+(control!$B$4-MIN(B1271*C1271/6,400))/(B1271/8)","v":84.421052631578945},23]
["Echo",27,83,"S",{"$f":"MIN(B1272*C1272/6,400)/(B1272/2)+(control!$B$4-MIN(B1272*C1272/6,400))/(B1272/8)","v":35.518518518518519},31]
["Eclipse",17,68,"M",{"$f":"MIN(B1273*C1273/6,400)/(B1273/2)+(control!$B$4-MIN(B1273*C1273/6,400))/(B1273/8)","v":120.23529411764707},20]
["Eco",21,59,"S",{"$f":"MIN(B1274*C1274/6,400)/(B1274/2)+(control!$B$4-MIN(B1274*C1274/6,400))/(B1274/8)","v":93.38095238095238},25]
["Ed",15,97,"S",{"$f":"MIN(B1275*C1275/6,400)/(B1275/2)+(control!$B$4-MIN(B1275*C1275/6,400))/(B1275/8)","v":116.33333333333334},15]
["Edda",19,70,"S",{"$f":"MIN(B1276*C1276/6,400)/(B1276/2)+(control!$B$4-MIN(B1276*C1276/6,400))/(B1276/8)","v":98.421052631578945},20]
["Eddie",27,69,"S",{"$f":"MIN(B1277*C1277/6,400)/(B1277/2)+(control!$B$4-MIN(B1277*C1277/6,400))/(B1277/8)","v":49.518518518518519},28]
["Eddy",22,78,"S",{"$f":"MIN(B1278*C1278/6,400)/(B1278/2)+(control!$B$4-MIN(B1278*C1278/6,400))/(B1278/8)","v":67.454545454545453},23]
["Edelmann",20,95,"S",{"$f":"MIN(B1279*C1279/6,400)/(B1279/2)+(control!$B$4-MIN(B1279*C1279/6,400))/(B1279/8)","v":65},22]
["Edelweiss",27,80,"M",{"$f":"MIN(B1280*C1280/6,400)/(B1280/2)+(control!$B$4-MIN(B1280*C1280/6,400))/(B1280/8)","v":38.518518518518519},30]
["Edgar",19,98,"S",{"$f":"MIN(B1281*C1281/6,400)/(B1281/2)+(control!$B$4-MIN(B1281*C1281/6,400))/(B1281/8)","v":70.421052631578959},21]
["Edge",17,92,"S",{"$f":"MIN(B1282*C1282/6,400)/(B1282/2)+(control!$B$4-MIN(B1282*C1282/6,400))/(B1282/8)","v":96.235294117647058},21]
["Edgy",22,71,"S",{"$f":"MIN(B1283*C1283/6,400)/(B1283/2)+(control!$B$4-MIN(B1283*C1283/6,400))/(B1283/8)","v":74.454545454545467},23]
["Edna",16,96,"S",{"$f":"MIN(B1284*C1284/6,400)/(B1284/2)+(control!$B$4-MIN(B1284*C1284/6,400))/(B1284/8)","v":104},16]
["Edwin",26,92,"M",{"$f":"MIN(B1285*C1285/6,400)/(B1285/2)+(control!$B$4-MIN(B1285*C1285/6,400))/(B1285/8)","v":31.076923076923073},28]
["Egyption Wind",25,96,"M",{"$f":"MIN(B1286*C1286/6,400)/(B1286/2)+(control!$B$4-MIN(B1286*C1286/6,400))/(B1286/8)","v":32},28]
["El Dorado",18,106,"S",{"$f":"MIN(B1287*C1287/6,400)/(B1287/2)+(control!$B$4-MIN(B1287*C1287/6,400))/(B1287/8)","v":71.777777777777771},19]
["El Paso",20,111,"D",{"$f":"MIN(B1288*C1288/6,400)/(B1288/2)+(control!$B$4-MIN(B1288*C1288/6,400))/(B1288/8)","v":49},22]
["Eldorado",17,91,"D",{"$f":"MIN(B1289*C1289/6,400)/(B1289/2)+(control!$B$4-MIN(B1289*C1289/6,400))/(B1289/8)","v":97.235294117647058},18]
["Eleanore Rigby",17,96,"D",{"$f":"MIN(B1290*C1290/6,400)/(B1290/2)+(control!$B$4-MIN(B1290*C1290/6,400))/(B1290/8)","v":92.235294117647058},18]
["Elegance",20,107,"D",{"$f":"MIN(B1291*C1291/6,400)/(B1291/2)+(control!$B$4-MIN(B1291*C1291/6,400))/(B1291/8)","v":53},23]
["Elessar",17,84,"M",{"$f":"MIN(B1292*C1292/6,400)/(B1292/2)+(control!$B$4-MIN(B1292*C1292/6,400))/(B1292/8)","v":104.23529411764706},19]
["Eli",27,89,"S",{"$f":"MIN(B1293*C1293/6,400)/(B1293/2)+(control!$B$4-MIN(B1293*C1293/6,400))/(B1293/8)","v":29.62962962962963},27]
["Elijah",21,123,"M",{"$f":"MIN(B1294*C1294/6,400)/(B1294/2)+(control!$B$4-MIN(B1294*C1294/6,400))/(B1294/8)","v":38.095238095238095},23]
["Elipsis Blue",22,87,"S",{"$f":"MIN(B1295*C1295/6,400)/(B1295/2)+(control!$B$4-MIN(B1295*C1295/6,400))/(B1295/8)","v":58.454545454545453},26]
["Elita",21,79,"M",{"$f":"MIN(B1296*C1296/6,400)/(B1296/2)+(control!$B$4-MIN(B1296*C1296/6,400))/(B1296/8)","v":73.38095238095238},23]
["Elizabeth",23,121,"D",{"$f":"MIN(B1297*C1297/6,400)/(B1297/2)+(control!$B$4-MIN(B1297*C1297/6,400))/(B1297/8)","v":34.782608695652172},26]
["Ellen",27,82,"S",{"$f":"MIN(B1298*C1298/6,400)/(B1298/2)+(control!$B$4-MIN(B1298*C1298/6,400))/(B1298/8)","v":36.518518518518519},29]
["Ellie",15,73,"M",{"$f":"MIN(B1299*C1299/6,400)/(B1299/2)+(control!$B$4-MIN(B1299*C1299/6,400))/(B1299/8)","v":140.33333333333334},17]
["Elliot",18,77,"S",{"$f":"MIN(B1300*C1300/6,400)/(B1300/2)+(control!$B$4-MIN(B1300*C1300/6,400))/(B1300/8)","v":100.77777777777779},18]
["Elmo",15,77,"M",{"$f":"MIN(B1301*C1301/6,400)/(B1301/2)+(control!$B$4-MIN(B1301*C1301/6,400))/(B1301/8)","v":136.33333333333334},15]
["Eloquence",21,78,"M",{"$f":"MIN(B1302*C1302/6,400)/(B1302/2)+(control!$B$4-MIN(B1302*C1302/6,400))/(B1302/8)","v":74.38095238095238},25]
["Elusive",20,105,"S",{"$f":"MIN(B1303*C1303/6,400)/(B1303/2)+(control!$B$4-MIN(B1303*C1303/6,400))/(B1303/8)","v":55},21]
["Elusive Enchantment",15,85,"S",{"$f":"MIN(B1304*C1304/6,400)/(B1304/2)+(control!$B$4-MIN(B1304*C1304/6,400))/(B1304/8)","v":128.33333333333334},18]
["Elvis",20,64,"S",{"$f":"MIN(B1305*C1305/6,400)/(B1305/2)+(control!$B$4-MIN(B1305*C1305/6,400))/(B1305/8)","v":96},23]
["Ely",19,114,"D",{"$f":"MIN(B1306*C1306/6,400)/(B1306/2)+(control!$B$4-MIN(B1306*C1306/6,400))/(B1306/8)","v":54.421052631578945},21]
["Elzar",26,111,"D",{"$f":"MIN(B1307*C1307/6,400)/(B1307/2)+(control!$B$4-MIN(B1307*C1307/6,400))/(B1307/8)","v":30.76923076923077},29]
["Emanon",20,81,"S",{"$f":"MIN(B1308*C1308/6,400)/(B1308/2)+(control!$B$4-MIN(B1308*C1308/6,400))/(B1308/8)","v":79},24]
["Ember",27,97,"S",{"$f":"MIN(B1309*C1309/6,400)/(B1309/2)+(control!$B$4-MIN(B1309*C1309/6,400))/(B1309/8)","v":29.62962962962963},31]
["Embrace",24,84,"M",{"$f":"MIN(B1310*C1310/6,400)/(B1310/2)+(control!$B$4-MIN(B1310*C1310/6,400))/(B1310/8)","v":49.333333333333329},27]
["Emerald",23,110,"D",{"$f":"MIN(B1311*C1311/6,400)/(B1311/2)+(control!$B$4-MIN(B1311*C1311/6,400))/(B1311/8)","v":34.782608695652172},25]
["Emerald Fire",26,91,"M",{"$f":"MIN(B1312*C1312/6,400)/(B1312/2)+(control!$B$4-MIN(B1312*C1312/6,400))/(B1312/8)","v":32.07692307692308},30]
["Emily",22,123,"S",{"$f":"MIN(B1313*C1313/6,400)/(B1313/2)+(control!$B$4-MIN(B1313*C1313/6,400))/(B1313/8)","v":36.363636363636367},22]
["Emily Elizabeth",24,75,"S",{"$f":"MIN(B1314*C1314/6,400)/(B1314/2)+(control!$B$4-MIN(B1314*C1314/6,400))/(B1314/8)","v":58.333333333333336},28]
["Emma",17,69,"S",{"$f":"MIN(B1315*C1315/6,400)/(B1315/2)+(control!$B$4-MIN(B1315*C1315/6,400))/(B1315/8)","v":119.23529411764706},17]
["Emma Lee",26,85,"S",{"$f":"MIN(B1316*C1316/6,400)/(B1316/2)+(control!$B$4-MIN(B1316*C1316/6,400))/(B1316/8)","v":38.07692307692308},26]
["Emmet",22,104,"S",{"$f":"MIN(B1317*C1317/6,400)/(B1317/2)+(control!$B$4-MIN(B1317*C1317/6,400))/(B1317/8)","v":41.45454545454546},25]
["Emmy",18,93,"D",{"$f":"MIN(B1318*C1318/6,400)/(B1318/2)+(control!$B$4-MIN(B1318*C1318/6,400))/(B1318/8)","v":84.777777777777771},18]
["Empire",19,91,"D",{"$f":"MIN(B1319*C1319/6,400)/(B1319/2)+(control!$B$4-MIN(B1319*C1319/6,400))/(B1319/8)","v":77.421052631578945},21]
["Empire City",19,77,"S",{"$f":"MIN(B1320*C1320/6,400)/(B1320/2)+(control!$B$4-MIN(B1320*C1320/6,400))/(B1320/8)","v":91.421052631578945},20]
["Empress",21,80,"S",{"$f":"MIN(B1321*C1321/6,400)/(B1321/2)+(control!$B$4-MIN(B1321*C1321/6,400))/(B1321/8)","v":72.38095238095238},21]
["Enammored",24,87,"S",{"$f":"MIN(B1322*C1322/6,400)/(B1322/2)+(control!$B$4-MIN(B1322*C1322/6,400))/(B1322/8)","v":46.333333333333329},25]
["Enchanted",22,107,"S",{"$f":"MIN(B1323*C1323/6,400)/(B1323/2)+(control!$B$4-MIN(B1323*C1323/6,400))/(B1323/8)","v":38.45454545454546},24]
["Enchantress",27,84,"M",{"$f":"MIN(B1324*C1324/6,400)/(B1324/2)+(control!$B$4-MIN(B1324*C1324/6,400))/(B1324/8)","v":34.518518518518519},27]
["Encore",15,94,"S",{"$f":"MIN(B1325*C1325/6,400)/(B1325/2)+(control!$B$4-MIN(B1325*C1325/6,400))/(B1325/8)","v":119.33333333333333},19]
["Endless Possibilites",19,101,"M",{"$f":"MIN(B1326*C1326/6,400)/(B1326/2)+(control!$B$4-MIN(B1326*C1326/6,400))/(B1326/8)","v":67.421052631578959},21]
["Enigma",22,97,"S",{"$f":"MIN(B1327*C1327/6,400)/(B1327/2)+(control!$B$4-MIN(B1327*C1327/6,400))/(B1327/8)","v":48.454545454545453},23]
["Enter Prize",22,85,"S",{"$f":"MIN(B1328*C1328/6,400)/(B1328/2)+(control!$B$4-MIN(B1328*C1328/6,400))/(B1328/8)","v":60.454545454545453},24]
["Entrepreneur",24,101,"D",{"$f":"MIN(B1329*C1329/6,400)/(B1329/2)+(control!$B$4-MIN(B1329*C1329/6,400))/(B1329/8)","v":33.333333333333336},24]
["Epic",18,79,"M",{"$f":"MIN(B1330*C1330/6,400)/(B1330/2)+(control!$B$4-MIN(B1330*C1330/6,400))/(B1330/8)","v":98.777777777777771},20]
["Epona",22,95,"S",{"$f":"MIN(B1331*C1331/6,400)/(B1331/2)+(control!$B$4-MIN(B1331*C1331/6,400))/(B1331/8)","v":50.45454545454546},22]
["Equinox",22,69,"M",{"$f":"MIN(B1332*C1332/6,400)/(B1332/2)+(control!$B$4-MIN(B1332*C1332/6,400))/(B1332/8)","v":76.454545454545453},24]
["Eric",20,75,"M",{"$f":"MIN(B1333*C1333/6,400)/(B1333/2)+(control!$B$4-MIN(B1333*C1333/6,400))/(B1333/8)","v":85},22]
["Erik the red",20,68,"S",{"$f":"MIN(B1334*C1334/6,400)/(B1334/2)+(control!$B$4-MIN(B1334*C1334/6,400))/(B1334/8)","v":92},20]
["Erika",21,110,"S",{"$f":"MIN(B1335*C1335/6,400)/(B1335/2)+(control!$B$4-MIN(B1335*C1335/6,400))/(B1335/8)","v":42.38095238095238},23]
["Ernie",20,94,"S",{"$f":"MIN(B1336*C1336/6,400)/(B1336/2)+(control!$B$4-MIN(B1336*C1336/6,400))/(B1336/8)","v":66},21]
["Eros",27,74,"M",{"$f":"MIN(B1337*C1337/6,400)/(B1337/2)+(control!$B$4-MIN(B1337*C1337/6,400))/(B1337/8)","v":44.518518518518519},29]
["Erwin",19,97,"M",{"$f":"MIN(B1338*C1338/6,400)/(B1338/2)+(control!$B$4-MIN(B1338*C1338/6,400))/(B1338/8)","v":71.421052631578945},21]
["Esazia",21,85,"S",{"$f":"MIN(B1339*C1339/6,400)/(B1339/2)+(control!$B$4-MIN(B1339*C1339/6,400))/(B1339/8)","v":67.38095238095238},24]
["Esprit",20,109,"D",{"$f":"MIN(B1340*C1340/6,400)/(B1340/2)+(control!$B$4-MIN(B1340*C1340/6,400))/(B1340/8)","v":51},23]
["Esquivo",22,109,"M",{"$f":"MIN(B1341*C1341/6,400)/(B1341/2)+(control!$B$4-MIN(B1341*C1341/6,400))/(B1341/8)","v":36.454545454545453},24]
["Essen",23,97,"D",{"$f":"MIN(B1342*C1342/6,400)/(B1342/2)+(control!$B$4-MIN(B1342*C1342/6,400))/(B1342/8)","v":42.130434782608695},24]
["Esteem",20,108,"M",{"$f":"MIN(B1343*C1343/6,400)/(B1343/2)+(control!$B$4-MIN(B1343*C1343/6,400))/(B1343/8)","v":52},23]
["Etch",22,93,"S",{"$f":"MIN(B1344*C1344/6,400)/(B1344/2)+(control!$B$4-MIN(B1344*C1344/6,400))/(B1344/8)","v":52.454545454545453},23]
["Eternal Flame",19,116,"M",{"$f":"MIN(B1345*C1345/6,400)/(B1345/2)+(control!$B$4-MIN(B1345*C1345/6,400))/(B1345/8)","v":52.421052631578952},21]
["Eternal Inpiration",21,98,"D",{"$f":"MIN(B1346*C1346/6,400)/(B1346/2)+(control!$B$4-MIN(B1346*C1346/6,400))/(B1346/8)","v":54.38095238095238},24]
["Etta",18,123,"D",{"$f":"MIN(B1347*C1347/6,400)/(B1347/2)+(control!$B$4-MIN(B1347*C1347/6,400))/(B1347/8)","v":54.777777777777779},18]
["European Blend",26,98,"D",{"$f":"MIN(B1348*C1348/6,400)/(B1348/2)+(control!$B$4-MIN(B1348*C1348/6,400))/(B1348/8)","v":30.76923076923077},30]
["Evan",22,88,"S",{"$f":"MIN(B1349*C1349/6,400)/(B1349/2)+(control!$B$4-MIN(B1349*C1349/6,400))/(B1349/8)","v":57.454545454545453},25]
["Evening Mist",27,73,"S",{"$f":"MIN(B1350*C1350/6,400)/(B1350/2)+(control!$B$4-MIN(B1350*C1350/6,400))/(B1350/8)","v":45.518518518518519},31]
["Evening Shade",19,66,"S",{"$f":"MIN(B1351*C1351/6,400)/(B1351/2)+(control!$B$4-MIN(B1351*C1351/6,400))/(B1351/8)","v":102.42105263157895},19]
["Evening Star",21,83,"M",{"$f":"MIN(B1352*C1352/6,400)/(B1352/2)+(control!$B$4-MIN(B1352*C1352/6,400))/(B1352/8)","v":69.38095238095238},24]
["Ever After",25,78,"S",{"$f":"MIN(B1353*C1353/6,400)/(B1353/2)+(control!$B$4-MIN(B1353*C1353/6,400))/(B1353/8)","v":50},26]
["Ever Clear",24,87,"S",{"$f":"MIN(B1354*C1354/6,400)/(B1354/2)+(control!$B$4-MIN(B1354*C1354/6,400))/(B1354/8)","v":46.333333333333329},26]
["Ever So Clever",23,110,"D",{"$f":"MIN(B1355*C1355/6,400)/(B1355/2)+(control!$B$4-MIN(B1355*C1355/6,400))/(B1355/8)","v":34.782608695652172},25]
["Evergreen",27,91,"D",{"$f":"MIN(B1356*C1356/6,400)/(B1356/2)+(control!$B$4-MIN(B1356*C1356/6,400))/(B1356/8)","v":29.62962962962963},29]
["Everlast",16,62,"S",{"$f":"MIN(B1357*C1357/6,400)/(B1357/2)+(control!$B$4-MIN(B1357*C1357/6,400))/(B1357/8)","v":138},18]
["Everything Nice",15,111,"S",{"$f":"MIN(B1358*C1358/6,400)/(B1358/2)+(control!$B$4-MIN(B1358*C1358/6,400))/(B1358/8)","v":102.33333333333333},18]
["Evita",26,104,"S",{"$f":"MIN(B1359*C1359/6,400)/(B1359/2)+(control!$B$4-MIN(B1359*C1359/6,400))/(B1359/8)","v":30.76923076923077},28]
["Excalibur",21,93,"S",{"$f":"MIN(B1360*C1360/6,400)/(B1360/2)+(control!$B$4-MIN(B1360*C1360/6,400))/(B1360/8)","v":59.38095238095238},23]
["Exchange Rate",23,86,"M",{"$f":"MIN(B1361*C1361/6,400)/(B1361/2)+(control!$B$4-MIN(B1361*C1361/6,400))/(B1361/8)","v":53.130434782608688},26]
["Exclamation Kid",17,94,"M",{"$f":"MIN(B1362*C1362/6,400)/(B1362/2)+(control!$B$4-MIN(B1362*C1362/6,400))/(B1362/8)","v":94.235294117647072},18]
["Exclusions",22,85,"M",{"$f":"MIN(B1363*C1363/6,400)/(B1363/2)+(control!$B$4-MIN(B1363*C1363/6,400))/(B1363/8)","v":60.454545454545453},25]
["Expecting to Fly",25,117,"M",{"$f":"MIN(B1364*C1364/6,400)/(B1364/2)+(control!$B$4-MIN(B1364*C1364/6,400))/(B1364/8)","v":32},27]
["Explorer's Quest",21,89,"M",{"$f":"MIN(B1365*C1365/6,400)/(B1365/2)+(control!$B$4-MIN(B1365*C1365/6,400))/(B1365/8)","v":63.38095238095238},22]
["Expresso",25,115,"S",{"$f":"MIN(B1366*C1366/6,400)/(B1366/2)+(control!$B$4-MIN(B1366*C1366/6,400))/(B1366/8)","v":32},26]
["Extraordinary",17,99,"S",{"$f":"MIN(B1367*C1367/6,400)/(B1367/2)+(control!$B$4-MIN(B1367*C1367/6,400))/(B1367/8)","v":89.235294117647058},18]
["Eye of the Storm",24,66,"M",{"$f":"MIN(B1368*C1368/6,400)/(B1368/2)+(control!$B$4-MIN(B1368*C1368/6,400))/(B1368/8)","v":67.333333333333343},26]
["Fabio",24,70,"M",{"$f":"MIN(B1369*C1369/6,400)/(B1369/2)+(control!$B$4-MIN(B1369*C1369/6,400))/(B1369/8)","v":63.333333333333329},25]
["Fabiola",16,106,"S",{"$f":"MIN(B1370*C1370/6,400)/(B1370/2)+(control!$B$4-MIN(B1370*C1370/6,400))/(B1370/8)","v":94},19]
["Fair Maiden",27,123,"D",{"$f":"MIN(B1371*C1371/6,400)/(B1371/2)+(control!$B$4-MIN(B1371*C1371/6,400))/(B1371/8)","v":29.62962962962963},28]
["Fairy Glamor",21,99,"S",{"$f":"MIN(B1372*C1372/6,400)/(B1372/2)+(control!$B$4-MIN(B1372*C1372/6,400))/(B1372/8)","v":53.38095238095238},25]
["Faith",19,101,"S",{"$f":"MIN(B1373*C1373/6,400)/(B1373/2)+(control!$B$4-MIN(B1373*C1373/6,400))/(B1373/8)","v":67.421052631578959},19]
["Faithful",18,61,"M",{"$f":"MIN(B1374*C1374/6,400)/(B1374/2)+(control!$B$4-MIN(B1374*C1374/6,400))/(B1374/8)","v":116.77777777777777},21]
["Falcon",19,80,"S",{"$f":"MIN(B1375*C1375/6,400)/(B1375/2)+(control!$B$4-MIN(B1375*C1375/6,400))/(B1375/8)","v":88.421052631578945},21]
["Falcor",15,93,"S",{"$f":"MIN(B1376*C1376/6,400)/(B1376/2)+(control!$B$4-MIN(B1376*C1376/6,400))/(B1376/8)","v":120.33333333333333},17]
["Falla",19,73,"S",{"$f":"MIN(B1377*C1377/6,400)/(B1377/2)+(control!$B$4-MIN(B1377*C1377/6,400))/(B1377/8)","v":95.421052631578945},23]
["Fallacy",24,66,"M",{"$f":"MIN(B1378*C1378/6,400)/(B1378/2)+(control!$B$4-MIN(B1378*C1378/6,400))/(B1378/8)","v":67.333333333333343},26]
["Falling Leaves",17,90,"S",{"$f":"MIN(B1379*C1379/6,400)/(B1379/2)+(control!$B$4-MIN(B1379*C1379/6,400))/(B1379/8)","v":98.235294117647058},17]
["Fame & Fortune",27,116,"D",{"$f":"MIN(B1380*C1380/6,400)/(B1380/2)+(control!$B$4-MIN(B1380*C1380/6,400))/(B1380/8)","v":29.62962962962963},29]
["Fancy",26,116,"S",{"$f":"MIN(B1381*C1381/6,400)/(B1381/2)+(control!$B$4-MIN(B1381*C1381/6,400))/(B1381/8)","v":30.76923076923077},29]
["Fancy Mover",22,71,"M",{"$f":"MIN(B1382*C1382/6,400)/(B1382/2)+(control!$B$4-MIN(B1382*C1382/6,400))/(B1382/8)","v":74.454545454545467},22]
["Fancy Pants",17,93,"S",{"$f":"MIN(B1383*C1383/6,400)/(B1383/2)+(control!$B$4-MIN(B1383*C1383/6,400))/(B1383/8)","v":95.235294117647058},20]
["Fancy Widow Maker",19,91,"S",{"$f":"MIN(B1384*C1384/6,400)/(B1384/2)+(control!$B$4-MIN(B1384*C1384/6,400))/(B1384/8)","v":77.421052631578945},21]
["Fancyface",21,63,"S",{"$f":"MIN(B1385*C1385/6,400)/(B1385/2)+(control!$B$4-MIN(B1385*C1385/6,400))/(B1385/8)","v":89.38095238095238},22]
["Fandango",17,78,"S",{"$f":"MIN(B1386*C1386/6,400)/(B1386/2)+(control!$B$4-MIN(B1386*C1386/6,400))/(B1386/8)","v":110.23529411764706},19]
["Fantasia",22,90,"S",{"$f":"MIN(B1387*C1387/6,400)/(B1387/2)+(control!$B$4-MIN(B1387*C1387/6,400))/(B1387/8)","v":55.454545454545453},23]
["Fantasy",17,111,"M",{"$f":"MIN(B1388*C1388/6,400)/(B1388/2)+(control!$B$4-MIN(B1388*C1388/6,400))/(B1388/8)","v":77.235294117647058},18]
["Fantsi",18,74,"S",{"$f":"MIN(B1389*C1389/6,400)/(B1389/2)+(control!$B$4-MIN(B1389*C1389/6,400))/(B1389/8)","v":103.77777777777779},22]
["Fanul",20,123,"M",{"$f":"MIN(B1390*C1390/6,400)/(B1390/2)+(control!$B$4-MIN(B1390*C1390/6,400))/(B1390/8)","v":40},23]
["Fara",19,78,"S",{"$f":"MIN(B1391*C1391/6,400)/(B1391/2)+(control!$B$4-MIN(B1391*C1391/6,400))/(B1391/8)","v":90.421052631578945},21]
["Faraway Kingdom",27,73,"M",{"$f":"MIN(B1392*C1392/6,400)/(B1392/2)+(control!$B$4-MIN(B1392*C1392/6,400))/(B1392/8)","v":45.518518518518519},28]
["Farnley",19,94,"D",{"$f":"MIN(B1393*C1393/6,400)/(B1393/2)+(control!$B$4-MIN(B1393*C1393/6,400))/(B1393/8)","v":74.421052631578945},19]
["Faruq",21,80,"S",{"$f":"MIN(B1394*C1394/6,400)/(B1394/2)+(control!$B$4-MIN(B1394*C1394/6,400))/(B1394/8)","v":72.38095238095238},24]
["Faster than Light",21,111,"S",{"$f":"MIN(B1395*C1395/6,400)/(B1395/2)+(control!$B$4-MIN(B1395*C1395/6,400))/(B1395/8)","v":41.38095238095238},25]
["Fasterthanu",24,96,"S",{"$f":"MIN(B1396*C1396/6,400)/(B1396/2)+(control!$B$4-MIN(B1396*C1396/6,400))/(B1396/8)","v":37.333333333333336},27]
["Fat Boy Slim",19,89,"S",{"$f":"MIN(B1397*C1397/6,400)/(B1397/2)+(control!$B$4-MIN(B1397*C1397/6,400))/(B1397/8)","v":79.421052631578959},22]
["Fat Chance Cinnamon",18,105,"D",{"$f":"MIN(B1398*C1398/6,400)/(B1398/2)+(control!$B$4-MIN(B1398*C1398/6,400))/(B1398/8)","v":72.777777777777771},19]
["Fawny",21,99,"M",{"$f":"MIN(B1399*C1399/6,400)/(B1399/2)+(control!$B$4-MIN(B1399*C1399/6,400))/(B1399/8)","v":53.38095238095238},22]
["Fay",19,77,"S",{"$f":"MIN(B1400*C1400/6,400)/(B1400/2)+(control!$B$4-MIN(B1400*C1400/6,400))/(B1400/8)","v":91.421052631578945},21]
["Fearghus",18,119,"S",{"$f":"MIN(B1401*C1401/6,400)/(B1401/2)+(control!$B$4-MIN(B1401*C1401/6,400))/(B1401/8)","v":58.777777777777771},20]
["Fearless Flames",20,79,"S",{"$f":"MIN(B1402*C1402/6,400)/(B1402/2)+(control!$B$4-MIN(B1402*C1402/6,400))/(B1402/8)","v":81},24]
["Feather",24,102,"S",{"$f":"MIN(B1403*C1403/6,400)/(B1403/2)+(control!$B$4-MIN(B1403*C1403/6,400))/(B1403/8)","v":33.333333333333336},24]
["Feather Canyon",19,97,"S",{"$f":"MIN(B1404*C1404/6,400)/(B1404/2)+(control!$B$4-MIN(B1404*C1404/6,400))/(B1404/8)","v":71.421052631578945},21]
["Feather Trader",17,81,"M",{"$f":"MIN(B1405*C1405/6,400)/(B1405/2)+(control!$B$4-MIN(B1405*C1405/6,400))/(B1405/8)","v":107.23529411764706},19]
["Feature Presentation",25,123,"D",{"$f":"MIN(B1406*C1406/6,400)/(B1406/2)+(control!$B$4-MIN(B1406*C1406/6,400))/(B1406/8)","v":32},28]
["Fedora",15,67,"M",{"$f":"MIN(B1407*C1407/6,400)/(B1407/2)+(control!$B$4-MIN(B1407*C1407/6,400))/(B1407/8)","v":146.33333333333334},18]
["Feels like gold",23,82,"M",{"$f":"MIN(B1408*C1408/6,400)/(B1408/2)+(control!$B$4-MIN(B1408*C1408/6,400))/(B1408/8)","v":57.130434782608702},24]
["Felena",25,76,"M",{"$f":"MIN(B1409*C1409/6,400)/(B1409/2)+(control!$B$4-MIN(B1409*C1409/6,400))/(B1409/8)","v":52},28]
["Felicity",17,72,"S",{"$f":"MIN(B1410*C1410/6,400)/(B1410/2)+(control!$B$4-MIN(B1410*C1410/6,400))/(B1410/8)","v":116.23529411764706},20]
["Feline",24,76,"S",{"$f":"MIN(B1411*C1411/6,400)/(B1411/2)+(control!$B$4-MIN(B1411*C1411/6,400))/(B1411/8)","v":57.333333333333329},28]
["Felix",21,65,"S",{"$f":"MIN(B1412*C1412/6,400)/(B1412/2)+(control!$B$4-MIN(B1412*C1412/6,400))/(B1412/8)","v":87.38095238095238},21]
["Felta",19,73,"S",{"$f":"MIN(B1413*C1413/6,400)/(B1413/2)+(control!$B$4-MIN(B1413*C1413/6,400))/(B1413/8)","v":95.421052631578945},23]
["Fencer",18,98,"D",{"$f":"MIN(B1414*C1414/6,400)/(B1414/2)+(control!$B$4-MIN(B1414*C1414/6,400))/(B1414/8)","v":79.777777777777771},19]
["Fergie",18,115,"S",{"$f":"MIN(B1415*C1415/6,400)/(B1415/2)+(control!$B$4-MIN(B1415*C1415/6,400))/(B1415/8)","v":62.777777777777779},21]
["Fergus",19,113,"S",{"$f":"MIN(B1416*C1416/6,400)/(B1416/2)+(control!$B$4-MIN(B1416*C1416/6,400))/(B1416/8)","v":55.421052631578952},22]
["Fern",21,79,"S",{"$f":"MIN(B1417*C1417/6,400)/(B1417/2)+(control!$B$4-MIN(B1417*C1417/6,400))/(B1417/8)","v":73.38095238095238},25]
["Ferngully",24,68,"M",{"$f":"MIN(B1418*C1418/6,400)/(B1418/2)+(control!$B$4-MIN(B1418*C1418/6,400))/(B1418/8)","v":65.333333333333329},28]
["Ferris",20,87,"M",{"$f":"MIN(B1419*C1419/6,400)/(B1419/2)+(control!$B$4-MIN(B1419*C1419/6,400))/(B1419/8)","v":73},21]
["Festive",22,77,"S",{"$f":"MIN(B1420*C1420/6,400)/(B1420/2)+(control!$B$4-MIN(B1420*C1420/6,400))/(B1420/8)","v":68.454545454545467},26]
["Festus",22,101,"S",{"$f":"MIN(B1421*C1421/6,400)/(B1421/2)+(control!$B$4-MIN(B1421*C1421/6,400))/(B1421/8)","v":44.45454545454546},23]
["Feuer Engel",17,111,"M",{"$f":"MIN(B1422*C1422/6,400)/(B1422/2)+(control!$B$4-MIN(B1422*C1422/6,400))/(B1422/8)","v":77.235294117647058},19]
["Fiddle Dee-Dee",15,97,"D",{"$f":"MIN(B1423*C1423/6,400)/(B1423/2)+(control!$B$4-MIN(B1423*C1423/6,400))/(B1423/8)","v":116.33333333333334},17]
["Fidget",15,104,"D",{"$f":"MIN(B1424*C1424/6,400)/(B1424/2)+(control!$B$4-MIN(B1424*C1424/6,400))/(B1424/8)","v":109.33333333333334},16]
["Fidler",19,92,"S",{"$f":"MIN(B1425*C1425/6,400)/(B1425/2)+(control!$B$4-MIN(B1425*C1425/6,400))/(B1425/8)","v":76.421052631578959},23]
["Fiesta",21,104,"S",{"$f":"MIN(B1426*C1426/6,400)/(B1426/2)+(control!$B$4-MIN(B1426*C1426/6,400))/(B1426/8)","v":48.38095238095238},24]
["Fight For Flash",16,84,"M",{"$f":"MIN(B1427*C1427/6,400)/(B1427/2)+(control!$B$4-MIN(B1427*C1427/6,400))/(B1427/8)","v":116},19]
["Figure Eight",19,83,"M",{"$f":"MIN(B1428*C1428/6,400)/(B1428/2)+(control!$B$4-MIN(B1428*C1428/6,400))/(B1428/8)","v":85.421052631578959},20]
["Filly",18,101,"S",{"$f":"MIN(B1429*C1429/6,400)/(B1429/2)+(control!$B$4-MIN(B1429*C1429/6,400))/(B1429/8)","v":76.777777777777771},21]
["Final Destination",27,84,"S",{"$f":"MIN(B1430*C1430/6,400)/(B1430/2)+(control!$B$4-MIN(B1430*C1430/6,400))/(B1430/8)","v":34.518518518518519},28]
["Final Episode",18,67,"M",{"$f":"MIN(B1431*C1431/6,400)/(B1431/2)+(control!$B$4-MIN(B1431*C1431/6,400))/(B1431/8)","v":110.77777777777777},20]
["Final Fantasy",24,82,"S",{"$f":"MIN(B1432*C1432/6,400)/(B1432/2)+(control!$B$4-MIN(B1432*C1432/6,400))/(B1432/8)","v":51.333333333333329},26]
["Finders Keepers",19,81,"M",{"$f":"MIN(B1433*C1433/6,400)/(B1433/2)+(control!$B$4-MIN(B1433*C1433/6,400))/(B1433/8)","v":87.421052631578945},22]
["Fine Design",20,112,"S",{"$f":"MIN(B1434*C1434/6,400)/(B1434/2)+(control!$B$4-MIN(B1434*C1434/6,400))/(B1434/8)","v":48},23]
["Fine 'n' Dandy",24,59,"S",{"$f":"MIN(B1435*C1435/6,400)/(B1435/2)+(control!$B$4-MIN(B1435*C1435/6,400))/(B1435/8)","v":74.333333333333329},24]
["Fine Tune",23,74,"M",{"$f":"MIN(B1436*C1436/6,400)/(B1436/2)+(control!$B$4-MIN(B1436*C1436/6,400))/(B1436/8)","v":65.130434782608688},24]
["Finnigan",23,74,"S",{"$f":"MIN(B1437*C1437/6,400)/(B1437/2)+(control!$B$4-MIN(B1437*C1437/6,400))/(B1437/8)","v":65.130434782608688},23]
["Fiona",19,120,"D",{"$f":"MIN(B1438*C1438/6,400)/(B1438/2)+(control!$B$4-MIN(B1438*C1438/6,400))/(B1438/8)","v":48.421052631578945},22]
["Fire",20,90,"S",{"$f":"MIN(B1439*C1439/6,400)/(B1439/2)+(control!$B$4-MIN(B1439*C1439/6,400))/(B1439/8)","v":70},23]
["Fire Ball",25,97,"S",{"$f":"MIN(B1440*C1440/6,400)/(B1440/2)+(control!$B$4-MIN(B1440*C1440/6,400))/(B1440/8)","v":32},26]
["Fire Balls",25,109,"D",{"$f":"MIN(B1441*C1441/6,400)/(B1441/2)+(control!$B$4-MIN(B1441*C1441/6,400))/(B1441/8)","v":32},27]
["Fire Foot",15,77,"S",{"$f":"MIN(B1442*C1442/6,400)/(B1442/2)+(control!$B$4-MIN(B1442*C1442/6,400))/(B1442/8)","v":136.33333333333334},16]
["Firebolt",18,115,"S",{"$f":"MIN(B1443*C1443/6,400)/(B1443/2)+(control!$B$4-MIN(B1443*C1443/6,400))/(B1443/8)","v":62.777777777777779},22]
["Firecracker",24,97,"S",{"$f":"MIN(B1444*C1444/6,400)/(B1444/2)+(control!$B$4-MIN(B1444*C1444/6,400))/(B1444/8)","v":36.333333333333336},28]
["Firefly",19,112,"D",{"$f":"MIN(B1445*C1445/6,400)/(B1445/2)+(control!$B$4-MIN(B1445*C1445/6,400))/(B1445/8)","v":56.421052631578945},23]
["Firenze",26,76,"S",{"$f":"MIN(B1446*C1446/6,400)/(B1446/2)+(control!$B$4-MIN(B1446*C1446/6,400))/(B1446/8)","v":47.07692307692308},30]
["Firey Devil",22,101,"S",{"$f":"MIN(B1447*C1447/6,400)/(B1447/2)+(control!$B$4-MIN(B1447*C1447/6,400))/(B1447/8)","v":44.45454545454546},24]
["First Class",17,76,"M",{"$f":"MIN(B1448*C1448/6,400)/(B1448/2)+(control!$B$4-MIN(B1448*C1448/6,400))/(B1448/8)","v":112.23529411764704},18]
["First Night",21,77,"M",{"$f":"MIN(B1449*C1449/6,400)/(B1449/2)+(control!$B$4-MIN(B1449*C1449/6,400))/(B1449/8)","v":75.38095238095238},21]
["First Rose",24,74,"S",{"$f":"MIN(B1450*C1450/6,400)/(B1450/2)+(control!$B$4-MIN(B1450*C1450/6,400))/(B1450/8)","v":59.333333333333329},27]
["First-Rate",17,72,"S",{"$f":"MIN(B1451*C1451/6,400)/(B1451/2)+(control!$B$4-MIN(B1451*C1451/6,400))/(B1451/8)","v":116.23529411764706},19]
["Fitz",16,68,"S",{"$f":"MIN(B1452*C1452/6,400)/(B1452/2)+(control!$B$4-MIN(B1452*C1452/6,400))/(B1452/8)","v":132},18]
["Five-Star",21,89,"S",{"$f":"MIN(B1453*C1453/6,400)/(B1453/2)+(control!$B$4-MIN(B1453*C1453/6,400))/(B1453/8)","v":63.38095238095238},21]
["Five-to-get-ready",19,99,"D",{"$f":"MIN(B1454*C1454/6,400)/(B1454/2)+(control!$B$4-MIN(B1454*C1454/6,400))/(B1454/8)","v":69.421052631578945},23]
["Fixious",16,65,"S",{"$f":"MIN(B1455*C1455/6,400)/(B1455/2)+(control!$B$4-MIN(B1455*C1455/6,400))/(B1455/8)","v":135},16]
["Fizz",25,67,"S",{"$f":"MIN(B1456*C1456/6,400)/(B1456/2)+(control!$B$4-MIN(B1456*C1456/6,400))/(B1456/8)","v":60.999999999999993},27]
["Flag",22,118,"M",{"$f":"MIN(B1457*C1457/6,400)/(B1457/2)+(control!$B$4-MIN(B1457*C1457/6,400))/(B1457/8)","v":36.363636363636367},22]
["Flagrant Delit",25,89,"S",{"$f":"MIN(B1458*C1458/6,400)/(B1458/2)+(control!$B$4-MIN(B1458*C1458/6,400))/(B1458/8)","v":39},27]
["Flamboyant Mistress",21,118,"S",{"$f":"MIN(B1459*C1459/6,400)/(B1459/2)+(control!$B$4-MIN(B1459*C1459/6,400))/(B1459/8)","v":38.095238095238095},23]
["Flame",24,67,"M",{"$f":"MIN(B1460*C1460/6,400)/(B1460/2)+(control!$B$4-MIN(B1460*C1460/6,400))/(B1460/8)","v":66.333333333333329},26]
["Flames",17,104,"M",{"$f":"MIN(B1461*C1461/6,400)/(B1461/2)+(control!$B$4-MIN(B1461*C1461/6,400))/(B1461/8)","v":84.235294117647058},21]
["Flaming Ace",22,68,"S",{"$f":"MIN(B1462*C1462/6,400)/(B1462/2)+(control!$B$4-MIN(B1462*C1462/6,400))/(B1462/8)","v":77.454545454545453},25]
["Flaming Glory",18,85,"S",{"$f":"MIN(B1463*C1463/6,400)/(B1463/2)+(control!$B$4-MIN(B1463*C1463/6,400))/(B1463/8)","v":92.777777777777771},18]
["Flaming Heart",20,75,"S",{"$f":"MIN(B1464*C1464/6,400)/(B1464/2)+(control!$B$4-MIN(B1464*C1464/6,400))/(B1464/8)","v":85},23]
["Flare",21,107,"S",{"$f":"MIN(B1465*C1465/6,400)/(B1465/2)+(control!$B$4-MIN(B1465*C1465/6,400))/(B1465/8)","v":45.38095238095238},21]
["Flare Extraordinaire",24,82,"M",{"$f":"MIN(B1466*C1466/6,400)/(B1466/2)+(control!$B$4-MIN(B1466*C1466/6,400))/(B1466/8)","v":51.333333333333329},24]
["Flash",20,87,"M",{"$f":"MIN(B1467*C1467/6,400)/(B1467/2)+(control!$B$4-MIN(B1467*C1467/6,400))/(B1467/8)","v":73},22]
["Flash By",21,92,"D",{"$f":"MIN(B1468*C1468/6,400)/(B1468/2)+(control!$B$4-MIN(B1468*C1468/6,400))/(B1468/8)","v":60.38095238095238},24]
["Flash in the Sky",18,104,"M",{"$f":"MIN(B1469*C1469/6,400)/(B1469/2)+(control!$B$4-MIN(B1469*C1469/6,400))/(B1469/8)","v":73.777777777777771},20]
["Flash of Light",19,89,"M",{"$f":"MIN(B1470*C1470/6,400)/(B1470/2)+(control!$B$4-MIN(B1470*C1470/6,400))/(B1470/8)","v":79.421052631578959},23]
["Flashdance",17,86,"S",{"$f":"MIN(B1471*C1471/6,400)/(B1471/2)+(control!$B$4-MIN(B1471*C1471/6,400))/(B1471/8)","v":102.23529411764707},20]
["Fleck of gold",23,86,"S",{"$f":"MIN(B1472*C1472/6,400)/(B1472/2)+(control!$B$4-MIN(B1472*C1472/6,400))/(B1472/8)","v":53.130434782608688},25]
["Fleet",21,103,"M",{"$f":"MIN(B1473*C1473/6,400)/(B1473/2)+(control!$B$4-MIN(B1473*C1473/6,400))/(B1473/8)","v":49.38095238095238},24]
["Fleet Goddess",18,79,"S",{"$f":"MIN(B1474*C1474/6,400)/(B1474/2)+(control!$B$4-MIN(B1474*C1474/6,400))/(B1474/8)","v":98.777777777777771},20]
["Fleet Street",22,93,"S",{"$f":"MIN(B1475*C1475/6,400)/(B1475/2)+(control!$B$4-MIN(B1475*C1475/6,400))/(B1475/8)","v":52.454545454545453},25]
["Flicka",22,97,"S",{"$f":"MIN(B1476*C1476/6,400)/(B1476/2)+(control!$B$4-MIN(B1476*C1476/6,400))/(B1476/8)","v":48.454545454545453},26]
["Flicker",22,113,"D",{"$f":"MIN(B1477*C1477/6,400)/(B1477/2)+(control!$B$4-MIN(B1477*C1477/6,400))/(B1477/8)","v":36.363636363636367},25]
["Flight Leader",26,73,"M",{"$f":"MIN(B1478*C1478/6,400)/(B1478/2)+(control!$B$4-MIN(B1478*C1478/6,400))/(B1478/8)","v":50.07692307692308},28]
["Flint",17,122,"M",{"$f":"MIN(B1479*C1479/6,400)/(B1479/2)+(control!$B$4-MIN(B1479*C1479/6,400))/(B1479/8)","v":66.235294117647058},17]
["Flipper",17,68,"M",{"$f":"MIN(B1480*C1480/6,400)/(B1480/2)+(control!$B$4-MIN(B1480*C1480/6,400))/(B1480/8)","v":120.23529411764707},18]
["Fliss",21,88,"S",{"$f":"MIN(B1481*C1481/6,400)/(B1481/2)+(control!$B$4-MIN(B1481*C1481/6,400))/(B1481/8)","v":64.38095238095238},21]
["Flopsy",27,70,"M",{"$f":"MIN(B1482*C1482/6,400)/(B1482/2)+(control!$B$4-MIN(B1482*C1482/6,400))/(B1482/8)","v":48.518518518518519},29]
["Florence",19,85,"S",{"$f":"MIN(B1483*C1483/6,400)/(B1483/2)+(control!$B$4-MIN(B1483*C1483/6,400))/(B1483/8)","v":83.421052631578945},23]
["Flower",19,90,"S",{"$f":"MIN(B1484*C1484/6,400)/(B1484/2)+(control!$B$4-MIN(B1484*C1484/6,400))/(B1484/8)","v":78.421052631578945},21]
["Floyd",21,95,"M",{"$f":"MIN(B1485*C1485/6,400)/(B1485/2)+(control!$B$4-MIN(B1485*C1485/6,400))/(B1485/8)","v":57.38095238095238},21]
["Flurry",25,60,"S",{"$f":"MIN(B1486*C1486/6,400)/(B1486/2)+(control!$B$4-MIN(B1486*C1486/6,400))/(B1486/8)","v":68},29]
["Fly Away",25,96,"D",{"$f":"MIN(B1487*C1487/6,400)/(B1487/2)+(control!$B$4-MIN(B1487*C1487/6,400))/(B1487/8)","v":32},26]
["Fly Me To The Moon",22,97,"S",{"$f":"MIN(B1488*C1488/6,400)/(B1488/2)+(control!$B$4-MIN(B1488*C1488/6,400))/(B1488/8)","v":48.454545454545453},22]
["Fly o Free",20,77,"S",{"$f":"MIN(B1489*C1489/6,400)/(B1489/2)+(control!$B$4-MIN(B1489*C1489/6,400))/(B1489/8)","v":83},22]
["Fly-By-Me",15,64,"S",{"$f":"MIN(B1490*C1490/6,400)/(B1490/2)+(control!$B$4-MIN(B1490*C1490/6,400))/(B1490/8)","v":149.33333333333334},18]
["Flyer",21,93,"S",{"$f":"MIN(B1491*C1491/6,400)/(B1491/2)+(control!$B$4-MIN(B1491*C1491/6,400))/(B1491/8)","v":59.38095238095238},21]
["Flyers Wing",19,90,"S",{"$f":"MIN(B1492*C1492/6,400)/(B1492/2)+(control!$B$4-MIN(B1492*C1492/6,400))/(B1492/8)","v":78.421052631578945},20]
["Flying Beauty",25,117,"M",{"$f":"MIN(B1493*C1493/6,400)/(B1493/2)+(control!$B$4-MIN(B1493*C1493/6,400))/(B1493/8)","v":32},25]
["Flying Colours",21,63,"M",{"$f":"MIN(B1494*C1494/6,400)/(B1494/2)+(control!$B$4-MIN(B1494*C1494/6,400))/(B1494/8)","v":89.38095238095238},24]
["Flying Expectations",19,112,"D",{"$f":"MIN(B1495*C1495/6,400)/(B1495/2)+(control!$B$4-MIN(B1495*C1495/6,400))/(B1495/8)","v":56.421052631578945},21]
["Flying Sparkels",20,90,"S",{"$f":"MIN(B1496*C1496/6,400)/(B1496/2)+(control!$B$4-MIN(B1496*C1496/6,400))/(B1496/8)","v":70},23]
["Flying Trapeze",19,82,"S",{"$f":"MIN(B1497*C1497/6,400)/(B1497/2)+(control!$B$4-MIN(B1497*C1497/6,400))/(B1497/8)","v":86.421052631578945},20]
["Flyte",20,70,"S",{"$f":"MIN(B1498*C1498/6,400)/(B1498/2)+(control!$B$4-MIN(B1498*C1498/6,400))/(B1498/8)","v":90},20]
["Folly",23,76,"M",{"$f":"MIN(B1499*C1499/6,400)/(B1499/2)+(control!$B$4-MIN(B1499*C1499/6,400))/(B1499/8)","v":63.130434782608702},27]
["Fonzie",27,91,"D",{"$f":"MIN(B1500*C1500/6,400)/(B1500/2)+(control!$B$4-MIN(B1500*C1500/6,400))/(B1500/8)","v":29.62962962962963},27]
["Footloose",27,66,"S",{"$f":"MIN(B1501*C1501/6,400)/(B1501/2)+(control!$B$4-MIN(B1501*C1501/6,400))/(B1501/8)","v":52.518518518518519},30]
["Footsie",18,63,"M",{"$f":"MIN(B1502*C1502/6,400)/(B1502/2)+(control!$B$4-MIN(B1502*C1502/6,400))/(B1502/8)","v":114.77777777777777},21]
["Foreign Affair",26,122,"D",{"$f":"MIN(B1503*C1503/6,400)/(B1503/2)+(control!$B$4-MIN(B1503*C1503/6,400))/(B1503/8)","v":30.76923076923077},29]
["Forest",17,90,"S",{"$f":"MIN(B1504*C1504/6,400)/(B1504/2)+(control!$B$4-MIN(B1504*C1504/6,400))/(B1504/8)","v":98.235294117647058},21]
["Forest Gump",19,75,"S",{"$f":"MIN(B1505*C1505/6,400)/(B1505/2)+(control!$B$4-MIN(B1505*C1505/6,400))/(B1505/8)","v":93.421052631578945},20]
["Forest Runner",22,78,"S",{"$f":"MIN(B1506*C1506/6,400)/(B1506/2)+(control!$B$4-MIN(B1506*C1506/6,400))/(B1506/8)","v":67.454545454545453},26]
["Forever Runner",22,101,"D",{"$f":"MIN(B1507*C1507/6,400)/(B1507/2)+(control!$B$4-MIN(B1507*C1507/6,400))/(B1507/8)","v":44.45454545454546},23]
["Forever Bliss",23,102,"S",{"$f":"MIN(B1508*C1508/6,400)/(B1508/2)+(control!$B$4-MIN(B1508*C1508/6,400))/(B1508/8)","v":37.130434782608695},27]
["Forte",24,70,"M",{"$f":"MIN(B1509*C1509/6,400)/(B1509/2)+(control!$B$4-MIN(B1509*C1509/6,400))/(B1509/8)","v":63.333333333333329},28]
["Fortunate",24,68,"M",{"$f":"MIN(B1510*C1510/6,400)/(B1510/2)+(control!$B$4-MIN(B1510*C1510/6,400))/(B1510/8)","v":65.333333333333329},24]
["Fortune Cookie",27,60,"S",{"$f":"MIN(B1511*C1511/6,400)/(B1511/2)+(control!$B$4-MIN(B1511*C1511/6,400))/(B1511/8)","v":58.518518518518519},30]
["Forty-four",26,75,"S",{"$f":"MIN(B1512*C1512/6,400)/(B1512/2)+(control!$B$4-MIN(B1512*C1512/6,400))/(B1512/8)","v":48.07692307692308},30]
["Foudre Rouge",20,121,"D",{"$f":"MIN(B1513*C1513/6,400)/(B1513/2)+(control!$B$4-MIN(B1513*C1513/6,400))/(B1513/8)","v":40},24]
["Four Leaf Clover",24,116,"S",{"$f":"MIN(B1514*C1514/6,400)/(B1514/2)+(control!$B$4-MIN(B1514*C1514/6,400))/(B1514/8)","v":33.333333333333336},25]
["Fox",22,89,"S",{"$f":"MIN(B1515*C1515/6,400)/(B1515/2)+(control!$B$4-MIN(B1515*C1515/6,400))/(B1515/8)","v":56.45454545454546},26]
["Fox Fire",15,66,"S",{"$f":"MIN(B1516*C1516/6,400)/(B1516/2)+(control!$B$4-MIN(B1516*C1516/6,400))/(B1516/8)","v":147.33333333333331},17]
["Fox Trot",20,63,"S",{"$f":"MIN(B1517*C1517/6,400)/(B1517/2)+(control!$B$4-MIN(B1517*C1517/6,400))/(B1517/8)","v":97},22]
["Foxtail",20,98,"D",{"$f":"MIN(B1518*C1518/6,400)/(B1518/2)+(control!$B$4-MIN(B1518*C1518/6,400))/(B1518/8)","v":62},23]
["Foxtrot",15,97,"S",{"$f":"MIN(B1519*C1519/6,400)/(B1519/2)+(control!$B$4-MIN(B1519*C1519/6,400))/(B1519/8)","v":116.33333333333334},19]
["Foxy",21,95,"D",{"$f":"MIN(B1520*C1520/6,400)/(B1520/2)+(control!$B$4-MIN(B1520*C1520/6,400))/(B1520/8)","v":57.38095238095238},22]
["Foxy Lady",25,63,"S",{"$f":"MIN(B1521*C1521/6,400)/(B1521/2)+(control!$B$4-MIN(B1521*C1521/6,400))/(B1521/8)","v":65},27]
["Frankie",17,72,"S",{"$f":"MIN(B1522*C1522/6,400)/(B1522/2)+(control!$B$4-MIN(B1522*C1522/6,400))/(B1522/8)","v":116.23529411764706},19]
["Franklin",20,75,"S",{"$f":"MIN(B1523*C1523/6,400)/(B1523/2)+(control!$B$4-MIN(B1523*C1523/6,400))/(B1523/8)","v":85},21]
["Freak",20,80,"S",{"$f":"MIN(B1524*C1524/6,400)/(B1524/2)+(control!$B$4-MIN(B1524*C1524/6,400))/(B1524/8)","v":80},23]
["Freaker",17,109,"S",{"$f":"MIN(B1525*C1525/6,400)/(B1525/2)+(control!$B$4-MIN(B1525*C1525/6,400))/(B1525/8)","v":79.235294117647072},17]
["Freckled Warrior",23,96,"D",{"$f":"MIN(B1526*C1526/6,400)/(B1526/2)+(control!$B$4-MIN(B1526*C1526/6,400))/(B1526/8)","v":43.130434782608695},23]
["Freckles",23,118,"M",{"$f":"MIN(B1527*C1527/6,400)/(B1527/2)+(control!$B$4-MIN(B1527*C1527/6,400))/(B1527/8)","v":34.782608695652172},26]
["Fred",15,89,"M",{"$f":"MIN(B1528*C1528/6,400)/(B1528/2)+(control!$B$4-MIN(B1528*C1528/6,400))/(B1528/8)","v":124.33333333333334},17]
["Freddie",20,75,"S",{"$f":"MIN(B1529*C1529/6,400)/(B1529/2)+(control!$B$4-MIN(B1529*C1529/6,400))/(B1529/8)","v":85},24]
["Freddy",26,69,"S",{"$f":"MIN(B1530*C1530/6,400)/(B1530/2)+(control!$B$4-MIN(B1530*C1530/6,400))/(B1530/8)","v":54.07692307692308},27]
["Free Verse",16,121,"M",{"$f":"MIN(B1531*C1531/6,400)/(B1531/2)+(control!$B$4-MIN(B1531*C1531/6,400))/(B1531/8)","v":79},20]
["Freedom",19,106,"M",{"$f":"MIN(B1532*C1532/6,400)/(B1532/2)+(control!$B$4-MIN(B1532*C1532/6,400))/(B1532/8)","v":62.421052631578945},23]
["Freedom's Call",18,95,"S",{"$f":"MIN(B1533*C1533/6,400)/(B1533/2)+(control!$B$4-MIN(B1533*C1533/6,400))/(B1533/8)","v":82.777777777777786},18]
["Freedoms Fire",26,95,"S",{"$f":"MIN(B1534*C1534/6,400)/(B1534/2)+(control!$B$4-MIN(B1534*C1534/6,400))/(B1534/8)","v":30.76923076923077},30]
["Freedoms Flame",23,76,"M",{"$f":"MIN(B1535*C1535/6,400)/(B1535/2)+(control!$B$4-MIN(B1535*C1535/6,400))/(B1535/8)","v":63.130434782608702},23]
["Freesia",22,76,"S",{"$f":"MIN(B1536*C1536/6,400)/(B1536/2)+(control!$B$4-MIN(B1536*C1536/6,400))/(B1536/8)","v":69.454545454545453},26]
["FreeZee",26,95,"D",{"$f":"MIN(B1537*C1537/6,400)/(B1537/2)+(control!$B$4-MIN(B1537*C1537/6,400))/(B1537/8)","v":30.76923076923077},30]
["Fresco",20,100,"D",{"$f":"MIN(B1538*C1538/6,400)/(B1538/2)+(control!$B$4-MIN(B1538*C1538/6,400))/(B1538/8)","v":60},24]
["Fressa",24,101,"M",{"$f":"MIN(B1539*C1539/6,400)/(B1539/2)+(control!$B$4-MIN(B1539*C1539/6,400))/(B1539/8)","v":33.333333333333336},24]
["Frezette",17,102,"S",{"$f":"MIN(B1540*C1540/6,400)/(B1540/2)+(control!$B$4-MIN(B1540*C1540/6,400))/(B1540/8)","v":86.235294117647058},17]
["Friday",25,100,"M",{"$f":"MIN(B1541*C1541/6,400)/(B1541/2)+(control!$B$4-MIN(B1541*C1541/6,400))/(B1541/8)","v":32},28]
["Frilly",24,101,"M",{"$f":"MIN(B1542*C1542/6,400)/(B1542/2)+(control!$B$4-MIN(B1542*C1542/6,400))/(B1542/8)","v":33.333333333333336},28]
["Frima",15,92,"D",{"$f":"MIN(B1543*C1543/6,400)/(B1543/2)+(control!$B$4-MIN(B1543*C1543/6,400))/(B1543/8)","v":121.33333333333334},15]
["Frimousse",26,61,"S",{"$f":"MIN(B1544*C1544/6,400)/(B1544/2)+(control!$B$4-MIN(B1544*C1544/6,400))/(B1544/8)","v":62.07692307692308},26]
["Frisco",24,62,"M",{"$f":"MIN(B1545*C1545/6,400)/(B1545/2)+(control!$B$4-MIN(B1545*C1545/6,400))/(B1545/8)","v":71.333333333333329},24]
["Frisky Whiskey",19,60,"S",{"$f":"MIN(B1546*C1546/6,400)/(B1546/2)+(control!$B$4-MIN(B1546*C1546/6,400))/(B1546/8)","v":108.42105263157895},20]
["Frith",22,123,"S",{"$f":"MIN(B1547*C1547/6,400)/(B1547/2)+(control!$B$4-MIN(B1547*C1547/6,400))/(B1547/8)","v":36.363636363636367},26]
["Frizzy-Liz",16,76,"S",{"$f":"MIN(B1548*C1548/6,400)/(B1548/2)+(control!$B$4-MIN(B1548*C1548/6,400))/(B1548/8)","v":124},19]
["Frodo",19,90,"M",{"$f":"MIN(B1549*C1549/6,400)/(B1549/2)+(control!$B$4-MIN(B1549*C1549/6,400))/(B1549/8)","v":78.421052631578945},21]
["Frolic",17,101,"M",{"$f":"MIN(B1550*C1550/6,400)/(B1550/2)+(control!$B$4-MIN(B1550*C1550/6,400))/(B1550/8)","v":87.235294117647058},19]
["Frosted",25,73,"S",{"$f":"MIN(B1551*C1551/6,400)/(B1551/2)+(control!$B$4-MIN(B1551*C1551/6,400))/(B1551/8)","v":55},25]
["Frosty",18,63,"S",{"$f":"MIN(B1552*C1552/6,400)/(B1552/2)+(control!$B$4-MIN(B1552*C1552/6,400))/(B1552/8)","v":114.77777777777777},21]
["FrostyJumper",22,91,"M",{"$f":"MIN(B1553*C1553/6,400)/(B1553/2)+(control!$B$4-MIN(B1553*C1553/6,400))/(B1553/8)","v":54.454545454545453},24]
["FrostyKing",26,71,"S",{"$f":"MIN(B1554*C1554/6,400)/(B1554/2)+(control!$B$4-MIN(B1554*C1554/6,400))/(B1554/8)","v":52.076923076923073},27]
["Frozen Motion",15,87,"S",{"$f":"MIN(B1555*C1555/6,400)/(B1555/2)+(control!$B$4-MIN(B1555*C1555/6,400))/(B1555/8)","v":126.33333333333333},15]
["Fudge",21,91,"D",{"$f":"MIN(B1556*C1556/6,400)/(B1556/2)+(control!$B$4-MIN(B1556*C1556/6,400))/(B1556/8)","v":61.38095238095238},24]
["Fuerte",19,107,"D",{"$f":"MIN(B1557*C1557/6,400)/(B1557/2)+(control!$B$4-MIN(B1557*C1557/6,400))/(B1557/8)","v":61.421052631578952},22]
["Furiette",22,100,"D",{"$f":"MIN(B1558*C1558/6,400)/(B1558/2)+(control!$B$4-MIN(B1558*C1558/6,400))/(B1558/8)","v":45.454545454545453},23]
["Fury",18,76,"M",{"$f":"MIN(B1559*C1559/6,400)/(B1559/2)+(control!$B$4-MIN(B1559*C1559/6,400))/(B1559/8)","v":101.77777777777777},22]
["Fuzzy",22,59,"S",{"$f":"MIN(B1560*C1560/6,400)/(B1560/2)+(control!$B$4-MIN(B1560*C1560/6,400))/(B1560/8)","v":86.454545454545453},26]
["G.B.F.(girls best friend)",15,105,"M",{"$f":"MIN(B1561*C1561/6,400)/(B1561/2)+(control!$B$4-MIN(B1561*C1561/6,400))/(B1561/8)","v":108.33333333333333},18]
["Gabriel",24,110,"M",{"$f":"MIN(B1562*C1562/6,400)/(B1562/2)+(control!$B$4-MIN(B1562*C1562/6,400))/(B1562/8)","v":33.333333333333336},24]
["Gadget",17,59,"S",{"$f":"MIN(B1563*C1563/6,400)/(B1563/2)+(control!$B$4-MIN(B1563*C1563/6,400))/(B1563/8)","v":129.23529411764707},19]
["Gage",22,82,"S",{"$f":"MIN(B1564*C1564/6,400)/(B1564/2)+(control!$B$4-MIN(B1564*C1564/6,400))/(B1564/8)","v":63.454545454545453},25]
["Gaia",17,92,"D",{"$f":"MIN(B1565*C1565/6,400)/(B1565/2)+(control!$B$4-MIN(B1565*C1565/6,400))/(B1565/8)","v":96.235294117647058},20]
["Gaiety",19,66,"S",{"$f":"MIN(B1566*C1566/6,400)/(B1566/2)+(control!$B$4-MIN(B1566*C1566/6,400))/(B1566/8)","v":102.42105263157895},22]
["Galactic Power",19,115,"D",{"$f":"MIN(B1567*C1567/6,400)/(B1567/2)+(control!$B$4-MIN(B1567*C1567/6,400))/(B1567/8)","v":53.421052631578945},22]
["Galadrial",17,96,"D",{"$f":"MIN(B1568*C1568/6,400)/(B1568/2)+(control!$B$4-MIN(B1568*C1568/6,400))/(B1568/8)","v":92.235294117647058},19]
["Galadrielle",22,101,"D",{"$f":"MIN(B1569*C1569/6,400)/(B1569/2)+(control!$B$4-MIN(B1569*C1569/6,400))/(B1569/8)","v":44.45454545454546},23]
["Galaxy",24,97,"D",{"$f":"MIN(B1570*C1570/6,400)/(B1570/2)+(control!$B$4-MIN(B1570*C1570/6,400))/(B1570/8)","v":36.333333333333336},27]
["Galaxy Girl",21,66,"M",{"$f":"MIN(B1571*C1571/6,400)/(B1571/2)+(control!$B$4-MIN(B1571*C1571/6,400))/(B1571/8)","v":86.38095238095238},21]
["Galaxy Quest",26,87,"S",{"$f":"MIN(B1572*C1572/6,400)/(B1572/2)+(control!$B$4-MIN(B1572*C1572/6,400))/(B1572/8)","v":36.07692307692308},27]
["Galino",26,82,"M",{"$f":"MIN(B1573*C1573/6,400)/(B1573/2)+(control!$B$4-MIN(B1573*C1573/6,400))/(B1573/8)","v":41.07692307692308},28]
["Galistic",21,92,"S",{"$f":"MIN(B1574*C1574/6,400)/(B1574/2)+(control!$B$4-MIN(B1574*C1574/6,400))/(B1574/8)","v":60.38095238095238},24]
["Gallagher",18,91,"M",{"$f":"MIN(B1575*C1575/6,400)/(B1575/2)+(control!$B$4-MIN(B1575*C1575/6,400))/(B1575/8)","v":86.777777777777771},21]
["Gallamist",22,87,"M",{"$f":"MIN(B1576*C1576/6,400)/(B1576/2)+(control!$B$4-MIN(B1576*C1576/6,400))/(B1576/8)","v":58.454545454545453},24]
["Gallant Lad",22,76,"S",{"$f":"MIN(B1577*C1577/6,400)/(B1577/2)+(control!$B$4-MIN(B1577*C1577/6,400))/(B1577/8)","v":69.454545454545453},22]
["Gallena",22,108,"S",{"$f":"MIN(B1578*C1578/6,400)/(B1578/2)+(control!$B$4-MIN(B1578*C1578/6,400))/(B1578/8)","v":37.454545454545453},25]
["Galloping Joy",15,81,"S",{"$f":"MIN(B1579*C1579/6,400)/(B1579/2)+(control!$B$4-MIN(B1579*C1579/6,400))/(B1579/8)","v":132.33333333333331},18]
["Gambit",25,67,"S",{"$f":"MIN(B1580*C1580/6,400)/(B1580/2)+(control!$B$4-MIN(B1580*C1580/6,400))/(B1580/8)","v":60.999999999999993},29]
["Gambit Springs",26,72,"M",{"$f":"MIN(B1581*C1581/6,400)/(B1581/2)+(control!$B$4-MIN(B1581*C1581/6,400))/(B1581/8)","v":51.07692307692308},26]
["Gameboy",22,107,"D",{"$f":"MIN(B1582*C1582/6,400)/(B1582/2)+(control!$B$4-MIN(B1582*C1582/6,400))/(B1582/8)","v":38.45454545454546},24]
["Gameel",17,90,"M",{"$f":"MIN(B1583*C1583/6,400)/(B1583/2)+(control!$B$4-MIN(B1583*C1583/6,400))/(B1583/8)","v":98.235294117647058},19]
["Gamin",24,106,"M",{"$f":"MIN(B1584*C1584/6,400)/(B1584/2)+(control!$B$4-MIN(B1584*C1584/6,400))/(B1584/8)","v":33.333333333333336},27]
["Gandolf",22,103,"S",{"$f":"MIN(B1585*C1585/6,400)/(B1585/2)+(control!$B$4-MIN(B1585*C1585/6,400))/(B1585/8)","v":42.454545454545453},26]
["Ganette",15,92,"M",{"$f":"MIN(B1586*C1586/6,400)/(B1586/2)+(control!$B$4-MIN(B1586*C1586/6,400))/(B1586/8)","v":121.33333333333334},16]
["Garnet",23,95,"S",{"$f":"MIN(B1587*C1587/6,400)/(B1587/2)+(control!$B$4-MIN(B1587*C1587/6,400))/(B1587/8)","v":44.130434782608688},27]
["Garris",19,61,"M",{"$f":"MIN(B1588*C1588/6,400)/(B1588/2)+(control!$B$4-MIN(B1588*C1588/6,400))/(B1588/8)","v":107.42105263157895},19]
["Gator",17,74,"M",{"$f":"MIN(B1589*C1589/6,400)/(B1589/2)+(control!$B$4-MIN(B1589*C1589/6,400))/(B1589/8)","v":114.23529411764707},21]
["Gatsby",15,76,"S",{"$f":"MIN(B1590*C1590/6,400)/(B1590/2)+(control!$B$4-MIN(B1590*C1590/6,400))/(B1590/8)","v":137.33333333333334},16]
["Gaucho",20,62,"S",{"$f":"MIN(B1591*C1591/6,400)/(B1591/2)+(control!$B$4-MIN(B1591*C1591/6,400))/(B1591/8)","v":98},21]
["Gayle",27,105,"S",{"$f":"MIN(B1592*C1592/6,400)/(B1592/2)+(control!$B$4-MIN(B1592*C1592/6,400))/(B1592/8)","v":29.62962962962963},28]
["Gazelle",23,85,"S",{"$f":"MIN(B1593*C1593/6,400)/(B1593/2)+(control!$B$4-MIN(B1593*C1593/6,400))/(B1593/8)","v":54.130434782608702},26]
["Geisha",22,60,"S",{"$f":"MIN(B1594*C1594/6,400)/(B1594/2)+(control!$B$4-MIN(B1594*C1594/6,400))/(B1594/8)","v":85.454545454545453},25]
["Gel Beri",19,107,"D",{"$f":"MIN(B1595*C1595/6,400)/(B1595/2)+(control!$B$4-MIN(B1595*C1595/6,400))/(B1595/8)","v":61.421052631578952},20]
["Gem",26,93,"M",{"$f":"MIN(B1596*C1596/6,400)/(B1596/2)+(control!$B$4-MIN(B1596*C1596/6,400))/(B1596/8)","v":30.76923076923077},30]
["Gem",20,73,"S",{"$f":"MIN(B1597*C1597/6,400)/(B1597/2)+(control!$B$4-MIN(B1597*C1597/6,400))/(B1597/8)","v":87},21]
["Gemini",24,81,"S",{"$f":"MIN(B1598*C1598/6,400)/(B1598/2)+(control!$B$4-MIN(B1598*C1598/6,400))/(B1598/8)","v":52.333333333333329},26]
["Gemma",22,95,"D",{"$f":"MIN(B1599*C1599/6,400)/(B1599/2)+(control!$B$4-MIN(B1599*C1599/6,400))/(B1599/8)","v":50.45454545454546},24]
["General",16,62,"S",{"$f":"MIN(B1600*C1600/6,400)/(B1600/2)+(control!$B$4-MIN(B1600*C1600/6,400))/(B1600/8)","v":138},19]
["General Comrade",25,88,"M",{"$f":"MIN(B1601*C1601/6,400)/(B1601/2)+(control!$B$4-MIN(B1601*C1601/6,400))/(B1601/8)","v":40},29]
["Geneviève",17,86,"S",{"$f":"MIN(B1602*C1602/6,400)/(B1602/2)+(control!$B$4-MIN(B1602*C1602/6,400))/(B1602/8)","v":102.23529411764707},18]
["Genie",27,87,"S",{"$f":"MIN(B1603*C1603/6,400)/(B1603/2)+(control!$B$4-MIN(B1603*C1603/6,400))/(B1603/8)","v":31.518518518518519},31]
["Genie in a Bodle",26,109,"M",{"$f":"MIN(B1604*C1604/6,400)/(B1604/2)+(control!$B$4-MIN(B1604*C1604/6,400))/(B1604/8)","v":30.76923076923077},26]
["Geno",26,79,"S",{"$f":"MIN(B1605*C1605/6,400)/(B1605/2)+(control!$B$4-MIN(B1605*C1605/6,400))/(B1605/8)","v":44.07692307692308},30]
["Gent",22,74,"M",{"$f":"MIN(B1606*C1606/6,400)/(B1606/2)+(control!$B$4-MIN(B1606*C1606/6,400))/(B1606/8)","v":71.454545454545467},25]
["Gentleman",21,86,"S",{"$f":"MIN(B1607*C1607/6,400)/(B1607/2)+(control!$B$4-MIN(B1607*C1607/6,400))/(B1607/8)","v":66.38095238095238},22]
["Gentleman Jazz",27,110,"M",{"$f":"MIN(B1608*C1608/6,400)/(B1608/2)+(control!$B$4-MIN(B1608*C1608/6,400))/(B1608/8)","v":29.62962962962963},28]
["Genuine Mastercard",22,78,"S",{"$f":"MIN(B1609*C1609/6,400)/(B1609/2)+(control!$B$4-MIN(B1609*C1609/6,400))/(B1609/8)","v":67.454545454545453},22]
["Genuine Risk",18,77,"M",{"$f":"MIN(B1610*C1610/6,400)/(B1610/2)+(control!$B$4-MIN(B1610*C1610/6,400))/(B1610/8)","v":100.77777777777779},22]
["Geoffrey",18,83,"S",{"$f":"MIN(B1611*C1611/6,400)/(B1611/2)+(control!$B$4-MIN(B1611*C1611/6,400))/(B1611/8)","v":94.777777777777786},20]
["George",18,74,"M",{"$f":"MIN(B1612*C1612/6,400)/(B1612/2)+(control!$B$4-MIN(B1612*C1612/6,400))/(B1612/8)","v":103.77777777777779},19]
["Georgia Clipper",20,106,"S",{"$f":"MIN(B1613*C1613/6,400)/(B1613/2)+(control!$B$4-MIN(B1613*C1613/6,400))/(B1613/8)","v":54},22]
["Georgie Girl",22,105,"D",{"$f":"MIN(B1614*C1614/6,400)/(B1614/2)+(control!$B$4-MIN(B1614*C1614/6,400))/(B1614/8)","v":40.454545454545453},24]
["Geri",22,73,"M",{"$f":"MIN(B1615*C1615/6,400)/(B1615/2)+(control!$B$4-MIN(B1615*C1615/6,400))/(B1615/8)","v":72.454545454545453},22]
["Geronimo",19,69,"S",{"$f":"MIN(B1616*C1616/6,400)/(B1616/2)+(control!$B$4-MIN(B1616*C1616/6,400))/(B1616/8)","v":99.421052631578945},23]
["Ghabriella",25,69,"M",{"$f":"MIN(B1617*C1617/6,400)/(B1617/2)+(control!$B$4-MIN(B1617*C1617/6,400))/(B1617/8)","v":59},26]
["Ghost",19,72,"S",{"$f":"MIN(B1618*C1618/6,400)/(B1618/2)+(control!$B$4-MIN(B1618*C1618/6,400))/(B1618/8)","v":96.421052631578945},20]
["Giddy up",22,106,"D",{"$f":"MIN(B1619*C1619/6,400)/(B1619/2)+(control!$B$4-MIN(B1619*C1619/6,400))/(B1619/8)","v":39.454545454545453},25]
["Giggles",24,65,"S",{"$f":"MIN(B1620*C1620/6,400)/(B1620/2)+(control!$B$4-MIN(B1620*C1620/6,400))/(B1620/8)","v":68.333333333333329},26]
["Gigi",23,121,"M",{"$f":"MIN(B1621*C1621/6,400)/(B1621/2)+(control!$B$4-MIN(B1621*C1621/6,400))/(B1621/8)","v":34.782608695652172},24]
["Gilly",23,61,"M",{"$f":"MIN(B1622*C1622/6,400)/(B1622/2)+(control!$B$4-MIN(B1622*C1622/6,400))/(B1622/8)","v":78.130434782608688},24]
["Gilthanas",24,80,"S",{"$f":"MIN(B1623*C1623/6,400)/(B1623/2)+(control!$B$4-MIN(B1623*C1623/6,400))/(B1623/8)","v":53.333333333333336},27]
["Gina",18,85,"S",{"$f":"MIN(B1624*C1624/6,400)/(B1624/2)+(control!$B$4-MIN(B1624*C1624/6,400))/(B1624/8)","v":92.777777777777771},22]
["Ginelle",25,71,"S",{"$f":"MIN(B1625*C1625/6,400)/(B1625/2)+(control!$B$4-MIN(B1625*C1625/6,400))/(B1625/8)","v":57.000000000000007},26]
["Ginger",25,80,"M",{"$f":"MIN(B1626*C1626/6,400)/(B1626/2)+(control!$B$4-MIN(B1626*C1626/6,400))/(B1626/8)","v":48},26]
["Ginger Rose",21,94,"S",{"$f":"MIN(B1627*C1627/6,400)/(B1627/2)+(control!$B$4-MIN(B1627*C1627/6,400))/(B1627/8)","v":58.38095238095238},24]
["Ginger Spice",27,72,"S",{"$f":"MIN(B1628*C1628/6,400)/(B1628/2)+(control!$B$4-MIN(B1628*C1628/6,400))/(B1628/8)","v":46.518518518518519},28]
["Gino",26,83,"M",{"$f":"MIN(B1629*C1629/6,400)/(B1629/2)+(control!$B$4-MIN(B1629*C1629/6,400))/(B1629/8)","v":40.076923076923073},28]
["Gizmo",15,114,"M",{"$f":"MIN(B1630*C1630/6,400)/(B1630/2)+(control!$B$4-MIN(B1630*C1630/6,400))/(B1630/8)","v":99.333333333333343},17]
["Glad Rags",20,63,"S",{"$f":"MIN(B1631*C1631/6,400)/(B1631/2)+(control!$B$4-MIN(B1631*C1631/6,400))/(B1631/8)","v":97},22]
["Glad Tidings",27,71,"M",{"$f":"MIN(B1632*C1632/6,400)/(B1632/2)+(control!$B$4-MIN(B1632*C1632/6,400))/(B1632/8)","v":47.518518518518519},27]
["Glass Slippers",24,100,"D",{"$f":"MIN(B1633*C1633/6,400)/(B1633/2)+(control!$B$4-MIN(B1633*C1633/6,400))/(B1633/8)","v":33.333333333333336},27]
["Glazing for me",24,108,"D",{"$f":"MIN(B1634*C1634/6,400)/(B1634/2)+(control!$B$4-MIN(B1634*C1634/6,400))/(B1634/8)","v":33.333333333333336},26]
["Glenmore Dixieland",23,67,"S",{"$f":"MIN(B1635*C1635/6,400)/(B1635/2)+(control!$B$4-MIN(B1635*C1635/6,400))/(B1635/8)","v":72.130434782608702},25]
["Glenmores Dancing Shoes",19,78,"S",{"$f":"MIN(B1636*C1636/6,400)/(B1636/2)+(control!$B$4-MIN(B1636*C1636/6,400))/(B1636/8)","v":90.421052631578945},23]
["Glimmers Magic Man",15,122,"M",{"$f":"MIN(B1637*C1637/6,400)/(B1637/2)+(control!$B$4-MIN(B1637*C1637/6,400))/(B1637/8)","v":91.333333333333329},15]
["Glorious",20,120,"M",{"$f":"MIN(B1638*C1638/6,400)/(B1638/2)+(control!$B$4-MIN(B1638*C1638/6,400))/(B1638/8)","v":40},23]
["Glory",22,85,"S",{"$f":"MIN(B1639*C1639/6,400)/(B1639/2)+(control!$B$4-MIN(B1639*C1639/6,400))/(B1639/8)","v":60.454545454545453},24]
["Glory Days",15,77,"S",{"$f":"MIN(B1640*C1640/6,400)/(B1640/2)+(control!$B$4-MIN(B1640*C1640/6,400))/(B1640/8)","v":136.33333333333334},16]
["Glow",19,107,"D",{"$f":"MIN(B1641*C1641/6,400)/(B1641/2)+(control!$B$4-MIN(B1641*C1641/6,400))/(B1641/8)","v":61.421052631578952},22]
["Glow N Ember",22,78,"S",{"$f":"MIN(B1642*C1642/6,400)/(B1642/2)+(control!$B$4-MIN(B1642*C1642/6,400))/(B1642/8)","v":67.454545454545453},22]
["Go Big",21,64,"S",{"$f":"MIN(B1643*C1643/6,400)/(B1643/2)+(control!$B$4-MIN(B1643*C1643/6,400))/(B1643/8)","v":88.38095238095238},21]
["Go for the Blue!",21,91,"D",{"$f":"MIN(B1644*C1644/6,400)/(B1644/2)+(control!$B$4-MIN(B1644*C1644/6,400))/(B1644/8)","v":61.38095238095238},23]
["Go for the Gold",24,93,"M",{"$f":"MIN(B1645*C1645/6,400)/(B1645/2)+(control!$B$4-MIN(B1645*C1645/6,400))/(B1645/8)","v":40.333333333333336},26]
["Go Snap",25,115,"D",{"$f":"MIN(B1646*C1646/6,400)/(B1646/2)+(control!$B$4-MIN(B1646*C1646/6,400))/(B1646/8)","v":32},26]
["Goddess",27,99,"D",{"$f":"MIN(B1647*C1647/6,400)/(B1647/2)+(control!$B$4-MIN(B1647*C1647/6,400))/(B1647/8)","v":29.62962962962963},29]
["Godfrey",21,90,"S",{"$f":"MIN(B1648*C1648/6,400)/(B1648/2)+(control!$B$4-MIN(B1648*C1648/6,400))/(B1648/8)","v":62.38095238095238},25]
["Godley Locks",17,91,"M",{"$f":"MIN(B1649*C1649/6,400)/(B1649/2)+(control!$B$4-MIN(B1649*C1649/6,400))/(B1649/8)","v":97.235294117647058},17]
["Godolphina",22,97,"S",{"$f":"MIN(B1650*C1650/6,400)/(B1650/2)+(control!$B$4-MIN(B1650*C1650/6,400))/(B1650/8)","v":48.454545454545453},24]
["GoGo",17,102,"D",{"$f":"MIN(B1651*C1651/6,400)/(B1651/2)+(control!$B$4-MIN(B1651*C1651/6,400))/(B1651/8)","v":86.235294117647058},18]
["Golactic",20,87,"S",{"$f":"MIN(B1652*C1652/6,400)/(B1652/2)+(control!$B$4-MIN(B1652*C1652/6,400))/(B1652/8)","v":73},24]
["Gold Dust",27,72,"M",{"$f":"MIN(B1653*C1653/6,400)/(B1653/2)+(control!$B$4-MIN(B1653*C1653/6,400))/(B1653/8)","v":46.518518518518519},31]
["Gold Jewel",19,90,"M",{"$f":"MIN(B1654*C1654/6,400)/(B1654/2)+(control!$B$4-MIN(B1654*C1654/6,400))/(B1654/8)","v":78.421052631578945},19]
["Gold leaf",19,76,"M",{"$f":"MIN(B1655*C1655/6,400)/(B1655/2)+(control!$B$4-MIN(B1655*C1655/6,400))/(B1655/8)","v":92.421052631578945},22]
["Gold Mine",22,100,"M",{"$f":"MIN(B1656*C1656/6,400)/(B1656/2)+(control!$B$4-MIN(B1656*C1656/6,400))/(B1656/8)","v":45.454545454545453},24]
["Gold Rush",26,101,"M",{"$f":"MIN(B1657*C1657/6,400)/(B1657/2)+(control!$B$4-MIN(B1657*C1657/6,400))/(B1657/8)","v":30.76923076923077},27]
["Gold Streak",27,108,"M",{"$f":"MIN(B1658*C1658/6,400)/(B1658/2)+(control!$B$4-MIN(B1658*C1658/6,400))/(B1658/8)","v":29.62962962962963},27]
["Golda",23,103,"S",{"$f":"MIN(B1659*C1659/6,400)/(B1659/2)+(control!$B$4-MIN(B1659*C1659/6,400))/(B1659/8)","v":36.130434782608695},23]
["Golda Mae",26,93,"D",{"$f":"MIN(B1660*C1660/6,400)/(B1660/2)+(control!$B$4-MIN(B1660*C1660/6,400))/(B1660/8)","v":30.76923076923077},29]
["Golden Cascade",15,84,"S",{"$f":"MIN(B1661*C1661/6,400)/(B1661/2)+(control!$B$4-MIN(B1661*C1661/6,400))/(B1661/8)","v":129.33333333333331},17]
["Golden Coin",19,78,"S",{"$f":"MIN(B1662*C1662/6,400)/(B1662/2)+(control!$B$4-MIN(B1662*C1662/6,400))/(B1662/8)","v":90.421052631578945},21]
["Golden Enchantment",16,110,"S",{"$f":"MIN(B1663*C1663/6,400)/(B1663/2)+(control!$B$4-MIN(B1663*C1663/6,400))/(B1663/8)","v":90},18]
["Golden Essence",20,79,"M",{"$f":"MIN(B1664*C1664/6,400)/(B1664/2)+(control!$B$4-MIN(B1664*C1664/6,400))/(B1664/8)","v":81},21]
["Golden Explorer",22,102,"D",{"$f":"MIN(B1665*C1665/6,400)/(B1665/2)+(control!$B$4-MIN(B1665*C1665/6,400))/(B1665/8)","v":43.454545454545453},26]
["Golden Eye",20,91,"S",{"$f":"MIN(B1666*C1666/6,400)/(B1666/2)+(control!$B$4-MIN(B1666*C1666/6,400))/(B1666/8)","v":69},24]
["Golden Fire",17,93,"S",{"$f":"MIN(B1667*C1667/6,400)/(B1667/2)+(control!$B$4-MIN(B1667*C1667/6,400))/(B1667/8)","v":95.235294117647058},21]
["Golden Girl",26,68,"S",{"$f":"MIN(B1668*C1668/6,400)/(B1668/2)+(control!$B$4-MIN(B1668*C1668/6,400))/(B1668/8)","v":55.076923076923066},27]
["Golden Glow",18,82,"S",{"$f":"MIN(B1669*C1669/6,400)/(B1669/2)+(control!$B$4-MIN(B1669*C1669/6,400))/(B1669/8)","v":95.777777777777771},21]
["Golden Grace",25,59,"S",{"$f":"MIN(B1670*C1670/6,400)/(B1670/2)+(control!$B$4-MIN(B1670*C1670/6,400))/(B1670/8)","v":69},29]
["Golden Heart",21,87,"S",{"$f":"MIN(B1671*C1671/6,400)/(B1671/2)+(control!$B$4-MIN(B1671*C1671/6,400))/(B1671/8)","v":65.38095238095238},21]
["Golden Jewel",22,93,"D",{"$f":"MIN(B1672*C1672/6,400)/(B1672/2)+(control!$B$4-MIN(B1672*C1672/6,400))/(B1672/8)","v":52.454545454545453},24]
["Golden Moon",18,121,"S",{"$f":"MIN(B1673*C1673/6,400)/(B1673/2)+(control!$B$4-MIN(B1673*C1673/6,400))/(B1673/8)","v":56.777777777777779},22]
["Golden Sand",15,123,"M",{"$f":"MIN(B1674*C1674/6,400)/(B1674/2)+(control!$B$4-MIN(B1674*C1674/6,400))/(B1674/8)","v":90.333333333333343},16]
["Golden Shamrock",24,99,"D",{"$f":"MIN(B1675*C1675/6,400)/(B1675/2)+(control!$B$4-MIN(B1675*C1675/6,400))/(B1675/8)","v":34.333333333333336},24]
["Goldfinger",21,59,"S",{"$f":"MIN(B1676*C1676/6,400)/(B1676/2)+(control!$B$4-MIN(B1676*C1676/6,400))/(B1676/8)","v":93.38095238095238},25]
["Goldie",24,76,"S",{"$f":"MIN(B1677*C1677/6,400)/(B1677/2)+(control!$B$4-MIN(B1677*C1677/6,400))/(B1677/8)","v":57.333333333333329},24]
["Goldmoon",25,78,"S",{"$f":"MIN(B1678*C1678/6,400)/(B1678/2)+(control!$B$4-MIN(B1678*C1678/6,400))/(B1678/8)","v":50},25]
["Goliath",24,95,"D",{"$f":"MIN(B1679*C1679/6,400)/(B1679/2)+(control!$B$4-MIN(B1679*C1679/6,400))/(B1679/8)","v":38.333333333333336},25]
["Gollum",22,71,"S",{"$f":"MIN(B1680*C1680/6,400)/(B1680/2)+(control!$B$4-MIN(B1680*C1680/6,400))/(B1680/8)","v":74.454545454545467},25]
["Golly",19,82,"M",{"$f":"MIN(B1681*C1681/6,400)/(B1681/2)+(control!$B$4-MIN(B1681*C1681/6,400))/(B1681/8)","v":86.421052631578945},23]
["Gomer",27,119,"D",{"$f":"MIN(B1682*C1682/6,400)/(B1682/2)+(control!$B$4-MIN(B1682*C1682/6,400))/(B1682/8)","v":29.62962962962963},29]
["Gonzo",27,90,"M",{"$f":"MIN(B1683*C1683/6,400)/(B1683/2)+(control!$B$4-MIN(B1683*C1683/6,400))/(B1683/8)","v":29.62962962962963},29]
["Good Golly Miss",22,60,"S",{"$f":"MIN(B1684*C1684/6,400)/(B1684/2)+(control!$B$4-MIN(B1684*C1684/6,400))/(B1684/8)","v":85.454545454545453},26]
["Good Luck Charm",22,87,"M",{"$f":"MIN(B1685*C1685/6,400)/(B1685/2)+(control!$B$4-MIN(B1685*C1685/6,400))/(B1685/8)","v":58.454545454545453},23]
["Good Man",26,81,"S",{"$f":"MIN(B1686*C1686/6,400)/(B1686/2)+(control!$B$4-MIN(B1686*C1686/6,400))/(B1686/8)","v":42.07692307692308},30]
["Good Son",22,84,"S",{"$f":"MIN(B1687*C1687/6,400)/(B1687/2)+(control!$B$4-MIN(B1687*C1687/6,400))/(B1687/8)","v":61.454545454545453},23]
["Good Sun",23,86,"S",{"$f":"MIN(B1688*C1688/6,400)/(B1688/2)+(control!$B$4-MIN(B1688*C1688/6,400))/(B1688/8)","v":53.130434782608688},27]
["Gorgeous",19,109,"D",{"$f":"MIN(B1689*C1689/6,400)/(B1689/2)+(control!$B$4-MIN(B1689*C1689/6,400))/(B1689/8)","v":59.421052631578945},23]
["Gothard",22,84,"M",{"$f":"MIN(B1690*C1690/6,400)/(B1690/2)+(control!$B$4-MIN(B1690*C1690/6,400))/(B1690/8)","v":61.454545454545453},22]
["Gotta-Go ",24,65,"S",{"$f":"MIN(B1691*C1691/6,400)/(B1691/2)+(control!$B$4-MIN(B1691*C1691/6,400))/(B1691/8)","v":68.333333333333329},26]
["Grace",17,83,"S",{"$f":"MIN(B1692*C1692/6,400)/(B1692/2)+(control!$B$4-MIN(B1692*C1692/6,400))/(B1692/8)","v":105.23529411764707},21]
["Grace Note",16,94,"D",{"$f":"MIN(B1693*C1693/6,400)/(B1693/2)+(control!$B$4-MIN(B1693*C1693/6,400))/(B1693/8)","v":106},18]
["Grace of an angel",21,61,"S",{"$f":"MIN(B1694*C1694/6,400)/(B1694/2)+(control!$B$4-MIN(B1694*C1694/6,400))/(B1694/8)","v":91.38095238095238},22]
["Graceland",24,71,"M",{"$f":"MIN(B1695*C1695/6,400)/(B1695/2)+(control!$B$4-MIN(B1695*C1695/6,400))/(B1695/8)","v":62.333333333333329},25]
["Gracie",27,74,"S",{"$f":"MIN(B1696*C1696/6,400)/(B1696/2)+(control!$B$4-MIN(B1696*C1696/6,400))/(B1696/8)","v":44.518518518518519},29]
["Grady",27,64,"S",{"$f":"MIN(B1697*C1697/6,400)/(B1697/2)+(control!$B$4-MIN(B1697*C1697/6,400))/(B1697/8)","v":54.518518518518519},27]
["Grafig",19,113,"D",{"$f":"MIN(B1698*C1698/6,400)/(B1698/2)+(control!$B$4-MIN(B1698*C1698/6,400))/(B1698/8)","v":55.421052631578952},20]
["Grand Illusion",27,92,"S",{"$f":"MIN(B1699*C1699/6,400)/(B1699/2)+(control!$B$4-MIN(B1699*C1699/6,400))/(B1699/8)","v":29.62962962962963},31]
["Grand Legend",24,91,"S",{"$f":"MIN(B1700*C1700/6,400)/(B1700/2)+(control!$B$4-MIN(B1700*C1700/6,400))/(B1700/8)","v":42.333333333333329},27]
["Grand Stand Man",24,100,"D",{"$f":"MIN(B1701*C1701/6,400)/(B1701/2)+(control!$B$4-MIN(B1701*C1701/6,400))/(B1701/8)","v":33.333333333333336},27]
["Grandvill",19,81,"S",{"$f":"MIN(B1702*C1702/6,400)/(B1702/2)+(control!$B$4-MIN(B1702*C1702/6,400))/(B1702/8)","v":87.421052631578945},19]
["Granny",26,72,"S",{"$f":"MIN(B1703*C1703/6,400)/(B1703/2)+(control!$B$4-MIN(B1703*C1703/6,400))/(B1703/8)","v":51.07692307692308},27]
["Graphic Design",19,61,"M",{"$f":"MIN(B1704*C1704/6,400)/(B1704/2)+(control!$B$4-MIN(B1704*C1704/6,400))/(B1704/8)","v":107.42105263157895},21]
["Gravy",19,97,"S",{"$f":"MIN(B1705*C1705/6,400)/(B1705/2)+(control!$B$4-MIN(B1705*C1705/6,400))/(B1705/8)","v":71.421052631578945},22]
["Greased Lightning",18,121,"M",{"$f":"MIN(B1706*C1706/6,400)/(B1706/2)+(control!$B$4-MIN(B1706*C1706/6,400))/(B1706/8)","v":56.777777777777779},20]
["Green Emerald",15,102,"D",{"$f":"MIN(B1707*C1707/6,400)/(B1707/2)+(control!$B$4-MIN(B1707*C1707/6,400))/(B1707/8)","v":111.33333333333333},17]
["Green Tea",16,96,"S",{"$f":"MIN(B1708*C1708/6,400)/(B1708/2)+(control!$B$4-MIN(B1708*C1708/6,400))/(B1708/8)","v":104},16]
["Grey Cloud",20,66,"S",{"$f":"MIN(B1709*C1709/6,400)/(B1709/2)+(control!$B$4-MIN(B1709*C1709/6,400))/(B1709/8)","v":94},22]
["Grin -N- Bear IT",21,99,"S",{"$f":"MIN(B1710*C1710/6,400)/(B1710/2)+(control!$B$4-MIN(B1710*C1710/6,400))/(B1710/8)","v":53.38095238095238},21]
["Gringo",16,93,"S",{"$f":"MIN(B1711*C1711/6,400)/(B1711/2)+(control!$B$4-MIN(B1711*C1711/6,400))/(B1711/8)","v":107},18]
["Grit's Secret Service",22,82,"S",{"$f":"MIN(B1712*C1712/6,400)/(B1712/2)+(control!$B$4-MIN(B1712*C1712/6,400))/(B1712/8)","v":63.454545454545453},26]
["Groovy",21,67,"S",{"$f":"MIN(B1713*C1713/6,400)/(B1713/2)+(control!$B$4-MIN(B1713*C1713/6,400))/(B1713/8)","v":85.38095238095238},22]
["Gucci",15,94,"S",{"$f":"MIN(B1714*C1714/6,400)/(B1714/2)+(control!$B$4-MIN(B1714*C1714/6,400))/(B1714/8)","v":119.33333333333333},15]
["Guess",16,96,"S",{"$f":"MIN(B1715*C1715/6,400)/(B1715/2)+(control!$B$4-MIN(B1715*C1715/6,400))/(B1715/8)","v":104},18]
["Guiness",27,96,"M",{"$f":"MIN(B1716*C1716/6,400)/(B1716/2)+(control!$B$4-MIN(B1716*C1716/6,400))/(B1716/8)","v":29.62962962962963},29]
["Gulliver",21,96,"D",{"$f":"MIN(B1717*C1717/6,400)/(B1717/2)+(control!$B$4-MIN(B1717*C1717/6,400))/(B1717/8)","v":56.38095238095238},21]
["Gumby",23,87,"S",{"$f":"MIN(B1718*C1718/6,400)/(B1718/2)+(control!$B$4-MIN(B1718*C1718/6,400))/(B1718/8)","v":52.130434782608695},25]
["Gummy Bear",22,65,"M",{"$f":"MIN(B1719*C1719/6,400)/(B1719/2)+(control!$B$4-MIN(B1719*C1719/6,400))/(B1719/8)","v":80.454545454545453},22]
["Gunner",23,89,"S",{"$f":"MIN(B1720*C1720/6,400)/(B1720/2)+(control!$B$4-MIN(B1720*C1720/6,400))/(B1720/8)","v":50.130434782608688},25]
["Gus",19,86,"S",{"$f":"MIN(B1721*C1721/6,400)/(B1721/2)+(control!$B$4-MIN(B1721*C1721/6,400))/(B1721/8)","v":82.421052631578959},20]
["Gusto",15,61,"S",{"$f":"MIN(B1722*C1722/6,400)/(B1722/2)+(control!$B$4-MIN(B1722*C1722/6,400))/(B1722/8)","v":152.33333333333334},17]
["Gusty",23,75,"M",{"$f":"MIN(B1723*C1723/6,400)/(B1723/2)+(control!$B$4-MIN(B1723*C1723/6,400))/(B1723/8)","v":64.130434782608688},26]
["Gypsy",20,99,"D",{"$f":"MIN(B1724*C1724/6,400)/(B1724/2)+(control!$B$4-MIN(B1724*C1724/6,400))/(B1724/8)","v":61},23]
["Gypsy Filly",18,97,"M",{"$f":"MIN(B1725*C1725/6,400)/(B1725/2)+(control!$B$4-MIN(B1725*C1725/6,400))/(B1725/8)","v":80.777777777777771},19]
["Gypsy King",20,87,"S",{"$f":"MIN(B1726*C1726/6,400)/(B1726/2)+(control!$B$4-MIN(B1726*C1726/6,400))/(B1726/8)","v":73},22]
["Gypsy Rose",22,65,"S",{"$f":"MIN(B1727*C1727/6,400)/(B1727/2)+(control!$B$4-MIN(B1727*C1727/6,400))/(B1727/8)","v":80.454545454545453},23]
["Gypsyfilea",22,93,"D",{"$f":"MIN(B1728*C1728/6,400)/(B1728/2)+(control!$B$4-MIN(B1728*C1728/6,400))/(B1728/8)","v":52.454545454545453},26]
["Haiku",21,73,"S",{"$f":"MIN(B1729*C1729/6,400)/(B1729/2)+(control!$B$4-MIN(B1729*C1729/6,400))/(B1729/8)","v":79.38095238095238},22]
["Hailey",22,81,"M",{"$f":"MIN(B1730*C1730/6,400)/(B1730/2)+(control!$B$4-MIN(B1730*C1730/6,400))/(B1730/8)","v":64.454545454545453},24]
["Hairy",20,75,"S",{"$f":"MIN(B1731*C1731/6,400)/(B1731/2)+(control!$B$4-MIN(B1731*C1731/6,400))/(B1731/8)","v":85},21]
["Hakka",15,69,"M",{"$f":"MIN(B1732*C1732/6,400)/(B1732/2)+(control!$B$4-MIN(B1732*C1732/6,400))/(B1732/8)","v":144.33333333333331},18]
["Hal",22,109,"M",{"$f":"MIN(B1733*C1733/6,400)/(B1733/2)+(control!$B$4-MIN(B1733*C1733/6,400))/(B1733/8)","v":36.454545454545453},25]
["Haley",21,90,"S",{"$f":"MIN(B1734*C1734/6,400)/(B1734/2)+(control!$B$4-MIN(B1734*C1734/6,400))/(B1734/8)","v":62.38095238095238},22]
["Haley's Comet",25,123,"M",{"$f":"MIN(B1735*C1735/6,400)/(B1735/2)+(control!$B$4-MIN(B1735*C1735/6,400))/(B1735/8)","v":32},27]
["Half Pint",20,81,"S",{"$f":"MIN(B1736*C1736/6,400)/(B1736/2)+(control!$B$4-MIN(B1736*C1736/6,400))/(B1736/8)","v":79},24]
["Hall",22,85,"S",{"$f":"MIN(B1737*C1737/6,400)/(B1737/2)+(control!$B$4-MIN(B1737*C1737/6,400))/(B1737/8)","v":60.454545454545453},23]
["Hally",15,123,"S",{"$f":"MIN(B1738*C1738/6,400)/(B1738/2)+(control!$B$4-MIN(B1738*C1738/6,400))/(B1738/8)","v":90.333333333333343},15]
["Hamilton",20,73,"M",{"$f":"MIN(B1739*C1739/6,400)/(B1739/2)+(control!$B$4-MIN(B1739*C1739/6,400))/(B1739/8)","v":87},23]
["Hamlet",20,97,"S",{"$f":"MIN(B1740*C1740/6,400)/(B1740/2)+(control!$B$4-MIN(B1740*C1740/6,400))/(B1740/8)","v":63},23]
["Han Solo",15,93,"D",{"$f":"MIN(B1741*C1741/6,400)/(B1741/2)+(control!$B$4-MIN(B1741*C1741/6,400))/(B1741/8)","v":120.33333333333333},19]
["Handy Man",22,92,"D",{"$f":"MIN(B1742*C1742/6,400)/(B1742/2)+(control!$B$4-MIN(B1742*C1742/6,400))/(B1742/8)","v":53.45454545454546},23]
["Hank",20,91,"D",{"$f":"MIN(B1743*C1743/6,400)/(B1743/2)+(control!$B$4-MIN(B1743*C1743/6,400))/(B1743/8)","v":69},23]
["Hanks Last Shot",26,86,"M",{"$f":"MIN(B1744*C1744/6,400)/(B1744/2)+(control!$B$4-MIN(B1744*C1744/6,400))/(B1744/8)","v":37.076923076923073},27]
["Hanna",20,77,"S",{"$f":"MIN(B1745*C1745/6,400)/(B1745/2)+(control!$B$4-MIN(B1745*C1745/6,400))/(B1745/8)","v":83},21]
["Hannah",19,117,"M",{"$f":"MIN(B1746*C1746/6,400)/(B1746/2)+(control!$B$4-MIN(B1746*C1746/6,400))/(B1746/8)","v":51.421052631578945},21]
["Hannsi",25,110,"M",{"$f":"MIN(B1747*C1747/6,400)/(B1747/2)+(control!$B$4-MIN(B1747*C1747/6,400))/(B1747/8)","v":32},26]
["Hansome",24,74,"S",{"$f":"MIN(B1748*C1748/6,400)/(B1748/2)+(control!$B$4-MIN(B1748*C1748/6,400))/(B1748/8)","v":59.333333333333329},24]
["Happenstance",23,96,"D",{"$f":"MIN(B1749*C1749/6,400)/(B1749/2)+(control!$B$4-MIN(B1749*C1749/6,400))/(B1749/8)","v":43.130434782608695},27]
["Happy",22,100,"S",{"$f":"MIN(B1750*C1750/6,400)/(B1750/2)+(control!$B$4-MIN(B1750*C1750/6,400))/(B1750/8)","v":45.454545454545453},22]
["Happy Appy",19,72,"S",{"$f":"MIN(B1751*C1751/6,400)/(B1751/2)+(control!$B$4-MIN(B1751*C1751/6,400))/(B1751/8)","v":96.421052631578945},21]
["Happy Daze",20,68,"S",{"$f":"MIN(B1752*C1752/6,400)/(B1752/2)+(control!$B$4-MIN(B1752*C1752/6,400))/(B1752/8)","v":92},22]
["Happy-Appy",19,91,"S",{"$f":"MIN(B1753*C1753/6,400)/(B1753/2)+(control!$B$4-MIN(B1753*C1753/6,400))/(B1753/8)","v":77.421052631578945},21]
["Hard on the Rocks",24,66,"M",{"$f":"MIN(B1754*C1754/6,400)/(B1754/2)+(control!$B$4-MIN(B1754*C1754/6,400))/(B1754/8)","v":67.333333333333343},26]
["Haribo",23,88,"S",{"$f":"MIN(B1755*C1755/6,400)/(B1755/2)+(control!$B$4-MIN(B1755*C1755/6,400))/(B1755/8)","v":51.130434782608702},23]
["Harley",24,84,"S",{"$f":"MIN(B1756*C1756/6,400)/(B1756/2)+(control!$B$4-MIN(B1756*C1756/6,400))/(B1756/8)","v":49.333333333333329},26]
["Harley Davidson",21,98,"M",{"$f":"MIN(B1757*C1757/6,400)/(B1757/2)+(control!$B$4-MIN(B1757*C1757/6,400))/(B1757/8)","v":54.38095238095238},22]
["Harmony",21,67,"S",{"$f":"MIN(B1758*C1758/6,400)/(B1758/2)+(control!$B$4-MIN(B1758*C1758/6,400))/(B1758/8)","v":85.38095238095238},24]
["Harold",26,103,"D",{"$f":"MIN(B1759*C1759/6,400)/(B1759/2)+(control!$B$4-MIN(B1759*C1759/6,400))/(B1759/8)","v":30.76923076923077},27]
["Harrison",19,59,"S",{"$f":"MIN(B1760*C1760/6,400)/(B1760/2)+(control!$B$4-MIN(B1760*C1760/6,400))/(B1760/8)","v":109.42105263157895},19]
["Harry",22,119,"S",{"$f":"MIN(B1761*C1761/6,400)/(B1761/2)+(control!$B$4-MIN(B1761*C1761/6,400))/(B1761/8)","v":36.363636363636367},25]
["Harvey",19,71,"S",{"$f":"MIN(B1762*C1762/6,400)/(B1762/2)+(control!$B$4-MIN(B1762*C1762/6,400))/(B1762/8)","v":97.421052631578945},22]
["Hasty",15,83,"S",{"$f":"MIN(B1763*C1763/6,400)/(B1763/2)+(control!$B$4-MIN(B1763*C1763/6,400))/(B1763/8)","v":130.33333333333334},19]
["Haughty",20,97,"D",{"$f":"MIN(B1764*C1764/6,400)/(B1764/2)+(control!$B$4-MIN(B1764*C1764/6,400))/(B1764/8)","v":63},21]
["Havenly Bandit",26,106,"D",{"$f":"MIN(B1765*C1765/6,400)/(B1765/2)+(control!$B$4-MIN(B1765*C1765/6,400))/(B1765/8)","v":30.76923076923077},26]
["Hawk",22,109,"S",{"$f":"MIN(B1766*C1766/6,400)/(B1766/2)+(control!$B$4-MIN(B1766*C1766/6,400))/(B1766/8)","v":36.454545454545453},23]
["Hawk of the Wind",22,59,"S",{"$f":"MIN(B1767*C1767/6,400)/(B1767/2)+(control!$B$4-MIN(B1767*C1767/6,400))/(B1767/8)","v":86.454545454545453},24]
["Hawken",15,119,"D",{"$f":"MIN(B1768*C1768/6,400)/(B1768/2)+(control!$B$4-MIN(B1768*C1768/6,400))/(B1768/8)","v":94.333333333333329},19]
["Hawkins",19,79,"M",{"$f":"MIN(B1769*C1769/6,400)/(B1769/2)+(control!$B$4-MIN(B1769*C1769/6,400))/(B1769/8)","v":89.421052631578945},21]
["Hazel",20,72,"M",{"$f":"MIN(B1770*C1770/6,400)/(B1770/2)+(control!$B$4-MIN(B1770*C1770/6,400))/(B1770/8)","v":88},22]
["Head Over Heels",22,101,"S",{"$f":"MIN(B1771*C1771/6,400)/(B1771/2)+(control!$B$4-MIN(B1771*C1771/6,400))/(B1771/8)","v":44.45454545454546},24]
["Heart",25,112,"S",{"$f":"MIN(B1772*C1772/6,400)/(B1772/2)+(control!$B$4-MIN(B1772*C1772/6,400))/(B1772/8)","v":32},26]
["Heart 'N Soul",16,70,"S",{"$f":"MIN(B1773*C1773/6,400)/(B1773/2)+(control!$B$4-MIN(B1773*C1773/6,400))/(B1773/8)","v":130},19]
["Heart of Stone",27,87,"M",{"$f":"MIN(B1774*C1774/6,400)/(B1774/2)+(control!$B$4-MIN(B1774*C1774/6,400))/(B1774/8)","v":31.518518518518519},27]
["Heart Stealer",20,117,"S",{"$f":"MIN(B1775*C1775/6,400)/(B1775/2)+(control!$B$4-MIN(B1775*C1775/6,400))/(B1775/8)","v":43},23]
["Heath",21,100,"S",{"$f":"MIN(B1776*C1776/6,400)/(B1776/2)+(control!$B$4-MIN(B1776*C1776/6,400))/(B1776/8)","v":52.38095238095238},25]
["Heather",16,69,"S",{"$f":"MIN(B1777*C1777/6,400)/(B1777/2)+(control!$B$4-MIN(B1777*C1777/6,400))/(B1777/8)","v":131},17]
["Heaven sent",22,96,"M",{"$f":"MIN(B1778*C1778/6,400)/(B1778/2)+(control!$B$4-MIN(B1778*C1778/6,400))/(B1778/8)","v":49.454545454545453},22]
["Heavenly angel",24,99,"M",{"$f":"MIN(B1779*C1779/6,400)/(B1779/2)+(control!$B$4-MIN(B1779*C1779/6,400))/(B1779/8)","v":34.333333333333336},26]
["Heavenly Dream",19,114,"S",{"$f":"MIN(B1780*C1780/6,400)/(B1780/2)+(control!$B$4-MIN(B1780*C1780/6,400))/(B1780/8)","v":54.421052631578945},20]
["Heavenly Prize",21,65,"S",{"$f":"MIN(B1781*C1781/6,400)/(B1781/2)+(control!$B$4-MIN(B1781*C1781/6,400))/(B1781/8)","v":87.38095238095238},25]
["Heavens Devil",19,101,"D",{"$f":"MIN(B1782*C1782/6,400)/(B1782/2)+(control!$B$4-MIN(B1782*C1782/6,400))/(B1782/8)","v":67.421052631578959},23]
["Heckle",20,70,"S",{"$f":"MIN(B1783*C1783/6,400)/(B1783/2)+(control!$B$4-MIN(B1783*C1783/6,400))/(B1783/8)","v":90},24]
["Height",22,82,"S",{"$f":"MIN(B1784*C1784/6,400)/(B1784/2)+(control!$B$4-MIN(B1784*C1784/6,400))/(B1784/8)","v":63.454545454545453},26]
["Hemlock",18,96,"M",{"$f":"MIN(B1785*C1785/6,400)/(B1785/2)+(control!$B$4-MIN(B1785*C1785/6,400))/(B1785/8)","v":81.777777777777771},19]
["Henry",21,98,"M",{"$f":"MIN(B1786*C1786/6,400)/(B1786/2)+(control!$B$4-MIN(B1786*C1786/6,400))/(B1786/8)","v":54.38095238095238},23]
["Henry Hudson",24,106,"S",{"$f":"MIN(B1787*C1787/6,400)/(B1787/2)+(control!$B$4-MIN(B1787*C1787/6,400))/(B1787/8)","v":33.333333333333336},27]
["Her Majesty",27,75,"S",{"$f":"MIN(B1788*C1788/6,400)/(B1788/2)+(control!$B$4-MIN(B1788*C1788/6,400))/(B1788/8)","v":43.518518518518519},31]
["Hera",27,92,"M",{"$f":"MIN(B1789*C1789/6,400)/(B1789/2)+(control!$B$4-MIN(B1789*C1789/6,400))/(B1789/8)","v":29.62962962962963},30]
["Hercules",27,75,"S",{"$f":"MIN(B1790*C1790/6,400)/(B1790/2)+(control!$B$4-MIN(B1790*C1790/6,400))/(B1790/8)","v":43.518518518518519},29]
["Herman",22,63,"S",{"$f":"MIN(B1791*C1791/6,400)/(B1791/2)+(control!$B$4-MIN(B1791*C1791/6,400))/(B1791/8)","v":82.454545454545453},22]
["Hermionie",24,92,"S",{"$f":"MIN(B1792*C1792/6,400)/(B1792/2)+(control!$B$4-MIN(B1792*C1792/6,400))/(B1792/8)","v":41.333333333333336},27]
["Hero",20,97,"S",{"$f":"MIN(B1793*C1793/6,400)/(B1793/2)+(control!$B$4-MIN(B1793*C1793/6,400))/(B1793/8)","v":63},23]
["Hershey",23,72,"S",{"$f":"MIN(B1794*C1794/6,400)/(B1794/2)+(control!$B$4-MIN(B1794*C1794/6,400))/(B1794/8)","v":67.130434782608688},27]
["Hershey's Kiss",25,111,"D",{"$f":"MIN(B1795*C1795/6,400)/(B1795/2)+(control!$B$4-MIN(B1795*C1795/6,400))/(B1795/8)","v":32},25]
["Hickory Hills Panosh",21,123,"S",{"$f":"MIN(B1796*C1796/6,400)/(B1796/2)+(control!$B$4-MIN(B1796*C1796/6,400))/(B1796/8)","v":38.095238095238095},25]
["Hidden Assets",19,75,"S",{"$f":"MIN(B1797*C1797/6,400)/(B1797/2)+(control!$B$4-MIN(B1797*C1797/6,400))/(B1797/8)","v":93.421052631578945},22]
["Hidden Dragon",22,95,"S",{"$f":"MIN(B1798*C1798/6,400)/(B1798/2)+(control!$B$4-MIN(B1798*C1798/6,400))/(B1798/8)","v":50.45454545454546},24]
["Hidden Treasure",24,90,"S",{"$f":"MIN(B1799*C1799/6,400)/(B1799/2)+(control!$B$4-MIN(B1799*C1799/6,400))/(B1799/8)","v":43.333333333333336},24]
["High Card",17,122,"D",{"$f":"MIN(B1800*C1800/6,400)/(B1800/2)+(control!$B$4-MIN(B1800*C1800/6,400))/(B1800/8)","v":66.235294117647058},21]
["High Court",25,84,"S",{"$f":"MIN(B1801*C1801/6,400)/(B1801/2)+(control!$B$4-MIN(B1801*C1801/6,400))/(B1801/8)","v":44},27]
["High Flyer",19,119,"D",{"$f":"MIN(B1802*C1802/6,400)/(B1802/2)+(control!$B$4-MIN(B1802*C1802/6,400))/(B1802/8)","v":49.421052631578952},23]
["High in the Sky",22,121,"D",{"$f":"MIN(B1803*C1803/6,400)/(B1803/2)+(control!$B$4-MIN(B1803*C1803/6,400))/(B1803/8)","v":36.363636363636367},26]
["High Plains Drifter",21,93,"D",{"$f":"MIN(B1804*C1804/6,400)/(B1804/2)+(control!$B$4-MIN(B1804*C1804/6,400))/(B1804/8)","v":59.38095238095238},23]
["High Sign",19,81,"S",{"$f":"MIN(B1805*C1805/6,400)/(B1805/2)+(control!$B$4-MIN(B1805*C1805/6,400))/(B1805/8)","v":87.421052631578945},23]
["High Voltage",21,82,"M",{"$f":"MIN(B1806*C1806/6,400)/(B1806/2)+(control!$B$4-MIN(B1806*C1806/6,400))/(B1806/8)","v":70.38095238095238},22]
["Higher Level",17,78,"S",{"$f":"MIN(B1807*C1807/6,400)/(B1807/2)+(control!$B$4-MIN(B1807*C1807/6,400))/(B1807/8)","v":110.23529411764706},21]
["Higher State",23,97,"D",{"$f":"MIN(B1808*C1808/6,400)/(B1808/2)+(control!$B$4-MIN(B1808*C1808/6,400))/(B1808/8)","v":42.130434782608695},26]
["High-Kountry",15,67,"S",{"$f":"MIN(B1809*C1809/6,400)/(B1809/2)+(control!$B$4-MIN(B1809*C1809/6,400))/(B1809/8)","v":146.33333333333334},15]
["Highland Glen Dougal",18,110,"S",{"$f":"MIN(B1810*C1810/6,400)/(B1810/2)+(control!$B$4-MIN(B1810*C1810/6,400))/(B1810/8)","v":67.777777777777771},19]
["Highlander",22,70,"S",{"$f":"MIN(B1811*C1811/6,400)/(B1811/2)+(control!$B$4-MIN(B1811*C1811/6,400))/(B1811/8)","v":75.454545454545453},26]
["Highlight",21,86,"S",{"$f":"MIN(B1812*C1812/6,400)/(B1812/2)+(control!$B$4-MIN(B1812*C1812/6,400))/(B1812/8)","v":66.38095238095238},22]
["HighTime Little Boy",22,84,"M",{"$f":"MIN(B1813*C1813/6,400)/(B1813/2)+(control!$B$4-MIN(B1813*C1813/6,400))/(B1813/8)","v":61.454545454545453},26]
["Highway Express",15,100,"D",{"$f":"MIN(B1814*C1814/6,400)/(B1814/2)+(control!$B$4-MIN(B1814*C1814/6,400))/(B1814/8)","v":113.33333333333334},17]
["Higness",17,123,"S",{"$f":"MIN(B1815*C1815/6,400)/(B1815/2)+(control!$B$4-MIN(B1815*C1815/6,400))/(B1815/8)","v":65.235294117647058},21]
["Hill Do It",21,102,"D",{"$f":"MIN(B1816*C1816/6,400)/(B1816/2)+(control!$B$4-MIN(B1816*C1816/6,400))/(B1816/8)","v":50.38095238095238},23]
["Hillview Irish Mist",22,73,"M",{"$f":"MIN(B1817*C1817/6,400)/(B1817/2)+(control!$B$4-MIN(B1817*C1817/6,400))/(B1817/8)","v":72.454545454545453},25]
["Hillview Suprise Packet",20,88,"M",{"$f":"MIN(B1818*C1818/6,400)/(B1818/2)+(control!$B$4-MIN(B1818*C1818/6,400))/(B1818/8)","v":72},20]
["Hip Mama",26,72,"S",{"$f":"MIN(B1819*C1819/6,400)/(B1819/2)+(control!$B$4-MIN(B1819*C1819/6,400))/(B1819/8)","v":51.07692307692308},27]
["Hippo",20,84,"S",{"$f":"MIN(B1820*C1820/6,400)/(B1820/2)+(control!$B$4-MIN(B1820*C1820/6,400))/(B1820/8)","v":76},22]
["Hlaivana",26,121,"D",{"$f":"MIN(B1821*C1821/6,400)/(B1821/2)+(control!$B$4-MIN(B1821*C1821/6,400))/(B1821/8)","v":30.76923076923077},27]
["Hobby",21,92,"M",{"$f":"MIN(B1822*C1822/6,400)/(B1822/2)+(control!$B$4-MIN(B1822*C1822/6,400))/(B1822/8)","v":60.38095238095238},24]
["Hobo",19,59,"S",{"$f":"MIN(B1823*C1823/6,400)/(B1823/2)+(control!$B$4-MIN(B1823*C1823/6,400))/(B1823/8)","v":109.42105263157895},19]
["Hocus",24,64,"S",{"$f":"MIN(B1824*C1824/6,400)/(B1824/2)+(control!$B$4-MIN(B1824*C1824/6,400))/(B1824/8)","v":69.333333333333329},27]
["Hocus Pocus",19,108,"S",{"$f":"MIN(B1825*C1825/6,400)/(B1825/2)+(control!$B$4-MIN(B1825*C1825/6,400))/(B1825/8)","v":60.421052631578945},20]
["Hogan",22,81,"M",{"$f":"MIN(B1826*C1826/6,400)/(B1826/2)+(control!$B$4-MIN(B1826*C1826/6,400))/(B1826/8)","v":64.454545454545453},24]
["Hola",23,96,"M",{"$f":"MIN(B1827*C1827/6,400)/(B1827/2)+(control!$B$4-MIN(B1827*C1827/6,400))/(B1827/8)","v":43.130434782608695},26]
["Hold your Horses",26,117,"M",{"$f":"MIN(B1828*C1828/6,400)/(B1828/2)+(control!$B$4-MIN(B1828*C1828/6,400))/(B1828/8)","v":30.76923076923077},29]
["Holly",18,76,"S",{"$f":"MIN(B1829*C1829/6,400)/(B1829/2)+(control!$B$4-MIN(B1829*C1829/6,400))/(B1829/8)","v":101.77777777777777},19]
["Holly Berry",25,103,"S",{"$f":"MIN(B1830*C1830/6,400)/(B1830/2)+(control!$B$4-MIN(B1830*C1830/6,400))/(B1830/8)","v":32},29]
["Holly Hill",16,78,"M",{"$f":"MIN(B1831*C1831/6,400)/(B1831/2)+(control!$B$4-MIN(B1831*C1831/6,400))/(B1831/8)","v":122},18]
["Holly Pooh",16,65,"M",{"$f":"MIN(B1832*C1832/6,400)/(B1832/2)+(control!$B$4-MIN(B1832*C1832/6,400))/(B1832/8)","v":135},17]
["Hollywood",22,66,"S",{"$f":"MIN(B1833*C1833/6,400)/(B1833/2)+(control!$B$4-MIN(B1833*C1833/6,400))/(B1833/8)","v":79.454545454545453},26]
["Hollywood Getaway",27,81,"S",{"$f":"MIN(B1834*C1834/6,400)/(B1834/2)+(control!$B$4-MIN(B1834*C1834/6,400))/(B1834/8)","v":37.518518518518519},29]
["Hollywood Shuffle",26,79,"M",{"$f":"MIN(B1835*C1835/6,400)/(B1835/2)+(control!$B$4-MIN(B1835*C1835/6,400))/(B1835/8)","v":44.07692307692308},29]
["Hollywood Star",20,83,"S",{"$f":"MIN(B1836*C1836/6,400)/(B1836/2)+(control!$B$4-MIN(B1836*C1836/6,400))/(B1836/8)","v":77},21]
["HollyWould Dunnit",16,79,"M",{"$f":"MIN(B1837*C1837/6,400)/(B1837/2)+(control!$B$4-MIN(B1837*C1837/6,400))/(B1837/8)","v":121},19]
["Homegirl",22,84,"S",{"$f":"MIN(B1838*C1838/6,400)/(B1838/2)+(control!$B$4-MIN(B1838*C1838/6,400))/(B1838/8)","v":61.454545454545453},24]
["Hometown Hero",15,81,"S",{"$f":"MIN(B1839*C1839/6,400)/(B1839/2)+(control!$B$4-MIN(B1839*C1839/6,400))/(B1839/8)","v":132.33333333333331},15]
["Homie",20,74,"M",{"$f":"MIN(B1840*C1840/6,400)/(B1840/2)+(control!$B$4-MIN(B1840*C1840/6,400))/(B1840/8)","v":86},24]
["Honest Broker",16,117,"S",{"$f":"MIN(B1841*C1841/6,400)/(B1841/2)+(control!$B$4-MIN(B1841*C1841/6,400))/(B1841/8)","v":83},20]
["Honey",24,70,"M",{"$f":"MIN(B1842*C1842/6,400)/(B1842/2)+(control!$B$4-MIN(B1842*C1842/6,400))/(B1842/8)","v":63.333333333333329},24]
["Honey Bear",23,65,"M",{"$f":"MIN(B1843*C1843/6,400)/(B1843/2)+(control!$B$4-MIN(B1843*C1843/6,400))/(B1843/8)","v":74.130434782608688},24]
["Honey Bee",17,95,"M",{"$f":"MIN(B1844*C1844/6,400)/(B1844/2)+(control!$B$4-MIN(B1844*C1844/6,400))/(B1844/8)","v":93.235294117647058},18]
["Honey Buns",18,71,"M",{"$f":"MIN(B1845*C1845/6,400)/(B1845/2)+(control!$B$4-MIN(B1845*C1845/6,400))/(B1845/8)","v":106.77777777777779},21]
["Hoof Prince",19,68,"S",{"$f":"MIN(B1846*C1846/6,400)/(B1846/2)+(control!$B$4-MIN(B1846*C1846/6,400))/(B1846/8)","v":100.42105263157895},21]
["Hooked on Onix",27,86,"S",{"$f":"MIN(B1847*C1847/6,400)/(B1847/2)+(control!$B$4-MIN(B1847*C1847/6,400))/(B1847/8)","v":32.518518518518519},31]
["Hop Skip 'n' a Jump",22,87,"S",{"$f":"MIN(B1848*C1848/6,400)/(B1848/2)+(control!$B$4-MIN(B1848*C1848/6,400))/(B1848/8)","v":58.454545454545453},25]
["Hope",22,75,"M",{"$f":"MIN(B1849*C1849/6,400)/(B1849/2)+(control!$B$4-MIN(B1849*C1849/6,400))/(B1849/8)","v":70.454545454545453},23]
["Hope's Rebellion",20,61,"S",{"$f":"MIN(B1850*C1850/6,400)/(B1850/2)+(control!$B$4-MIN(B1850*C1850/6,400))/(B1850/8)","v":99},21]
["Horse",17,119,"D",{"$f":"MIN(B1851*C1851/6,400)/(B1851/2)+(control!$B$4-MIN(B1851*C1851/6,400))/(B1851/8)","v":69.235294117647058},18]
["Hoshi",20,106,"S",{"$f":"MIN(B1852*C1852/6,400)/(B1852/2)+(control!$B$4-MIN(B1852*C1852/6,400))/(B1852/8)","v":54},20]
["Hoshi No Senshi (Warrior of the Stars)",26,63,"S",{"$f":"MIN(B1853*C1853/6,400)/(B1853/2)+(control!$B$4-MIN(B1853*C1853/6,400))/(B1853/8)","v":60.07692307692308},29]
["Hot Chocolate Chip",20,85,"M",{"$f":"MIN(B1854*C1854/6,400)/(B1854/2)+(control!$B$4-MIN(B1854*C1854/6,400))/(B1854/8)","v":75},23]
["Hot Expectations Fiasco",23,97,"S",{"$f":"MIN(B1855*C1855/6,400)/(B1855/2)+(control!$B$4-MIN(B1855*C1855/6,400))/(B1855/8)","v":42.130434782608695},24]
["Hot Gossip",22,95,"D",{"$f":"MIN(B1856*C1856/6,400)/(B1856/2)+(control!$B$4-MIN(B1856*C1856/6,400))/(B1856/8)","v":50.45454545454546},23]
["Hot Iron",24,85,"S",{"$f":"MIN(B1857*C1857/6,400)/(B1857/2)+(control!$B$4-MIN(B1857*C1857/6,400))/(B1857/8)","v":48.333333333333329},24]
["Hot Java",16,81,"S",{"$f":"MIN(B1858*C1858/6,400)/(B1858/2)+(control!$B$4-MIN(B1858*C1858/6,400))/(B1858/8)","v":119},20]
["Hot Rod",18,100,"D",{"$f":"MIN(B1859*C1859/6,400)/(B1859/2)+(control!$B$4-MIN(B1859*C1859/6,400))/(B1859/8)","v":77.777777777777771},18]
["Hot shot",16,70,"S",{"$f":"MIN(B1860*C1860/6,400)/(B1860/2)+(control!$B$4-MIN(B1860*C1860/6,400))/(B1860/8)","v":130},19]
["Hot Socks",19,71,"S",{"$f":"MIN(B1861*C1861/6,400)/(B1861/2)+(control!$B$4-MIN(B1861*C1861/6,400))/(B1861/8)","v":97.421052631578945},22]
["Hot Spot",22,61,"M",{"$f":"MIN(B1862*C1862/6,400)/(B1862/2)+(control!$B$4-MIN(B1862*C1862/6,400))/(B1862/8)","v":84.454545454545453},25]
["Hot Streak",21,77,"S",{"$f":"MIN(B1863*C1863/6,400)/(B1863/2)+(control!$B$4-MIN(B1863*C1863/6,400))/(B1863/8)","v":75.38095238095238},24]
["Hot Toddy",24,95,"D",{"$f":"MIN(B1864*C1864/6,400)/(B1864/2)+(control!$B$4-MIN(B1864*C1864/6,400))/(B1864/8)","v":38.333333333333336},24]
["HotJava",18,87,"S",{"$f":"MIN(B1865*C1865/6,400)/(B1865/2)+(control!$B$4-MIN(B1865*C1865/6,400))/(B1865/8)","v":90.777777777777771},20]
["Hotshot",27,99,"D",{"$f":"MIN(B1866*C1866/6,400)/(B1866/2)+(control!$B$4-MIN(B1866*C1866/6,400))/(B1866/8)","v":29.62962962962963},27]
["Houdini",16,95,"D",{"$f":"MIN(B1867*C1867/6,400)/(B1867/2)+(control!$B$4-MIN(B1867*C1867/6,400))/(B1867/8)","v":105},16]
["Houdon (beautiful ears in arabic)",21,74,"S",{"$f":"MIN(B1868*C1868/6,400)/(B1868/2)+(control!$B$4-MIN(B1868*C1868/6,400))/(B1868/8)","v":78.38095238095238},24]
["Houston",21,81,"S",{"$f":"MIN(B1869*C1869/6,400)/(B1869/2)+(control!$B$4-MIN(B1869*C1869/6,400))/(B1869/8)","v":71.38095238095238},21]
["Houston's Landing",22,65,"M",{"$f":"MIN(B1870*C1870/6,400)/(B1870/2)+(control!$B$4-MIN(B1870*C1870/6,400))/(B1870/8)","v":80.454545454545453},23]
["How Do You Like Me Now",25,62,"S",{"$f":"MIN(B1871*C1871/6,400)/(B1871/2)+(control!$B$4-MIN(B1871*C1871/6,400))/(B1871/8)","v":66},29]
["Howler",24,77,"S",{"$f":"MIN(B1872*C1872/6,400)/(B1872/2)+(control!$B$4-MIN(B1872*C1872/6,400))/(B1872/8)","v":56.333333333333336},25]
["Huckleberry",27,72,"S",{"$f":"MIN(B1873*C1873/6,400)/(B1873/2)+(control!$B$4-MIN(B1873*C1873/6,400))/(B1873/8)","v":46.518518518518519},29]
["Huey",18,82,"M",{"$f":"MIN(B1874*C1874/6,400)/(B1874/2)+(control!$B$4-MIN(B1874*C1874/6,400))/(B1874/8)","v":95.777777777777771},20]
["Hug Me Henry",21,66,"M",{"$f":"MIN(B1875*C1875/6,400)/(B1875/2)+(control!$B$4-MIN(B1875*C1875/6,400))/(B1875/8)","v":86.38095238095238},25]
["Hugo",22,71,"S",{"$f":"MIN(B1876*C1876/6,400)/(B1876/2)+(control!$B$4-MIN(B1876*C1876/6,400))/(B1876/8)","v":74.454545454545467},26]
["Hum",22,103,"D",{"$f":"MIN(B1877*C1877/6,400)/(B1877/2)+(control!$B$4-MIN(B1877*C1877/6,400))/(B1877/8)","v":42.454545454545453},25]
["Humble Glory",17,83,"S",{"$f":"MIN(B1878*C1878/6,400)/(B1878/2)+(control!$B$4-MIN(B1878*C1878/6,400))/(B1878/8)","v":105.23529411764707},19]
["Hummer",19,103,"S",{"$f":"MIN(B1879*C1879/6,400)/(B1879/2)+(control!$B$4-MIN(B1879*C1879/6,400))/(B1879/8)","v":65.421052631578945},20]
["Hummingbird",25,70,"S",{"$f":"MIN(B1880*C1880/6,400)/(B1880/2)+(control!$B$4-MIN(B1880*C1880/6,400))/(B1880/8)","v":57.999999999999993},28]
["Humphrey",23,78,"M",{"$f":"MIN(B1881*C1881/6,400)/(B1881/2)+(control!$B$4-MIN(B1881*C1881/6,400))/(B1881/8)","v":61.130434782608695},27]
["Hunter",18,92,"D",{"$f":"MIN(B1882*C1882/6,400)/(B1882/2)+(control!$B$4-MIN(B1882*C1882/6,400))/(B1882/8)","v":85.777777777777786},21]
["Hunter's Pride",15,62,"M",{"$f":"MIN(B1883*C1883/6,400)/(B1883/2)+(control!$B$4-MIN(B1883*C1883/6,400))/(B1883/8)","v":151.33333333333331},15]
["Hurricane Bay",18,86,"S",{"$f":"MIN(B1884*C1884/6,400)/(B1884/2)+(control!$B$4-MIN(B1884*C1884/6,400))/(B1884/8)","v":91.777777777777786},19]
["Hussy",22,84,"S",{"$f":"MIN(B1885*C1885/6,400)/(B1885/2)+(control!$B$4-MIN(B1885*C1885/6,400))/(B1885/8)","v":61.454545454545453},26]
["Hustle",18,102,"S",{"$f":"MIN(B1886*C1886/6,400)/(B1886/2)+(control!$B$4-MIN(B1886*C1886/6,400))/(B1886/8)","v":75.777777777777771},19]
["I Have a Dream",24,89,"M",{"$f":"MIN(B1887*C1887/6,400)/(B1887/2)+(control!$B$4-MIN(B1887*C1887/6,400))/(B1887/8)","v":44.333333333333336},24]
["I Kick Ass",20,68,"S",{"$f":"MIN(B1888*C1888/6,400)/(B1888/2)+(control!$B$4-MIN(B1888*C1888/6,400))/(B1888/8)","v":92},20]
["Iben",21,100,"S",{"$f":"MIN(B1889*C1889/6,400)/(B1889/2)+(control!$B$4-MIN(B1889*C1889/6,400))/(B1889/8)","v":52.38095238095238},22]
["Ibn",22,69,"S",{"$f":"MIN(B1890*C1890/6,400)/(B1890/2)+(control!$B$4-MIN(B1890*C1890/6,400))/(B1890/8)","v":76.454545454545453},23]
["Icabob",17,64,"S",{"$f":"MIN(B1891*C1891/6,400)/(B1891/2)+(control!$B$4-MIN(B1891*C1891/6,400))/(B1891/8)","v":124.23529411764704},18]
["Icarus",22,80,"S",{"$f":"MIN(B1892*C1892/6,400)/(B1892/2)+(control!$B$4-MIN(B1892*C1892/6,400))/(B1892/8)","v":65.454545454545467},22]
["Ice Cream",17,121,"S",{"$f":"MIN(B1893*C1893/6,400)/(B1893/2)+(control!$B$4-MIN(B1893*C1893/6,400))/(B1893/8)","v":67.235294117647058},18]
["Ice Cream Mix",21,90,"S",{"$f":"MIN(B1894*C1894/6,400)/(B1894/2)+(control!$B$4-MIN(B1894*C1894/6,400))/(B1894/8)","v":62.38095238095238},25]
["Ice Cube",26,77,"S",{"$f":"MIN(B1895*C1895/6,400)/(B1895/2)+(control!$B$4-MIN(B1895*C1895/6,400))/(B1895/8)","v":46.076923076923073},30]
["IceDrop",19,78,"S",{"$f":"MIN(B1896*C1896/6,400)/(B1896/2)+(control!$B$4-MIN(B1896*C1896/6,400))/(B1896/8)","v":90.421052631578945},22]
["Icefall",26,73,"M",{"$f":"MIN(B1897*C1897/6,400)/(B1897/2)+(control!$B$4-MIN(B1897*C1897/6,400))/(B1897/8)","v":50.07692307692308},29]
["Ichabod",20,62,"S",{"$f":"MIN(B1898*C1898/6,400)/(B1898/2)+(control!$B$4-MIN(B1898*C1898/6,400))/(B1898/8)","v":98},22]
["If Only",17,84,"M",{"$f":"MIN(B1899*C1899/6,400)/(B1899/2)+(control!$B$4-MIN(B1899*C1899/6,400))/(B1899/8)","v":104.23529411764706},20]
["Ike",19,69,"S",{"$f":"MIN(B1900*C1900/6,400)/(B1900/2)+(control!$B$4-MIN(B1900*C1900/6,400))/(B1900/8)","v":99.421052631578945},23]
["Ilio",22,70,"S",{"$f":"MIN(B1901*C1901/6,400)/(B1901/2)+(control!$B$4-MIN(B1901*C1901/6,400))/(B1901/8)","v":75.454545454545453},24]
["I'll be yer Huckleberry",20,94,"D",{"$f":"MIN(B1902*C1902/6,400)/(B1902/2)+(control!$B$4-MIN(B1902*C1902/6,400))/(B1902/8)","v":66},22]
["Illiad",19,106,"D",{"$f":"MIN(B1903*C1903/6,400)/(B1903/2)+(control!$B$4-MIN(B1903*C1903/6,400))/(B1903/8)","v":62.421052631578945},21]
["Illusion",21,88,"M",{"$f":"MIN(B1904*C1904/6,400)/(B1904/2)+(control!$B$4-MIN(B1904*C1904/6,400))/(B1904/8)","v":64.38095238095238},22]
["Ilona",22,69,"S",{"$f":"MIN(B1905*C1905/6,400)/(B1905/2)+(control!$B$4-MIN(B1905*C1905/6,400))/(B1905/8)","v":76.454545454545453},23]
["Im Cute N Cool",20,87,"S",{"$f":"MIN(B1906*C1906/6,400)/(B1906/2)+(control!$B$4-MIN(B1906*C1906/6,400))/(B1906/8)","v":73},22]
["I'm Double Secured",21,79,"S",{"$f":"MIN(B1907*C1907/6,400)/(B1907/2)+(control!$B$4-MIN(B1907*C1907/6,400))/(B1907/8)","v":73.38095238095238},22]
["Ima Cowboy Yes I Am",22,74,"S",{"$f":"MIN(B1908*C1908/6,400)/(B1908/2)+(control!$B$4-MIN(B1908*C1908/6,400))/(B1908/8)","v":71.454545454545467},26]
["Ima Golden Champagn",19,120,"S",{"$f":"MIN(B1909*C1909/6,400)/(B1909/2)+(control!$B$4-MIN(B1909*C1909/6,400))/(B1909/8)","v":48.421052631578945},23]
["Ima Hustler Baby",22,112,"M",{"$f":"MIN(B1910*C1910/6,400)/(B1910/2)+(control!$B$4-MIN(B1910*C1910/6,400))/(B1910/8)","v":36.363636363636367},26]
["Ima Perdy Lady",26,74,"M",{"$f":"MIN(B1911*C1911/6,400)/(B1911/2)+(control!$B$4-MIN(B1911*C1911/6,400))/(B1911/8)","v":49.076923076923073},28]
["Image",21,94,"D",{"$f":"MIN(B1912*C1912/6,400)/(B1912/2)+(control!$B$4-MIN(B1912*C1912/6,400))/(B1912/8)","v":58.38095238095238},23]
["Imagine",21,104,"S",{"$f":"MIN(B1913*C1913/6,400)/(B1913/2)+(control!$B$4-MIN(B1913*C1913/6,400))/(B1913/8)","v":48.38095238095238},22]
["Imagine That",25,70,"S",{"$f":"MIN(B1914*C1914/6,400)/(B1914/2)+(control!$B$4-MIN(B1914*C1914/6,400))/(B1914/8)","v":57.999999999999993},28]
["Immotal Flame",26,120,"D",{"$f":"MIN(B1915*C1915/6,400)/(B1915/2)+(control!$B$4-MIN(B1915*C1915/6,400))/(B1915/8)","v":30.76923076923077},27]
["Imogen",20,71,"M",{"$f":"MIN(B1916*C1916/6,400)/(B1916/2)+(control!$B$4-MIN(B1916*C1916/6,400))/(B1916/8)","v":89},24]
["Imogene",26,70,"S",{"$f":"MIN(B1917*C1917/6,400)/(B1917/2)+(control!$B$4-MIN(B1917*C1917/6,400))/(B1917/8)","v":53.07692307692308},27]
["Impossible",19,74,"M",{"$f":"MIN(B1918*C1918/6,400)/(B1918/2)+(control!$B$4-MIN(B1918*C1918/6,400))/(B1918/8)","v":94.421052631578945},19]
["Impossible Dream",19,97,"S",{"$f":"MIN(B1919*C1919/6,400)/(B1919/2)+(control!$B$4-MIN(B1919*C1919/6,400))/(B1919/8)","v":71.421052631578945},19]
["Impressive",21,93,"S",{"$f":"MIN(B1920*C1920/6,400)/(B1920/2)+(control!$B$4-MIN(B1920*C1920/6,400))/(B1920/8)","v":59.38095238095238},23]
["Imprintible",18,79,"S",{"$f":"MIN(B1921*C1921/6,400)/(B1921/2)+(control!$B$4-MIN(B1921*C1921/6,400))/(B1921/8)","v":98.777777777777771},22]
["In a tizzi",24,79,"S",{"$f":"MIN(B1922*C1922/6,400)/(B1922/2)+(control!$B$4-MIN(B1922*C1922/6,400))/(B1922/8)","v":54.333333333333329},25]
["In The Moonlight",19,86,"M",{"$f":"MIN(B1923*C1923/6,400)/(B1923/2)+(control!$B$4-MIN(B1923*C1923/6,400))/(B1923/8)","v":82.421052631578959},23]
["In The Spotlight",18,103,"S",{"$f":"MIN(B1924*C1924/6,400)/(B1924/2)+(control!$B$4-MIN(B1924*C1924/6,400))/(B1924/8)","v":74.777777777777771},19]
["In Your Dreams",15,69,"S",{"$f":"MIN(B1925*C1925/6,400)/(B1925/2)+(control!$B$4-MIN(B1925*C1925/6,400))/(B1925/8)","v":144.33333333333331},19]
["In Your Eyes",22,94,"D",{"$f":"MIN(B1926*C1926/6,400)/(B1926/2)+(control!$B$4-MIN(B1926*C1926/6,400))/(B1926/8)","v":51.454545454545453},23]
["Inca",20,90,"S",{"$f":"MIN(B1927*C1927/6,400)/(B1927/2)+(control!$B$4-MIN(B1927*C1927/6,400))/(B1927/8)","v":70},22]
["Inca Gold",19,105,"S",{"$f":"MIN(B1928*C1928/6,400)/(B1928/2)+(control!$B$4-MIN(B1928*C1928/6,400))/(B1928/8)","v":63.421052631578945},21]
["Indepth",15,113,"M",{"$f":"MIN(B1929*C1929/6,400)/(B1929/2)+(control!$B$4-MIN(B1929*C1929/6,400))/(B1929/8)","v":100.33333333333333},15]
["India",20,90,"M",{"$f":"MIN(B1930*C1930/6,400)/(B1930/2)+(control!$B$4-MIN(B1930*C1930/6,400))/(B1930/8)","v":70},20]
["Indian",21,71,"M",{"$f":"MIN(B1931*C1931/6,400)/(B1931/2)+(control!$B$4-MIN(B1931*C1931/6,400))/(B1931/8)","v":81.38095238095238},22]
["Indian Paint",17,76,"M",{"$f":"MIN(B1932*C1932/6,400)/(B1932/2)+(control!$B$4-MIN(B1932*C1932/6,400))/(B1932/8)","v":112.23529411764704},19]
["Indian Paintbrush",16,94,"S",{"$f":"MIN(B1933*C1933/6,400)/(B1933/2)+(control!$B$4-MIN(B1933*C1933/6,400))/(B1933/8)","v":106},20]
["Indiana (Jones)",22,71,"S",{"$f":"MIN(B1934*C1934/6,400)/(B1934/2)+(control!$B$4-MIN(B1934*C1934/6,400))/(B1934/8)","v":74.454545454545467},22]
["Indigo",22,63,"M",{"$f":"MIN(B1935*C1935/6,400)/(B1935/2)+(control!$B$4-MIN(B1935*C1935/6,400))/(B1935/8)","v":82.454545454545453},23]
["Indy",18,112,"D",{"$f":"MIN(B1936*C1936/6,400)/(B1936/2)+(control!$B$4-MIN(B1936*C1936/6,400))/(B1936/8)","v":65.777777777777771},21]
["Infatuation",25,63,"M",{"$f":"MIN(B1937*C1937/6,400)/(B1937/2)+(control!$B$4-MIN(B1937*C1937/6,400))/(B1937/8)","v":65},27]
["Inferno",20,59,"S",{"$f":"MIN(B1938*C1938/6,400)/(B1938/2)+(control!$B$4-MIN(B1938*C1938/6,400))/(B1938/8)","v":101},20]
["Inka",24,105,"S",{"$f":"MIN(B1939*C1939/6,400)/(B1939/2)+(control!$B$4-MIN(B1939*C1939/6,400))/(B1939/8)","v":33.333333333333336},27]
["Inky",15,83,"S",{"$f":"MIN(B1940*C1940/6,400)/(B1940/2)+(control!$B$4-MIN(B1940*C1940/6,400))/(B1940/8)","v":130.33333333333334},17]
["Inky Black",25,78,"S",{"$f":"MIN(B1941*C1941/6,400)/(B1941/2)+(control!$B$4-MIN(B1941*C1941/6,400))/(B1941/8)","v":50},26]
["Innocence",26,70,"M",{"$f":"MIN(B1942*C1942/6,400)/(B1942/2)+(control!$B$4-MIN(B1942*C1942/6,400))/(B1942/8)","v":53.07692307692308},30]
["Inspired Kiss",18,80,"S",{"$f":"MIN(B1943*C1943/6,400)/(B1943/2)+(control!$B$4-MIN(B1943*C1943/6,400))/(B1943/8)","v":97.777777777777786},20]
["Integrity's Promise",20,69,"S",{"$f":"MIN(B1944*C1944/6,400)/(B1944/2)+(control!$B$4-MIN(B1944*C1944/6,400))/(B1944/8)","v":91},22]
["Intense Suspense",22,107,"D",{"$f":"MIN(B1945*C1945/6,400)/(B1945/2)+(control!$B$4-MIN(B1945*C1945/6,400))/(B1945/8)","v":38.45454545454546},22]
["Intergalatitic",21,71,"M",{"$f":"MIN(B1946*C1946/6,400)/(B1946/2)+(control!$B$4-MIN(B1946*C1946/6,400))/(B1946/8)","v":81.38095238095238},23]
["International",19,113,"S",{"$f":"MIN(B1947*C1947/6,400)/(B1947/2)+(control!$B$4-MIN(B1947*C1947/6,400))/(B1947/8)","v":55.421052631578952},22]
["Interupted",22,120,"D",{"$f":"MIN(B1948*C1948/6,400)/(B1948/2)+(control!$B$4-MIN(B1948*C1948/6,400))/(B1948/8)","v":36.363636363636367},22]
["Into The Wind",19,88,"M",{"$f":"MIN(B1949*C1949/6,400)/(B1949/2)+(control!$B$4-MIN(B1949*C1949/6,400))/(B1949/8)","v":80.421052631578945},19]
["Intrigue",25,63,"M",{"$f":"MIN(B1950*C1950/6,400)/(B1950/2)+(control!$B$4-MIN(B1950*C1950/6,400))/(B1950/8)","v":65},29]
["Iola",23,79,"M",{"$f":"MIN(B1951*C1951/6,400)/(B1951/2)+(control!$B$4-MIN(B1951*C1951/6,400))/(B1951/8)","v":60.130434782608702},27]
["Iolanthe",20,118,"D",{"$f":"MIN(B1952*C1952/6,400)/(B1952/2)+(control!$B$4-MIN(B1952*C1952/6,400))/(B1952/8)","v":42},21]
["Iris Moon Glo",22,73,"M",{"$f":"MIN(B1953*C1953/6,400)/(B1953/2)+(control!$B$4-MIN(B1953*C1953/6,400))/(B1953/8)","v":72.454545454545453},26]
["Irish",21,97,"S",{"$f":"MIN(B1954*C1954/6,400)/(B1954/2)+(control!$B$4-MIN(B1954*C1954/6,400))/(B1954/8)","v":55.38095238095238},22]
["Irish mist",15,123,"S",{"$f":"MIN(B1955*C1955/6,400)/(B1955/2)+(control!$B$4-MIN(B1955*C1955/6,400))/(B1955/8)","v":90.333333333333343},18]
["Irish Song",21,79,"M",{"$f":"MIN(B1956*C1956/6,400)/(B1956/2)+(control!$B$4-MIN(B1956*C1956/6,400))/(B1956/8)","v":73.38095238095238},23]
["Iron Maiden",18,66,"M",{"$f":"MIN(B1957*C1957/6,400)/(B1957/2)+(control!$B$4-MIN(B1957*C1957/6,400))/(B1957/8)","v":111.77777777777777},19]
["Iroquois Lady",20,88,"M",{"$f":"MIN(B1958*C1958/6,400)/(B1958/2)+(control!$B$4-MIN(B1958*C1958/6,400))/(B1958/8)","v":72},21]
["Isaac",24,98,"D",{"$f":"MIN(B1959*C1959/6,400)/(B1959/2)+(control!$B$4-MIN(B1959*C1959/6,400))/(B1959/8)","v":35.333333333333329},26]
["Ishan",22,76,"M",{"$f":"MIN(B1960*C1960/6,400)/(B1960/2)+(control!$B$4-MIN(B1960*C1960/6,400))/(B1960/8)","v":69.454545454545453},26]
["Ishara (Arabic=Omen)",22,75,"M",{"$f":"MIN(B1961*C1961/6,400)/(B1961/2)+(control!$B$4-MIN(B1961*C1961/6,400))/(B1961/8)","v":70.454545454545453},23]
["Ishtar",22,122,"M",{"$f":"MIN(B1962*C1962/6,400)/(B1962/2)+(control!$B$4-MIN(B1962*C1962/6,400))/(B1962/8)","v":36.363636363636367},26]
["Isis",21,76,"S",{"$f":"MIN(B1963*C1963/6,400)/(B1963/2)+(control!$B$4-MIN(B1963*C1963/6,400))/(B1963/8)","v":76.38095238095238},21]
["Isn't She Something",21,104,"D",{"$f":"MIN(B1964*C1964/6,400)/(B1964/2)+(control!$B$4-MIN(B1964*C1964/6,400))/(B1964/8)","v":48.38095238095238},24]
["Isolde",21,72,"M",{"$f":"MIN(B1965*C1965/6,400)/(B1965/2)+(control!$B$4-MIN(B1965*C1965/6,400))/(B1965/8)","v":80.38095238095238},22]
["It Takes Two",22,82,"S",{"$f":"MIN(B1966*C1966/6,400)/(B1966/2)+(control!$B$4-MIN(B1966*C1966/6,400))/(B1966/8)","v":63.454545454545453},26]
["It's A Long Story",20,110,"S",{"$f":"MIN(B1967*C1967/6,400)/(B1967/2)+(control!$B$4-MIN(B1967*C1967/6,400))/(B1967/8)","v":50},23]
["Itsy Bitsy",17,82,"S",{"$f":"MIN(B1968*C1968/6,400)/(B1968/2)+(control!$B$4-MIN(B1968*C1968/6,400))/(B1968/8)","v":106.23529411764704},21]
["Ivan",15,82,"S",{"$f":"MIN(B1969*C1969/6,400)/(B1969/2)+(control!$B$4-MIN(B1969*C1969/6,400))/(B1969/8)","v":131.33333333333334},18]
["Ivory",21,85,"S",{"$f":"MIN(B1970*C1970/6,400)/(B1970/2)+(control!$B$4-MIN(B1970*C1970/6,400))/(B1970/8)","v":67.38095238095238},21]
["Ivy",21,81,"S",{"$f":"MIN(B1971*C1971/6,400)/(B1971/2)+(control!$B$4-MIN(B1971*C1971/6,400))/(B1971/8)","v":71.38095238095238},25]
["Ivy League",25,86,"M",{"$f":"MIN(B1972*C1972/6,400)/(B1972/2)+(control!$B$4-MIN(B1972*C1972/6,400))/(B1972/8)","v":42},25]
["Izzi",19,108,"M",{"$f":"MIN(B1973*C1973/6,400)/(B1973/2)+(control!$B$4-MIN(B1973*C1973/6,400))/(B1973/8)","v":60.421052631578945},23]
["Izzie",21,87,"M",{"$f":"MIN(B1974*C1974/6,400)/(B1974/2)+(control!$B$4-MIN(B1974*C1974/6,400))/(B1974/8)","v":65.38095238095238},22]
["Izzy",23,93,"D",{"$f":"MIN(B1975*C1975/6,400)/(B1975/2)+(control!$B$4-MIN(B1975*C1975/6,400))/(B1975/8)","v":46.130434782608695},26]
["Izzy Fine",18,86,"S",{"$f":"MIN(B1976*C1976/6,400)/(B1976/2)+(control!$B$4-MIN(B1976*C1976/6,400))/(B1976/8)","v":91.777777777777786},19]
["J.D. (Jack Daniels)",18,68,"M",{"$f":"MIN(B1977*C1977/6,400)/(B1977/2)+(control!$B$4-MIN(B1977*C1977/6,400))/(B1977/8)","v":109.77777777777779},18]
["Jack",23,75,"S",{"$f":"MIN(B1978*C1978/6,400)/(B1978/2)+(control!$B$4-MIN(B1978*C1978/6,400))/(B1978/8)","v":64.130434782608688},27]
["Jack",24,71,"S",{"$f":"MIN(B1979*C1979/6,400)/(B1979/2)+(control!$B$4-MIN(B1979*C1979/6,400))/(B1979/8)","v":62.333333333333329},27]
["Jack Daniels",22,103,"S",{"$f":"MIN(B1980*C1980/6,400)/(B1980/2)+(control!$B$4-MIN(B1980*C1980/6,400))/(B1980/8)","v":42.454545454545453},26]
["Jack Daniels Pride",20,92,"D",{"$f":"MIN(B1981*C1981/6,400)/(B1981/2)+(control!$B$4-MIN(B1981*C1981/6,400))/(B1981/8)","v":68},23]
["Jack Frost",20,94,"D",{"$f":"MIN(B1982*C1982/6,400)/(B1982/2)+(control!$B$4-MIN(B1982*C1982/6,400))/(B1982/8)","v":66},21]
["Jack of hearts",19,67,"S",{"$f":"MIN(B1983*C1983/6,400)/(B1983/2)+(control!$B$4-MIN(B1983*C1983/6,400))/(B1983/8)","v":101.42105263157895},23]
["Jack the Jumper",27,84,"M",{"$f":"MIN(B1984*C1984/6,400)/(B1984/2)+(control!$B$4-MIN(B1984*C1984/6,400))/(B1984/8)","v":34.518518518518519},28]
["Jackie",26,86,"S",{"$f":"MIN(B1985*C1985/6,400)/(B1985/2)+(control!$B$4-MIN(B1985*C1985/6,400))/(B1985/8)","v":37.076923076923073},28]
["Jackpot",20,121,"S",{"$f":"MIN(B1986*C1986/6,400)/(B1986/2)+(control!$B$4-MIN(B1986*C1986/6,400))/(B1986/8)","v":40},20]
["Jacky",19,101,"S",{"$f":"MIN(B1987*C1987/6,400)/(B1987/2)+(control!$B$4-MIN(B1987*C1987/6,400))/(B1987/8)","v":67.421052631578959},23]
["Jacob",27,69,"S",{"$f":"MIN(B1988*C1988/6,400)/(B1988/2)+(control!$B$4-MIN(B1988*C1988/6,400))/(B1988/8)","v":49.518518518518519},30]
["Jade",22,94,"D",{"$f":"MIN(B1989*C1989/6,400)/(B1989/2)+(control!$B$4-MIN(B1989*C1989/6,400))/(B1989/8)","v":51.454545454545453},26]
["Jag",18,78,"M",{"$f":"MIN(B1990*C1990/6,400)/(B1990/2)+(control!$B$4-MIN(B1990*C1990/6,400))/(B1990/8)","v":99.777777777777771},19]
["Jagajets",20,94,"D",{"$f":"MIN(B1991*C1991/6,400)/(B1991/2)+(control!$B$4-MIN(B1991*C1991/6,400))/(B1991/8)","v":66},21]
["Jaipur",18,88,"S",{"$f":"MIN(B1992*C1992/6,400)/(B1992/2)+(control!$B$4-MIN(B1992*C1992/6,400))/(B1992/8)","v":89.777777777777771},18]
["Jake",16,70,"S",{"$f":"MIN(B1993*C1993/6,400)/(B1993/2)+(control!$B$4-MIN(B1993*C1993/6,400))/(B1993/8)","v":130},18]
["Jalapeño",19,117,"S",{"$f":"MIN(B1994*C1994/6,400)/(B1994/2)+(control!$B$4-MIN(B1994*C1994/6,400))/(B1994/8)","v":51.421052631578945},19]
["Jameela (Arabic=Beautiful)",15,101,"M",{"$f":"MIN(B1995*C1995/6,400)/(B1995/2)+(control!$B$4-MIN(B1995*C1995/6,400))/(B1995/8)","v":112.33333333333334},18]
["James",24,90,"S",{"$f":"MIN(B1996*C1996/6,400)/(B1996/2)+(control!$B$4-MIN(B1996*C1996/6,400))/(B1996/8)","v":43.333333333333336},28]
["James Bond",23,122,"S",{"$f":"MIN(B1997*C1997/6,400)/(B1997/2)+(control!$B$4-MIN(B1997*C1997/6,400))/(B1997/8)","v":34.782608695652172},27]
["Jamie Lee Jet",19,70,"S",{"$f":"MIN(B1998*C1998/6,400)/(B1998/2)+(control!$B$4-MIN(B1998*C1998/6,400))/(B1998/8)","v":98.421052631578945},21]
["Jammer",24,63,"S",{"$f":"MIN(B1999*C1999/6,400)/(B1999/2)+(control!$B$4-MIN(B1999*C1999/6,400))/(B1999/8)","v":70.333333333333343},25]
["Jamocha",23,85,"S",{"$f":"MIN(B2000*C2000/6,400)/(B2000/2)+(control!$B$4-MIN(B2000*C2000/6,400))/(B2000/8)","v":54.130434782608702},27]
["Jana",22,71,"S",{"$f":"MIN(B2001*C2001/6,400)/(B2001/2)+(control!$B$4-MIN(B2001*C2001/6,400))/(B2001/8)","v":74.454545454545467},23]
["Jantana ,",18,59,"S",{"$f":"MIN(B2002*C2002/6,400)/(B2002/2)+(control!$B$4-MIN(B2002*C2002/6,400))/(B2002/8)","v":118.77777777777779},22]
["Jasmine",19,63,"M",{"$f":"MIN(B2003*C2003/6,400)/(B2003/2)+(control!$B$4-MIN(B2003*C2003/6,400))/(B2003/8)","v":105.42105263157895},22]
["Jason",21,102,"S",{"$f":"MIN(B2004*C2004/6,400)/(B2004/2)+(control!$B$4-MIN(B2004*C2004/6,400))/(B2004/8)","v":50.38095238095238},21]
["Jasper",23,85,"M",{"$f":"MIN(B2005*C2005/6,400)/(B2005/2)+(control!$B$4-MIN(B2005*C2005/6,400))/(B2005/8)","v":54.130434782608702},25]
["Java",16,84,"M",{"$f":"MIN(B2006*C2006/6,400)/(B2006/2)+(control!$B$4-MIN(B2006*C2006/6,400))/(B2006/8)","v":116},19]
["Javen",23,104,"D",{"$f":"MIN(B2007*C2007/6,400)/(B2007/2)+(control!$B$4-MIN(B2007*C2007/6,400))/(B2007/8)","v":35.130434782608695},26]
["Jay jay",21,78,"S",{"$f":"MIN(B2008*C2008/6,400)/(B2008/2)+(control!$B$4-MIN(B2008*C2008/6,400))/(B2008/8)","v":74.38095238095238},24]
["Jazz",20,99,"D",{"$f":"MIN(B2009*C2009/6,400)/(B2009/2)+(control!$B$4-MIN(B2009*C2009/6,400))/(B2009/8)","v":61},22]
["Jazz Dancer",26,97,"D",{"$f":"MIN(B2010*C2010/6,400)/(B2010/2)+(control!$B$4-MIN(B2010*C2010/6,400))/(B2010/8)","v":30.76923076923077},30]
["Jazz It Up",18,72,"S",{"$f":"MIN(B2011*C2011/6,400)/(B2011/2)+(control!$B$4-MIN(B2011*C2011/6,400))/(B2011/8)","v":105.77777777777777},19]
["Jazzman",15,84,"M",{"$f":"MIN(B2012*C2012/6,400)/(B2012/2)+(control!$B$4-MIN(B2012*C2012/6,400))/(B2012/8)","v":129.33333333333331},16]
["Jazzstar",25,89,"M",{"$f":"MIN(B2013*C2013/6,400)/(B2013/2)+(control!$B$4-MIN(B2013*C2013/6,400))/(B2013/8)","v":39},29]
["Jazzy",19,59,"S",{"$f":"MIN(B2014*C2014/6,400)/(B2014/2)+(control!$B$4-MIN(B2014*C2014/6,400))/(B2014/8)","v":109.42105263157895},20]
["Jazzy Lady",19,91,"D",{"$f":"MIN(B2015*C2015/6,400)/(B2015/2)+(control!$B$4-MIN(B2015*C2015/6,400))/(B2015/8)","v":77.421052631578945},20]
["Jedi Knight",21,71,"M",{"$f":"MIN(B2016*C2016/6,400)/(B2016/2)+(control!$B$4-MIN(B2016*C2016/6,400))/(B2016/8)","v":81.38095238095238},24]
["Jeep",19,85,"M",{"$f":"MIN(B2017*C2017/6,400)/(B2017/2)+(control!$B$4-MIN(B2017*C2017/6,400))/(B2017/8)","v":83.421052631578945},21]
["Jelly",16,86,"M",{"$f":"MIN(B2018*C2018/6,400)/(B2018/2)+(control!$B$4-MIN(B2018*C2018/6,400))/(B2018/8)","v":114},16]
["Jellybean",21,82,"S",{"$f":"MIN(B2019*C2019/6,400)/(B2019/2)+(control!$B$4-MIN(B2019*C2019/6,400))/(B2019/8)","v":70.38095238095238},24]
["Jellybelly",22,66,"M",{"$f":"MIN(B2020*C2020/6,400)/(B2020/2)+(control!$B$4-MIN(B2020*C2020/6,400))/(B2020/8)","v":79.454545454545453},26]
["Jenny",19,81,"S",{"$f":"MIN(B2021*C2021/6,400)/(B2021/2)+(control!$B$4-MIN(B2021*C2021/6,400))/(B2021/8)","v":87.421052631578945},23]
["Jesse",15,99,"S",{"$f":"MIN(B2022*C2022/6,400)/(B2022/2)+(control!$B$4-MIN(B2022*C2022/6,400))/(B2022/8)","v":114.33333333333333},18]
["Jessica",21,71,"M",{"$f":"MIN(B2023*C2023/6,400)/(B2023/2)+(control!$B$4-MIN(B2023*C2023/6,400))/(B2023/8)","v":81.38095238095238},25]
["Jessie",26,69,"S",{"$f":"MIN(B2024*C2024/6,400)/(B2024/2)+(control!$B$4-MIN(B2024*C2024/6,400))/(B2024/8)","v":54.07692307692308},26]
["Jessie Girl",18,87,"S",{"$f":"MIN(B2025*C2025/6,400)/(B2025/2)+(control!$B$4-MIN(B2025*C2025/6,400))/(B2025/8)","v":90.777777777777771},22]
["Jessie James",16,84,"S",{"$f":"MIN(B2026*C2026/6,400)/(B2026/2)+(control!$B$4-MIN(B2026*C2026/6,400))/(B2026/8)","v":116},16]
["Jester",20,96,"D",{"$f":"MIN(B2027*C2027/6,400)/(B2027/2)+(control!$B$4-MIN(B2027*C2027/6,400))/(B2027/8)","v":64},21]
["Jet",18,105,"D",{"$f":"MIN(B2028*C2028/6,400)/(B2028/2)+(control!$B$4-MIN(B2028*C2028/6,400))/(B2028/8)","v":72.777777777777771},19]
["Jet Stream",16,81,"M",{"$f":"MIN(B2029*C2029/6,400)/(B2029/2)+(control!$B$4-MIN(B2029*C2029/6,400))/(B2029/8)","v":119},17]
["Jetter",21,93,"D",{"$f":"MIN(B2030*C2030/6,400)/(B2030/2)+(control!$B$4-MIN(B2030*C2030/6,400))/(B2030/8)","v":59.38095238095238},23]
["Jettie",24,109,"D",{"$f":"MIN(B2031*C2031/6,400)/(B2031/2)+(control!$B$4-MIN(B2031*C2031/6,400))/(B2031/8)","v":33.333333333333336},24]
["Jewel",20,123,"S",{"$f":"MIN(B2032*C2032/6,400)/(B2032/2)+(control!$B$4-MIN(B2032*C2032/6,400))/(B2032/8)","v":40},20]
["Jewelclaw",20,85,"M",{"$f":"MIN(B2033*C2033/6,400)/(B2033/2)+(control!$B$4-MIN(B2033*C2033/6,400))/(B2033/8)","v":75},20]
["Jewell",21,105,"D",{"$f":"MIN(B2034*C2034/6,400)/(B2034/2)+(control!$B$4-MIN(B2034*C2034/6,400))/(B2034/8)","v":47.38095238095238},25]
["Jezzabelle",18,83,"M",{"$f":"MIN(B2035*C2035/6,400)/(B2035/2)+(control!$B$4-MIN(B2035*C2035/6,400))/(B2035/8)","v":94.777777777777786},19]
["Jigga",20,89,"S",{"$f":"MIN(B2036*C2036/6,400)/(B2036/2)+(control!$B$4-MIN(B2036*C2036/6,400))/(B2036/8)","v":71},23]
["Jigger",19,120,"S",{"$f":"MIN(B2037*C2037/6,400)/(B2037/2)+(control!$B$4-MIN(B2037*C2037/6,400))/(B2037/8)","v":48.421052631578945},22]
["JigSaw",19,98,"D",{"$f":"MIN(B2038*C2038/6,400)/(B2038/2)+(control!$B$4-MIN(B2038*C2038/6,400))/(B2038/8)","v":70.421052631578959},19]
["Jigsy",26,85,"M",{"$f":"MIN(B2039*C2039/6,400)/(B2039/2)+(control!$B$4-MIN(B2039*C2039/6,400))/(B2039/8)","v":38.07692307692308},28]
["Jill",22,94,"M",{"$f":"MIN(B2040*C2040/6,400)/(B2040/2)+(control!$B$4-MIN(B2040*C2040/6,400))/(B2040/8)","v":51.454545454545453},26]
["Jillian",22,104,"S",{"$f":"MIN(B2041*C2041/6,400)/(B2041/2)+(control!$B$4-MIN(B2041*C2041/6,400))/(B2041/8)","v":41.45454545454546},25]
["Jim Dandy",16,123,"D",{"$f":"MIN(B2042*C2042/6,400)/(B2042/2)+(control!$B$4-MIN(B2042*C2042/6,400))/(B2042/8)","v":77},16]
["Jimbo",25,76,"S",{"$f":"MIN(B2043*C2043/6,400)/(B2043/2)+(control!$B$4-MIN(B2043*C2043/6,400))/(B2043/8)","v":52},29]
["Jim-bob McKeown",25,111,"S",{"$f":"MIN(B2044*C2044/6,400)/(B2044/2)+(control!$B$4-MIN(B2044*C2044/6,400))/(B2044/8)","v":32},27]
["Jiminy cricket",17,98,"D",{"$f":"MIN(B2045*C2045/6,400)/(B2045/2)+(control!$B$4-MIN(B2045*C2045/6,400))/(B2045/8)","v":90.235294117647058},19]
["Jimmy",20,69,"S",{"$f":"MIN(B2046*C2046/6,400)/(B2046/2)+(control!$B$4-MIN(B2046*C2046/6,400))/(B2046/8)","v":91},21]
["Jingles",17,97,"D",{"$f":"MIN(B2047*C2047/6,400)/(B2047/2)+(control!$B$4-MIN(B2047*C2047/6,400))/(B2047/8)","v":91.235294117647072},17]
["Jingo",21,102,"S",{"$f":"MIN(B2048*C2048/6,400)/(B2048/2)+(control!$B$4-MIN(B2048*C2048/6,400))/(B2048/8)","v":50.38095238095238},24]
["Jinx",25,86,"S",{"$f":"MIN(B2049*C2049/6,400)/(B2049/2)+(control!$B$4-MIN(B2049*C2049/6,400))/(B2049/8)","v":42},29]
["Jitter Bug",24,71,"M",{"$f":"MIN(B2050*C2050/6,400)/(B2050/2)+(control!$B$4-MIN(B2050*C2050/6,400))/(B2050/8)","v":62.333333333333329},26]
["Jitters",20,74,"M",{"$f":"MIN(B2051*C2051/6,400)/(B2051/2)+(control!$B$4-MIN(B2051*C2051/6,400))/(B2051/8)","v":86},21]
["Jo",16,97,"D",{"$f":"MIN(B2052*C2052/6,400)/(B2052/2)+(control!$B$4-MIN(B2052*C2052/6,400))/(B2052/8)","v":103},20]
["Jodami",23,95,"D",{"$f":"MIN(B2053*C2053/6,400)/(B2053/2)+(control!$B$4-MIN(B2053*C2053/6,400))/(B2053/8)","v":44.130434782608688},26]
["Jodi",21,76,"M",{"$f":"MIN(B2054*C2054/6,400)/(B2054/2)+(control!$B$4-MIN(B2054*C2054/6,400))/(B2054/8)","v":76.38095238095238},22]
["Jody",25,61,"S",{"$f":"MIN(B2055*C2055/6,400)/(B2055/2)+(control!$B$4-MIN(B2055*C2055/6,400))/(B2055/8)","v":67},29]
["Joe Spot",18,72,"M",{"$f":"MIN(B2056*C2056/6,400)/(B2056/2)+(control!$B$4-MIN(B2056*C2056/6,400))/(B2056/8)","v":105.77777777777777},22]
["Joey",23,123,"S",{"$f":"MIN(B2057*C2057/6,400)/(B2057/2)+(control!$B$4-MIN(B2057*C2057/6,400))/(B2057/8)","v":34.782608695652172},25]
["John",15,62,"S",{"$f":"MIN(B2058*C2058/6,400)/(B2058/2)+(control!$B$4-MIN(B2058*C2058/6,400))/(B2058/8)","v":151.33333333333331},18]
["John Cash",23,90,"M",{"$f":"MIN(B2059*C2059/6,400)/(B2059/2)+(control!$B$4-MIN(B2059*C2059/6,400))/(B2059/8)","v":49.130434782608695},23]
["Johnny",27,84,"M",{"$f":"MIN(B2060*C2060/6,400)/(B2060/2)+(control!$B$4-MIN(B2060*C2060/6,400))/(B2060/8)","v":34.518518518518519},29]
["Johnnys Angel",24,97,"D",{"$f":"MIN(B2061*C2061/6,400)/(B2061/2)+(control!$B$4-MIN(B2061*C2061/6,400))/(B2061/8)","v":36.333333333333336},26]
["JoJo",25,73,"M",{"$f":"MIN(B2062*C2062/6,400)/(B2062/2)+(control!$B$4-MIN(B2062*C2062/6,400))/(B2062/8)","v":55},25]
["Joker",22,102,"D",{"$f":"MIN(B2063*C2063/6,400)/(B2063/2)+(control!$B$4-MIN(B2063*C2063/6,400))/(B2063/8)","v":43.454545454545453},22]
["Jolie",22,113,"S",{"$f":"MIN(B2064*C2064/6,400)/(B2064/2)+(control!$B$4-MIN(B2064*C2064/6,400))/(B2064/8)","v":36.363636363636367},24]
["Jonas",23,93,"S",{"$f":"MIN(B2065*C2065/6,400)/(B2065/2)+(control!$B$4-MIN(B2065*C2065/6,400))/(B2065/8)","v":46.130434782608695},23]
["Jonathan",22,115,"S",{"$f":"MIN(B2066*C2066/6,400)/(B2066/2)+(control!$B$4-MIN(B2066*C2066/6,400))/(B2066/8)","v":36.363636363636367},26]
["Josef",23,63,"S",{"$f":"MIN(B2067*C2067/6,400)/(B2067/2)+(control!$B$4-MIN(B2067*C2067/6,400))/(B2067/8)","v":76.130434782608688},27]
["Josephine",20,69,"S",{"$f":"MIN(B2068*C2068/6,400)/(B2068/2)+(control!$B$4-MIN(B2068*C2068/6,400))/(B2068/8)","v":91},20]
["Joshua Mountain Miracle",25,63,"S",{"$f":"MIN(B2069*C2069/6,400)/(B2069/2)+(control!$B$4-MIN(B2069*C2069/6,400))/(B2069/8)","v":65},29]
["Joss",22,102,"S",{"$f":"MIN(B2070*C2070/6,400)/(B2070/2)+(control!$B$4-MIN(B2070*C2070/6,400))/(B2070/8)","v":43.454545454545453},24]
["Joy",19,88,"S",{"$f":"MIN(B2071*C2071/6,400)/(B2071/2)+(control!$B$4-MIN(B2071*C2071/6,400))/(B2071/8)","v":80.421052631578945},22]
["Joyride",19,95,"D",{"$f":"MIN(B2072*C2072/6,400)/(B2072/2)+(control!$B$4-MIN(B2072*C2072/6,400))/(B2072/8)","v":73.421052631578959},19]
["Jubilee",21,113,"M",{"$f":"MIN(B2073*C2073/6,400)/(B2073/2)+(control!$B$4-MIN(B2073*C2073/6,400))/(B2073/8)","v":39.38095238095238},21]
["Judo",21,105,"D",{"$f":"MIN(B2074*C2074/6,400)/(B2074/2)+(control!$B$4-MIN(B2074*C2074/6,400))/(B2074/8)","v":47.38095238095238},25]
["Jules",19,102,"D",{"$f":"MIN(B2075*C2075/6,400)/(B2075/2)+(control!$B$4-MIN(B2075*C2075/6,400))/(B2075/8)","v":66.421052631578945},21]
["Julie",21,70,"M",{"$f":"MIN(B2076*C2076/6,400)/(B2076/2)+(control!$B$4-MIN(B2076*C2076/6,400))/(B2076/8)","v":82.38095238095238},23]
["Juliet",19,109,"D",{"$f":"MIN(B2077*C2077/6,400)/(B2077/2)+(control!$B$4-MIN(B2077*C2077/6,400))/(B2077/8)","v":59.421052631578945},20]
["Jumbo",18,98,"D",{"$f":"MIN(B2078*C2078/6,400)/(B2078/2)+(control!$B$4-MIN(B2078*C2078/6,400))/(B2078/8)","v":79.777777777777771},21]
["Jumper",19,113,"M",{"$f":"MIN(B2079*C2079/6,400)/(B2079/2)+(control!$B$4-MIN(B2079*C2079/6,400))/(B2079/8)","v":55.421052631578952},23]
["Jumping For Joy",20,62,"S",{"$f":"MIN(B2080*C2080/6,400)/(B2080/2)+(control!$B$4-MIN(B2080*C2080/6,400))/(B2080/8)","v":98},21]
["Jumping Jack",18,90,"M",{"$f":"MIN(B2081*C2081/6,400)/(B2081/2)+(control!$B$4-MIN(B2081*C2081/6,400))/(B2081/8)","v":87.777777777777771},19]
["Jumping Jester",15,90,"M",{"$f":"MIN(B2082*C2082/6,400)/(B2082/2)+(control!$B$4-MIN(B2082*C2082/6,400))/(B2082/8)","v":123.33333333333333},18]
["Jumping to Conclusions",15,110,"M",{"$f":"MIN(B2083*C2083/6,400)/(B2083/2)+(control!$B$4-MIN(B2083*C2083/6,400))/(B2083/8)","v":103.33333333333334},16]
["Jumpstart",22,71,"S",{"$f":"MIN(B2084*C2084/6,400)/(B2084/2)+(control!$B$4-MIN(B2084*C2084/6,400))/(B2084/8)","v":74.454545454545467},23]
["June",19,79,"M",{"$f":"MIN(B2085*C2085/6,400)/(B2085/2)+(control!$B$4-MIN(B2085*C2085/6,400))/(B2085/8)","v":89.421052631578945},22]
["Junebug",16,73,"S",{"$f":"MIN(B2086*C2086/6,400)/(B2086/2)+(control!$B$4-MIN(B2086*C2086/6,400))/(B2086/8)","v":127},20]
["Jungle Prince",20,63,"M",{"$f":"MIN(B2087*C2087/6,400)/(B2087/2)+(control!$B$4-MIN(B2087*C2087/6,400))/(B2087/8)","v":97},21]
["Junior",22,90,"S",{"$f":"MIN(B2088*C2088/6,400)/(B2088/2)+(control!$B$4-MIN(B2088*C2088/6,400))/(B2088/8)","v":55.454545454545453},24]
["Juniper",20,111,"M",{"$f":"MIN(B2089*C2089/6,400)/(B2089/2)+(control!$B$4-MIN(B2089*C2089/6,400))/(B2089/8)","v":49},20]
["Juno",20,115,"M",{"$f":"MIN(B2090*C2090/6,400)/(B2090/2)+(control!$B$4-MIN(B2090*C2090/6,400))/(B2090/8)","v":45},23]
["Jupiter",17,83,"S",{"$f":"MIN(B2091*C2091/6,400)/(B2091/2)+(control!$B$4-MIN(B2091*C2091/6,400))/(B2091/8)","v":105.23529411764707},21]
["Jus de Pomme",17,95,"M",{"$f":"MIN(B2092*C2092/6,400)/(B2092/2)+(control!$B$4-MIN(B2092*C2092/6,400))/(B2092/8)","v":93.235294117647058},17]
["Just a Brat",17,89,"S",{"$f":"MIN(B2093*C2093/6,400)/(B2093/2)+(control!$B$4-MIN(B2093*C2093/6,400))/(B2093/8)","v":99.235294117647072},20]
["Just a Breeze",21,76,"M",{"$f":"MIN(B2094*C2094/6,400)/(B2094/2)+(control!$B$4-MIN(B2094*C2094/6,400))/(B2094/8)","v":76.38095238095238},24]
["Just a Dream",25,86,"M",{"$f":"MIN(B2095*C2095/6,400)/(B2095/2)+(control!$B$4-MIN(B2095*C2095/6,400))/(B2095/8)","v":42},28]
["Just a Flirt",22,71,"M",{"$f":"MIN(B2096*C2096/6,400)/(B2096/2)+(control!$B$4-MIN(B2096*C2096/6,400))/(B2096/8)","v":74.454545454545467},26]
["Just Because",20,62,"S",{"$f":"MIN(B2097*C2097/6,400)/(B2097/2)+(control!$B$4-MIN(B2097*C2097/6,400))/(B2097/8)","v":98},22]
["Just Between Us",25,59,"S",{"$f":"MIN(B2098*C2098/6,400)/(B2098/2)+(control!$B$4-MIN(B2098*C2098/6,400))/(B2098/8)","v":69},28]
["Just Got Zipped",19,72,"S",{"$f":"MIN(B2099*C2099/6,400)/(B2099/2)+(control!$B$4-MIN(B2099*C2099/6,400))/(B2099/8)","v":96.421052631578945},19]
["Just In Time",15,72,"M",{"$f":"MIN(B2100*C2100/6,400)/(B2100/2)+(control!$B$4-MIN(B2100*C2100/6,400))/(B2100/8)","v":141.33333333333331},15]
["Just Joe",22,76,"M",{"$f":"MIN(B2101*C2101/6,400)/(B2101/2)+(control!$B$4-MIN(B2101*C2101/6,400))/(B2101/8)","v":69.454545454545453},25]
["Just My Style",25,113,"D",{"$f":"MIN(B2102*C2102/6,400)/(B2102/2)+(control!$B$4-MIN(B2102*C2102/6,400))/(B2102/8)","v":32},27]
["Just N Time",16,107,"M",{"$f":"MIN(B2103*C2103/6,400)/(B2103/2)+(control!$B$4-MIN(B2103*C2103/6,400))/(B2103/8)","v":93},18]
["Just one Kiss",22,113,"S",{"$f":"MIN(B2104*C2104/6,400)/(B2104/2)+(control!$B$4-MIN(B2104*C2104/6,400))/(B2104/8)","v":36.363636363636367},26]
["Just the 2 of us",21,85,"S",{"$f":"MIN(B2105*C2105/6,400)/(B2105/2)+(control!$B$4-MIN(B2105*C2105/6,400))/(B2105/8)","v":67.38095238095238},24]
["Just Victory",20,100,"D",{"$f":"MIN(B2106*C2106/6,400)/(B2106/2)+(control!$B$4-MIN(B2106*C2106/6,400))/(B2106/8)","v":60},22]
["Just William",20,69,"S",{"$f":"MIN(B2107*C2107/6,400)/(B2107/2)+(control!$B$4-MIN(B2107*C2107/6,400))/(B2107/8)","v":91},20]
["Justin",21,97,"D",{"$f":"MIN(B2108*C2108/6,400)/(B2108/2)+(control!$B$4-MIN(B2108*C2108/6,400))/(B2108/8)","v":55.38095238095238},24]
["Kachina",20,71,"S",{"$f":"MIN(B2109*C2109/6,400)/(B2109/2)+(control!$B$4-MIN(B2109*C2109/6,400))/(B2109/8)","v":89},20]
["Kacie",26,86,"S",{"$f":"MIN(B2110*C2110/6,400)/(B2110/2)+(control!$B$4-MIN(B2110*C2110/6,400))/(B2110/8)","v":37.076923076923073},26]
["Kaddilac Jack",19,87,"M",{"$f":"MIN(B2111*C2111/6,400)/(B2111/2)+(control!$B$4-MIN(B2111*C2111/6,400))/(B2111/8)","v":81.421052631578945},19]
["Kagney",21,74,"S",{"$f":"MIN(B2112*C2112/6,400)/(B2112/2)+(control!$B$4-MIN(B2112*C2112/6,400))/(B2112/8)","v":78.38095238095238},25]
["Kahli",24,122,"M",{"$f":"MIN(B2113*C2113/6,400)/(B2113/2)+(control!$B$4-MIN(B2113*C2113/6,400))/(B2113/8)","v":33.333333333333336},28]
["Kahlua",16,69,"S",{"$f":"MIN(B2114*C2114/6,400)/(B2114/2)+(control!$B$4-MIN(B2114*C2114/6,400))/(B2114/8)","v":131},17]
["Kahuna",22,94,"D",{"$f":"MIN(B2115*C2115/6,400)/(B2115/2)+(control!$B$4-MIN(B2115*C2115/6,400))/(B2115/8)","v":51.454545454545453},26]
["Kaine",25,77,"M",{"$f":"MIN(B2116*C2116/6,400)/(B2116/2)+(control!$B$4-MIN(B2116*C2116/6,400))/(B2116/8)","v":51},26]
["Kalahari",20,93,"D",{"$f":"MIN(B2117*C2117/6,400)/(B2117/2)+(control!$B$4-MIN(B2117*C2117/6,400))/(B2117/8)","v":67},23]
["Kalika",18,85,"S",{"$f":"MIN(B2118*C2118/6,400)/(B2118/2)+(control!$B$4-MIN(B2118*C2118/6,400))/(B2118/8)","v":92.777777777777771},19]
["Kalina",20,79,"S",{"$f":"MIN(B2119*C2119/6,400)/(B2119/2)+(control!$B$4-MIN(B2119*C2119/6,400))/(B2119/8)","v":81},22]
["Kalita",18,99,"D",{"$f":"MIN(B2120*C2120/6,400)/(B2120/2)+(control!$B$4-MIN(B2120*C2120/6,400))/(B2120/8)","v":78.777777777777771},18]
["Kalli",21,78,"S",{"$f":"MIN(B2121*C2121/6,400)/(B2121/2)+(control!$B$4-MIN(B2121*C2121/6,400))/(B2121/8)","v":74.38095238095238},25]
["Kalondra",15,70,"S",{"$f":"MIN(B2122*C2122/6,400)/(B2122/2)+(control!$B$4-MIN(B2122*C2122/6,400))/(B2122/8)","v":143.33333333333334},18]
["Kalua",15,115,"M",{"$f":"MIN(B2123*C2123/6,400)/(B2123/2)+(control!$B$4-MIN(B2123*C2123/6,400))/(B2123/8)","v":98.333333333333343},19]
["Kalypso",17,95,"D",{"$f":"MIN(B2124*C2124/6,400)/(B2124/2)+(control!$B$4-MIN(B2124*C2124/6,400))/(B2124/8)","v":93.235294117647058},18]
["Kar Kalim",24,80,"M",{"$f":"MIN(B2125*C2125/6,400)/(B2125/2)+(control!$B$4-MIN(B2125*C2125/6,400))/(B2125/8)","v":53.333333333333336},26]
["Kara",21,97,"S",{"$f":"MIN(B2126*C2126/6,400)/(B2126/2)+(control!$B$4-MIN(B2126*C2126/6,400))/(B2126/8)","v":55.38095238095238},23]
["Karana",15,93,"S",{"$f":"MIN(B2127*C2127/6,400)/(B2127/2)+(control!$B$4-MIN(B2127*C2127/6,400))/(B2127/8)","v":120.33333333333333},17]
["Karisha",21,95,"S",{"$f":"MIN(B2128*C2128/6,400)/(B2128/2)+(control!$B$4-MIN(B2128*C2128/6,400))/(B2128/8)","v":57.38095238095238},24]
["Karma",20,116,"D",{"$f":"MIN(B2129*C2129/6,400)/(B2129/2)+(control!$B$4-MIN(B2129*C2129/6,400))/(B2129/8)","v":44},21]
["Kashmire",16,80,"S",{"$f":"MIN(B2130*C2130/6,400)/(B2130/2)+(control!$B$4-MIN(B2130*C2130/6,400))/(B2130/8)","v":120},18]
["Kasimira",19,92,"D",{"$f":"MIN(B2131*C2131/6,400)/(B2131/2)+(control!$B$4-MIN(B2131*C2131/6,400))/(B2131/8)","v":76.421052631578959},23]
["Kasmir",20,91,"M",{"$f":"MIN(B2132*C2132/6,400)/(B2132/2)+(control!$B$4-MIN(B2132*C2132/6,400))/(B2132/8)","v":69},20]
["Katabatic",21,77,"S",{"$f":"MIN(B2133*C2133/6,400)/(B2133/2)+(control!$B$4-MIN(B2133*C2133/6,400))/(B2133/8)","v":75.38095238095238},21]
["Katareena",27,93,"S",{"$f":"MIN(B2134*C2134/6,400)/(B2134/2)+(control!$B$4-MIN(B2134*C2134/6,400))/(B2134/8)","v":29.62962962962963},30]
["Katelynn",24,60,"S",{"$f":"MIN(B2135*C2135/6,400)/(B2135/2)+(control!$B$4-MIN(B2135*C2135/6,400))/(B2135/8)","v":73.333333333333343},25]
["Katie",23,111,"D",{"$f":"MIN(B2136*C2136/6,400)/(B2136/2)+(control!$B$4-MIN(B2136*C2136/6,400))/(B2136/8)","v":34.782608695652172},24]
["Katifa",18,93,"M",{"$f":"MIN(B2137*C2137/6,400)/(B2137/2)+(control!$B$4-MIN(B2137*C2137/6,400))/(B2137/8)","v":84.777777777777771},21]
["Kayla",23,85,"M",{"$f":"MIN(B2138*C2138/6,400)/(B2138/2)+(control!$B$4-MIN(B2138*C2138/6,400))/(B2138/8)","v":54.130434782608702},27]
["Kaylab",27,66,"S",{"$f":"MIN(B2139*C2139/6,400)/(B2139/2)+(control!$B$4-MIN(B2139*C2139/6,400))/(B2139/8)","v":52.518518518518519},27]
["Kayleigh",22,101,"D",{"$f":"MIN(B2140*C2140/6,400)/(B2140/2)+(control!$B$4-MIN(B2140*C2140/6,400))/(B2140/8)","v":44.45454545454546},25]
["Keela",15,108,"D",{"$f":"MIN(B2141*C2141/6,400)/(B2141/2)+(control!$B$4-MIN(B2141*C2141/6,400))/(B2141/8)","v":105.33333333333333},16]
["Keenashaw",21,90,"M",{"$f":"MIN(B2142*C2142/6,400)/(B2142/2)+(control!$B$4-MIN(B2142*C2142/6,400))/(B2142/8)","v":62.38095238095238},21]
["Keener Than Keen",21,80,"S",{"$f":"MIN(B2143*C2143/6,400)/(B2143/2)+(control!$B$4-MIN(B2143*C2143/6,400))/(B2143/8)","v":72.38095238095238},24]
["Keep Sake",25,71,"S",{"$f":"MIN(B2144*C2144/6,400)/(B2144/2)+(control!$B$4-MIN(B2144*C2144/6,400))/(B2144/8)","v":57.000000000000007},26]
["Keeta",19,72,"S",{"$f":"MIN(B2145*C2145/6,400)/(B2145/2)+(control!$B$4-MIN(B2145*C2145/6,400))/(B2145/8)","v":96.421052631578945},23]
["Kei",21,69,"M",{"$f":"MIN(B2146*C2146/6,400)/(B2146/2)+(control!$B$4-MIN(B2146*C2146/6,400))/(B2146/8)","v":83.38095238095238},24]
["Keisha",22,93,"D",{"$f":"MIN(B2147*C2147/6,400)/(B2147/2)+(control!$B$4-MIN(B2147*C2147/6,400))/(B2147/8)","v":52.454545454545453},26]
["Keldoron",21,114,"D",{"$f":"MIN(B2148*C2148/6,400)/(B2148/2)+(control!$B$4-MIN(B2148*C2148/6,400))/(B2148/8)","v":38.38095238095238},24]
["Kellendria",16,115,"M",{"$f":"MIN(B2149*C2149/6,400)/(B2149/2)+(control!$B$4-MIN(B2149*C2149/6,400))/(B2149/8)","v":85},19]
["Kelly",19,69,"S",{"$f":"MIN(B2150*C2150/6,400)/(B2150/2)+(control!$B$4-MIN(B2150*C2150/6,400))/(B2150/8)","v":99.421052631578945},23]
["Kelly Cann",20,110,"D",{"$f":"MIN(B2151*C2151/6,400)/(B2151/2)+(control!$B$4-MIN(B2151*C2151/6,400))/(B2151/8)","v":50},23]
["Kelly Green",19,119,"D",{"$f":"MIN(B2152*C2152/6,400)/(B2152/2)+(control!$B$4-MIN(B2152*C2152/6,400))/(B2152/8)","v":49.421052631578952},22]
["Kelpie",19,80,"S",{"$f":"MIN(B2153*C2153/6,400)/(B2153/2)+(control!$B$4-MIN(B2153*C2153/6,400))/(B2153/8)","v":88.421052631578945},23]
["Kelty",19,90,"M",{"$f":"MIN(B2154*C2154/6,400)/(B2154/2)+(control!$B$4-MIN(B2154*C2154/6,400))/(B2154/8)","v":78.421052631578945},20]
["Kelvin",21,60,"S",{"$f":"MIN(B2155*C2155/6,400)/(B2155/2)+(control!$B$4-MIN(B2155*C2155/6,400))/(B2155/8)","v":92.38095238095238},23]
["Kemill Hill Tinka",22,74,"S",{"$f":"MIN(B2156*C2156/6,400)/(B2156/2)+(control!$B$4-MIN(B2156*C2156/6,400))/(B2156/8)","v":71.454545454545467},23]
["Kenda",19,102,"S",{"$f":"MIN(B2157*C2157/6,400)/(B2157/2)+(control!$B$4-MIN(B2157*C2157/6,400))/(B2157/8)","v":66.421052631578945},19]
["Keno",18,86,"S",{"$f":"MIN(B2158*C2158/6,400)/(B2158/2)+(control!$B$4-MIN(B2158*C2158/6,400))/(B2158/8)","v":91.777777777777786},21]
["Kenshi (japanese for sword saint)",18,62,"M",{"$f":"MIN(B2159*C2159/6,400)/(B2159/2)+(control!$B$4-MIN(B2159*C2159/6,400))/(B2159/8)","v":115.77777777777779},18]
["Kentucky Morning",22,100,"S",{"$f":"MIN(B2160*C2160/6,400)/(B2160/2)+(control!$B$4-MIN(B2160*C2160/6,400))/(B2160/8)","v":45.454545454545453},24]
["Kentucky Roses",24,81,"S",{"$f":"MIN(B2161*C2161/6,400)/(B2161/2)+(control!$B$4-MIN(B2161*C2161/6,400))/(B2161/8)","v":52.333333333333329},28]
["Kepell Meister",22,71,"M",{"$f":"MIN(B2162*C2162/6,400)/(B2162/2)+(control!$B$4-MIN(B2162*C2162/6,400))/(B2162/8)","v":74.454545454545467},22]
["Kept Secret",22,78,"S",{"$f":"MIN(B2163*C2163/6,400)/(B2163/2)+(control!$B$4-MIN(B2163*C2163/6,400))/(B2163/8)","v":67.454545454545453},25]
["Kermit",25,90,"M",{"$f":"MIN(B2164*C2164/6,400)/(B2164/2)+(control!$B$4-MIN(B2164*C2164/6,400))/(B2164/8)","v":38},26]
["Kesha",20,96,"D",{"$f":"MIN(B2165*C2165/6,400)/(B2165/2)+(control!$B$4-MIN(B2165*C2165/6,400))/(B2165/8)","v":64},20]
["Kestral",17,79,"S",{"$f":"MIN(B2166*C2166/6,400)/(B2166/2)+(control!$B$4-MIN(B2166*C2166/6,400))/(B2166/8)","v":109.23529411764704},19]
["Kevah",24,114,"D",{"$f":"MIN(B2167*C2167/6,400)/(B2167/2)+(control!$B$4-MIN(B2167*C2167/6,400))/(B2167/8)","v":33.333333333333336},27]
["Kez",17,69,"M",{"$f":"MIN(B2168*C2168/6,400)/(B2168/2)+(control!$B$4-MIN(B2168*C2168/6,400))/(B2168/8)","v":119.23529411764706},18]
["Khan",22,93,"M",{"$f":"MIN(B2169*C2169/6,400)/(B2169/2)+(control!$B$4-MIN(B2169*C2169/6,400))/(B2169/8)","v":52.454545454545453},23]
["Kiawa",20,72,"M",{"$f":"MIN(B2170*C2170/6,400)/(B2170/2)+(control!$B$4-MIN(B2170*C2170/6,400))/(B2170/8)","v":88},24]
["Kilburn's Boy",17,73,"S",{"$f":"MIN(B2171*C2171/6,400)/(B2171/2)+(control!$B$4-MIN(B2171*C2171/6,400))/(B2171/8)","v":115.23529411764704},21]
["Killian",16,100,"D",{"$f":"MIN(B2172*C2172/6,400)/(B2172/2)+(control!$B$4-MIN(B2172*C2172/6,400))/(B2172/8)","v":100},18]
["King",20,92,"S",{"$f":"MIN(B2173*C2173/6,400)/(B2173/2)+(control!$B$4-MIN(B2173*C2173/6,400))/(B2173/8)","v":68},24]
["King Concert",23,114,"S",{"$f":"MIN(B2174*C2174/6,400)/(B2174/2)+(control!$B$4-MIN(B2174*C2174/6,400))/(B2174/8)","v":34.782608695652172},23]
["King of Kings",20,104,"S",{"$f":"MIN(B2175*C2175/6,400)/(B2175/2)+(control!$B$4-MIN(B2175*C2175/6,400))/(B2175/8)","v":56},23]
["King Quakers crystal",21,70,"S",{"$f":"MIN(B2176*C2176/6,400)/(B2176/2)+(control!$B$4-MIN(B2176*C2176/6,400))/(B2176/8)","v":82.38095238095238},22]
["Kinger",17,92,"D",{"$f":"MIN(B2177*C2177/6,400)/(B2177/2)+(control!$B$4-MIN(B2177*C2177/6,400))/(B2177/8)","v":96.235294117647058},21]
["King's Prize aka Freddie",20,85,"M",{"$f":"MIN(B2178*C2178/6,400)/(B2178/2)+(control!$B$4-MIN(B2178*C2178/6,400))/(B2178/8)","v":75},24]
["Kings Ransom",20,123,"S",{"$f":"MIN(B2179*C2179/6,400)/(B2179/2)+(control!$B$4-MIN(B2179*C2179/6,400))/(B2179/8)","v":40},22]
["Kingston",26,113,"S",{"$f":"MIN(B2180*C2180/6,400)/(B2180/2)+(control!$B$4-MIN(B2180*C2180/6,400))/(B2180/8)","v":30.76923076923077},27]
["Kip",20,93,"D",{"$f":"MIN(B2181*C2181/6,400)/(B2181/2)+(control!$B$4-MIN(B2181*C2181/6,400))/(B2181/8)","v":67},20]
["Kipawa",21,80,"S",{"$f":"MIN(B2182*C2182/6,400)/(B2182/2)+(control!$B$4-MIN(B2182*C2182/6,400))/(B2182/8)","v":72.38095238095238},23]
["Kipper",20,94,"S",{"$f":"MIN(B2183*C2183/6,400)/(B2183/2)+(control!$B$4-MIN(B2183*C2183/6,400))/(B2183/8)","v":66},23]
["Kira",22,66,"S",{"$f":"MIN(B2184*C2184/6,400)/(B2184/2)+(control!$B$4-MIN(B2184*C2184/6,400))/(B2184/8)","v":79.454545454545453},24]
["Kirby",16,79,"M",{"$f":"MIN(B2185*C2185/6,400)/(B2185/2)+(control!$B$4-MIN(B2185*C2185/6,400))/(B2185/8)","v":121},20]
["Kisha",16,97,"S",{"$f":"MIN(B2186*C2186/6,400)/(B2186/2)+(control!$B$4-MIN(B2186*C2186/6,400))/(B2186/8)","v":103},20]
["Kismet",18,88,"S",{"$f":"MIN(B2187*C2187/6,400)/(B2187/2)+(control!$B$4-MIN(B2187*C2187/6,400))/(B2187/8)","v":89.777777777777771},20]
["Kiss",23,59,"S",{"$f":"MIN(B2188*C2188/6,400)/(B2188/2)+(control!$B$4-MIN(B2188*C2188/6,400))/(B2188/8)","v":80.130434782608688},25]
["Kiss and Tell",21,92,"D",{"$f":"MIN(B2189*C2189/6,400)/(B2189/2)+(control!$B$4-MIN(B2189*C2189/6,400))/(B2189/8)","v":60.38095238095238},22]
["Kiss em and Leave em",18,84,"M",{"$f":"MIN(B2190*C2190/6,400)/(B2190/2)+(control!$B$4-MIN(B2190*C2190/6,400))/(B2190/8)","v":93.777777777777771},20]
["Kiss Me Clown",23,86,"S",{"$f":"MIN(B2191*C2191/6,400)/(B2191/2)+(control!$B$4-MIN(B2191*C2191/6,400))/(B2191/8)","v":53.130434782608688},27]
["Kiss me Kate",21,116,"D",{"$f":"MIN(B2192*C2192/6,400)/(B2192/2)+(control!$B$4-MIN(B2192*C2192/6,400))/(B2192/8)","v":38.095238095238095},24]
["Kiss my Zip",22,88,"M",{"$f":"MIN(B2193*C2193/6,400)/(B2193/2)+(control!$B$4-MIN(B2193*C2193/6,400))/(B2193/8)","v":57.454545454545453},25]
["Kissin the Sky",20,80,"S",{"$f":"MIN(B2194*C2194/6,400)/(B2194/2)+(control!$B$4-MIN(B2194*C2194/6,400))/(B2194/8)","v":80},22]
["Kit",27,85,"S",{"$f":"MIN(B2195*C2195/6,400)/(B2195/2)+(control!$B$4-MIN(B2195*C2195/6,400))/(B2195/8)","v":33.518518518518519},30]
["Kit Kat",16,87,"S",{"$f":"MIN(B2196*C2196/6,400)/(B2196/2)+(control!$B$4-MIN(B2196*C2196/6,400))/(B2196/8)","v":113},19]
["Kit Kat's Chat",25,89,"S",{"$f":"MIN(B2197*C2197/6,400)/(B2197/2)+(control!$B$4-MIN(B2197*C2197/6,400))/(B2197/8)","v":39},28]
["Kitana",19,82,"M",{"$f":"MIN(B2198*C2198/6,400)/(B2198/2)+(control!$B$4-MIN(B2198*C2198/6,400))/(B2198/8)","v":86.421052631578945},19]
["Kitty",22,118,"M",{"$f":"MIN(B2199*C2199/6,400)/(B2199/2)+(control!$B$4-MIN(B2199*C2199/6,400))/(B2199/8)","v":36.363636363636367},24]
["Kitty Hawk",20,94,"S",{"$f":"MIN(B2200*C2200/6,400)/(B2200/2)+(control!$B$4-MIN(B2200*C2200/6,400))/(B2200/8)","v":66},23]
["Kiwi",19,104,"M",{"$f":"MIN(B2201*C2201/6,400)/(B2201/2)+(control!$B$4-MIN(B2201*C2201/6,400))/(B2201/8)","v":64.421052631578959},20]
["Kix",22,121,"S",{"$f":"MIN(B2202*C2202/6,400)/(B2202/2)+(control!$B$4-MIN(B2202*C2202/6,400))/(B2202/8)","v":36.363636363636367},24]
["Kizi",24,66,"M",{"$f":"MIN(B2203*C2203/6,400)/(B2203/2)+(control!$B$4-MIN(B2203*C2203/6,400))/(B2203/8)","v":67.333333333333343},26]
["Kizmit",19,68,"S",{"$f":"MIN(B2204*C2204/6,400)/(B2204/2)+(control!$B$4-MIN(B2204*C2204/6,400))/(B2204/8)","v":100.42105263157895},23]
["Kizzy",19,114,"S",{"$f":"MIN(B2205*C2205/6,400)/(B2205/2)+(control!$B$4-MIN(B2205*C2205/6,400))/(B2205/8)","v":54.421052631578945},20]
["Knight",20,70,"M",{"$f":"MIN(B2206*C2206/6,400)/(B2206/2)+(control!$B$4-MIN(B2206*C2206/6,400))/(B2206/8)","v":90},21]
["Knock Your Socks Off",24,103,"M",{"$f":"MIN(B2207*C2207/6,400)/(B2207/2)+(control!$B$4-MIN(B2207*C2207/6,400))/(B2207/8)","v":33.333333333333336},26]
["Ko Jax",23,104,"D",{"$f":"MIN(B2208*C2208/6,400)/(B2208/2)+(control!$B$4-MIN(B2208*C2208/6,400))/(B2208/8)","v":35.130434782608695},23]
["Kochiese",25,74,"S",{"$f":"MIN(B2209*C2209/6,400)/(B2209/2)+(control!$B$4-MIN(B2209*C2209/6,400))/(B2209/8)","v":54},26]
["Kodak",26,73,"S",{"$f":"MIN(B2210*C2210/6,400)/(B2210/2)+(control!$B$4-MIN(B2210*C2210/6,400))/(B2210/8)","v":50.07692307692308},27]
["Kodak Moment",20,82,"M",{"$f":"MIN(B2211*C2211/6,400)/(B2211/2)+(control!$B$4-MIN(B2211*C2211/6,400))/(B2211/8)","v":78},23]
["Kodiak",19,99,"D",{"$f":"MIN(B2212*C2212/6,400)/(B2212/2)+(control!$B$4-MIN(B2212*C2212/6,400))/(B2212/8)","v":69.421052631578945},20]
["Kodie",16,66,"S",{"$f":"MIN(B2213*C2213/6,400)/(B2213/2)+(control!$B$4-MIN(B2213*C2213/6,400))/(B2213/8)","v":134},17]
["Koko",19,82,"S",{"$f":"MIN(B2214*C2214/6,400)/(B2214/2)+(control!$B$4-MIN(B2214*C2214/6,400))/(B2214/8)","v":86.421052631578945},21]
["Koopy",22,104,"S",{"$f":"MIN(B2215*C2215/6,400)/(B2215/2)+(control!$B$4-MIN(B2215*C2215/6,400))/(B2215/8)","v":41.45454545454546},26]
["Kossaka ",17,86,"M",{"$f":"MIN(B2216*C2216/6,400)/(B2216/2)+(control!$B$4-MIN(B2216*C2216/6,400))/(B2216/8)","v":102.23529411764707},19]
["Kotege",20,123,"D",{"$f":"MIN(B2217*C2217/6,400)/(B2217/2)+(control!$B$4-MIN(B2217*C2217/6,400))/(B2217/8)","v":40},21]
["Kramer",22,83,"S",{"$f":"MIN(B2218*C2218/6,400)/(B2218/2)+(control!$B$4-MIN(B2218*C2218/6,400))/(B2218/8)","v":62.45454545454546},25]
["Kravitz",18,73,"M",{"$f":"MIN(B2219*C2219/6,400)/(B2219/2)+(control!$B$4-MIN(B2219*C2219/6,400))/(B2219/8)","v":104.77777777777777},18]
["Krest",18,90,"S",{"$f":"MIN(B2220*C2220/6,400)/(B2220/2)+(control!$B$4-MIN(B2220*C2220/6,400))/(B2220/8)","v":87.777777777777771},18]
["Kricket",21,90,"S",{"$f":"MIN(B2221*C2221/6,400)/(B2221/2)+(control!$B$4-MIN(B2221*C2221/6,400))/(B2221/8)","v":62.38095238095238},23]
["Kriptonite",18,62,"S",{"$f":"MIN(B2222*C2222/6,400)/(B2222/2)+(control!$B$4-MIN(B2222*C2222/6,400))/(B2222/8)","v":115.77777777777779},20]
["Kroner",20,67,"S",{"$f":"MIN(B2223*C2223/6,400)/(B2223/2)+(control!$B$4-MIN(B2223*C2223/6,400))/(B2223/8)","v":93},23]
["Krugerrand",25,101,"S",{"$f":"MIN(B2224*C2224/6,400)/(B2224/2)+(control!$B$4-MIN(B2224*C2224/6,400))/(B2224/8)","v":32},29]
["Kryptonite",15,81,"M",{"$f":"MIN(B2225*C2225/6,400)/(B2225/2)+(control!$B$4-MIN(B2225*C2225/6,400))/(B2225/8)","v":132.33333333333331},15]
["Krystal",19,69,"S",{"$f":"MIN(B2226*C2226/6,400)/(B2226/2)+(control!$B$4-MIN(B2226*C2226/6,400))/(B2226/8)","v":99.421052631578945},23]
["Kylie",21,99,"D",{"$f":"MIN(B2227*C2227/6,400)/(B2227/2)+(control!$B$4-MIN(B2227*C2227/6,400))/(B2227/8)","v":53.38095238095238},25]
["Kystie",19,81,"M",{"$f":"MIN(B2228*C2228/6,400)/(B2228/2)+(control!$B$4-MIN(B2228*C2228/6,400))/(B2228/8)","v":87.421052631578945},23]
["La Primavera",21,99,"D",{"$f":"MIN(B2229*C2229/6,400)/(B2229/2)+(control!$B$4-MIN(B2229*C2229/6,400))/(B2229/8)","v":53.38095238095238},21]
["Lace",26,119,"D",{"$f":"MIN(B2230*C2230/6,400)/(B2230/2)+(control!$B$4-MIN(B2230*C2230/6,400))/(B2230/8)","v":30.76923076923077},28]
["Lacey",22,86,"M",{"$f":"MIN(B2231*C2231/6,400)/(B2231/2)+(control!$B$4-MIN(B2231*C2231/6,400))/(B2231/8)","v":59.45454545454546},22]
["Lacy",19,70,"M",{"$f":"MIN(B2232*C2232/6,400)/(B2232/2)+(control!$B$4-MIN(B2232*C2232/6,400))/(B2232/8)","v":98.421052631578945},20]
["Lad",25,116,"S",{"$f":"MIN(B2233*C2233/6,400)/(B2233/2)+(control!$B$4-MIN(B2233*C2233/6,400))/(B2233/8)","v":32},26]
["Ladd",22,99,"D",{"$f":"MIN(B2234*C2234/6,400)/(B2234/2)+(control!$B$4-MIN(B2234*C2234/6,400))/(B2234/8)","v":46.454545454545453},24]
["Laddie",17,83,"S",{"$f":"MIN(B2235*C2235/6,400)/(B2235/2)+(control!$B$4-MIN(B2235*C2235/6,400))/(B2235/8)","v":105.23529411764707},21]
["Lady",22,79,"S",{"$f":"MIN(B2236*C2236/6,400)/(B2236/2)+(control!$B$4-MIN(B2236*C2236/6,400))/(B2236/8)","v":66.454545454545453},22]
["Lady Ameera ",17,87,"S",{"$f":"MIN(B2237*C2237/6,400)/(B2237/2)+(control!$B$4-MIN(B2237*C2237/6,400))/(B2237/8)","v":101.23529411764706},17]
["Lady Americo",18,100,"S",{"$f":"MIN(B2238*C2238/6,400)/(B2238/2)+(control!$B$4-MIN(B2238*C2238/6,400))/(B2238/8)","v":77.777777777777771},21]
["Lady Blackstar",21,82,"S",{"$f":"MIN(B2239*C2239/6,400)/(B2239/2)+(control!$B$4-MIN(B2239*C2239/6,400))/(B2239/8)","v":70.38095238095238},22]
["Lady Blue Eyes",16,116,"M",{"$f":"MIN(B2240*C2240/6,400)/(B2240/2)+(control!$B$4-MIN(B2240*C2240/6,400))/(B2240/8)","v":84},19]
["Lady Boots",27,113,"D",{"$f":"MIN(B2241*C2241/6,400)/(B2241/2)+(control!$B$4-MIN(B2241*C2241/6,400))/(B2241/8)","v":29.62962962962963},29]
["Lady Carlotta",19,61,"S",{"$f":"MIN(B2242*C2242/6,400)/(B2242/2)+(control!$B$4-MIN(B2242*C2242/6,400))/(B2242/8)","v":107.42105263157895},20]
["Lady Cinnabar",24,78,"S",{"$f":"MIN(B2243*C2243/6,400)/(B2243/2)+(control!$B$4-MIN(B2243*C2243/6,400))/(B2243/8)","v":55.333333333333329},25]
["Lady Estella",17,105,"S",{"$f":"MIN(B2244*C2244/6,400)/(B2244/2)+(control!$B$4-MIN(B2244*C2244/6,400))/(B2244/8)","v":83.235294117647058},21]
["Lady Hawk",23,65,"M",{"$f":"MIN(B2245*C2245/6,400)/(B2245/2)+(control!$B$4-MIN(B2245*C2245/6,400))/(B2245/8)","v":74.130434782608688},24]
["Lady Leggs",15,72,"S",{"$f":"MIN(B2246*C2246/6,400)/(B2246/2)+(control!$B$4-MIN(B2246*C2246/6,400))/(B2246/8)","v":141.33333333333331},18]
["Lady Madonna",21,69,"S",{"$f":"MIN(B2247*C2247/6,400)/(B2247/2)+(control!$B$4-MIN(B2247*C2247/6,400))/(B2247/8)","v":83.38095238095238},24]
["Lady of Lanarkshire",27,98,"S",{"$f":"MIN(B2248*C2248/6,400)/(B2248/2)+(control!$B$4-MIN(B2248*C2248/6,400))/(B2248/8)","v":29.62962962962963},30]
["LadyBug",21,76,"S",{"$f":"MIN(B2249*C2249/6,400)/(B2249/2)+(control!$B$4-MIN(B2249*C2249/6,400))/(B2249/8)","v":76.38095238095238},24]
["Lady's Man",23,100,"M",{"$f":"MIN(B2250*C2250/6,400)/(B2250/2)+(control!$B$4-MIN(B2250*C2250/6,400))/(B2250/8)","v":39.130434782608695},23]
["Lady's Mist",27,107,"D",{"$f":"MIN(B2251*C2251/6,400)/(B2251/2)+(control!$B$4-MIN(B2251*C2251/6,400))/(B2251/8)","v":29.62962962962963},28]
["Lady's Sundancer",15,108,"S",{"$f":"MIN(B2252*C2252/6,400)/(B2252/2)+(control!$B$4-MIN(B2252*C2252/6,400))/(B2252/8)","v":105.33333333333333},16]
["Lahja-Viktoria",25,74,"M",{"$f":"MIN(B2253*C2253/6,400)/(B2253/2)+(control!$B$4-MIN(B2253*C2253/6,400))/(B2253/8)","v":54},27]
["Lakota",23,92,"D",{"$f":"MIN(B2254*C2254/6,400)/(B2254/2)+(control!$B$4-MIN(B2254*C2254/6,400))/(B2254/8)","v":47.130434782608688},25]
["Lamal",17,108,"D",{"$f":"MIN(B2255*C2255/6,400)/(B2255/2)+(control!$B$4-MIN(B2255*C2255/6,400))/(B2255/8)","v":80.235294117647058},19]
["Lana",24,105,"S",{"$f":"MIN(B2256*C2256/6,400)/(B2256/2)+(control!$B$4-MIN(B2256*C2256/6,400))/(B2256/8)","v":33.333333333333336},28]
["Lanai",15,121,"S",{"$f":"MIN(B2257*C2257/6,400)/(B2257/2)+(control!$B$4-MIN(B2257*C2257/6,400))/(B2257/8)","v":92.333333333333343},16]
["Lancelot",18,99,"D",{"$f":"MIN(B2258*C2258/6,400)/(B2258/2)+(control!$B$4-MIN(B2258*C2258/6,400))/(B2258/8)","v":78.777777777777771},20]
["Landslide",19,105,"S",{"$f":"MIN(B2259*C2259/6,400)/(B2259/2)+(control!$B$4-MIN(B2259*C2259/6,400))/(B2259/8)","v":63.421052631578945},21]
["Langers Tequila",25,77,"S",{"$f":"MIN(B2260*C2260/6,400)/(B2260/2)+(control!$B$4-MIN(B2260*C2260/6,400))/(B2260/8)","v":51},29]
["Lantana Lady",19,59,"S",{"$f":"MIN(B2261*C2261/6,400)/(B2261/2)+(control!$B$4-MIN(B2261*C2261/6,400))/(B2261/8)","v":109.42105263157895},20]
["Lardeo",21,62,"S",{"$f":"MIN(B2262*C2262/6,400)/(B2262/2)+(control!$B$4-MIN(B2262*C2262/6,400))/(B2262/8)","v":90.38095238095238},23]
["Lashka",19,92,"D",{"$f":"MIN(B2263*C2263/6,400)/(B2263/2)+(control!$B$4-MIN(B2263*C2263/6,400))/(B2263/8)","v":76.421052631578959},22]
["Lass",20,74,"S",{"$f":"MIN(B2264*C2264/6,400)/(B2264/2)+(control!$B$4-MIN(B2264*C2264/6,400))/(B2264/8)","v":86},24]
["Last Man Standing",21,61,"S",{"$f":"MIN(B2265*C2265/6,400)/(B2265/2)+(control!$B$4-MIN(B2265*C2265/6,400))/(B2265/8)","v":91.38095238095238},24]
["Latara",25,74,"M",{"$f":"MIN(B2266*C2266/6,400)/(B2266/2)+(control!$B$4-MIN(B2266*C2266/6,400))/(B2266/8)","v":54},27]
["Laura Ashley",16,89,"S",{"$f":"MIN(B2267*C2267/6,400)/(B2267/2)+(control!$B$4-MIN(B2267*C2267/6,400))/(B2267/8)","v":111},19]
["Lauralanthalasa",18,63,"M",{"$f":"MIN(B2268*C2268/6,400)/(B2268/2)+(control!$B$4-MIN(B2268*C2268/6,400))/(B2268/8)","v":114.77777777777777},22]
["Lava",15,102,"D",{"$f":"MIN(B2269*C2269/6,400)/(B2269/2)+(control!$B$4-MIN(B2269*C2269/6,400))/(B2269/8)","v":111.33333333333333},18]
["Lavender Sky",26,95,"D",{"$f":"MIN(B2270*C2270/6,400)/(B2270/2)+(control!$B$4-MIN(B2270*C2270/6,400))/(B2270/8)","v":30.76923076923077},30]
["Lavigne",22,98,"S",{"$f":"MIN(B2271*C2271/6,400)/(B2271/2)+(control!$B$4-MIN(B2271*C2271/6,400))/(B2271/8)","v":47.45454545454546},26]
["Layali (night)",16,67,"S",{"$f":"MIN(B2272*C2272/6,400)/(B2272/2)+(control!$B$4-MIN(B2272*C2272/6,400))/(B2272/8)","v":133},19]
["Layla",22,72,"M",{"$f":"MIN(B2273*C2273/6,400)/(B2273/2)+(control!$B$4-MIN(B2273*C2273/6,400))/(B2273/8)","v":73.454545454545453},25]
["Lazy red",23,76,"S",{"$f":"MIN(B2274*C2274/6,400)/(B2274/2)+(control!$B$4-MIN(B2274*C2274/6,400))/(B2274/8)","v":63.130434782608702},23]
["Lea",27,79,"S",{"$f":"MIN(B2275*C2275/6,400)/(B2275/2)+(control!$B$4-MIN(B2275*C2275/6,400))/(B2275/8)","v":39.518518518518519},31]
["Leap of Faith",19,100,"S",{"$f":"MIN(B2276*C2276/6,400)/(B2276/2)+(control!$B$4-MIN(B2276*C2276/6,400))/(B2276/8)","v":68.421052631578945},19]
["Leather'n'Lace",15,74,"M",{"$f":"MIN(B2277*C2277/6,400)/(B2277/2)+(control!$B$4-MIN(B2277*C2277/6,400))/(B2277/8)","v":139.33333333333334},17]
["Leave it to me",25,86,"S",{"$f":"MIN(B2278*C2278/6,400)/(B2278/2)+(control!$B$4-MIN(B2278*C2278/6,400))/(B2278/8)","v":42},29]
["Ledger",27,88,"S",{"$f":"MIN(B2279*C2279/6,400)/(B2279/2)+(control!$B$4-MIN(B2279*C2279/6,400))/(B2279/8)","v":30.518518518518519},27]
["Lee Diamond",26,72,"S",{"$f":"MIN(B2280*C2280/6,400)/(B2280/2)+(control!$B$4-MIN(B2280*C2280/6,400))/(B2280/8)","v":51.07692307692308},28]
["Lefroy Ailin Dwane",21,93,"D",{"$f":"MIN(B2281*C2281/6,400)/(B2281/2)+(control!$B$4-MIN(B2281*C2281/6,400))/(B2281/8)","v":59.38095238095238},22]
["Lefty",24,112,"D",{"$f":"MIN(B2282*C2282/6,400)/(B2282/2)+(control!$B$4-MIN(B2282*C2282/6,400))/(B2282/8)","v":33.333333333333336},25]
["Legacy",16,73,"S",{"$f":"MIN(B2283*C2283/6,400)/(B2283/2)+(control!$B$4-MIN(B2283*C2283/6,400))/(B2283/8)","v":127},16]
["Legend",27,98,"D",{"$f":"MIN(B2284*C2284/6,400)/(B2284/2)+(control!$B$4-MIN(B2284*C2284/6,400))/(B2284/8)","v":29.62962962962963},29]
["Legend of Zelda",17,77,"S",{"$f":"MIN(B2285*C2285/6,400)/(B2285/2)+(control!$B$4-MIN(B2285*C2285/6,400))/(B2285/8)","v":111.23529411764707},17]
["Legendary Warcry",19,117,"D",{"$f":"MIN(B2286*C2286/6,400)/(B2286/2)+(control!$B$4-MIN(B2286*C2286/6,400))/(B2286/8)","v":51.421052631578945},23]
["Legs",16,92,"D",{"$f":"MIN(B2287*C2287/6,400)/(B2287/2)+(control!$B$4-MIN(B2287*C2287/6,400))/(B2287/8)","v":108},17]
["Lena",17,96,"S",{"$f":"MIN(B2288*C2288/6,400)/(B2288/2)+(control!$B$4-MIN(B2288*C2288/6,400))/(B2288/8)","v":92.235294117647058},19]
["Lenny",22,83,"M",{"$f":"MIN(B2289*C2289/6,400)/(B2289/2)+(control!$B$4-MIN(B2289*C2289/6,400))/(B2289/8)","v":62.45454545454546},26]
["Leo",27,82,"M",{"$f":"MIN(B2290*C2290/6,400)/(B2290/2)+(control!$B$4-MIN(B2290*C2290/6,400))/(B2290/8)","v":36.518518518518519},31]
["Leon",19,92,"M",{"$f":"MIN(B2291*C2291/6,400)/(B2291/2)+(control!$B$4-MIN(B2291*C2291/6,400))/(B2291/8)","v":76.421052631578959},19]
["Leonardo",23,98,"D",{"$f":"MIN(B2292*C2292/6,400)/(B2292/2)+(control!$B$4-MIN(B2292*C2292/6,400))/(B2292/8)","v":41.130434782608695},23]
["Lesley",19,95,"S",{"$f":"MIN(B2293*C2293/6,400)/(B2293/2)+(control!$B$4-MIN(B2293*C2293/6,400))/(B2293/8)","v":73.421052631578959},23]
["Lestat",25,82,"S",{"$f":"MIN(B2294*C2294/6,400)/(B2294/2)+(control!$B$4-MIN(B2294*C2294/6,400))/(B2294/8)","v":46},26]
["Let's Ride",21,103,"D",{"$f":"MIN(B2295*C2295/6,400)/(B2295/2)+(control!$B$4-MIN(B2295*C2295/6,400))/(B2295/8)","v":49.38095238095238},23]
["Level",22,85,"M",{"$f":"MIN(B2296*C2296/6,400)/(B2296/2)+(control!$B$4-MIN(B2296*C2296/6,400))/(B2296/8)","v":60.454545454545453},23]
["Levi",23,74,"M",{"$f":"MIN(B2297*C2297/6,400)/(B2297/2)+(control!$B$4-MIN(B2297*C2297/6,400))/(B2297/8)","v":65.130434782608688},23]
["Lex",21,64,"S",{"$f":"MIN(B2298*C2298/6,400)/(B2298/2)+(control!$B$4-MIN(B2298*C2298/6,400))/(B2298/8)","v":88.38095238095238},24]
["Lexi",22,60,"S",{"$f":"MIN(B2299*C2299/6,400)/(B2299/2)+(control!$B$4-MIN(B2299*C2299/6,400))/(B2299/8)","v":85.454545454545453},23]
["Lextus",21,91,"D",{"$f":"MIN(B2300*C2300/6,400)/(B2300/2)+(control!$B$4-MIN(B2300*C2300/6,400))/(B2300/8)","v":61.38095238095238},22]
["Lexus",23,122,"M",{"$f":"MIN(B2301*C2301/6,400)/(B2301/2)+(control!$B$4-MIN(B2301*C2301/6,400))/(B2301/8)","v":34.782608695652172},26]
["Liberty",23,86,"S",{"$f":"MIN(B2302*C2302/6,400)/(B2302/2)+(control!$B$4-MIN(B2302*C2302/6,400))/(B2302/8)","v":53.130434782608688},25]
["Libertys Ride",21,81,"M",{"$f":"MIN(B2303*C2303/6,400)/(B2303/2)+(control!$B$4-MIN(B2303*C2303/6,400))/(B2303/8)","v":71.38095238095238},25]
["Libra",19,80,"M",{"$f":"MIN(B2304*C2304/6,400)/(B2304/2)+(control!$B$4-MIN(B2304*C2304/6,400))/(B2304/8)","v":88.421052631578945},21]
["Lickety Split",20,94,"S",{"$f":"MIN(B2305*C2305/6,400)/(B2305/2)+(control!$B$4-MIN(B2305*C2305/6,400))/(B2305/8)","v":66},22]
["Licorice",20,73,"S",{"$f":"MIN(B2306*C2306/6,400)/(B2306/2)+(control!$B$4-MIN(B2306*C2306/6,400))/(B2306/8)","v":87},21]
["Liferoot",23,102,"S",{"$f":"MIN(B2307*C2307/6,400)/(B2307/2)+(control!$B$4-MIN(B2307*C2307/6,400))/(B2307/8)","v":37.130434782608695},25]
["Light",19,98,"D",{"$f":"MIN(B2308*C2308/6,400)/(B2308/2)+(control!$B$4-MIN(B2308*C2308/6,400))/(B2308/8)","v":70.421052631578959},22]
["Light the Night",23,102,"D",{"$f":"MIN(B2309*C2309/6,400)/(B2309/2)+(control!$B$4-MIN(B2309*C2309/6,400))/(B2309/8)","v":37.130434782608695},23]
["Light the Way",22,62,"S",{"$f":"MIN(B2310*C2310/6,400)/(B2310/2)+(control!$B$4-MIN(B2310*C2310/6,400))/(B2310/8)","v":83.454545454545453},26]
["Lightening",26,89,"S",{"$f":"MIN(B2311*C2311/6,400)/(B2311/2)+(control!$B$4-MIN(B2311*C2311/6,400))/(B2311/8)","v":34.076923076923073},26]
["Lightning",20,66,"S",{"$f":"MIN(B2312*C2312/6,400)/(B2312/2)+(control!$B$4-MIN(B2312*C2312/6,400))/(B2312/8)","v":94},20]
["Lightning James Bond",27,83,"S",{"$f":"MIN(B2313*C2313/6,400)/(B2313/2)+(control!$B$4-MIN(B2313*C2313/6,400))/(B2313/8)","v":35.518518518518519},29]
["Lika Whisper",19,87,"S",{"$f":"MIN(B2314*C2314/6,400)/(B2314/2)+(control!$B$4-MIN(B2314*C2314/6,400))/(B2314/8)","v":81.421052631578945},21]
["Lil' Doll",15,122,"M",{"$f":"MIN(B2315*C2315/6,400)/(B2315/2)+(control!$B$4-MIN(B2315*C2315/6,400))/(B2315/8)","v":91.333333333333329},18]
["Lil Miss Mysterious",18,71,"S",{"$f":"MIN(B2316*C2316/6,400)/(B2316/2)+(control!$B$4-MIN(B2316*C2316/6,400))/(B2316/8)","v":106.77777777777779},22]
["Lil Sugar",21,96,"D",{"$f":"MIN(B2317*C2317/6,400)/(B2317/2)+(control!$B$4-MIN(B2317*C2317/6,400))/(B2317/8)","v":56.38095238095238},22]
["Lilbit",15,94,"M",{"$f":"MIN(B2318*C2318/6,400)/(B2318/2)+(control!$B$4-MIN(B2318*C2318/6,400))/(B2318/8)","v":119.33333333333333},18]
["Lillie",23,101,"M",{"$f":"MIN(B2319*C2319/6,400)/(B2319/2)+(control!$B$4-MIN(B2319*C2319/6,400))/(B2319/8)","v":38.130434782608695},23]
["Lilly",21,82,"M",{"$f":"MIN(B2320*C2320/6,400)/(B2320/2)+(control!$B$4-MIN(B2320*C2320/6,400))/(B2320/8)","v":70.38095238095238},21]
["Lilly Bing",22,59,"S",{"$f":"MIN(B2321*C2321/6,400)/(B2321/2)+(control!$B$4-MIN(B2321*C2321/6,400))/(B2321/8)","v":86.454545454545453},25]
["Lily",16,102,"D",{"$f":"MIN(B2322*C2322/6,400)/(B2322/2)+(control!$B$4-MIN(B2322*C2322/6,400))/(B2322/8)","v":98},17]
["Lily-of-the-Valley",25,89,"S",{"$f":"MIN(B2323*C2323/6,400)/(B2323/2)+(control!$B$4-MIN(B2323*C2323/6,400))/(B2323/8)","v":39},27]
["Limelight",25,87,"M",{"$f":"MIN(B2324*C2324/6,400)/(B2324/2)+(control!$B$4-MIN(B2324*C2324/6,400))/(B2324/8)","v":41},25]
["Limited Edition",22,82,"M",{"$f":"MIN(B2325*C2325/6,400)/(B2325/2)+(control!$B$4-MIN(B2325*C2325/6,400))/(B2325/8)","v":63.454545454545453},25]
["Limitless Time",20,92,"S",{"$f":"MIN(B2326*C2326/6,400)/(B2326/2)+(control!$B$4-MIN(B2326*C2326/6,400))/(B2326/8)","v":68},24]
["Lincoln",17,102,"D",{"$f":"MIN(B2327*C2327/6,400)/(B2327/2)+(control!$B$4-MIN(B2327*C2327/6,400))/(B2327/8)","v":86.235294117647058},21]
["Lincoln's Copper Penny",21,98,"S",{"$f":"MIN(B2328*C2328/6,400)/(B2328/2)+(control!$B$4-MIN(B2328*C2328/6,400))/(B2328/8)","v":54.38095238095238},21]
["Linda",24,110,"D",{"$f":"MIN(B2329*C2329/6,400)/(B2329/2)+(control!$B$4-MIN(B2329*C2329/6,400))/(B2329/8)","v":33.333333333333336},26]
["Lindsay",20,98,"M",{"$f":"MIN(B2330*C2330/6,400)/(B2330/2)+(control!$B$4-MIN(B2330*C2330/6,400))/(B2330/8)","v":62},21]
["Linus",27,118,"M",{"$f":"MIN(B2331*C2331/6,400)/(B2331/2)+(control!$B$4-MIN(B2331*C2331/6,400))/(B2331/8)","v":29.62962962962963},29]
["Lio",27,83,"S",{"$f":"MIN(B2332*C2332/6,400)/(B2332/2)+(control!$B$4-MIN(B2332*C2332/6,400))/(B2332/8)","v":35.518518518518519},31]
["Lippy",16,91,"M",{"$f":"MIN(B2333*C2333/6,400)/(B2333/2)+(control!$B$4-MIN(B2333*C2333/6,400))/(B2333/8)","v":109},16]
["Lisa",26,123,"S",{"$f":"MIN(B2334*C2334/6,400)/(B2334/2)+(control!$B$4-MIN(B2334*C2334/6,400))/(B2334/8)","v":30.76923076923077},30]
["Little Barney",19,71,"S",{"$f":"MIN(B2335*C2335/6,400)/(B2335/2)+(control!$B$4-MIN(B2335*C2335/6,400))/(B2335/8)","v":97.421052631578945},23]
["Little Bay Lady",26,94,"D",{"$f":"MIN(B2336*C2336/6,400)/(B2336/2)+(control!$B$4-MIN(B2336*C2336/6,400))/(B2336/8)","v":30.76923076923077},27]
["Little Bit",20,82,"M",{"$f":"MIN(B2337*C2337/6,400)/(B2337/2)+(control!$B$4-MIN(B2337*C2337/6,400))/(B2337/8)","v":78},21]
["Little bit of Spice",26,72,"M",{"$f":"MIN(B2338*C2338/6,400)/(B2338/2)+(control!$B$4-MIN(B2338*C2338/6,400))/(B2338/8)","v":51.07692307692308},30]
["Little Bits",15,113,"M",{"$f":"MIN(B2339*C2339/6,400)/(B2339/2)+(control!$B$4-MIN(B2339*C2339/6,400))/(B2339/8)","v":100.33333333333333},19]
["Little Boy Blue",20,83,"M",{"$f":"MIN(B2340*C2340/6,400)/(B2340/2)+(control!$B$4-MIN(B2340*C2340/6,400))/(B2340/8)","v":77},22]
["Little Chief White Cloud",26,106,"D",{"$f":"MIN(B2341*C2341/6,400)/(B2341/2)+(control!$B$4-MIN(B2341*C2341/6,400))/(B2341/8)","v":30.76923076923077},27]
["Little Commet",25,83,"M",{"$f":"MIN(B2342*C2342/6,400)/(B2342/2)+(control!$B$4-MIN(B2342*C2342/6,400))/(B2342/8)","v":45},26]
["Little Creamer",21,60,"S",{"$f":"MIN(B2343*C2343/6,400)/(B2343/2)+(control!$B$4-MIN(B2343*C2343/6,400))/(B2343/8)","v":92.38095238095238},24]
["Little Extra Credit",21,97,"D",{"$f":"MIN(B2344*C2344/6,400)/(B2344/2)+(control!$B$4-MIN(B2344*C2344/6,400))/(B2344/8)","v":55.38095238095238},25]
["Little Joe",22,64,"M",{"$f":"MIN(B2345*C2345/6,400)/(B2345/2)+(control!$B$4-MIN(B2345*C2345/6,400))/(B2345/8)","v":81.454545454545453},25]
["Little Joe Brick",21,110,"M",{"$f":"MIN(B2346*C2346/6,400)/(B2346/2)+(control!$B$4-MIN(B2346*C2346/6,400))/(B2346/8)","v":42.38095238095238},25]
["Little Lady",20,80,"S",{"$f":"MIN(B2347*C2347/6,400)/(B2347/2)+(control!$B$4-MIN(B2347*C2347/6,400))/(B2347/8)","v":80},21]
["Little Love",27,73,"M",{"$f":"MIN(B2348*C2348/6,400)/(B2348/2)+(control!$B$4-MIN(B2348*C2348/6,400))/(B2348/8)","v":45.518518518518519},28]
["Little Lunik",24,103,"S",{"$f":"MIN(B2349*C2349/6,400)/(B2349/2)+(control!$B$4-MIN(B2349*C2349/6,400))/(B2349/8)","v":33.333333333333336},28]
["Little Man",16,81,"M",{"$f":"MIN(B2350*C2350/6,400)/(B2350/2)+(control!$B$4-MIN(B2350*C2350/6,400))/(B2350/8)","v":119},17]
["Little Miss English Muffin",26,109,"S",{"$f":"MIN(B2351*C2351/6,400)/(B2351/2)+(control!$B$4-MIN(B2351*C2351/6,400))/(B2351/8)","v":30.76923076923077},26]
["Little Miss Patriot",20,81,"S",{"$f":"MIN(B2352*C2352/6,400)/(B2352/2)+(control!$B$4-MIN(B2352*C2352/6,400))/(B2352/8)","v":79},23]
["Little Patric",17,70,"M",{"$f":"MIN(B2353*C2353/6,400)/(B2353/2)+(control!$B$4-MIN(B2353*C2353/6,400))/(B2353/8)","v":118.23529411764704},19]
["Little Rose Nakita",23,82,"M",{"$f":"MIN(B2354*C2354/6,400)/(B2354/2)+(control!$B$4-MIN(B2354*C2354/6,400))/(B2354/8)","v":57.130434782608702},27]
["Lizzy",21,117,"D",{"$f":"MIN(B2355*C2355/6,400)/(B2355/2)+(control!$B$4-MIN(B2355*C2355/6,400))/(B2355/8)","v":38.095238095238095},24]
["Loco",22,93,"S",{"$f":"MIN(B2356*C2356/6,400)/(B2356/2)+(control!$B$4-MIN(B2356*C2356/6,400))/(B2356/8)","v":52.454545454545453},25]
["Locomotion",22,119,"M",{"$f":"MIN(B2357*C2357/6,400)/(B2357/2)+(control!$B$4-MIN(B2357*C2357/6,400))/(B2357/8)","v":36.363636363636367},26]
["Lofty",23,85,"S",{"$f":"MIN(B2358*C2358/6,400)/(B2358/2)+(control!$B$4-MIN(B2358*C2358/6,400))/(B2358/8)","v":54.130434782608702},24]
["Logan",24,89,"M",{"$f":"MIN(B2359*C2359/6,400)/(B2359/2)+(control!$B$4-MIN(B2359*C2359/6,400))/(B2359/8)","v":44.333333333333336},27]
["Logo",18,94,"D",{"$f":"MIN(B2360*C2360/6,400)/(B2360/2)+(control!$B$4-MIN(B2360*C2360/6,400))/(B2360/8)","v":83.777777777777771},22]
["Lolita",19,81,"S",{"$f":"MIN(B2361*C2361/6,400)/(B2361/2)+(control!$B$4-MIN(B2361*C2361/6,400))/(B2361/8)","v":87.421052631578945},23]
["Lonesome Glory",19,76,"S",{"$f":"MIN(B2362*C2362/6,400)/(B2362/2)+(control!$B$4-MIN(B2362*C2362/6,400))/(B2362/8)","v":92.421052631578945},21]
["Long Lost",21,92,"D",{"$f":"MIN(B2363*C2363/6,400)/(B2363/2)+(control!$B$4-MIN(B2363*C2363/6,400))/(B2363/8)","v":60.38095238095238},25]
["Look At me Go",20,83,"M",{"$f":"MIN(B2364*C2364/6,400)/(B2364/2)+(control!$B$4-MIN(B2364*C2364/6,400))/(B2364/8)","v":77},23]
["Loose Change",25,109,"D",{"$f":"MIN(B2365*C2365/6,400)/(B2365/2)+(control!$B$4-MIN(B2365*C2365/6,400))/(B2365/8)","v":32},25]
["Loran",21,71,"M",{"$f":"MIN(B2366*C2366/6,400)/(B2366/2)+(control!$B$4-MIN(B2366*C2366/6,400))/(B2366/8)","v":81.38095238095238},22]
["Lord Stars",17,86,"S",{"$f":"MIN(B2367*C2367/6,400)/(B2367/2)+(control!$B$4-MIN(B2367*C2367/6,400))/(B2367/8)","v":102.23529411764707},18]
["Lord York",20,69,"S",{"$f":"MIN(B2368*C2368/6,400)/(B2368/2)+(control!$B$4-MIN(B2368*C2368/6,400))/(B2368/8)","v":91},23]
["Lords King William",22,111,"S",{"$f":"MIN(B2369*C2369/6,400)/(B2369/2)+(control!$B$4-MIN(B2369*C2369/6,400))/(B2369/8)","v":36.363636363636367},23]
["Lorenzo",20,84,"M",{"$f":"MIN(B2370*C2370/6,400)/(B2370/2)+(control!$B$4-MIN(B2370*C2370/6,400))/(B2370/8)","v":76},23]
["Lothario",17,88,"M",{"$f":"MIN(B2371*C2371/6,400)/(B2371/2)+(control!$B$4-MIN(B2371*C2371/6,400))/(B2371/8)","v":100.23529411764704},19]
["Lottie",26,89,"S",{"$f":"MIN(B2372*C2372/6,400)/(B2372/2)+(control!$B$4-MIN(B2372*C2372/6,400))/(B2372/8)","v":34.076923076923073},28]
["Lottie Da",19,61,"S",{"$f":"MIN(B2373*C2373/6,400)/(B2373/2)+(control!$B$4-MIN(B2373*C2373/6,400))/(B2373/8)","v":107.42105263157895},21]
["Lotto",21,82,"S",{"$f":"MIN(B2374*C2374/6,400)/(B2374/2)+(control!$B$4-MIN(B2374*C2374/6,400))/(B2374/8)","v":70.38095238095238},23]
["Lotus",24,95,"D",{"$f":"MIN(B2375*C2375/6,400)/(B2375/2)+(control!$B$4-MIN(B2375*C2375/6,400))/(B2375/8)","v":38.333333333333336},27]
["Louis",21,81,"M",{"$f":"MIN(B2376*C2376/6,400)/(B2376/2)+(control!$B$4-MIN(B2376*C2376/6,400))/(B2376/8)","v":71.38095238095238},25]
["Louis D'Aragon",22,64,"S",{"$f":"MIN(B2377*C2377/6,400)/(B2377/2)+(control!$B$4-MIN(B2377*C2377/6,400))/(B2377/8)","v":81.454545454545453},22]
["Lovely",19,85,"M",{"$f":"MIN(B2378*C2378/6,400)/(B2378/2)+(control!$B$4-MIN(B2378*C2378/6,400))/(B2378/8)","v":83.421052631578945},22]
["Lover Boy",19,104,"D",{"$f":"MIN(B2379*C2379/6,400)/(B2379/2)+(control!$B$4-MIN(B2379*C2379/6,400))/(B2379/8)","v":64.421052631578959},23]
["Love's Verse",21,89,"M",{"$f":"MIN(B2380*C2380/6,400)/(B2380/2)+(control!$B$4-MIN(B2380*C2380/6,400))/(B2380/8)","v":63.38095238095238},25]
["Ltiff",24,63,"S",{"$f":"MIN(B2381*C2381/6,400)/(B2381/2)+(control!$B$4-MIN(B2381*C2381/6,400))/(B2381/8)","v":70.333333333333343},28]
["Lucifer",20,79,"S",{"$f":"MIN(B2382*C2382/6,400)/(B2382/2)+(control!$B$4-MIN(B2382*C2382/6,400))/(B2382/8)","v":81},23]
["Luck of the Irish",17,60,"S",{"$f":"MIN(B2383*C2383/6,400)/(B2383/2)+(control!$B$4-MIN(B2383*C2383/6,400))/(B2383/8)","v":128.23529411764707},17]
["Lucky",21,100,"M",{"$f":"MIN(B2384*C2384/6,400)/(B2384/2)+(control!$B$4-MIN(B2384*C2384/6,400))/(B2384/8)","v":52.38095238095238},22]
["Lucky Charm",25,97,"D",{"$f":"MIN(B2385*C2385/6,400)/(B2385/2)+(control!$B$4-MIN(B2385*C2385/6,400))/(B2385/8)","v":32},29]
["Lucky Charm'z",15,99,"M",{"$f":"MIN(B2386*C2386/6,400)/(B2386/2)+(control!$B$4-MIN(B2386*C2386/6,400))/(B2386/8)","v":114.33333333333333},17]
["Lucky Lotto Lad",20,72,"M",{"$f":"MIN(B2387*C2387/6,400)/(B2387/2)+(control!$B$4-MIN(B2387*C2387/6,400))/(B2387/8)","v":88},20]
["Lucky Shamrock",25,86,"S",{"$f":"MIN(B2388*C2388/6,400)/(B2388/2)+(control!$B$4-MIN(B2388*C2388/6,400))/(B2388/8)","v":42},25]
["Lucky Star",26,96,"D",{"$f":"MIN(B2389*C2389/6,400)/(B2389/2)+(control!$B$4-MIN(B2389*C2389/6,400))/(B2389/8)","v":30.76923076923077},27]
["Lucky's Chance",19,121,"D",{"$f":"MIN(B2390*C2390/6,400)/(B2390/2)+(control!$B$4-MIN(B2390*C2390/6,400))/(B2390/8)","v":47.421052631578945},20]
["Lucky's Charm",16,118,"D",{"$f":"MIN(B2391*C2391/6,400)/(B2391/2)+(control!$B$4-MIN(B2391*C2391/6,400))/(B2391/8)","v":82},16]
["Lucky's Second chance",19,85,"M",{"$f":"MIN(B2392*C2392/6,400)/(B2392/2)+(control!$B$4-MIN(B2392*C2392/6,400))/(B2392/8)","v":83.421052631578945},23]
["Luckystars",24,103,"S",{"$f":"MIN(B2393*C2393/6,400)/(B2393/2)+(control!$B$4-MIN(B2393*C2393/6,400))/(B2393/8)","v":33.333333333333336},28]
["Lúcra",19,60,"S",{"$f":"MIN(B2394*C2394/6,400)/(B2394/2)+(control!$B$4-MIN(B2394*C2394/6,400))/(B2394/8)","v":108.42105263157895},20]
["Lucy",19,73,"S",{"$f":"MIN(B2395*C2395/6,400)/(B2395/2)+(control!$B$4-MIN(B2395*C2395/6,400))/(B2395/8)","v":95.421052631578945},20]
["Ludwig",25,101,"S",{"$f":"MIN(B2396*C2396/6,400)/(B2396/2)+(control!$B$4-MIN(B2396*C2396/6,400))/(B2396/8)","v":32},26]
["Lugano",20,101,"D",{"$f":"MIN(B2397*C2397/6,400)/(B2397/2)+(control!$B$4-MIN(B2397*C2397/6,400))/(B2397/8)","v":59},23]
["Lullaby Maker",25,83,"S",{"$f":"MIN(B2398*C2398/6,400)/(B2398/2)+(control!$B$4-MIN(B2398*C2398/6,400))/(B2398/8)","v":45},26]
["Luna",26,74,"S",{"$f":"MIN(B2399*C2399/6,400)/(B2399/2)+(control!$B$4-MIN(B2399*C2399/6,400))/(B2399/8)","v":49.076923076923073},26]
["Luna",22,68,"M",{"$f":"MIN(B2400*C2400/6,400)/(B2400/2)+(control!$B$4-MIN(B2400*C2400/6,400))/(B2400/8)","v":77.454545454545453},23]
["Lunar Eclipse",20,71,"S",{"$f":"MIN(B2401*C2401/6,400)/(B2401/2)+(control!$B$4-MIN(B2401*C2401/6,400))/(B2401/8)","v":89},20]
["Lunatic",20,80,"S",{"$f":"MIN(B2402*C2402/6,400)/(B2402/2)+(control!$B$4-MIN(B2402*C2402/6,400))/(B2402/8)","v":80},20]
["Lune de miel (French=Honeymoon)",18,93,"D",{"$f":"MIN(B2403*C2403/6,400)/(B2403/2)+(control!$B$4-MIN(B2403*C2403/6,400))/(B2403/8)","v":84.777777777777771},22]
["Lurch",15,77,"S",{"$f":"MIN(B2404*C2404/6,400)/(B2404/2)+(control!$B$4-MIN(B2404*C2404/6,400))/(B2404/8)","v":136.33333333333334},17]
["M&M",20,84,"S",{"$f":"MIN(B2405*C2405/6,400)/(B2405/2)+(control!$B$4-MIN(B2405*C2405/6,400))/(B2405/8)","v":76},23]
["Mac",19,119,"M",{"$f":"MIN(B2406*C2406/6,400)/(B2406/2)+(control!$B$4-MIN(B2406*C2406/6,400))/(B2406/8)","v":49.421052631578952},21]
["Mackenzie",19,94,"S",{"$f":"MIN(B2407*C2407/6,400)/(B2407/2)+(control!$B$4-MIN(B2407*C2407/6,400))/(B2407/8)","v":74.421052631578945},22]
["Macleod",15,71,"S",{"$f":"MIN(B2408*C2408/6,400)/(B2408/2)+(control!$B$4-MIN(B2408*C2408/6,400))/(B2408/8)","v":142.33333333333334},16]
["Macy",21,91,"M",{"$f":"MIN(B2409*C2409/6,400)/(B2409/2)+(control!$B$4-MIN(B2409*C2409/6,400))/(B2409/8)","v":61.38095238095238},24]
["Madam Pixi",16,117,"S",{"$f":"MIN(B2410*C2410/6,400)/(B2410/2)+(control!$B$4-MIN(B2410*C2410/6,400))/(B2410/8)","v":83},16]
["Madame Butterfly",25,61,"M",{"$f":"MIN(B2411*C2411/6,400)/(B2411/2)+(control!$B$4-MIN(B2411*C2411/6,400))/(B2411/8)","v":67},26]
["Maddie",21,64,"M",{"$f":"MIN(B2412*C2412/6,400)/(B2412/2)+(control!$B$4-MIN(B2412*C2412/6,400))/(B2412/8)","v":88.38095238095238},22]
["Maddison",26,82,"S",{"$f":"MIN(B2413*C2413/6,400)/(B2413/2)+(control!$B$4-MIN(B2413*C2413/6,400))/(B2413/8)","v":41.07692307692308},26]
["Maddy",21,90,"S",{"$f":"MIN(B2414*C2414/6,400)/(B2414/2)+(control!$B$4-MIN(B2414*C2414/6,400))/(B2414/8)","v":62.38095238095238},24]
["Made Of Honor",20,77,"S",{"$f":"MIN(B2415*C2415/6,400)/(B2415/2)+(control!$B$4-MIN(B2415*C2415/6,400))/(B2415/8)","v":83},21]
["Made You Look",20,69,"S",{"$f":"MIN(B2416*C2416/6,400)/(B2416/2)+(control!$B$4-MIN(B2416*C2416/6,400))/(B2416/8)","v":91},22]
["Madison",22,87,"M",{"$f":"MIN(B2417*C2417/6,400)/(B2417/2)+(control!$B$4-MIN(B2417*C2417/6,400))/(B2417/8)","v":58.454545454545453},23]
["Madison Avenue",23,61,"S",{"$f":"MIN(B2418*C2418/6,400)/(B2418/2)+(control!$B$4-MIN(B2418*C2418/6,400))/(B2418/8)","v":78.130434782608688},25]
["Madonna",21,59,"S",{"$f":"MIN(B2419*C2419/6,400)/(B2419/2)+(control!$B$4-MIN(B2419*C2419/6,400))/(B2419/8)","v":93.38095238095238},24]
["Maestro",21,74,"S",{"$f":"MIN(B2420*C2420/6,400)/(B2420/2)+(control!$B$4-MIN(B2420*C2420/6,400))/(B2420/8)","v":78.38095238095238},23]
["Magavin",16,115,"D",{"$f":"MIN(B2421*C2421/6,400)/(B2421/2)+(control!$B$4-MIN(B2421*C2421/6,400))/(B2421/8)","v":85},18]
["Magee",27,69,"S",{"$f":"MIN(B2422*C2422/6,400)/(B2422/2)+(control!$B$4-MIN(B2422*C2422/6,400))/(B2422/8)","v":49.518518518518519},31]
["Magestic",20,92,"D",{"$f":"MIN(B2423*C2423/6,400)/(B2423/2)+(control!$B$4-MIN(B2423*C2423/6,400))/(B2423/8)","v":68},23]
["Maggie",21,121,"S",{"$f":"MIN(B2424*C2424/6,400)/(B2424/2)+(control!$B$4-MIN(B2424*C2424/6,400))/(B2424/8)","v":38.095238095238095},25]
["Maggie May",17,79,"S",{"$f":"MIN(B2425*C2425/6,400)/(B2425/2)+(control!$B$4-MIN(B2425*C2425/6,400))/(B2425/8)","v":109.23529411764704},19]
["Maggie's Maiden",21,123,"M",{"$f":"MIN(B2426*C2426/6,400)/(B2426/2)+(control!$B$4-MIN(B2426*C2426/6,400))/(B2426/8)","v":38.095238095238095},22]
["Magic",15,83,"M",{"$f":"MIN(B2427*C2427/6,400)/(B2427/2)+(control!$B$4-MIN(B2427*C2427/6,400))/(B2427/8)","v":130.33333333333334},16]
["Magic At Last",15,95,"D",{"$f":"MIN(B2428*C2428/6,400)/(B2428/2)+(control!$B$4-MIN(B2428*C2428/6,400))/(B2428/8)","v":118.33333333333334},15]
["Magic Carpet",24,90,"S",{"$f":"MIN(B2429*C2429/6,400)/(B2429/2)+(control!$B$4-MIN(B2429*C2429/6,400))/(B2429/8)","v":43.333333333333336},25]
["Magic Night",22,64,"S",{"$f":"MIN(B2430*C2430/6,400)/(B2430/2)+(control!$B$4-MIN(B2430*C2430/6,400))/(B2430/8)","v":81.454545454545453},22]
["Magic Star Pusher",22,91,"S",{"$f":"MIN(B2431*C2431/6,400)/(B2431/2)+(control!$B$4-MIN(B2431*C2431/6,400))/(B2431/8)","v":54.454545454545453},23]
["Magic Touch",15,90,"S",{"$f":"MIN(B2432*C2432/6,400)/(B2432/2)+(control!$B$4-MIN(B2432*C2432/6,400))/(B2432/8)","v":123.33333333333333},17]
["Magnum",15,82,"S",{"$f":"MIN(B2433*C2433/6,400)/(B2433/2)+(control!$B$4-MIN(B2433*C2433/6,400))/(B2433/8)","v":131.33333333333334},15]
["Magoo",25,94,"D",{"$f":"MIN(B2434*C2434/6,400)/(B2434/2)+(control!$B$4-MIN(B2434*C2434/6,400))/(B2434/8)","v":34},26]
["Maid Marion",21,82,"S",{"$f":"MIN(B2435*C2435/6,400)/(B2435/2)+(control!$B$4-MIN(B2435*C2435/6,400))/(B2435/8)","v":70.38095238095238},25]
["Maid of Silver",15,93,"S",{"$f":"MIN(B2436*C2436/6,400)/(B2436/2)+(control!$B$4-MIN(B2436*C2436/6,400))/(B2436/8)","v":120.33333333333333},15]
["Maiden",17,95,"D",{"$f":"MIN(B2437*C2437/6,400)/(B2437/2)+(control!$B$4-MIN(B2437*C2437/6,400))/(B2437/8)","v":93.235294117647058},21]
["Maiko",21,65,"M",{"$f":"MIN(B2438*C2438/6,400)/(B2438/2)+(control!$B$4-MIN(B2438*C2438/6,400))/(B2438/8)","v":87.38095238095238},23]
["Maisie",21,81,"M",{"$f":"MIN(B2439*C2439/6,400)/(B2439/2)+(control!$B$4-MIN(B2439*C2439/6,400))/(B2439/8)","v":71.38095238095238},22]
["Majeed",22,67,"S",{"$f":"MIN(B2440*C2440/6,400)/(B2440/2)+(control!$B$4-MIN(B2440*C2440/6,400))/(B2440/8)","v":78.454545454545453},24]
["Majestic Majesty",16,116,"M",{"$f":"MIN(B2441*C2441/6,400)/(B2441/2)+(control!$B$4-MIN(B2441*C2441/6,400))/(B2441/8)","v":84},18]
["Majestic Wind",22,68,"S",{"$f":"MIN(B2442*C2442/6,400)/(B2442/2)+(control!$B$4-MIN(B2442*C2442/6,400))/(B2442/8)","v":77.454545454545453},22]
["Majesty",21,77,"S",{"$f":"MIN(B2443*C2443/6,400)/(B2443/2)+(control!$B$4-MIN(B2443*C2443/6,400))/(B2443/8)","v":75.38095238095238},25]
["Major",22,97,"S",{"$f":"MIN(B2444*C2444/6,400)/(B2444/2)+(control!$B$4-MIN(B2444*C2444/6,400))/(B2444/8)","v":48.454545454545453},25]
["Make me a star",22,96,"S",{"$f":"MIN(B2445*C2445/6,400)/(B2445/2)+(control!$B$4-MIN(B2445*C2445/6,400))/(B2445/8)","v":49.454545454545453},26]
["Malachite",22,93,"S",{"$f":"MIN(B2446*C2446/6,400)/(B2446/2)+(control!$B$4-MIN(B2446*C2446/6,400))/(B2446/8)","v":52.454545454545453},23]
["Malcolm",19,87,"M",{"$f":"MIN(B2447*C2447/6,400)/(B2447/2)+(control!$B$4-MIN(B2447*C2447/6,400))/(B2447/8)","v":81.421052631578945},23]
["Malibu",20,99,"S",{"$f":"MIN(B2448*C2448/6,400)/(B2448/2)+(control!$B$4-MIN(B2448*C2448/6,400))/(B2448/8)","v":61},23]
["Malikhi",18,75,"M",{"$f":"MIN(B2449*C2449/6,400)/(B2449/2)+(control!$B$4-MIN(B2449*C2449/6,400))/(B2449/8)","v":102.77777777777777},22]
["Manchego",21,71,"S",{"$f":"MIN(B2450*C2450/6,400)/(B2450/2)+(control!$B$4-MIN(B2450*C2450/6,400))/(B2450/8)","v":81.38095238095238},24]
["Mandolin",21,113,"D",{"$f":"MIN(B2451*C2451/6,400)/(B2451/2)+(control!$B$4-MIN(B2451*C2451/6,400))/(B2451/8)","v":39.38095238095238},22]
["Mandy",19,98,"S",{"$f":"MIN(B2452*C2452/6,400)/(B2452/2)+(control!$B$4-MIN(B2452*C2452/6,400))/(B2452/8)","v":70.421052631578959},19]
["Mango Maddness",21,99,"S",{"$f":"MIN(B2453*C2453/6,400)/(B2453/2)+(control!$B$4-MIN(B2453*C2453/6,400))/(B2453/8)","v":53.38095238095238},25]
["Mania",19,60,"S",{"$f":"MIN(B2454*C2454/6,400)/(B2454/2)+(control!$B$4-MIN(B2454*C2454/6,400))/(B2454/8)","v":108.42105263157895},23]
["Mankala",16,74,"S",{"$f":"MIN(B2455*C2455/6,400)/(B2455/2)+(control!$B$4-MIN(B2455*C2455/6,400))/(B2455/8)","v":126},17]
["Manly",22,88,"M",{"$f":"MIN(B2456*C2456/6,400)/(B2456/2)+(control!$B$4-MIN(B2456*C2456/6,400))/(B2456/8)","v":57.454545454545453},26]
["Manolito",19,102,"S",{"$f":"MIN(B2457*C2457/6,400)/(B2457/2)+(control!$B$4-MIN(B2457*C2457/6,400))/(B2457/8)","v":66.421052631578945},22]
["Maple Syrup",19,83,"S",{"$f":"MIN(B2458*C2458/6,400)/(B2458/2)+(control!$B$4-MIN(B2458*C2458/6,400))/(B2458/8)","v":85.421052631578959},23]
["Marama",20,100,"D",{"$f":"MIN(B2459*C2459/6,400)/(B2459/2)+(control!$B$4-MIN(B2459*C2459/6,400))/(B2459/8)","v":60},21]
["Maranda",15,92,"S",{"$f":"MIN(B2460*C2460/6,400)/(B2460/2)+(control!$B$4-MIN(B2460*C2460/6,400))/(B2460/8)","v":121.33333333333334},19]
["Marbach",20,85,"S",{"$f":"MIN(B2461*C2461/6,400)/(B2461/2)+(control!$B$4-MIN(B2461*C2461/6,400))/(B2461/8)","v":75},23]
["March to Victory",22,82,"S",{"$f":"MIN(B2462*C2462/6,400)/(B2462/2)+(control!$B$4-MIN(B2462*C2462/6,400))/(B2462/8)","v":63.454545454545453},22]
["Marcie",25,65,"M",{"$f":"MIN(B2463*C2463/6,400)/(B2463/2)+(control!$B$4-MIN(B2463*C2463/6,400))/(B2463/8)","v":63.000000000000007},26]
["Marcus",19,98,"D",{"$f":"MIN(B2464*C2464/6,400)/(B2464/2)+(control!$B$4-MIN(B2464*C2464/6,400))/(B2464/8)","v":70.421052631578959},22]
["Marengo",22,86,"S",{"$f":"MIN(B2465*C2465/6,400)/(B2465/2)+(control!$B$4-MIN(B2465*C2465/6,400))/(B2465/8)","v":59.45454545454546},26]
["Margo",25,106,"D",{"$f":"MIN(B2466*C2466/6,400)/(B2466/2)+(control!$B$4-MIN(B2466*C2466/6,400))/(B2466/8)","v":32},28]
["Maria",22,104,"M",{"$f":"MIN(B2467*C2467/6,400)/(B2467/2)+(control!$B$4-MIN(B2467*C2467/6,400))/(B2467/8)","v":41.45454545454546},26]
["Marigold",22,96,"S",{"$f":"MIN(B2468*C2468/6,400)/(B2468/2)+(control!$B$4-MIN(B2468*C2468/6,400))/(B2468/8)","v":49.454545454545453},23]
["Marion",15,102,"S",{"$f":"MIN(B2469*C2469/6,400)/(B2469/2)+(control!$B$4-MIN(B2469*C2469/6,400))/(B2469/8)","v":111.33333333333333},17]
["Marisa",27,65,"M",{"$f":"MIN(B2470*C2470/6,400)/(B2470/2)+(control!$B$4-MIN(B2470*C2470/6,400))/(B2470/8)","v":53.518518518518519},27]
["Mark",16,81,"S",{"$f":"MIN(B2471*C2471/6,400)/(B2471/2)+(control!$B$4-MIN(B2471*C2471/6,400))/(B2471/8)","v":119},19]
["Marks Super Socks",23,81,"M",{"$f":"MIN(B2472*C2472/6,400)/(B2472/2)+(control!$B$4-MIN(B2472*C2472/6,400))/(B2472/8)","v":58.130434782608695},26]
["Marlett",15,85,"S",{"$f":"MIN(B2473*C2473/6,400)/(B2473/2)+(control!$B$4-MIN(B2473*C2473/6,400))/(B2473/8)","v":128.33333333333334},16]
["Marley",15,115,"M",{"$f":"MIN(B2474*C2474/6,400)/(B2474/2)+(control!$B$4-MIN(B2474*C2474/6,400))/(B2474/8)","v":98.333333333333343},18]
["Marquisse",27,84,"S",{"$f":"MIN(B2475*C2475/6,400)/(B2475/2)+(control!$B$4-MIN(B2475*C2475/6,400))/(B2475/8)","v":34.518518518518519},29]
["Mars",24,78,"M",{"$f":"MIN(B2476*C2476/6,400)/(B2476/2)+(control!$B$4-MIN(B2476*C2476/6,400))/(B2476/8)","v":55.333333333333329},26]
["Marshall Skipper Bar",19,95,"S",{"$f":"MIN(B2477*C2477/6,400)/(B2477/2)+(control!$B$4-MIN(B2477*C2477/6,400))/(B2477/8)","v":73.421052631578959},23]
["Marshmallow",18,69,"S",{"$f":"MIN(B2478*C2478/6,400)/(B2478/2)+(control!$B$4-MIN(B2478*C2478/6,400))/(B2478/8)","v":108.77777777777777},22]
["Marshmello",21,75,"S",{"$f":"MIN(B2479*C2479/6,400)/(B2479/2)+(control!$B$4-MIN(B2479*C2479/6,400))/(B2479/8)","v":77.38095238095238},21]
["Marshy",21,118,"S",{"$f":"MIN(B2480*C2480/6,400)/(B2480/2)+(control!$B$4-MIN(B2480*C2480/6,400))/(B2480/8)","v":38.095238095238095},22]
["Martini",22,119,"S",{"$f":"MIN(B2481*C2481/6,400)/(B2481/2)+(control!$B$4-MIN(B2481*C2481/6,400))/(B2481/8)","v":36.363636363636367},26]
["Marvin",26,69,"M",{"$f":"MIN(B2482*C2482/6,400)/(B2482/2)+(control!$B$4-MIN(B2482*C2482/6,400))/(B2482/8)","v":54.07692307692308},29]
["Marvin Bay",27,115,"D",{"$f":"MIN(B2483*C2483/6,400)/(B2483/2)+(control!$B$4-MIN(B2483*C2483/6,400))/(B2483/8)","v":29.62962962962963},30]
["Mary",17,89,"S",{"$f":"MIN(B2484*C2484/6,400)/(B2484/2)+(control!$B$4-MIN(B2484*C2484/6,400))/(B2484/8)","v":99.235294117647072},17]
["Mary Mary quite Contrary",24,95,"S",{"$f":"MIN(B2485*C2485/6,400)/(B2485/2)+(control!$B$4-MIN(B2485*C2485/6,400))/(B2485/8)","v":38.333333333333336},28]
["MaryJane",15,80,"S",{"$f":"MIN(B2486*C2486/6,400)/(B2486/2)+(control!$B$4-MIN(B2486*C2486/6,400))/(B2486/8)","v":133.33333333333334},17]
["MaryJanes Last Dance",18,81,"M",{"$f":"MIN(B2487*C2487/6,400)/(B2487/2)+(control!$B$4-MIN(B2487*C2487/6,400))/(B2487/8)","v":96.777777777777771},18]
["MaryLou",20,89,"S",{"$f":"MIN(B2488*C2488/6,400)/(B2488/2)+(control!$B$4-MIN(B2488*C2488/6,400))/(B2488/8)","v":71},24]
["Masimo ",24,89,"S",{"$f":"MIN(B2489*C2489/6,400)/(B2489/2)+(control!$B$4-MIN(B2489*C2489/6,400))/(B2489/8)","v":44.333333333333336},24]
["Mastang Sally",21,86,"S",{"$f":"MIN(B2490*C2490/6,400)/(B2490/2)+(control!$B$4-MIN(B2490*C2490/6,400))/(B2490/8)","v":66.38095238095238},24]
["Master Mind",24,92,"M",{"$f":"MIN(B2491*C2491/6,400)/(B2491/2)+(control!$B$4-MIN(B2491*C2491/6,400))/(B2491/8)","v":41.333333333333336},26]
["Master Oats",25,60,"S",{"$f":"MIN(B2492*C2492/6,400)/(B2492/2)+(control!$B$4-MIN(B2492*C2492/6,400))/(B2492/8)","v":68},26]
["Master Piece",26,83,"S",{"$f":"MIN(B2493*C2493/6,400)/(B2493/2)+(control!$B$4-MIN(B2493*C2493/6,400))/(B2493/8)","v":40.076923076923073},30]
["Master Pluto",15,87,"M",{"$f":"MIN(B2494*C2494/6,400)/(B2494/2)+(control!$B$4-MIN(B2494*C2494/6,400))/(B2494/8)","v":126.33333333333333},17]
["Master Teddy Edward",24,122,"D",{"$f":"MIN(B2495*C2495/6,400)/(B2495/2)+(control!$B$4-MIN(B2495*C2495/6,400))/(B2495/8)","v":33.333333333333336},27]
["MaTao ",20,78,"M",{"$f":"MIN(B2496*C2496/6,400)/(B2496/2)+(control!$B$4-MIN(B2496*C2496/6,400))/(B2496/8)","v":82},21]
["Matica",27,101,"S",{"$f":"MIN(B2497*C2497/6,400)/(B2497/2)+(control!$B$4-MIN(B2497*C2497/6,400))/(B2497/8)","v":29.62962962962963},27]
["Matilda",26,102,"S",{"$f":"MIN(B2498*C2498/6,400)/(B2498/2)+(control!$B$4-MIN(B2498*C2498/6,400))/(B2498/8)","v":30.76923076923077},27]
["Matrix",24,84,"S",{"$f":"MIN(B2499*C2499/6,400)/(B2499/2)+(control!$B$4-MIN(B2499*C2499/6,400))/(B2499/8)","v":49.333333333333329},25]
["Mattawa",25,95,"D",{"$f":"MIN(B2500*C2500/6,400)/(B2500/2)+(control!$B$4-MIN(B2500*C2500/6,400))/(B2500/8)","v":33.000000000000007},28]
["Matter of Heart",22,94,"S",{"$f":"MIN(B2501*C2501/6,400)/(B2501/2)+(control!$B$4-MIN(B2501*C2501/6,400))/(B2501/8)","v":51.454545454545453},26]
["Mattimeo",19,85,"M",{"$f":"MIN(B2502*C2502/6,400)/(B2502/2)+(control!$B$4-MIN(B2502*C2502/6,400))/(B2502/8)","v":83.421052631578945},23]
["Maude",25,87,"S",{"$f":"MIN(B2503*C2503/6,400)/(B2503/2)+(control!$B$4-MIN(B2503*C2503/6,400))/(B2503/8)","v":41},27]
["Mauharina",20,95,"D",{"$f":"MIN(B2504*C2504/6,400)/(B2504/2)+(control!$B$4-MIN(B2504*C2504/6,400))/(B2504/8)","v":65},24]
["Maverick",17,100,"S",{"$f":"MIN(B2505*C2505/6,400)/(B2505/2)+(control!$B$4-MIN(B2505*C2505/6,400))/(B2505/8)","v":88.235294117647072},20]
["Max",15,92,"S",{"$f":"MIN(B2506*C2506/6,400)/(B2506/2)+(control!$B$4-MIN(B2506*C2506/6,400))/(B2506/8)","v":121.33333333333334},17]
["Maximotion",25,74,"S",{"$f":"MIN(B2507*C2507/6,400)/(B2507/2)+(control!$B$4-MIN(B2507*C2507/6,400))/(B2507/8)","v":54},28]
["Maxine",16,89,"S",{"$f":"MIN(B2508*C2508/6,400)/(B2508/2)+(control!$B$4-MIN(B2508*C2508/6,400))/(B2508/8)","v":111},18]
["May",17,88,"M",{"$f":"MIN(B2509*C2509/6,400)/(B2509/2)+(control!$B$4-MIN(B2509*C2509/6,400))/(B2509/8)","v":100.23529411764704},18]
["May Day",25,101,"S",{"$f":"MIN(B2510*C2510/6,400)/(B2510/2)+(control!$B$4-MIN(B2510*C2510/6,400))/(B2510/8)","v":32},28]
["Maya",23,90,"S",{"$f":"MIN(B2511*C2511/6,400)/(B2511/2)+(control!$B$4-MIN(B2511*C2511/6,400))/(B2511/8)","v":49.130434782608695},23]
["Mayday",20,95,"M",{"$f":"MIN(B2512*C2512/6,400)/(B2512/2)+(control!$B$4-MIN(B2512*C2512/6,400))/(B2512/8)","v":65},22]
["Mayzie Day",25,108,"M",{"$f":"MIN(B2513*C2513/6,400)/(B2513/2)+(control!$B$4-MIN(B2513*C2513/6,400))/(B2513/8)","v":32},25]
["Mazey",19,89,"S",{"$f":"MIN(B2514*C2514/6,400)/(B2514/2)+(control!$B$4-MIN(B2514*C2514/6,400))/(B2514/8)","v":79.421052631578959},21]
["McCloud",15,86,"S",{"$f":"MIN(B2515*C2515/6,400)/(B2515/2)+(control!$B$4-MIN(B2515*C2515/6,400))/(B2515/8)","v":127.33333333333334},18]
["McKenna",22,108,"D",{"$f":"MIN(B2516*C2516/6,400)/(B2516/2)+(control!$B$4-MIN(B2516*C2516/6,400))/(B2516/8)","v":37.454545454545453},26]
["Meadow Skipper",16,87,"S",{"$f":"MIN(B2517*C2517/6,400)/(B2517/2)+(control!$B$4-MIN(B2517*C2517/6,400))/(B2517/8)","v":113},19]
["Medal of Freedom",26,105,"D",{"$f":"MIN(B2518*C2518/6,400)/(B2518/2)+(control!$B$4-MIN(B2518*C2518/6,400))/(B2518/8)","v":30.76923076923077},29]
["Medley",27,95,"S",{"$f":"MIN(B2519*C2519/6,400)/(B2519/2)+(control!$B$4-MIN(B2519*C2519/6,400))/(B2519/8)","v":29.62962962962963},28]
["Meeka",18,100,"M",{"$f":"MIN(B2520*C2520/6,400)/(B2520/2)+(control!$B$4-MIN(B2520*C2520/6,400))/(B2520/8)","v":77.777777777777771},21]
["Megaboom",20,117,"D",{"$f":"MIN(B2521*C2521/6,400)/(B2521/2)+(control!$B$4-MIN(B2521*C2521/6,400))/(B2521/8)","v":43},23]
["Megabucks",20,63,"S",{"$f":"MIN(B2522*C2522/6,400)/(B2522/2)+(control!$B$4-MIN(B2522*C2522/6,400))/(B2522/8)","v":97},21]
["Megan",18,74,"S",{"$f":"MIN(B2523*C2523/6,400)/(B2523/2)+(control!$B$4-MIN(B2523*C2523/6,400))/(B2523/8)","v":103.77777777777779},21]
["Megan's Craker",20,80,"M",{"$f":"MIN(B2524*C2524/6,400)/(B2524/2)+(control!$B$4-MIN(B2524*C2524/6,400))/(B2524/8)","v":80},21]
["Melissa",20,109,"D",{"$f":"MIN(B2525*C2525/6,400)/(B2525/2)+(control!$B$4-MIN(B2525*C2525/6,400))/(B2525/8)","v":51},20]
["Mellie",16,72,"M",{"$f":"MIN(B2526*C2526/6,400)/(B2526/2)+(control!$B$4-MIN(B2526*C2526/6,400))/(B2526/8)","v":128},17]
["Mello Yello",21,76,"S",{"$f":"MIN(B2527*C2527/6,400)/(B2527/2)+(control!$B$4-MIN(B2527*C2527/6,400))/(B2527/8)","v":76.38095238095238},22]
["Mellow Morrick",21,86,"S",{"$f":"MIN(B2528*C2528/6,400)/(B2528/2)+(control!$B$4-MIN(B2528*C2528/6,400))/(B2528/8)","v":66.38095238095238},24]
["Mellow Yellow",21,108,"M",{"$f":"MIN(B2529*C2529/6,400)/(B2529/2)+(control!$B$4-MIN(B2529*C2529/6,400))/(B2529/8)","v":44.38095238095238},24]
["Melody",25,80,"M",{"$f":"MIN(B2530*C2530/6,400)/(B2530/2)+(control!$B$4-MIN(B2530*C2530/6,400))/(B2530/8)","v":48},27]
["Melt Away",17,92,"S",{"$f":"MIN(B2531*C2531/6,400)/(B2531/2)+(control!$B$4-MIN(B2531*C2531/6,400))/(B2531/8)","v":96.235294117647058},17]
["Memory",21,101,"S",{"$f":"MIN(B2532*C2532/6,400)/(B2532/2)+(control!$B$4-MIN(B2532*C2532/6,400))/(B2532/8)","v":51.38095238095238},23]
["Mercedes",23,107,"S",{"$f":"MIN(B2533*C2533/6,400)/(B2533/2)+(control!$B$4-MIN(B2533*C2533/6,400))/(B2533/8)","v":34.782608695652172},23]
["Mercury",19,64,"S",{"$f":"MIN(B2534*C2534/6,400)/(B2534/2)+(control!$B$4-MIN(B2534*C2534/6,400))/(B2534/8)","v":104.42105263157895},22]
["Mercy",15,108,"S",{"$f":"MIN(B2535*C2535/6,400)/(B2535/2)+(control!$B$4-MIN(B2535*C2535/6,400))/(B2535/8)","v":105.33333333333333},18]
["Merietta",25,71,"S",{"$f":"MIN(B2536*C2536/6,400)/(B2536/2)+(control!$B$4-MIN(B2536*C2536/6,400))/(B2536/8)","v":57.000000000000007},28]
["Merlin",22,109,"S",{"$f":"MIN(B2537*C2537/6,400)/(B2537/2)+(control!$B$4-MIN(B2537*C2537/6,400))/(B2537/8)","v":36.454545454545453},23]
["Merlin's Magic",15,111,"S",{"$f":"MIN(B2538*C2538/6,400)/(B2538/2)+(control!$B$4-MIN(B2538*C2538/6,400))/(B2538/8)","v":102.33333333333333},15]
["Mermaid",16,92,"S",{"$f":"MIN(B2539*C2539/6,400)/(B2539/2)+(control!$B$4-MIN(B2539*C2539/6,400))/(B2539/8)","v":108},18]
["Merrick",27,102,"M",{"$f":"MIN(B2540*C2540/6,400)/(B2540/2)+(control!$B$4-MIN(B2540*C2540/6,400))/(B2540/8)","v":29.62962962962963},31]
["Merrie",19,84,"S",{"$f":"MIN(B2541*C2541/6,400)/(B2541/2)+(control!$B$4-MIN(B2541*C2541/6,400))/(B2541/8)","v":84.421052631578945},22]
["Merry Legs",20,61,"M",{"$f":"MIN(B2542*C2542/6,400)/(B2542/2)+(control!$B$4-MIN(B2542*C2542/6,400))/(B2542/8)","v":99},23]
["Merrylegs",19,89,"M",{"$f":"MIN(B2543*C2543/6,400)/(B2543/2)+(control!$B$4-MIN(B2543*C2543/6,400))/(B2543/8)","v":79.421052631578959},19]
["Merrylegs",22,123,"S",{"$f":"MIN(B2544*C2544/6,400)/(B2544/2)+(control!$B$4-MIN(B2544*C2544/6,400))/(B2544/8)","v":36.363636363636367},25]
["Merry-weather",25,76,"S",{"$f":"MIN(B2545*C2545/6,400)/(B2545/2)+(control!$B$4-MIN(B2545*C2545/6,400))/(B2545/8)","v":52},25]
["Mexican Treat",16,75,"S",{"$f":"MIN(B2546*C2546/6,400)/(B2546/2)+(control!$B$4-MIN(B2546*C2546/6,400))/(B2546/8)","v":125},19]
["Mia",17,82,"M",{"$f":"MIN(B2547*C2547/6,400)/(B2547/2)+(control!$B$4-MIN(B2547*C2547/6,400))/(B2547/8)","v":106.23529411764704},20]
["Miami Vice",25,93,"D",{"$f":"MIN(B2548*C2548/6,400)/(B2548/2)+(control!$B$4-MIN(B2548*C2548/6,400))/(B2548/8)","v":35},28]
["Mica",20,100,"S",{"$f":"MIN(B2549*C2549/6,400)/(B2549/2)+(control!$B$4-MIN(B2549*C2549/6,400))/(B2549/8)","v":60},20]
["Mickey",26,89,"M",{"$f":"MIN(B2550*C2550/6,400)/(B2550/2)+(control!$B$4-MIN(B2550*C2550/6,400))/(B2550/8)","v":34.076923076923073},30]
["Mickey Blue Eyes",24,116,"D",{"$f":"MIN(B2551*C2551/6,400)/(B2551/2)+(control!$B$4-MIN(B2551*C2551/6,400))/(B2551/8)","v":33.333333333333336},24]
["Micro Mini",20,65,"M",{"$f":"MIN(B2552*C2552/6,400)/(B2552/2)+(control!$B$4-MIN(B2552*C2552/6,400))/(B2552/8)","v":95},20]
["Mid Mornings Light Breeze",18,112,"S",{"$f":"MIN(B2553*C2553/6,400)/(B2553/2)+(control!$B$4-MIN(B2553*C2553/6,400))/(B2553/8)","v":65.777777777777771},20]
["Midge",27,79,"M",{"$f":"MIN(B2554*C2554/6,400)/(B2554/2)+(control!$B$4-MIN(B2554*C2554/6,400))/(B2554/8)","v":39.518518518518519},27]
["Midnight",24,81,"S",{"$f":"MIN(B2555*C2555/6,400)/(B2555/2)+(control!$B$4-MIN(B2555*C2555/6,400))/(B2555/8)","v":52.333333333333329},27]
["Midnight April Moon",19,76,"M",{"$f":"MIN(B2556*C2556/6,400)/(B2556/2)+(control!$B$4-MIN(B2556*C2556/6,400))/(B2556/8)","v":92.421052631578945},22]
["Midnight Blues",25,91,"S",{"$f":"MIN(B2557*C2557/6,400)/(B2557/2)+(control!$B$4-MIN(B2557*C2557/6,400))/(B2557/8)","v":37},27]
["Midnight Clear",19,87,"S",{"$f":"MIN(B2558*C2558/6,400)/(B2558/2)+(control!$B$4-MIN(B2558*C2558/6,400))/(B2558/8)","v":81.421052631578945},20]
["Midnight Dancer",25,61,"S",{"$f":"MIN(B2559*C2559/6,400)/(B2559/2)+(control!$B$4-MIN(B2559*C2559/6,400))/(B2559/8)","v":67},26]
["Midnight Dream",25,70,"S",{"$f":"MIN(B2560*C2560/6,400)/(B2560/2)+(control!$B$4-MIN(B2560*C2560/6,400))/(B2560/8)","v":57.999999999999993},26]
["Midnight Dreamer",20,119,"S",{"$f":"MIN(B2561*C2561/6,400)/(B2561/2)+(control!$B$4-MIN(B2561*C2561/6,400))/(B2561/8)","v":41},21]
["Midnight Express",25,96,"M",{"$f":"MIN(B2562*C2562/6,400)/(B2562/2)+(control!$B$4-MIN(B2562*C2562/6,400))/(B2562/8)","v":32},28]
["Midnight Jewel",15,119,"S",{"$f":"MIN(B2563*C2563/6,400)/(B2563/2)+(control!$B$4-MIN(B2563*C2563/6,400))/(B2563/8)","v":94.333333333333329},19]
["Midnight Lady",15,96,"S",{"$f":"MIN(B2564*C2564/6,400)/(B2564/2)+(control!$B$4-MIN(B2564*C2564/6,400))/(B2564/8)","v":117.33333333333333},19]
["Midnight Legacy",21,64,"M",{"$f":"MIN(B2565*C2565/6,400)/(B2565/2)+(control!$B$4-MIN(B2565*C2565/6,400))/(B2565/8)","v":88.38095238095238},24]
["Midnight Madness",22,102,"M",{"$f":"MIN(B2566*C2566/6,400)/(B2566/2)+(control!$B$4-MIN(B2566*C2566/6,400))/(B2566/8)","v":43.454545454545453},22]
["Midnight Magic",21,90,"S",{"$f":"MIN(B2567*C2567/6,400)/(B2567/2)+(control!$B$4-MIN(B2567*C2567/6,400))/(B2567/8)","v":62.38095238095238},21]
["Midnight Majesty",25,106,"M",{"$f":"MIN(B2568*C2568/6,400)/(B2568/2)+(control!$B$4-MIN(B2568*C2568/6,400))/(B2568/8)","v":32},25]
["Midnight Mayhem",21,92,"S",{"$f":"MIN(B2569*C2569/6,400)/(B2569/2)+(control!$B$4-MIN(B2569*C2569/6,400))/(B2569/8)","v":60.38095238095238},21]
["Midnight Myth",27,73,"S",{"$f":"MIN(B2570*C2570/6,400)/(B2570/2)+(control!$B$4-MIN(B2570*C2570/6,400))/(B2570/8)","v":45.518518518518519},31]
["Midnight Spark",20,59,"S",{"$f":"MIN(B2571*C2571/6,400)/(B2571/2)+(control!$B$4-MIN(B2571*C2571/6,400))/(B2571/8)","v":101},20]
["Midnight Sun",16,74,"S",{"$f":"MIN(B2572*C2572/6,400)/(B2572/2)+(control!$B$4-MIN(B2572*C2572/6,400))/(B2572/8)","v":126},19]
["Midnight Surprizes",15,122,"D",{"$f":"MIN(B2573*C2573/6,400)/(B2573/2)+(control!$B$4-MIN(B2573*C2573/6,400))/(B2573/8)","v":91.333333333333329},18]
["Midnight Wanderer",20,78,"S",{"$f":"MIN(B2574*C2574/6,400)/(B2574/2)+(control!$B$4-MIN(B2574*C2574/6,400))/(B2574/8)","v":82},21]
["Miffie",20,103,"D",{"$f":"MIN(B2575*C2575/6,400)/(B2575/2)+(control!$B$4-MIN(B2575*C2575/6,400))/(B2575/8)","v":57},23]
["Mig",22,87,"M",{"$f":"MIN(B2576*C2576/6,400)/(B2576/2)+(control!$B$4-MIN(B2576*C2576/6,400))/(B2576/8)","v":58.454545454545453},26]
["Mighty blue",19,80,"S",{"$f":"MIN(B2577*C2577/6,400)/(B2577/2)+(control!$B$4-MIN(B2577*C2577/6,400))/(B2577/8)","v":88.421052631578945},23]
["Mighty Man",25,60,"S",{"$f":"MIN(B2578*C2578/6,400)/(B2578/2)+(control!$B$4-MIN(B2578*C2578/6,400))/(B2578/8)","v":68},25]
["Mighty Snazy",15,85,"M",{"$f":"MIN(B2579*C2579/6,400)/(B2579/2)+(control!$B$4-MIN(B2579*C2579/6,400))/(B2579/8)","v":128.33333333333334},16]
["Mika",18,62,"S",{"$f":"MIN(B2580*C2580/6,400)/(B2580/2)+(control!$B$4-MIN(B2580*C2580/6,400))/(B2580/8)","v":115.77777777777779},18]
["Mike",23,98,"M",{"$f":"MIN(B2581*C2581/6,400)/(B2581/2)+(control!$B$4-MIN(B2581*C2581/6,400))/(B2581/8)","v":41.130434782608695},26]
["Mikey",22,106,"D",{"$f":"MIN(B2582*C2582/6,400)/(B2582/2)+(control!$B$4-MIN(B2582*C2582/6,400))/(B2582/8)","v":39.454545454545453},23]
["Milan",22,81,"M",{"$f":"MIN(B2583*C2583/6,400)/(B2583/2)+(control!$B$4-MIN(B2583*C2583/6,400))/(B2583/8)","v":64.454545454545453},22]
["Miles",20,66,"S",{"$f":"MIN(B2584*C2584/6,400)/(B2584/2)+(control!$B$4-MIN(B2584*C2584/6,400))/(B2584/8)","v":94},22]
["Miles Mirical Dancer",20,118,"S",{"$f":"MIN(B2585*C2585/6,400)/(B2585/2)+(control!$B$4-MIN(B2585*C2585/6,400))/(B2585/8)","v":42},20]
["Milky",20,106,"D",{"$f":"MIN(B2586*C2586/6,400)/(B2586/2)+(control!$B$4-MIN(B2586*C2586/6,400))/(B2586/8)","v":54},24]
["Milky Way",25,68,"M",{"$f":"MIN(B2587*C2587/6,400)/(B2587/2)+(control!$B$4-MIN(B2587*C2587/6,400))/(B2587/8)","v":60.000000000000007},26]
["Millefeuille",19,98,"M",{"$f":"MIN(B2588*C2588/6,400)/(B2588/2)+(control!$B$4-MIN(B2588*C2588/6,400))/(B2588/8)","v":70.421052631578959},20]
["Millenium",16,73,"M",{"$f":"MIN(B2589*C2589/6,400)/(B2589/2)+(control!$B$4-MIN(B2589*C2589/6,400))/(B2589/8)","v":127},18]
["Millenium Rose",20,92,"S",{"$f":"MIN(B2590*C2590/6,400)/(B2590/2)+(control!$B$4-MIN(B2590*C2590/6,400))/(B2590/8)","v":68},23]
["Milley",20,92,"D",{"$f":"MIN(B2591*C2591/6,400)/(B2591/2)+(control!$B$4-MIN(B2591*C2591/6,400))/(B2591/8)","v":68},20]
["Millie",16,80,"S",{"$f":"MIN(B2592*C2592/6,400)/(B2592/2)+(control!$B$4-MIN(B2592*C2592/6,400))/(B2592/8)","v":120},20]
["Milly",21,74,"S",{"$f":"MIN(B2593*C2593/6,400)/(B2593/2)+(control!$B$4-MIN(B2593*C2593/6,400))/(B2593/8)","v":78.38095238095238},23]
["Milo",24,90,"S",{"$f":"MIN(B2594*C2594/6,400)/(B2594/2)+(control!$B$4-MIN(B2594*C2594/6,400))/(B2594/8)","v":43.333333333333336},28]
["Milord",26,77,"S",{"$f":"MIN(B2595*C2595/6,400)/(B2595/2)+(control!$B$4-MIN(B2595*C2595/6,400))/(B2595/8)","v":46.076923076923073},30]
["Milpreve",16,87,"S",{"$f":"MIN(B2596*C2596/6,400)/(B2596/2)+(control!$B$4-MIN(B2596*C2596/6,400))/(B2596/8)","v":113},18]
["Mindy",22,62,"S",{"$f":"MIN(B2597*C2597/6,400)/(B2597/2)+(control!$B$4-MIN(B2597*C2597/6,400))/(B2597/8)","v":83.454545454545453},22]
["Mini",26,70,"S",{"$f":"MIN(B2598*C2598/6,400)/(B2598/2)+(control!$B$4-MIN(B2598*C2598/6,400))/(B2598/8)","v":53.07692307692308},26]
["Mini Me",18,90,"S",{"$f":"MIN(B2599*C2599/6,400)/(B2599/2)+(control!$B$4-MIN(B2599*C2599/6,400))/(B2599/8)","v":87.777777777777771},19]
["Mini-me",22,96,"S",{"$f":"MIN(B2600*C2600/6,400)/(B2600/2)+(control!$B$4-MIN(B2600*C2600/6,400))/(B2600/8)","v":49.454545454545453},24]
["Minnie",16,64,"M",{"$f":"MIN(B2601*C2601/6,400)/(B2601/2)+(control!$B$4-MIN(B2601*C2601/6,400))/(B2601/8)","v":136},17]
["Mint",26,116,"S",{"$f":"MIN(B2602*C2602/6,400)/(B2602/2)+(control!$B$4-MIN(B2602*C2602/6,400))/(B2602/8)","v":30.76923076923077},26]
["Mint-julip",20,97,"S",{"$f":"MIN(B2603*C2603/6,400)/(B2603/2)+(control!$B$4-MIN(B2603*C2603/6,400))/(B2603/8)","v":63},23]
["Minx",25,101,"D",{"$f":"MIN(B2604*C2604/6,400)/(B2604/2)+(control!$B$4-MIN(B2604*C2604/6,400))/(B2604/8)","v":32},26]
["Miracle",23,119,"S",{"$f":"MIN(B2605*C2605/6,400)/(B2605/2)+(control!$B$4-MIN(B2605*C2605/6,400))/(B2605/8)","v":34.782608695652172},26]
["Miracles Are Real",25,61,"S",{"$f":"MIN(B2606*C2606/6,400)/(B2606/2)+(control!$B$4-MIN(B2606*C2606/6,400))/(B2606/8)","v":67},28]
["Mirage",20,70,"S",{"$f":"MIN(B2607*C2607/6,400)/(B2607/2)+(control!$B$4-MIN(B2607*C2607/6,400))/(B2607/8)","v":90},22]
["Mirren",20,113,"S",{"$f":"MIN(B2608*C2608/6,400)/(B2608/2)+(control!$B$4-MIN(B2608*C2608/6,400))/(B2608/8)","v":47},24]
["Mirror Image",17,65,"M",{"$f":"MIN(B2609*C2609/6,400)/(B2609/2)+(control!$B$4-MIN(B2609*C2609/6,400))/(B2609/8)","v":123.23529411764707},21]
["Mischief",19,88,"M",{"$f":"MIN(B2610*C2610/6,400)/(B2610/2)+(control!$B$4-MIN(B2610*C2610/6,400))/(B2610/8)","v":80.421052631578945},20]
["Mischief Miss",25,115,"M",{"$f":"MIN(B2611*C2611/6,400)/(B2611/2)+(control!$B$4-MIN(B2611*C2611/6,400))/(B2611/8)","v":32},27]
["Miscief",25,78,"S",{"$f":"MIN(B2612*C2612/6,400)/(B2612/2)+(control!$B$4-MIN(B2612*C2612/6,400))/(B2612/8)","v":50},27]
["Miss Congeniality",20,97,"D",{"$f":"MIN(B2613*C2613/6,400)/(B2613/2)+(control!$B$4-MIN(B2613*C2613/6,400))/(B2613/8)","v":63},21]
["Miss Dottie West",27,91,"M",{"$f":"MIN(B2614*C2614/6,400)/(B2614/2)+(control!$B$4-MIN(B2614*C2614/6,400))/(B2614/8)","v":29.62962962962963},30]
["Miss Ellie",18,97,"D",{"$f":"MIN(B2615*C2615/6,400)/(B2615/2)+(control!$B$4-MIN(B2615*C2615/6,400))/(B2615/8)","v":80.777777777777771},22]
["Miss Fortune",26,98,"D",{"$f":"MIN(B2616*C2616/6,400)/(B2616/2)+(control!$B$4-MIN(B2616*C2616/6,400))/(B2616/8)","v":30.76923076923077},26]
["Miss Jones",19,76,"S",{"$f":"MIN(B2617*C2617/6,400)/(B2617/2)+(control!$B$4-MIN(B2617*C2617/6,400))/(B2617/8)","v":92.421052631578945},23]
["Miss Kitty",18,85,"S",{"$f":"MIN(B2618*C2618/6,400)/(B2618/2)+(control!$B$4-MIN(B2618*C2618/6,400))/(B2618/8)","v":92.777777777777771},19]
["Miss Mount",20,113,"D",{"$f":"MIN(B2619*C2619/6,400)/(B2619/2)+(control!$B$4-MIN(B2619*C2619/6,400))/(B2619/8)","v":47},24]
["Miss Poco Dot Com",24,115,"M",{"$f":"MIN(B2620*C2620/6,400)/(B2620/2)+(control!$B$4-MIN(B2620*C2620/6,400))/(B2620/8)","v":33.333333333333336},26]
["Miss Priss",19,88,"S",{"$f":"MIN(B2621*C2621/6,400)/(B2621/2)+(control!$B$4-MIN(B2621*C2621/6,400))/(B2621/8)","v":80.421052631578945},22]
["Miss Spots",22,83,"S",{"$f":"MIN(B2622*C2622/6,400)/(B2622/2)+(control!$B$4-MIN(B2622*C2622/6,400))/(B2622/8)","v":62.45454545454546},24]
["Miss T",22,68,"S",{"$f":"MIN(B2623*C2623/6,400)/(B2623/2)+(control!$B$4-MIN(B2623*C2623/6,400))/(B2623/8)","v":77.454545454545453},25]
["Miss-A-Sis",27,67,"S",{"$f":"MIN(B2624*C2624/6,400)/(B2624/2)+(control!$B$4-MIN(B2624*C2624/6,400))/(B2624/8)","v":51.518518518518519},27]
["Missedent",22,79,"S",{"$f":"MIN(B2625*C2625/6,400)/(B2625/2)+(control!$B$4-MIN(B2625*C2625/6,400))/(B2625/8)","v":66.454545454545453},23]
["Missing Link",19,84,"M",{"$f":"MIN(B2626*C2626/6,400)/(B2626/2)+(control!$B$4-MIN(B2626*C2626/6,400))/(B2626/8)","v":84.421052631578945},21]
["Mission",20,84,"S",{"$f":"MIN(B2627*C2627/6,400)/(B2627/2)+(control!$B$4-MIN(B2627*C2627/6,400))/(B2627/8)","v":76},20]
["Missy",26,96,"D",{"$f":"MIN(B2628*C2628/6,400)/(B2628/2)+(control!$B$4-MIN(B2628*C2628/6,400))/(B2628/8)","v":30.76923076923077},27]
["Mister Man",22,97,"M",{"$f":"MIN(B2629*C2629/6,400)/(B2629/2)+(control!$B$4-MIN(B2629*C2629/6,400))/(B2629/8)","v":48.454545454545453},24]
["Mister Mime",27,77,"M",{"$f":"MIN(B2630*C2630/6,400)/(B2630/2)+(control!$B$4-MIN(B2630*C2630/6,400))/(B2630/8)","v":41.518518518518519},28]
["Mister Nibbles",19,93,"S",{"$f":"MIN(B2631*C2631/6,400)/(B2631/2)+(control!$B$4-MIN(B2631*C2631/6,400))/(B2631/8)","v":75.421052631578945},22]
["Mister Saturday Night",21,121,"S",{"$f":"MIN(B2632*C2632/6,400)/(B2632/2)+(control!$B$4-MIN(B2632*C2632/6,400))/(B2632/8)","v":38.095238095238095},22]
["Mistery",21,104,"S",{"$f":"MIN(B2633*C2633/6,400)/(B2633/2)+(control!$B$4-MIN(B2633*C2633/6,400))/(B2633/8)","v":48.38095238095238},25]
["Mistic",27,118,"D",{"$f":"MIN(B2634*C2634/6,400)/(B2634/2)+(control!$B$4-MIN(B2634*C2634/6,400))/(B2634/8)","v":29.62962962962963},31]
["Mistico",26,79,"S",{"$f":"MIN(B2635*C2635/6,400)/(B2635/2)+(control!$B$4-MIN(B2635*C2635/6,400))/(B2635/8)","v":44.07692307692308},28]
["Mistral",18,60,"S",{"$f":"MIN(B2636*C2636/6,400)/(B2636/2)+(control!$B$4-MIN(B2636*C2636/6,400))/(B2636/8)","v":117.77777777777777},18]
["Mistress",20,94,"S",{"$f":"MIN(B2637*C2637/6,400)/(B2637/2)+(control!$B$4-MIN(B2637*C2637/6,400))/(B2637/8)","v":66},20]
["Mistro",24,98,"S",{"$f":"MIN(B2638*C2638/6,400)/(B2638/2)+(control!$B$4-MIN(B2638*C2638/6,400))/(B2638/8)","v":35.333333333333329},28]
["Misty",21,98,"D",{"$f":"MIN(B2639*C2639/6,400)/(B2639/2)+(control!$B$4-MIN(B2639*C2639/6,400))/(B2639/8)","v":54.38095238095238},23]
["Misty Blue",20,117,"D",{"$f":"MIN(B2640*C2640/6,400)/(B2640/2)+(control!$B$4-MIN(B2640*C2640/6,400))/(B2640/8)","v":43},21]
["Misty Mae",24,105,"D",{"$f":"MIN(B2641*C2641/6,400)/(B2641/2)+(control!$B$4-MIN(B2641*C2641/6,400))/(B2641/8)","v":33.333333333333336},26]
["Misty Moon",21,86,"S",{"$f":"MIN(B2642*C2642/6,400)/(B2642/2)+(control!$B$4-MIN(B2642*C2642/6,400))/(B2642/8)","v":66.38095238095238},24]
["Misty's Dream",22,72,"M",{"$f":"MIN(B2643*C2643/6,400)/(B2643/2)+(control!$B$4-MIN(B2643*C2643/6,400))/(B2643/8)","v":73.454545454545453},23]
["Mo",21,71,"M",{"$f":"MIN(B2644*C2644/6,400)/(B2644/2)+(control!$B$4-MIN(B2644*C2644/6,400))/(B2644/8)","v":81.38095238095238},21]
["Mocha",20,68,"M",{"$f":"MIN(B2645*C2645/6,400)/(B2645/2)+(control!$B$4-MIN(B2645*C2645/6,400))/(B2645/8)","v":92},20]
["Mocha Locha",20,104,"S",{"$f":"MIN(B2646*C2646/6,400)/(B2646/2)+(control!$B$4-MIN(B2646*C2646/6,400))/(B2646/8)","v":56},20]
["Mochachino",27,96,"D",{"$f":"MIN(B2647*C2647/6,400)/(B2647/2)+(control!$B$4-MIN(B2647*C2647/6,400))/(B2647/8)","v":29.62962962962963},30]
["Moci",19,73,"M",{"$f":"MIN(B2648*C2648/6,400)/(B2648/2)+(control!$B$4-MIN(B2648*C2648/6,400))/(B2648/8)","v":95.421052631578945},22]
["Moejo the Man Eater",26,107,"D",{"$f":"MIN(B2649*C2649/6,400)/(B2649/2)+(control!$B$4-MIN(B2649*C2649/6,400))/(B2649/8)","v":30.76923076923077},29]
["Mohawk",16,120,"S",{"$f":"MIN(B2650*C2650/6,400)/(B2650/2)+(control!$B$4-MIN(B2650*C2650/6,400))/(B2650/8)","v":80},18]
["Molina",19,102,"D",{"$f":"MIN(B2651*C2651/6,400)/(B2651/2)+(control!$B$4-MIN(B2651*C2651/6,400))/(B2651/8)","v":66.421052631578945},21]
["Mollie",26,99,"S",{"$f":"MIN(B2652*C2652/6,400)/(B2652/2)+(control!$B$4-MIN(B2652*C2652/6,400))/(B2652/8)","v":30.76923076923077},30]
["Molly",24,90,"S",{"$f":"MIN(B2653*C2653/6,400)/(B2653/2)+(control!$B$4-MIN(B2653*C2653/6,400))/(B2653/8)","v":43.333333333333336},26]
["Molson",20,61,"S",{"$f":"MIN(B2654*C2654/6,400)/(B2654/2)+(control!$B$4-MIN(B2654*C2654/6,400))/(B2654/8)","v":99},24]
["Momentum",19,77,"M",{"$f":"MIN(B2655*C2655/6,400)/(B2655/2)+(control!$B$4-MIN(B2655*C2655/6,400))/(B2655/8)","v":91.421052631578945},23]
["Monday Mac",17,114,"D",{"$f":"MIN(B2656*C2656/6,400)/(B2656/2)+(control!$B$4-MIN(B2656*C2656/6,400))/(B2656/8)","v":74.235294117647058},17]
["Money",19,90,"M",{"$f":"MIN(B2657*C2657/6,400)/(B2657/2)+(control!$B$4-MIN(B2657*C2657/6,400))/(B2657/8)","v":78.421052631578945},19]
["Monglow",24,94,"S",{"$f":"MIN(B2658*C2658/6,400)/(B2658/2)+(control!$B$4-MIN(B2658*C2658/6,400))/(B2658/8)","v":39.333333333333329},28]
["Monopoly",23,92,"D",{"$f":"MIN(B2659*C2659/6,400)/(B2659/2)+(control!$B$4-MIN(B2659*C2659/6,400))/(B2659/8)","v":47.130434782608688},25]
["Montana",19,77,"M",{"$f":"MIN(B2660*C2660/6,400)/(B2660/2)+(control!$B$4-MIN(B2660*C2660/6,400))/(B2660/8)","v":91.421052631578945},19]
["Montana Bay",23,120,"S",{"$f":"MIN(B2661*C2661/6,400)/(B2661/2)+(control!$B$4-MIN(B2661*C2661/6,400))/(B2661/8)","v":34.782608695652172},27]
["Montana Dream",17,79,"S",{"$f":"MIN(B2662*C2662/6,400)/(B2662/2)+(control!$B$4-MIN(B2662*C2662/6,400))/(B2662/8)","v":109.23529411764704},17]
["Montana Miracle",21,90,"S",{"$f":"MIN(B2663*C2663/6,400)/(B2663/2)+(control!$B$4-MIN(B2663*C2663/6,400))/(B2663/8)","v":62.38095238095238},21]
["Montana Sky",17,89,"S",{"$f":"MIN(B2664*C2664/6,400)/(B2664/2)+(control!$B$4-MIN(B2664*C2664/6,400))/(B2664/8)","v":99.235294117647072},20]
["Montego",19,90,"S",{"$f":"MIN(B2665*C2665/6,400)/(B2665/2)+(control!$B$4-MIN(B2665*C2665/6,400))/(B2665/8)","v":78.421052631578945},22]
["Montego Bay",18,111,"D",{"$f":"MIN(B2666*C2666/6,400)/(B2666/2)+(control!$B$4-MIN(B2666*C2666/6,400))/(B2666/8)","v":66.777777777777771},20]
["Monty",27,88,"S",{"$f":"MIN(B2667*C2667/6,400)/(B2667/2)+(control!$B$4-MIN(B2667*C2667/6,400))/(B2667/8)","v":30.518518518518519},28]
["Moon",20,63,"S",{"$f":"MIN(B2668*C2668/6,400)/(B2668/2)+(control!$B$4-MIN(B2668*C2668/6,400))/(B2668/8)","v":97},24]
["Moon Dancer",18,93,"M",{"$f":"MIN(B2669*C2669/6,400)/(B2669/2)+(control!$B$4-MIN(B2669*C2669/6,400))/(B2669/8)","v":84.777777777777771},20]
["Moon foal",20,86,"M",{"$f":"MIN(B2670*C2670/6,400)/(B2670/2)+(control!$B$4-MIN(B2670*C2670/6,400))/(B2670/8)","v":74},20]
["Moon Glow",26,123,"S",{"$f":"MIN(B2671*C2671/6,400)/(B2671/2)+(control!$B$4-MIN(B2671*C2671/6,400))/(B2671/8)","v":30.76923076923077},28]
["Moon Shine",20,90,"M",{"$f":"MIN(B2672*C2672/6,400)/(B2672/2)+(control!$B$4-MIN(B2672*C2672/6,400))/(B2672/8)","v":70},24]
["Moon Struck",19,92,"M",{"$f":"MIN(B2673*C2673/6,400)/(B2673/2)+(control!$B$4-MIN(B2673*C2673/6,400))/(B2673/8)","v":76.421052631578959},20]
["Moonay",21,85,"S",{"$f":"MIN(B2674*C2674/6,400)/(B2674/2)+(control!$B$4-MIN(B2674*C2674/6,400))/(B2674/8)","v":67.38095238095238},24]
["Moonbeam",21,60,"S",{"$f":"MIN(B2675*C2675/6,400)/(B2675/2)+(control!$B$4-MIN(B2675*C2675/6,400))/(B2675/8)","v":92.38095238095238},25]
["Moondancer",15,95,"D",{"$f":"MIN(B2676*C2676/6,400)/(B2676/2)+(control!$B$4-MIN(B2676*C2676/6,400))/(B2676/8)","v":118.33333333333334},16]
["Moonglow",16,66,"M",{"$f":"MIN(B2677*C2677/6,400)/(B2677/2)+(control!$B$4-MIN(B2677*C2677/6,400))/(B2677/8)","v":134},16]
["Moonlight",22,66,"S",{"$f":"MIN(B2678*C2678/6,400)/(B2678/2)+(control!$B$4-MIN(B2678*C2678/6,400))/(B2678/8)","v":79.454545454545453},24]
["Moonlight Blue",23,122,"S",{"$f":"MIN(B2679*C2679/6,400)/(B2679/2)+(control!$B$4-MIN(B2679*C2679/6,400))/(B2679/8)","v":34.782608695652172},23]
["Moonlight Sonata",20,120,"M",{"$f":"MIN(B2680*C2680/6,400)/(B2680/2)+(control!$B$4-MIN(B2680*C2680/6,400))/(B2680/8)","v":40},24]
["Moonlight Sun",22,80,"M",{"$f":"MIN(B2681*C2681/6,400)/(B2681/2)+(control!$B$4-MIN(B2681*C2681/6,400))/(B2681/8)","v":65.454545454545467},23]
["Moonlit Night",20,86,"S",{"$f":"MIN(B2682*C2682/6,400)/(B2682/2)+(control!$B$4-MIN(B2682*C2682/6,400))/(B2682/8)","v":74},21]
["Moonlite Kiss",19,101,"S",{"$f":"MIN(B2683*C2683/6,400)/(B2683/2)+(control!$B$4-MIN(B2683*C2683/6,400))/(B2683/8)","v":67.421052631578959},19]
["Moonshadow",15,74,"M",{"$f":"MIN(B2684*C2684/6,400)/(B2684/2)+(control!$B$4-MIN(B2684*C2684/6,400))/(B2684/8)","v":139.33333333333334},19]
["Moonshine",20,66,"M",{"$f":"MIN(B2685*C2685/6,400)/(B2685/2)+(control!$B$4-MIN(B2685*C2685/6,400))/(B2685/8)","v":94},21]
["Moonwind",17,111,"D",{"$f":"MIN(B2686*C2686/6,400)/(B2686/2)+(control!$B$4-MIN(B2686*C2686/6,400))/(B2686/8)","v":77.235294117647058},17]
["Moorcroft",15,92,"D",{"$f":"MIN(B2687*C2687/6,400)/(B2687/2)+(control!$B$4-MIN(B2687*C2687/6,400))/(B2687/8)","v":121.33333333333334},16]
["Moose",23,72,"S",{"$f":"MIN(B2688*C2688/6,400)/(B2688/2)+(control!$B$4-MIN(B2688*C2688/6,400))/(B2688/8)","v":67.130434782608688},26]
["Morgan",16,92,"S",{"$f":"MIN(B2689*C2689/6,400)/(B2689/2)+(control!$B$4-MIN(B2689*C2689/6,400))/(B2689/8)","v":108},20]
["Morgan le Fay",22,63,"S",{"$f":"MIN(B2690*C2690/6,400)/(B2690/2)+(control!$B$4-MIN(B2690*C2690/6,400))/(B2690/8)","v":82.454545454545453},25]
["Morgan's Magic",17,97,"D",{"$f":"MIN(B2691*C2691/6,400)/(B2691/2)+(control!$B$4-MIN(B2691*C2691/6,400))/(B2691/8)","v":91.235294117647072},21]
["Morgause",22,90,"M",{"$f":"MIN(B2692*C2692/6,400)/(B2692/2)+(control!$B$4-MIN(B2692*C2692/6,400))/(B2692/8)","v":55.454545454545453},26]
["Moriah",19,83,"S",{"$f":"MIN(B2693*C2693/6,400)/(B2693/2)+(control!$B$4-MIN(B2693*C2693/6,400))/(B2693/8)","v":85.421052631578959},21]
["Morning",21,76,"M",{"$f":"MIN(B2694*C2694/6,400)/(B2694/2)+(control!$B$4-MIN(B2694*C2694/6,400))/(B2694/8)","v":76.38095238095238},24]
["Morning Dew",22,110,"S",{"$f":"MIN(B2695*C2695/6,400)/(B2695/2)+(control!$B$4-MIN(B2695*C2695/6,400))/(B2695/8)","v":36.363636363636367},26]
["Morning Glory",23,75,"M",{"$f":"MIN(B2696*C2696/6,400)/(B2696/2)+(control!$B$4-MIN(B2696*C2696/6,400))/(B2696/8)","v":64.130434782608688},25]
["Morning Miracle",19,122,"D",{"$f":"MIN(B2697*C2697/6,400)/(B2697/2)+(control!$B$4-MIN(B2697*C2697/6,400))/(B2697/8)","v":46.421052631578952},21]
["Morning Star",26,59,"S",{"$f":"MIN(B2698*C2698/6,400)/(B2698/2)+(control!$B$4-MIN(B2698*C2698/6,400))/(B2698/8)","v":64.07692307692308},28]
["Morning's Moon",20,82,"S",{"$f":"MIN(B2699*C2699/6,400)/(B2699/2)+(control!$B$4-MIN(B2699*C2699/6,400))/(B2699/8)","v":78},22]
["Morning's Star.",22,89,"S",{"$f":"MIN(B2700*C2700/6,400)/(B2700/2)+(control!$B$4-MIN(B2700*C2700/6,400))/(B2700/8)","v":56.45454545454546},22]
["Moses Lunar Sundy",20,67,"S",{"$f":"MIN(B2701*C2701/6,400)/(B2701/2)+(control!$B$4-MIN(B2701*C2701/6,400))/(B2701/8)","v":93},21]
["Mosses",26,84,"S",{"$f":"MIN(B2702*C2702/6,400)/(B2702/2)+(control!$B$4-MIN(B2702*C2702/6,400))/(B2702/8)","v":39.07692307692308},28]
["Most Valuble Player",17,109,"S",{"$f":"MIN(B2703*C2703/6,400)/(B2703/2)+(control!$B$4-MIN(B2703*C2703/6,400))/(B2703/8)","v":79.235294117647072},21]
["Most Wanted",26,77,"S",{"$f":"MIN(B2704*C2704/6,400)/(B2704/2)+(control!$B$4-MIN(B2704*C2704/6,400))/(B2704/8)","v":46.076923076923073},29]
["Motana Sky",15,92,"D",{"$f":"MIN(B2705*C2705/6,400)/(B2705/2)+(control!$B$4-MIN(B2705*C2705/6,400))/(B2705/8)","v":121.33333333333334},15]
["Moulin Rouge",21,79,"M",{"$f":"MIN(B2706*C2706/6,400)/(B2706/2)+(control!$B$4-MIN(B2706*C2706/6,400))/(B2706/8)","v":73.38095238095238},23]
["Mountain",21,67,"S",{"$f":"MIN(B2707*C2707/6,400)/(B2707/2)+(control!$B$4-MIN(B2707*C2707/6,400))/(B2707/8)","v":85.38095238095238},24]
["Mountain Burst",20,84,"M",{"$f":"MIN(B2708*C2708/6,400)/(B2708/2)+(control!$B$4-MIN(B2708*C2708/6,400))/(B2708/8)","v":76},24]
["Mountain Rush",23,92,"D",{"$f":"MIN(B2709*C2709/6,400)/(B2709/2)+(control!$B$4-MIN(B2709*C2709/6,400))/(B2709/8)","v":47.130434782608688},24]
["Mouse",27,60,"S",{"$f":"MIN(B2710*C2710/6,400)/(B2710/2)+(control!$B$4-MIN(B2710*C2710/6,400))/(B2710/8)","v":58.518518518518519},31]
["Mouse Over",19,75,"M",{"$f":"MIN(B2711*C2711/6,400)/(B2711/2)+(control!$B$4-MIN(B2711*C2711/6,400))/(B2711/8)","v":93.421052631578945},22]
["Moustache",24,97,"D",{"$f":"MIN(B2712*C2712/6,400)/(B2712/2)+(control!$B$4-MIN(B2712*C2712/6,400))/(B2712/8)","v":36.333333333333336},24]
["Mozart",21,82,"M",{"$f":"MIN(B2713*C2713/6,400)/(B2713/2)+(control!$B$4-MIN(B2713*C2713/6,400))/(B2713/8)","v":70.38095238095238},24]
["Mr Bigshot",20,96,"M",{"$f":"MIN(B2714*C2714/6,400)/(B2714/2)+(control!$B$4-MIN(B2714*C2714/6,400))/(B2714/8)","v":64},24]
["Mr blobby",21,94,"S",{"$f":"MIN(B2715*C2715/6,400)/(B2715/2)+(control!$B$4-MIN(B2715*C2715/6,400))/(B2715/8)","v":58.38095238095238},21]
["Mr Co-Co Bean",20,74,"M",{"$f":"MIN(B2716*C2716/6,400)/(B2716/2)+(control!$B$4-MIN(B2716*C2716/6,400))/(B2716/8)","v":86},21]
["Mr Cool",26,82,"S",{"$f":"MIN(B2717*C2717/6,400)/(B2717/2)+(control!$B$4-MIN(B2717*C2717/6,400))/(B2717/8)","v":41.07692307692308},30]
["Mr Ed",21,71,"M",{"$f":"MIN(B2718*C2718/6,400)/(B2718/2)+(control!$B$4-MIN(B2718*C2718/6,400))/(B2718/8)","v":81.38095238095238},23]
["Mr Hollywood",27,95,"M",{"$f":"MIN(B2719*C2719/6,400)/(B2719/2)+(control!$B$4-MIN(B2719*C2719/6,400))/(B2719/8)","v":29.62962962962963},31]
["Mr Miami",19,97,"S",{"$f":"MIN(B2720*C2720/6,400)/(B2720/2)+(control!$B$4-MIN(B2720*C2720/6,400))/(B2720/8)","v":71.421052631578945},20]
["Mr Monty",23,69,"S",{"$f":"MIN(B2721*C2721/6,400)/(B2721/2)+(control!$B$4-MIN(B2721*C2721/6,400))/(B2721/8)","v":70.130434782608688},23]
["Mr Niceguy",21,122,"M",{"$f":"MIN(B2722*C2722/6,400)/(B2722/2)+(control!$B$4-MIN(B2722*C2722/6,400))/(B2722/8)","v":38.095238095238095},24]
["Mr Viner",27,79,"M",{"$f":"MIN(B2723*C2723/6,400)/(B2723/2)+(control!$B$4-MIN(B2723*C2723/6,400))/(B2723/8)","v":39.518518518518519},30]
["Mr. Blue",24,111,"D",{"$f":"MIN(B2724*C2724/6,400)/(B2724/2)+(control!$B$4-MIN(B2724*C2724/6,400))/(B2724/8)","v":33.333333333333336},27]
["Mr. Ed",21,98,"D",{"$f":"MIN(B2725*C2725/6,400)/(B2725/2)+(control!$B$4-MIN(B2725*C2725/6,400))/(B2725/8)","v":54.38095238095238},24]
["Mr. Ed Talks Again",25,60,"S",{"$f":"MIN(B2726*C2726/6,400)/(B2726/2)+(control!$B$4-MIN(B2726*C2726/6,400))/(B2726/8)","v":68},26]
["Mr. Gallop",19,73,"S",{"$f":"MIN(B2727*C2727/6,400)/(B2727/2)+(control!$B$4-MIN(B2727*C2727/6,400))/(B2727/8)","v":95.421052631578945},19]
["Mr. Gentleman Swift",24,123,"S",{"$f":"MIN(B2728*C2728/6,400)/(B2728/2)+(control!$B$4-MIN(B2728*C2728/6,400))/(B2728/8)","v":33.333333333333336},26]
["Mr. Midnight",22,117,"S",{"$f":"MIN(B2729*C2729/6,400)/(B2729/2)+(control!$B$4-MIN(B2729*C2729/6,400))/(B2729/8)","v":36.363636363636367},26]
["Mr. Perposterous",17,90,"M",{"$f":"MIN(B2730*C2730/6,400)/(B2730/2)+(control!$B$4-MIN(B2730*C2730/6,400))/(B2730/8)","v":98.235294117647058},18]
["Mr. T",19,95,"S",{"$f":"MIN(B2731*C2731/6,400)/(B2731/2)+(control!$B$4-MIN(B2731*C2731/6,400))/(B2731/8)","v":73.421052631578959},20]
["Mr. Wonderful",23,117,"M",{"$f":"MIN(B2732*C2732/6,400)/(B2732/2)+(control!$B$4-MIN(B2732*C2732/6,400))/(B2732/8)","v":34.782608695652172},26]
["Mrs. Americus",26,91,"S",{"$f":"MIN(B2733*C2733/6,400)/(B2733/2)+(control!$B$4-MIN(B2733*C2733/6,400))/(B2733/8)","v":32.07692307692308},27]
["Ms.Gallop",21,110,"S",{"$f":"MIN(B2734*C2734/6,400)/(B2734/2)+(control!$B$4-MIN(B2734*C2734/6,400))/(B2734/8)","v":42.38095238095238},22]
["Muchi",22,116,"D",{"$f":"MIN(B2735*C2735/6,400)/(B2735/2)+(control!$B$4-MIN(B2735*C2735/6,400))/(B2735/8)","v":36.363636363636367},25]
["Mudslide",20,83,"S",{"$f":"MIN(B2736*C2736/6,400)/(B2736/2)+(control!$B$4-MIN(B2736*C2736/6,400))/(B2736/8)","v":77},21]
["Mufasa",27,98,"S",{"$f":"MIN(B2737*C2737/6,400)/(B2737/2)+(control!$B$4-MIN(B2737*C2737/6,400))/(B2737/8)","v":29.62962962962963},31]
["Mugsy",20,84,"S",{"$f":"MIN(B2738*C2738/6,400)/(B2738/2)+(control!$B$4-MIN(B2738*C2738/6,400))/(B2738/8)","v":76},21]
["Mulder",21,98,"D",{"$f":"MIN(B2739*C2739/6,400)/(B2739/2)+(control!$B$4-MIN(B2739*C2739/6,400))/(B2739/8)","v":54.38095238095238},21]
["Mungo",27,81,"S",{"$f":"MIN(B2740*C2740/6,400)/(B2740/2)+(control!$B$4-MIN(B2740*C2740/6,400))/(B2740/8)","v":37.518518518518519},28]
["Murasaki (purple in japanese)",17,105,"M",{"$f":"MIN(B2741*C2741/6,400)/(B2741/2)+(control!$B$4-MIN(B2741*C2741/6,400))/(B2741/8)","v":83.235294117647058},20]
["Murphy",15,117,"D",{"$f":"MIN(B2742*C2742/6,400)/(B2742/2)+(control!$B$4-MIN(B2742*C2742/6,400))/(B2742/8)","v":96.333333333333343},16]
["Muscade",18,91,"S",{"$f":"MIN(B2743*C2743/6,400)/(B2743/2)+(control!$B$4-MIN(B2743*C2743/6,400))/(B2743/8)","v":86.777777777777771},18]
["Must be Dreaming",21,118,"M",{"$f":"MIN(B2744*C2744/6,400)/(B2744/2)+(control!$B$4-MIN(B2744*C2744/6,400))/(B2744/8)","v":38.095238095238095},23]
["Must Be Magic",22,115,"D",{"$f":"MIN(B2745*C2745/6,400)/(B2745/2)+(control!$B$4-MIN(B2745*C2745/6,400))/(B2745/8)","v":36.363636363636367},24]
["Mustang",18,73,"M",{"$f":"MIN(B2746*C2746/6,400)/(B2746/2)+(control!$B$4-MIN(B2746*C2746/6,400))/(B2746/8)","v":104.77777777777777},18]
["Mustang Sally",19,63,"M",{"$f":"MIN(B2747*C2747/6,400)/(B2747/2)+(control!$B$4-MIN(B2747*C2747/6,400))/(B2747/8)","v":105.42105263157895},19]
["Mustard",19,97,"M",{"$f":"MIN(B2748*C2748/6,400)/(B2748/2)+(control!$B$4-MIN(B2748*C2748/6,400))/(B2748/8)","v":71.421052631578945},19]
["Mutiny",24,93,"D",{"$f":"MIN(B2749*C2749/6,400)/(B2749/2)+(control!$B$4-MIN(B2749*C2749/6,400))/(B2749/8)","v":40.333333333333336},26]
["My Alibi",25,59,"S",{"$f":"MIN(B2750*C2750/6,400)/(B2750/2)+(control!$B$4-MIN(B2750*C2750/6,400))/(B2750/8)","v":69},25]
["My Boy",16,102,"D",{"$f":"MIN(B2751*C2751/6,400)/(B2751/2)+(control!$B$4-MIN(B2751*C2751/6,400))/(B2751/8)","v":98},17]
["My Centennial Rose",20,123,"M",{"$f":"MIN(B2752*C2752/6,400)/(B2752/2)+(control!$B$4-MIN(B2752*C2752/6,400))/(B2752/8)","v":40},20]
["My Friend",24,94,"D",{"$f":"MIN(B2753*C2753/6,400)/(B2753/2)+(control!$B$4-MIN(B2753*C2753/6,400))/(B2753/8)","v":39.333333333333329},28]
["My Heart's Desire",26,89,"S",{"$f":"MIN(B2754*C2754/6,400)/(B2754/2)+(control!$B$4-MIN(B2754*C2754/6,400))/(B2754/8)","v":34.076923076923073},30]
["My Hero",17,90,"S",{"$f":"MIN(B2755*C2755/6,400)/(B2755/2)+(control!$B$4-MIN(B2755*C2755/6,400))/(B2755/8)","v":98.235294117647058},20]
["My Integrity",17,114,"S",{"$f":"MIN(B2756*C2756/6,400)/(B2756/2)+(control!$B$4-MIN(B2756*C2756/6,400))/(B2756/8)","v":74.235294117647058},20]
["My kind of guy",22,91,"S",{"$f":"MIN(B2757*C2757/6,400)/(B2757/2)+(control!$B$4-MIN(B2757*C2757/6,400))/(B2757/8)","v":54.454545454545453},26]
["My kinda Girl",23,79,"M",{"$f":"MIN(B2758*C2758/6,400)/(B2758/2)+(control!$B$4-MIN(B2758*C2758/6,400))/(B2758/8)","v":60.130434782608702},23]
["My Lil Pony",20,97,"M",{"$f":"MIN(B2759*C2759/6,400)/(B2759/2)+(control!$B$4-MIN(B2759*C2759/6,400))/(B2759/8)","v":63},24]
["My Little Drummer Boy",22,88,"M",{"$f":"MIN(B2760*C2760/6,400)/(B2760/2)+(control!$B$4-MIN(B2760*C2760/6,400))/(B2760/8)","v":57.454545454545453},23]
["My Little Joy",27,89,"M",{"$f":"MIN(B2761*C2761/6,400)/(B2761/2)+(control!$B$4-MIN(B2761*C2761/6,400))/(B2761/8)","v":29.62962962962963},30]
["My Lovely Rebel",23,94,"D",{"$f":"MIN(B2762*C2762/6,400)/(B2762/2)+(control!$B$4-MIN(B2762*C2762/6,400))/(B2762/8)","v":45.130434782608702},25]
["My Lucky Day",26,105,"D",{"$f":"MIN(B2763*C2763/6,400)/(B2763/2)+(control!$B$4-MIN(B2763*C2763/6,400))/(B2763/8)","v":30.76923076923077},26]
["My Maria",21,83,"S",{"$f":"MIN(B2764*C2764/6,400)/(B2764/2)+(control!$B$4-MIN(B2764*C2764/6,400))/(B2764/8)","v":69.38095238095238},24]
["My New Nikes",26,75,"S",{"$f":"MIN(B2765*C2765/6,400)/(B2765/2)+(control!$B$4-MIN(B2765*C2765/6,400))/(B2765/8)","v":48.07692307692308},27]
["My Passionate Rose",19,97,"S",{"$f":"MIN(B2766*C2766/6,400)/(B2766/2)+(control!$B$4-MIN(B2766*C2766/6,400))/(B2766/8)","v":71.421052631578945},23]
["My Prince",20,89,"S",{"$f":"MIN(B2767*C2767/6,400)/(B2767/2)+(control!$B$4-MIN(B2767*C2767/6,400))/(B2767/8)","v":71},20]
["My Quite Music",23,77,"S",{"$f":"MIN(B2768*C2768/6,400)/(B2768/2)+(control!$B$4-MIN(B2768*C2768/6,400))/(B2768/8)","v":62.130434782608688},26]
["My Sassy Kat",22,62,"S",{"$f":"MIN(B2769*C2769/6,400)/(B2769/2)+(control!$B$4-MIN(B2769*C2769/6,400))/(B2769/8)","v":83.454545454545453},25]
["My Sir Guy",26,80,"S",{"$f":"MIN(B2770*C2770/6,400)/(B2770/2)+(control!$B$4-MIN(B2770*C2770/6,400))/(B2770/8)","v":43.076923076923073},29]
["My Way",25,101,"D",{"$f":"MIN(B2771*C2771/6,400)/(B2771/2)+(control!$B$4-MIN(B2771*C2771/6,400))/(B2771/8)","v":32},27]
["Mylie",23,87,"S",{"$f":"MIN(B2772*C2772/6,400)/(B2772/2)+(control!$B$4-MIN(B2772*C2772/6,400))/(B2772/8)","v":52.130434782608695},25]
["Mysterious",21,98,"D",{"$f":"MIN(B2773*C2773/6,400)/(B2773/2)+(control!$B$4-MIN(B2773*C2773/6,400))/(B2773/8)","v":54.38095238095238},25]
["Mysterious Lady",23,62,"M",{"$f":"MIN(B2774*C2774/6,400)/(B2774/2)+(control!$B$4-MIN(B2774*C2774/6,400))/(B2774/8)","v":77.130434782608688},23]
["Mystery",19,92,"S",{"$f":"MIN(B2775*C2775/6,400)/(B2775/2)+(control!$B$4-MIN(B2775*C2775/6,400))/(B2775/8)","v":76.421052631578959},21]
["Mystic",19,88,"M",{"$f":"MIN(B2776*C2776/6,400)/(B2776/2)+(control!$B$4-MIN(B2776*C2776/6,400))/(B2776/8)","v":80.421052631578945},19]
["Mystic Dream",27,81,"S",{"$f":"MIN(B2777*C2777/6,400)/(B2777/2)+(control!$B$4-MIN(B2777*C2777/6,400))/(B2777/8)","v":37.518518518518519},30]
["Mystic Moon Dancer",20,78,"S",{"$f":"MIN(B2778*C2778/6,400)/(B2778/2)+(control!$B$4-MIN(B2778*C2778/6,400))/(B2778/8)","v":82},23]
["Mystical",16,69,"M",{"$f":"MIN(B2779*C2779/6,400)/(B2779/2)+(control!$B$4-MIN(B2779*C2779/6,400))/(B2779/8)","v":131},17]
["Mystical Magic",22,74,"M",{"$f":"MIN(B2780*C2780/6,400)/(B2780/2)+(control!$B$4-MIN(B2780*C2780/6,400))/(B2780/8)","v":71.454545454545467},22]
["Mystical Magician",24,82,"M",{"$f":"MIN(B2781*C2781/6,400)/(B2781/2)+(control!$B$4-MIN(B2781*C2781/6,400))/(B2781/8)","v":51.333333333333329},25]
["Mystical Night",21,82,"S",{"$f":"MIN(B2782*C2782/6,400)/(B2782/2)+(control!$B$4-MIN(B2782*C2782/6,400))/(B2782/8)","v":70.38095238095238},24]
["Mystical Star",19,118,"D",{"$f":"MIN(B2783*C2783/6,400)/(B2783/2)+(control!$B$4-MIN(B2783*C2783/6,400))/(B2783/8)","v":50.421052631578945},22]
["Mystical White Princess",21,69,"S",{"$f":"MIN(B2784*C2784/6,400)/(B2784/2)+(control!$B$4-MIN(B2784*C2784/6,400))/(B2784/8)","v":83.38095238095238},21]
["Mystique",26,61,"S",{"$f":"MIN(B2785*C2785/6,400)/(B2785/2)+(control!$B$4-MIN(B2785*C2785/6,400))/(B2785/8)","v":62.07692307692308},27]
["Mystro",15,74,"M",{"$f":"MIN(B2786*C2786/6,400)/(B2786/2)+(control!$B$4-MIN(B2786*C2786/6,400))/(B2786/8)","v":139.33333333333334},17]
["Mysty",15,100,"M",{"$f":"MIN(B2787*C2787/6,400)/(B2787/2)+(control!$B$4-MIN(B2787*C2787/6,400))/(B2787/8)","v":113.33333333333334},19]
["Nabisco",19,74,"M",{"$f":"MIN(B2788*C2788/6,400)/(B2788/2)+(control!$B$4-MIN(B2788*C2788/6,400))/(B2788/8)","v":94.421052631578945},22]
["Nabisco Cracker",22,61,"S",{"$f":"MIN(B2789*C2789/6,400)/(B2789/2)+(control!$B$4-MIN(B2789*C2789/6,400))/(B2789/8)","v":84.454545454545453},26]
["Nabrina",19,112,"S",{"$f":"MIN(B2790*C2790/6,400)/(B2790/2)+(control!$B$4-MIN(B2790*C2790/6,400))/(B2790/8)","v":56.421052631578945},20]
["Nadia",23,93,"M",{"$f":"MIN(B2791*C2791/6,400)/(B2791/2)+(control!$B$4-MIN(B2791*C2791/6,400))/(B2791/8)","v":46.130434782608695},25]
["Nadine Novelle",27,85,"M",{"$f":"MIN(B2792*C2792/6,400)/(B2792/2)+(control!$B$4-MIN(B2792*C2792/6,400))/(B2792/8)","v":33.518518518518519},28]
["Naduah Mccue",16,103,"S",{"$f":"MIN(B2793*C2793/6,400)/(B2793/2)+(control!$B$4-MIN(B2793*C2793/6,400))/(B2793/8)","v":97},16]
["Nafa (Arabic=useful)",26,92,"D",{"$f":"MIN(B2794*C2794/6,400)/(B2794/2)+(control!$B$4-MIN(B2794*C2794/6,400))/(B2794/8)","v":31.076923076923073},29]
["Nakima",21,102,"D",{"$f":"MIN(B2795*C2795/6,400)/(B2795/2)+(control!$B$4-MIN(B2795*C2795/6,400))/(B2795/8)","v":50.38095238095238},24]
["Naksup",16,103,"D",{"$f":"MIN(B2796*C2796/6,400)/(B2796/2)+(control!$B$4-MIN(B2796*C2796/6,400))/(B2796/8)","v":97},18]
["Nanook",17,63,"S",{"$f":"MIN(B2797*C2797/6,400)/(B2797/2)+(control!$B$4-MIN(B2797*C2797/6,400))/(B2797/8)","v":125.23529411764706},17]
["Napoleon",23,95,"D",{"$f":"MIN(B2798*C2798/6,400)/(B2798/2)+(control!$B$4-MIN(B2798*C2798/6,400))/(B2798/8)","v":44.130434782608688},25]
["Naraskanaia",22,83,"M",{"$f":"MIN(B2799*C2799/6,400)/(B2799/2)+(control!$B$4-MIN(B2799*C2799/6,400))/(B2799/8)","v":62.45454545454546},22]
["Narita",26,92,"S",{"$f":"MIN(B2800*C2800/6,400)/(B2800/2)+(control!$B$4-MIN(B2800*C2800/6,400))/(B2800/8)","v":31.076923076923073},27]
["Narnia",19,71,"M",{"$f":"MIN(B2801*C2801/6,400)/(B2801/2)+(control!$B$4-MIN(B2801*C2801/6,400))/(B2801/8)","v":97.421052631578945},23]
["Nash",25,64,"S",{"$f":"MIN(B2802*C2802/6,400)/(B2802/2)+(control!$B$4-MIN(B2802*C2802/6,400))/(B2802/8)","v":63.999999999999993},25]
["Natalie",20,93,"S",{"$f":"MIN(B2803*C2803/6,400)/(B2803/2)+(control!$B$4-MIN(B2803*C2803/6,400))/(B2803/8)","v":67},21]
["Natasha",21,68,"S",{"$f":"MIN(B2804*C2804/6,400)/(B2804/2)+(control!$B$4-MIN(B2804*C2804/6,400))/(B2804/8)","v":84.38095238095238},25]
["Nate",20,86,"S",{"$f":"MIN(B2805*C2805/6,400)/(B2805/2)+(control!$B$4-MIN(B2805*C2805/6,400))/(B2805/8)","v":74},22]
["Nate's Nikes",22,62,"M",{"$f":"MIN(B2806*C2806/6,400)/(B2806/2)+(control!$B$4-MIN(B2806*C2806/6,400))/(B2806/8)","v":83.454545454545453},24]
["Natiqua",15,62,"M",{"$f":"MIN(B2807*C2807/6,400)/(B2807/2)+(control!$B$4-MIN(B2807*C2807/6,400))/(B2807/8)","v":151.33333333333331},16]
["Natural Element",23,117,"S",{"$f":"MIN(B2808*C2808/6,400)/(B2808/2)+(control!$B$4-MIN(B2808*C2808/6,400))/(B2808/8)","v":34.782608695652172},27]
["Nature's Basics",22,85,"M",{"$f":"MIN(B2809*C2809/6,400)/(B2809/2)+(control!$B$4-MIN(B2809*C2809/6,400))/(B2809/8)","v":60.454545454545453},25]
["Nautical Adventure",17,84,"S",{"$f":"MIN(B2810*C2810/6,400)/(B2810/2)+(control!$B$4-MIN(B2810*C2810/6,400))/(B2810/8)","v":104.23529411764706},20]
["Navaho",19,98,"S",{"$f":"MIN(B2811*C2811/6,400)/(B2811/2)+(control!$B$4-MIN(B2811*C2811/6,400))/(B2811/8)","v":70.421052631578959},22]
["Navajo",19,90,"S",{"$f":"MIN(B2812*C2812/6,400)/(B2812/2)+(control!$B$4-MIN(B2812*C2812/6,400))/(B2812/8)","v":78.421052631578945},19]
["Navar",25,62,"S",{"$f":"MIN(B2813*C2813/6,400)/(B2813/2)+(control!$B$4-MIN(B2813*C2813/6,400))/(B2813/8)","v":66},25]
["Navigator",16,94,"S",{"$f":"MIN(B2814*C2814/6,400)/(B2814/2)+(control!$B$4-MIN(B2814*C2814/6,400))/(B2814/8)","v":106},19]
["Nearly perfect",20,118,"M",{"$f":"MIN(B2815*C2815/6,400)/(B2815/2)+(control!$B$4-MIN(B2815*C2815/6,400))/(B2815/8)","v":42},22]
["Ned",22,122,"D",{"$f":"MIN(B2816*C2816/6,400)/(B2816/2)+(control!$B$4-MIN(B2816*C2816/6,400))/(B2816/8)","v":36.363636363636367},25]
["Neealba",24,67,"S",{"$f":"MIN(B2817*C2817/6,400)/(B2817/2)+(control!$B$4-MIN(B2817*C2817/6,400))/(B2817/8)","v":66.333333333333329},27]
["Nellie",18,103,"M",{"$f":"MIN(B2818*C2818/6,400)/(B2818/2)+(control!$B$4-MIN(B2818*C2818/6,400))/(B2818/8)","v":74.777777777777771},18]
["Nelly",16,89,"S",{"$f":"MIN(B2819*C2819/6,400)/(B2819/2)+(control!$B$4-MIN(B2819*C2819/6,400))/(B2819/8)","v":111},19]
["Nelson",19,80,"S",{"$f":"MIN(B2820*C2820/6,400)/(B2820/2)+(control!$B$4-MIN(B2820*C2820/6,400))/(B2820/8)","v":88.421052631578945},19]
["Nemo",23,90,"M",{"$f":"MIN(B2821*C2821/6,400)/(B2821/2)+(control!$B$4-MIN(B2821*C2821/6,400))/(B2821/8)","v":49.130434782608695},26]
["Neon",27,98,"D",{"$f":"MIN(B2822*C2822/6,400)/(B2822/2)+(control!$B$4-MIN(B2822*C2822/6,400))/(B2822/8)","v":29.62962962962963},29]
["Neptune",15,78,"M",{"$f":"MIN(B2823*C2823/6,400)/(B2823/2)+(control!$B$4-MIN(B2823*C2823/6,400))/(B2823/8)","v":135.33333333333331},19]
["Neriffe",22,89,"M",{"$f":"MIN(B2824*C2824/6,400)/(B2824/2)+(control!$B$4-MIN(B2824*C2824/6,400))/(B2824/8)","v":56.45454545454546},26]
["Nero",24,83,"S",{"$f":"MIN(B2825*C2825/6,400)/(B2825/2)+(control!$B$4-MIN(B2825*C2825/6,400))/(B2825/8)","v":50.333333333333336},27]
["Netty",20,87,"M",{"$f":"MIN(B2826*C2826/6,400)/(B2826/2)+(control!$B$4-MIN(B2826*C2826/6,400))/(B2826/8)","v":73},21]
["Nevada",18,109,"D",{"$f":"MIN(B2827*C2827/6,400)/(B2827/2)+(control!$B$4-MIN(B2827*C2827/6,400))/(B2827/8)","v":68.777777777777771},18]
["Nevada Sky",15,103,"D",{"$f":"MIN(B2828*C2828/6,400)/(B2828/2)+(control!$B$4-MIN(B2828*C2828/6,400))/(B2828/8)","v":110.33333333333334},16]
["Nevaeh Sky (Heaven Backwards)",25,92,"S",{"$f":"MIN(B2829*C2829/6,400)/(B2829/2)+(control!$B$4-MIN(B2829*C2829/6,400))/(B2829/8)","v":36},26]
["Nevarra",18,85,"S",{"$f":"MIN(B2830*C2830/6,400)/(B2830/2)+(control!$B$4-MIN(B2830*C2830/6,400))/(B2830/8)","v":92.777777777777771},22]
["Never say Never",19,82,"M",{"$f":"MIN(B2831*C2831/6,400)/(B2831/2)+(control!$B$4-MIN(B2831*C2831/6,400))/(B2831/8)","v":86.421052631578945},23]
["Nevertheless",27,66,"M",{"$f":"MIN(B2832*C2832/6,400)/(B2832/2)+(control!$B$4-MIN(B2832*C2832/6,400))/(B2832/8)","v":52.518518518518519},27]
["New Hope",19,111,"S",{"$f":"MIN(B2833*C2833/6,400)/(B2833/2)+(control!$B$4-MIN(B2833*C2833/6,400))/(B2833/8)","v":57.421052631578945},21]
["New York Minute",23,80,"M",{"$f":"MIN(B2834*C2834/6,400)/(B2834/2)+(control!$B$4-MIN(B2834*C2834/6,400))/(B2834/8)","v":59.130434782608688},24]
["Niagara",25,92,"M",{"$f":"MIN(B2835*C2835/6,400)/(B2835/2)+(control!$B$4-MIN(B2835*C2835/6,400))/(B2835/8)","v":36},25]
["Nibbles",23,86,"S",{"$f":"MIN(B2836*C2836/6,400)/(B2836/2)+(control!$B$4-MIN(B2836*C2836/6,400))/(B2836/8)","v":53.130434782608688},27]
["Nibbley",20,95,"S",{"$f":"MIN(B2837*C2837/6,400)/(B2837/2)+(control!$B$4-MIN(B2837*C2837/6,400))/(B2837/8)","v":65},24]
["Nibby",20,84,"S",{"$f":"MIN(B2838*C2838/6,400)/(B2838/2)+(control!$B$4-MIN(B2838*C2838/6,400))/(B2838/8)","v":76},24]
["Nick",24,90,"S",{"$f":"MIN(B2839*C2839/6,400)/(B2839/2)+(control!$B$4-MIN(B2839*C2839/6,400))/(B2839/8)","v":43.333333333333336},28]
["Nicker To Me",22,80,"S",{"$f":"MIN(B2840*C2840/6,400)/(B2840/2)+(control!$B$4-MIN(B2840*C2840/6,400))/(B2840/8)","v":65.454545454545467},22]
["Nicki",23,108,"D",{"$f":"MIN(B2841*C2841/6,400)/(B2841/2)+(control!$B$4-MIN(B2841*C2841/6,400))/(B2841/8)","v":34.782608695652172},24]
["Nickles 'n Dimes",22,105,"S",{"$f":"MIN(B2842*C2842/6,400)/(B2842/2)+(control!$B$4-MIN(B2842*C2842/6,400))/(B2842/8)","v":40.454545454545453},26]
["Nicole",21,67,"S",{"$f":"MIN(B2843*C2843/6,400)/(B2843/2)+(control!$B$4-MIN(B2843*C2843/6,400))/(B2843/8)","v":85.38095238095238},23]
["Nifty",21,106,"D",{"$f":"MIN(B2844*C2844/6,400)/(B2844/2)+(control!$B$4-MIN(B2844*C2844/6,400))/(B2844/8)","v":46.38095238095238},25]
["Night Chronicles",25,88,"S",{"$f":"MIN(B2845*C2845/6,400)/(B2845/2)+(control!$B$4-MIN(B2845*C2845/6,400))/(B2845/8)","v":40},26]
["Night Dancer",22,76,"S",{"$f":"MIN(B2846*C2846/6,400)/(B2846/2)+(control!$B$4-MIN(B2846*C2846/6,400))/(B2846/8)","v":69.454545454545453},26]
["Night Flight",22,100,"D",{"$f":"MIN(B2847*C2847/6,400)/(B2847/2)+(control!$B$4-MIN(B2847*C2847/6,400))/(B2847/8)","v":45.454545454545453},25]
["Night Out",21,79,"M",{"$f":"MIN(B2848*C2848/6,400)/(B2848/2)+(control!$B$4-MIN(B2848*C2848/6,400))/(B2848/8)","v":73.38095238095238},23]
["Night Raven",17,107,"S",{"$f":"MIN(B2849*C2849/6,400)/(B2849/2)+(control!$B$4-MIN(B2849*C2849/6,400))/(B2849/8)","v":81.235294117647058},18]
["Night Show",20,72,"S",{"$f":"MIN(B2850*C2850/6,400)/(B2850/2)+(control!$B$4-MIN(B2850*C2850/6,400))/(B2850/8)","v":88},20]
["Night Stalker",18,66,"S",{"$f":"MIN(B2851*C2851/6,400)/(B2851/2)+(control!$B$4-MIN(B2851*C2851/6,400))/(B2851/8)","v":111.77777777777777},21]
["Night Train",20,112,"S",{"$f":"MIN(B2852*C2852/6,400)/(B2852/2)+(control!$B$4-MIN(B2852*C2852/6,400))/(B2852/8)","v":48},24]
["Nightlight",23,86,"S",{"$f":"MIN(B2853*C2853/6,400)/(B2853/2)+(control!$B$4-MIN(B2853*C2853/6,400))/(B2853/8)","v":53.130434782608688},27]
["Nike's New Found Glory",19,88,"S",{"$f":"MIN(B2854*C2854/6,400)/(B2854/2)+(control!$B$4-MIN(B2854*C2854/6,400))/(B2854/8)","v":80.421052631578945},23]
["Nikita",25,82,"M",{"$f":"MIN(B2855*C2855/6,400)/(B2855/2)+(control!$B$4-MIN(B2855*C2855/6,400))/(B2855/8)","v":46},29]
["Nikki",24,94,"D",{"$f":"MIN(B2856*C2856/6,400)/(B2856/2)+(control!$B$4-MIN(B2856*C2856/6,400))/(B2856/8)","v":39.333333333333329},26]
["Niko",27,97,"D",{"$f":"MIN(B2857*C2857/6,400)/(B2857/2)+(control!$B$4-MIN(B2857*C2857/6,400))/(B2857/8)","v":29.62962962962963},30]
["Nila Skips Cool",18,113,"S",{"$f":"MIN(B2858*C2858/6,400)/(B2858/2)+(control!$B$4-MIN(B2858*C2858/6,400))/(B2858/8)","v":64.777777777777771},19]
["Nilly",22,77,"S",{"$f":"MIN(B2859*C2859/6,400)/(B2859/2)+(control!$B$4-MIN(B2859*C2859/6,400))/(B2859/8)","v":68.454545454545467},22]
["Nimaway",18,60,"S",{"$f":"MIN(B2860*C2860/6,400)/(B2860/2)+(control!$B$4-MIN(B2860*C2860/6,400))/(B2860/8)","v":117.77777777777777},19]
["Nimbus",27,70,"M",{"$f":"MIN(B2861*C2861/6,400)/(B2861/2)+(control!$B$4-MIN(B2861*C2861/6,400))/(B2861/8)","v":48.518518518518519},28]
["Nimfo Noon",22,80,"S",{"$f":"MIN(B2862*C2862/6,400)/(B2862/2)+(control!$B$4-MIN(B2862*C2862/6,400))/(B2862/8)","v":65.454545454545467},24]
["Ninjo",21,75,"S",{"$f":"MIN(B2863*C2863/6,400)/(B2863/2)+(control!$B$4-MIN(B2863*C2863/6,400))/(B2863/8)","v":77.38095238095238},22]
["Nirvana",19,120,"S",{"$f":"MIN(B2864*C2864/6,400)/(B2864/2)+(control!$B$4-MIN(B2864*C2864/6,400))/(B2864/8)","v":48.421052631578945},22]
["Nitro",27,59,"S",{"$f":"MIN(B2865*C2865/6,400)/(B2865/2)+(control!$B$4-MIN(B2865*C2865/6,400))/(B2865/8)","v":59.518518518518519},29]
["No Fear",26,63,"S",{"$f":"MIN(B2866*C2866/6,400)/(B2866/2)+(control!$B$4-MIN(B2866*C2866/6,400))/(B2866/8)","v":60.07692307692308},28]
["No Regrets",16,94,"M",{"$f":"MIN(B2867*C2867/6,400)/(B2867/2)+(control!$B$4-MIN(B2867*C2867/6,400))/(B2867/8)","v":106},17]
["Noble",16,74,"S",{"$f":"MIN(B2868*C2868/6,400)/(B2868/2)+(control!$B$4-MIN(B2868*C2868/6,400))/(B2868/8)","v":126},17]
["Noel",22,99,"D",{"$f":"MIN(B2869*C2869/6,400)/(B2869/2)+(control!$B$4-MIN(B2869*C2869/6,400))/(B2869/8)","v":46.454545454545453},23]
["Nor",20,78,"S",{"$f":"MIN(B2870*C2870/6,400)/(B2870/2)+(control!$B$4-MIN(B2870*C2870/6,400))/(B2870/8)","v":82},20]
["Nordance Prince",21,82,"S",{"$f":"MIN(B2871*C2871/6,400)/(B2871/2)+(control!$B$4-MIN(B2871*C2871/6,400))/(B2871/8)","v":70.38095238095238},21]
["Nor'Easter",22,75,"S",{"$f":"MIN(B2872*C2872/6,400)/(B2872/2)+(control!$B$4-MIN(B2872*C2872/6,400))/(B2872/8)","v":70.454545454545453},23]
["Northen star",26,81,"S",{"$f":"MIN(B2873*C2873/6,400)/(B2873/2)+(control!$B$4-MIN(B2873*C2873/6,400))/(B2873/8)","v":42.07692307692308},30]
["Northern Lights",22,94,"M",{"$f":"MIN(B2874*C2874/6,400)/(B2874/2)+(control!$B$4-MIN(B2874*C2874/6,400))/(B2874/8)","v":51.454545454545453},23]
["Norton",15,71,"S",{"$f":"MIN(B2875*C2875/6,400)/(B2875/2)+(control!$B$4-MIN(B2875*C2875/6,400))/(B2875/8)","v":142.33333333333334},17]
["Nosey",26,63,"S",{"$f":"MIN(B2876*C2876/6,400)/(B2876/2)+(control!$B$4-MIN(B2876*C2876/6,400))/(B2876/8)","v":60.07692307692308},27]
["Not At the Moment",19,64,"M",{"$f":"MIN(B2877*C2877/6,400)/(B2877/2)+(control!$B$4-MIN(B2877*C2877/6,400))/(B2877/8)","v":104.42105263157895},22]
["Not Exactly Monday",20,61,"S",{"$f":"MIN(B2878*C2878/6,400)/(B2878/2)+(control!$B$4-MIN(B2878*C2878/6,400))/(B2878/8)","v":99},21]
["Nothin' But Trouble",17,95,"D",{"$f":"MIN(B2879*C2879/6,400)/(B2879/2)+(control!$B$4-MIN(B2879*C2879/6,400))/(B2879/8)","v":93.235294117647058},17]
["Notorious",16,107,"D",{"$f":"MIN(B2880*C2880/6,400)/(B2880/2)+(control!$B$4-MIN(B2880*C2880/6,400))/(B2880/8)","v":93},16]
["Notorized Kate",20,121,"S",{"$f":"MIN(B2881*C2881/6,400)/(B2881/2)+(control!$B$4-MIN(B2881*C2881/6,400))/(B2881/8)","v":40},24]
["Nottachance",18,89,"M",{"$f":"MIN(B2882*C2882/6,400)/(B2882/2)+(control!$B$4-MIN(B2882*C2882/6,400))/(B2882/8)","v":88.777777777777786},22]
["Nougat",23,78,"S",{"$f":"MIN(B2883*C2883/6,400)/(B2883/2)+(control!$B$4-MIN(B2883*C2883/6,400))/(B2883/8)","v":61.130434782608695},24]
["November Rain",26,118,"S",{"$f":"MIN(B2884*C2884/6,400)/(B2884/2)+(control!$B$4-MIN(B2884*C2884/6,400))/(B2884/8)","v":30.76923076923077},30]
["Now or never",19,121,"S",{"$f":"MIN(B2885*C2885/6,400)/(B2885/2)+(control!$B$4-MIN(B2885*C2885/6,400))/(B2885/8)","v":47.421052631578945},20]
["Nuala",21,113,"D",{"$f":"MIN(B2886*C2886/6,400)/(B2886/2)+(control!$B$4-MIN(B2886*C2886/6,400))/(B2886/8)","v":39.38095238095238},25]
["Nubia's Princess",27,73,"S",{"$f":"MIN(B2887*C2887/6,400)/(B2887/2)+(control!$B$4-MIN(B2887*C2887/6,400))/(B2887/8)","v":45.518518518518519},30]
["Nugget",21,76,"S",{"$f":"MIN(B2888*C2888/6,400)/(B2888/2)+(control!$B$4-MIN(B2888*C2888/6,400))/(B2888/8)","v":76.38095238095238},25]
["Nutcracker",16,60,"S",{"$f":"MIN(B2889*C2889/6,400)/(B2889/2)+(control!$B$4-MIN(B2889*C2889/6,400))/(B2889/8)","v":140},20]
["Nutmeg",21,66,"S",{"$f":"MIN(B2890*C2890/6,400)/(B2890/2)+(control!$B$4-MIN(B2890*C2890/6,400))/(B2890/8)","v":86.38095238095238},21]
["Nuts",25,88,"S",{"$f":"MIN(B2891*C2891/6,400)/(B2891/2)+(control!$B$4-MIN(B2891*C2891/6,400))/(B2891/8)","v":40},27]
["Nutty",16,73,"M",{"$f":"MIN(B2892*C2892/6,400)/(B2892/2)+(control!$B$4-MIN(B2892*C2892/6,400))/(B2892/8)","v":127},20]
["O my Gosh",17,83,"M",{"$f":"MIN(B2893*C2893/6,400)/(B2893/2)+(control!$B$4-MIN(B2893*C2893/6,400))/(B2893/8)","v":105.23529411764707},21]
["O.Brien",17,94,"S",{"$f":"MIN(B2894*C2894/6,400)/(B2894/2)+(control!$B$4-MIN(B2894*C2894/6,400))/(B2894/8)","v":94.235294117647072},19]
["Oak",21,59,"S",{"$f":"MIN(B2895*C2895/6,400)/(B2895/2)+(control!$B$4-MIN(B2895*C2895/6,400))/(B2895/8)","v":93.38095238095238},25]
["Oasis",21,116,"S",{"$f":"MIN(B2896*C2896/6,400)/(B2896/2)+(control!$B$4-MIN(B2896*C2896/6,400))/(B2896/8)","v":38.095238095238095},23]
["Oberon",16,106,"S",{"$f":"MIN(B2897*C2897/6,400)/(B2897/2)+(control!$B$4-MIN(B2897*C2897/6,400))/(B2897/8)","v":94},20]
["Obi-Wan",24,95,"S",{"$f":"MIN(B2898*C2898/6,400)/(B2898/2)+(control!$B$4-MIN(B2898*C2898/6,400))/(B2898/8)","v":38.333333333333336},28]
["Oblivion",22,62,"S",{"$f":"MIN(B2899*C2899/6,400)/(B2899/2)+(control!$B$4-MIN(B2899*C2899/6,400))/(B2899/8)","v":83.454545454545453},22]
["Obsidian Dream",22,91,"D",{"$f":"MIN(B2900*C2900/6,400)/(B2900/2)+(control!$B$4-MIN(B2900*C2900/6,400))/(B2900/8)","v":54.454545454545453},22]
["Occasional Flurries",20,75,"S",{"$f":"MIN(B2901*C2901/6,400)/(B2901/2)+(control!$B$4-MIN(B2901*C2901/6,400))/(B2901/8)","v":85},22]
["Ocean",18,98,"D",{"$f":"MIN(B2902*C2902/6,400)/(B2902/2)+(control!$B$4-MIN(B2902*C2902/6,400))/(B2902/8)","v":79.777777777777771},19]
["Ocean Breeze",16,91,"S",{"$f":"MIN(B2903*C2903/6,400)/(B2903/2)+(control!$B$4-MIN(B2903*C2903/6,400))/(B2903/8)","v":109},20]
["Ocean Crest",15,78,"S",{"$f":"MIN(B2904*C2904/6,400)/(B2904/2)+(control!$B$4-MIN(B2904*C2904/6,400))/(B2904/8)","v":135.33333333333331},18]
["Ocean Jupiter",21,120,"D",{"$f":"MIN(B2905*C2905/6,400)/(B2905/2)+(control!$B$4-MIN(B2905*C2905/6,400))/(B2905/8)","v":38.095238095238095},22]
["October Spirit",21,83,"M",{"$f":"MIN(B2906*C2906/6,400)/(B2906/2)+(control!$B$4-MIN(B2906*C2906/6,400))/(B2906/8)","v":69.38095238095238},22]
["October Wind",21,112,"D",{"$f":"MIN(B2907*C2907/6,400)/(B2907/2)+(control!$B$4-MIN(B2907*C2907/6,400))/(B2907/8)","v":40.38095238095238},23]
["Oddball",20,99,"S",{"$f":"MIN(B2908*C2908/6,400)/(B2908/2)+(control!$B$4-MIN(B2908*C2908/6,400))/(B2908/8)","v":61},21]
["Oddossen Dreamer",19,85,"S",{"$f":"MIN(B2909*C2909/6,400)/(B2909/2)+(control!$B$4-MIN(B2909*C2909/6,400))/(B2909/8)","v":83.421052631578945},19]
["Odin",26,95,"D",{"$f":"MIN(B2910*C2910/6,400)/(B2910/2)+(control!$B$4-MIN(B2910*C2910/6,400))/(B2910/8)","v":30.76923076923077},27]
["Odyssy",23,109,"M",{"$f":"MIN(B2911*C2911/6,400)/(B2911/2)+(control!$B$4-MIN(B2911*C2911/6,400))/(B2911/8)","v":34.782608695652172},23]
["Odyssy",15,64,"S",{"$f":"MIN(B2912*C2912/6,400)/(B2912/2)+(control!$B$4-MIN(B2912*C2912/6,400))/(B2912/8)","v":149.33333333333334},16]
["Off Shores Pearl",20,81,"M",{"$f":"MIN(B2913*C2913/6,400)/(B2913/2)+(control!$B$4-MIN(B2913*C2913/6,400))/(B2913/8)","v":79},21]
["Official",19,95,"D",{"$f":"MIN(B2914*C2914/6,400)/(B2914/2)+(control!$B$4-MIN(B2914*C2914/6,400))/(B2914/8)","v":73.421052631578959},19]
["Oh Cash Go",20,120,"S",{"$f":"MIN(B2915*C2915/6,400)/(B2915/2)+(control!$B$4-MIN(B2915*C2915/6,400))/(B2915/8)","v":40},20]
["Oh my Darling",15,85,"M",{"$f":"MIN(B2916*C2916/6,400)/(B2916/2)+(control!$B$4-MIN(B2916*C2916/6,400))/(B2916/8)","v":128.33333333333334},19]
["OJ",17,108,"D",{"$f":"MIN(B2917*C2917/6,400)/(B2917/2)+(control!$B$4-MIN(B2917*C2917/6,400))/(B2917/8)","v":80.235294117647058},21]
["Oki Doki",18,112,"S",{"$f":"MIN(B2918*C2918/6,400)/(B2918/2)+(control!$B$4-MIN(B2918*C2918/6,400))/(B2918/8)","v":65.777777777777771},18]
["Okotok",23,80,"M",{"$f":"MIN(B2919*C2919/6,400)/(B2919/2)+(control!$B$4-MIN(B2919*C2919/6,400))/(B2919/8)","v":59.130434782608688},27]
["Old Faithful",19,60,"S",{"$f":"MIN(B2920*C2920/6,400)/(B2920/2)+(control!$B$4-MIN(B2920*C2920/6,400))/(B2920/8)","v":108.42105263157895},21]
["Old Lady",19,108,"D",{"$f":"MIN(B2921*C2921/6,400)/(B2921/2)+(control!$B$4-MIN(B2921*C2921/6,400))/(B2921/8)","v":60.421052631578945},21]
["Oliver",17,83,"M",{"$f":"MIN(B2922*C2922/6,400)/(B2922/2)+(control!$B$4-MIN(B2922*C2922/6,400))/(B2922/8)","v":105.23529411764707},17]
["Oliver twist",15,77,"S",{"$f":"MIN(B2923*C2923/6,400)/(B2923/2)+(control!$B$4-MIN(B2923*C2923/6,400))/(B2923/8)","v":136.33333333333334},16]
["Olivia",17,84,"S",{"$f":"MIN(B2924*C2924/6,400)/(B2924/2)+(control!$B$4-MIN(B2924*C2924/6,400))/(B2924/8)","v":104.23529411764706},21]
["Ollie",15,100,"D",{"$f":"MIN(B2925*C2925/6,400)/(B2925/2)+(control!$B$4-MIN(B2925*C2925/6,400))/(B2925/8)","v":113.33333333333334},16]
["Olympic Dream",20,88,"S",{"$f":"MIN(B2926*C2926/6,400)/(B2926/2)+(control!$B$4-MIN(B2926*C2926/6,400))/(B2926/8)","v":72},20]
["Olympic Glory",16,68,"S",{"$f":"MIN(B2927*C2927/6,400)/(B2927/2)+(control!$B$4-MIN(B2927*C2927/6,400))/(B2927/8)","v":132},16]
["Olympus",20,120,"D",{"$f":"MIN(B2928*C2928/6,400)/(B2928/2)+(control!$B$4-MIN(B2928*C2928/6,400))/(B2928/8)","v":40},21]
["Omah",16,91,"D",{"$f":"MIN(B2929*C2929/6,400)/(B2929/2)+(control!$B$4-MIN(B2929*C2929/6,400))/(B2929/8)","v":109},19]
["On High Heels",18,62,"S",{"$f":"MIN(B2930*C2930/6,400)/(B2930/2)+(control!$B$4-MIN(B2930*C2930/6,400))/(B2930/8)","v":115.77777777777779},21]
["On target",22,83,"S",{"$f":"MIN(B2931*C2931/6,400)/(B2931/2)+(control!$B$4-MIN(B2931*C2931/6,400))/(B2931/8)","v":62.45454545454546},26]
["On With Jon",15,68,"M",{"$f":"MIN(B2932*C2932/6,400)/(B2932/2)+(control!$B$4-MIN(B2932*C2932/6,400))/(B2932/8)","v":145.33333333333334},18]
["Once in a Blue Moon",20,60,"S",{"$f":"MIN(B2933*C2933/6,400)/(B2933/2)+(control!$B$4-MIN(B2933*C2933/6,400))/(B2933/8)","v":100},23]
["One Fine Day",18,98,"D",{"$f":"MIN(B2934*C2934/6,400)/(B2934/2)+(control!$B$4-MIN(B2934*C2934/6,400))/(B2934/8)","v":79.777777777777771},18]
["One in a Million",22,81,"S",{"$f":"MIN(B2935*C2935/6,400)/(B2935/2)+(control!$B$4-MIN(B2935*C2935/6,400))/(B2935/8)","v":64.454545454545453},24]
["One Night Only",21,79,"S",{"$f":"MIN(B2936*C2936/6,400)/(B2936/2)+(control!$B$4-MIN(B2936*C2936/6,400))/(B2936/8)","v":73.38095238095238},25]
["One O'clock Call",20,73,"S",{"$f":"MIN(B2937*C2937/6,400)/(B2937/2)+(control!$B$4-MIN(B2937*C2937/6,400))/(B2937/8)","v":87},23]
["One Shot At A Time",25,84,"M",{"$f":"MIN(B2938*C2938/6,400)/(B2938/2)+(control!$B$4-MIN(B2938*C2938/6,400))/(B2938/8)","v":44},29]
["One Way Ticket",20,79,"M",{"$f":"MIN(B2939*C2939/6,400)/(B2939/2)+(control!$B$4-MIN(B2939*C2939/6,400))/(B2939/8)","v":81},21]
["One Wish",21,82,"M",{"$f":"MIN(B2940*C2940/6,400)/(B2940/2)+(control!$B$4-MIN(B2940*C2940/6,400))/(B2940/8)","v":70.38095238095238},23]
["Oni (japanese for devil)",27,84,"M",{"$f":"MIN(B2941*C2941/6,400)/(B2941/2)+(control!$B$4-MIN(B2941*C2941/6,400))/(B2941/8)","v":34.518518518518519},27]
["Onix",22,72,"S",{"$f":"MIN(B2942*C2942/6,400)/(B2942/2)+(control!$B$4-MIN(B2942*C2942/6,400))/(B2942/8)","v":73.454545454545453},22]
["Onyx",25,68,"S",{"$f":"MIN(B2943*C2943/6,400)/(B2943/2)+(control!$B$4-MIN(B2943*C2943/6,400))/(B2943/8)","v":60.000000000000007},25]
["Opal",17,78,"S",{"$f":"MIN(B2944*C2944/6,400)/(B2944/2)+(control!$B$4-MIN(B2944*C2944/6,400))/(B2944/8)","v":110.23529411764706},19]
["Opaleye",15,98,"D",{"$f":"MIN(B2945*C2945/6,400)/(B2945/2)+(control!$B$4-MIN(B2945*C2945/6,400))/(B2945/8)","v":115.33333333333334},16]
["Oppey",15,59,"S",{"$f":"MIN(B2946*C2946/6,400)/(B2946/2)+(control!$B$4-MIN(B2946*C2946/6,400))/(B2946/8)","v":154.33333333333331},19]
["Orchid",21,87,"S",{"$f":"MIN(B2947*C2947/6,400)/(B2947/2)+(control!$B$4-MIN(B2947*C2947/6,400))/(B2947/8)","v":65.38095238095238},23]
["Ordered Steps",25,112,"S",{"$f":"MIN(B2948*C2948/6,400)/(B2948/2)+(control!$B$4-MIN(B2948*C2948/6,400))/(B2948/8)","v":32},28]
["Oreo",19,83,"S",{"$f":"MIN(B2949*C2949/6,400)/(B2949/2)+(control!$B$4-MIN(B2949*C2949/6,400))/(B2949/8)","v":85.421052631578959},19]
["Organized Rebel",20,70,"M",{"$f":"MIN(B2950*C2950/6,400)/(B2950/2)+(control!$B$4-MIN(B2950*C2950/6,400))/(B2950/8)","v":90},20]
["Orion",26,61,"S",{"$f":"MIN(B2951*C2951/6,400)/(B2951/2)+(control!$B$4-MIN(B2951*C2951/6,400))/(B2951/8)","v":62.07692307692308},28]
["Orkney Mist",22,83,"S",{"$f":"MIN(B2952*C2952/6,400)/(B2952/2)+(control!$B$4-MIN(B2952*C2952/6,400))/(B2952/8)","v":62.45454545454546},26]
["Oscar",22,105,"S",{"$f":"MIN(B2953*C2953/6,400)/(B2953/2)+(control!$B$4-MIN(B2953*C2953/6,400))/(B2953/8)","v":40.454545454545453},24]
["Othello",19,92,"D",{"$f":"MIN(B2954*C2954/6,400)/(B2954/2)+(control!$B$4-MIN(B2954*C2954/6,400))/(B2954/8)","v":76.421052631578959},22]
["Otis",26,96,"D",{"$f":"MIN(B2955*C2955/6,400)/(B2955/2)+(control!$B$4-MIN(B2955*C2955/6,400))/(B2955/8)","v":30.76923076923077},28]
["Outlaw",18,122,"M",{"$f":"MIN(B2956*C2956/6,400)/(B2956/2)+(control!$B$4-MIN(B2956*C2956/6,400))/(B2956/8)","v":55.777777777777771},19]
["Outta Sight",20,87,"S",{"$f":"MIN(B2957*C2957/6,400)/(B2957/2)+(control!$B$4-MIN(B2957*C2957/6,400))/(B2957/8)","v":73},21]
["OverTime Magic",22,93,"D",{"$f":"MIN(B2958*C2958/6,400)/(B2958/2)+(control!$B$4-MIN(B2958*C2958/6,400))/(B2958/8)","v":52.454545454545453},22]
["P.J.",27,101,"M",{"$f":"MIN(B2959*C2959/6,400)/(B2959/2)+(control!$B$4-MIN(B2959*C2959/6,400))/(B2959/8)","v":29.62962962962963},30]
["P.S. I Love You",20,91,"D",{"$f":"MIN(B2960*C2960/6,400)/(B2960/2)+(control!$B$4-MIN(B2960*C2960/6,400))/(B2960/8)","v":69},24]
["Pablo",16,79,"M",{"$f":"MIN(B2961*C2961/6,400)/(B2961/2)+(control!$B$4-MIN(B2961*C2961/6,400))/(B2961/8)","v":121},17]
["Pacheco",17,100,"D",{"$f":"MIN(B2962*C2962/6,400)/(B2962/2)+(control!$B$4-MIN(B2962*C2962/6,400))/(B2962/8)","v":88.235294117647072},20]
["Pacific Popsicle",26,108,"S",{"$f":"MIN(B2963*C2963/6,400)/(B2963/2)+(control!$B$4-MIN(B2963*C2963/6,400))/(B2963/8)","v":30.76923076923077},27]
["Pacifics Majic Khol",18,97,"D",{"$f":"MIN(B2964*C2964/6,400)/(B2964/2)+(control!$B$4-MIN(B2964*C2964/6,400))/(B2964/8)","v":80.777777777777771},20]
["Pacos",20,90,"S",{"$f":"MIN(B2965*C2965/6,400)/(B2965/2)+(control!$B$4-MIN(B2965*C2965/6,400))/(B2965/8)","v":70},23]
["Paddington",18,90,"S",{"$f":"MIN(B2966*C2966/6,400)/(B2966/2)+(control!$B$4-MIN(B2966*C2966/6,400))/(B2966/8)","v":87.777777777777771},21]
["Paddington B. Bear",20,94,"D",{"$f":"MIN(B2967*C2967/6,400)/(B2967/2)+(control!$B$4-MIN(B2967*C2967/6,400))/(B2967/8)","v":66},20]
["Paddington J. Bear",22,72,"S",{"$f":"MIN(B2968*C2968/6,400)/(B2968/2)+(control!$B$4-MIN(B2968*C2968/6,400))/(B2968/8)","v":73.454545454545453},25]
["Paddy",20,100,"D",{"$f":"MIN(B2969*C2969/6,400)/(B2969/2)+(control!$B$4-MIN(B2969*C2969/6,400))/(B2969/8)","v":60},21]
["Paddy Bear",21,87,"S",{"$f":"MIN(B2970*C2970/6,400)/(B2970/2)+(control!$B$4-MIN(B2970*C2970/6,400))/(B2970/8)","v":65.38095238095238},21]
["Pagong",19,83,"S",{"$f":"MIN(B2971*C2971/6,400)/(B2971/2)+(control!$B$4-MIN(B2971*C2971/6,400))/(B2971/8)","v":85.421052631578959},20]
["Paint",19,78,"S",{"$f":"MIN(B2972*C2972/6,400)/(B2972/2)+(control!$B$4-MIN(B2972*C2972/6,400))/(B2972/8)","v":90.421052631578945},23]
["Paint by numbers",21,61,"S",{"$f":"MIN(B2973*C2973/6,400)/(B2973/2)+(control!$B$4-MIN(B2973*C2973/6,400))/(B2973/8)","v":91.38095238095238},22]
["Paint me Proud",21,113,"S",{"$f":"MIN(B2974*C2974/6,400)/(B2974/2)+(control!$B$4-MIN(B2974*C2974/6,400))/(B2974/8)","v":39.38095238095238},22]
["Paint the Town",19,90,"S",{"$f":"MIN(B2975*C2975/6,400)/(B2975/2)+(control!$B$4-MIN(B2975*C2975/6,400))/(B2975/8)","v":78.421052631578945},21]
["Painted Apache",19,99,"S",{"$f":"MIN(B2976*C2976/6,400)/(B2976/2)+(control!$B$4-MIN(B2976*C2976/6,400))/(B2976/8)","v":69.421052631578945},23]
["Painted Robin",15,113,"M",{"$f":"MIN(B2977*C2977/6,400)/(B2977/2)+(control!$B$4-MIN(B2977*C2977/6,400))/(B2977/8)","v":100.33333333333333},16]
["Painter",20,90,"S",{"$f":"MIN(B2978*C2978/6,400)/(B2978/2)+(control!$B$4-MIN(B2978*C2978/6,400))/(B2978/8)","v":70},23]
["PaintTheTownRed",22,94,"S",{"$f":"MIN(B2979*C2979/6,400)/(B2979/2)+(control!$B$4-MIN(B2979*C2979/6,400))/(B2979/8)","v":51.454545454545453},24]
["Paisley",19,95,"D",{"$f":"MIN(B2980*C2980/6,400)/(B2980/2)+(control!$B$4-MIN(B2980*C2980/6,400))/(B2980/8)","v":73.421052631578959},21]
["Pal",16,123,"M",{"$f":"MIN(B2981*C2981/6,400)/(B2981/2)+(control!$B$4-MIN(B2981*C2981/6,400))/(B2981/8)","v":77},17]
["Pal Amino",18,97,"D",{"$f":"MIN(B2982*C2982/6,400)/(B2982/2)+(control!$B$4-MIN(B2982*C2982/6,400))/(B2982/8)","v":80.777777777777771},20]
["Paladen",17,93,"S",{"$f":"MIN(B2983*C2983/6,400)/(B2983/2)+(control!$B$4-MIN(B2983*C2983/6,400))/(B2983/8)","v":95.235294117647058},17]
["Paladin",17,95,"M",{"$f":"MIN(B2984*C2984/6,400)/(B2984/2)+(control!$B$4-MIN(B2984*C2984/6,400))/(B2984/8)","v":93.235294117647058},20]
["Paladine",17,79,"S",{"$f":"MIN(B2985*C2985/6,400)/(B2985/2)+(control!$B$4-MIN(B2985*C2985/6,400))/(B2985/8)","v":109.23529411764704},17]
["Paloma (means dove)",17,99,"S",{"$f":"MIN(B2986*C2986/6,400)/(B2986/2)+(control!$B$4-MIN(B2986*C2986/6,400))/(B2986/8)","v":89.235294117647058},20]
["Pamplemousse",18,100,"D",{"$f":"MIN(B2987*C2987/6,400)/(B2987/2)+(control!$B$4-MIN(B2987*C2987/6,400))/(B2987/8)","v":77.777777777777771},19]
["Panda",26,78,"S",{"$f":"MIN(B2988*C2988/6,400)/(B2988/2)+(control!$B$4-MIN(B2988*C2988/6,400))/(B2988/8)","v":45.07692307692308},26]
["Pandemonium",16,81,"S",{"$f":"MIN(B2989*C2989/6,400)/(B2989/2)+(control!$B$4-MIN(B2989*C2989/6,400))/(B2989/8)","v":119},19]
["Pandora",15,78,"S",{"$f":"MIN(B2990*C2990/6,400)/(B2990/2)+(control!$B$4-MIN(B2990*C2990/6,400))/(B2990/8)","v":135.33333333333331},16]
["Pandora's Box",25,81,"M",{"$f":"MIN(B2991*C2991/6,400)/(B2991/2)+(control!$B$4-MIN(B2991*C2991/6,400))/(B2991/8)","v":47},29]
["Panosh",21,95,"M",{"$f":"MIN(B2992*C2992/6,400)/(B2992/2)+(control!$B$4-MIN(B2992*C2992/6,400))/(B2992/8)","v":57.38095238095238},21]
["Pansy",18,99,"D",{"$f":"MIN(B2993*C2993/6,400)/(B2993/2)+(control!$B$4-MIN(B2993*C2993/6,400))/(B2993/8)","v":78.777777777777771},18]
["Papa Drew",16,81,"S",{"$f":"MIN(B2994*C2994/6,400)/(B2994/2)+(control!$B$4-MIN(B2994*C2994/6,400))/(B2994/8)","v":119},20]
["Par Hasard",27,96,"D",{"$f":"MIN(B2995*C2995/6,400)/(B2995/2)+(control!$B$4-MIN(B2995*C2995/6,400))/(B2995/8)","v":29.62962962962963},27]
["Parable",16,89,"S",{"$f":"MIN(B2996*C2996/6,400)/(B2996/2)+(control!$B$4-MIN(B2996*C2996/6,400))/(B2996/8)","v":111},17]
["Pardon My Dust",19,73,"S",{"$f":"MIN(B2997*C2997/6,400)/(B2997/2)+(control!$B$4-MIN(B2997*C2997/6,400))/(B2997/8)","v":95.421052631578945},23]
["Paris",22,79,"S",{"$f":"MIN(B2998*C2998/6,400)/(B2998/2)+(control!$B$4-MIN(B2998*C2998/6,400))/(B2998/8)","v":66.454545454545453},23]
["Paris City of Romance",15,64,"S",{"$f":"MIN(B2999*C2999/6,400)/(B2999/2)+(control!$B$4-MIN(B2999*C2999/6,400))/(B2999/8)","v":149.33333333333334},19]
["Parker",19,89,"S",{"$f":"MIN(B3000*C3000/6,400)/(B3000/2)+(control!$B$4-MIN(B3000*C3000/6,400))/(B3000/8)","v":79.421052631578959},21]
["Parrot Head",19,90,"M",{"$f":"MIN(B3001*C3001/6,400)/(B3001/2)+(control!$B$4-MIN(B3001*C3001/6,400))/(B3001/8)","v":78.421052631578945},23]
["Partee Music",25,123,"D",{"$f":"MIN(B3002*C3002/6,400)/(B3002/2)+(control!$B$4-MIN(B3002*C3002/6,400))/(B3002/8)","v":32},26]
["Partner",18,66,"S",{"$f":"MIN(B3003*C3003/6,400)/(B3003/2)+(control!$B$4-MIN(B3003*C3003/6,400))/(B3003/8)","v":111.77777777777777},20]
["Party Politics",15,77,"S",{"$f":"MIN(B3004*C3004/6,400)/(B3004/2)+(control!$B$4-MIN(B3004*C3004/6,400))/(B3004/8)","v":136.33333333333334},16]
["Pascoe",17,102,"D",{"$f":"MIN(B3005*C3005/6,400)/(B3005/2)+(control!$B$4-MIN(B3005*C3005/6,400))/(B3005/8)","v":86.235294117647058},20]
["Pasha",17,76,"S",{"$f":"MIN(B3006*C3006/6,400)/(B3006/2)+(control!$B$4-MIN(B3006*C3006/6,400))/(B3006/8)","v":112.23529411764704},19]
["Pass N Style",26,81,"M",{"$f":"MIN(B3007*C3007/6,400)/(B3007/2)+(control!$B$4-MIN(B3007*C3007/6,400))/(B3007/8)","v":42.07692307692308},26]
["Passion",18,81,"S",{"$f":"MIN(B3008*C3008/6,400)/(B3008/2)+(control!$B$4-MIN(B3008*C3008/6,400))/(B3008/8)","v":96.777777777777771},18]
["Passion Princess",26,84,"S",{"$f":"MIN(B3009*C3009/6,400)/(B3009/2)+(control!$B$4-MIN(B3009*C3009/6,400))/(B3009/8)","v":39.07692307692308},26]
["Patch",22,97,"D",{"$f":"MIN(B3010*C3010/6,400)/(B3010/2)+(control!$B$4-MIN(B3010*C3010/6,400))/(B3010/8)","v":48.454545454545453},23]
["Patches",21,78,"S",{"$f":"MIN(B3011*C3011/6,400)/(B3011/2)+(control!$B$4-MIN(B3011*C3011/6,400))/(B3011/8)","v":74.38095238095238},23]
["Patchwork Quilt",23,104,"D",{"$f":"MIN(B3012*C3012/6,400)/(B3012/2)+(control!$B$4-MIN(B3012*C3012/6,400))/(B3012/8)","v":35.130434782608695},23]
["Patience",26,93,"M",{"$f":"MIN(B3013*C3013/6,400)/(B3013/2)+(control!$B$4-MIN(B3013*C3013/6,400))/(B3013/8)","v":30.76923076923077},30]
["Patra",17,101,"M",{"$f":"MIN(B3014*C3014/6,400)/(B3014/2)+(control!$B$4-MIN(B3014*C3014/6,400))/(B3014/8)","v":87.235294117647058},21]
["Patrick",16,81,"S",{"$f":"MIN(B3015*C3015/6,400)/(B3015/2)+(control!$B$4-MIN(B3015*C3015/6,400))/(B3015/8)","v":119},17]
["Patriot",21,96,"S",{"$f":"MIN(B3016*C3016/6,400)/(B3016/2)+(control!$B$4-MIN(B3016*C3016/6,400))/(B3016/8)","v":56.38095238095238},24]
["Patty-cake",18,105,"M",{"$f":"MIN(B3017*C3017/6,400)/(B3017/2)+(control!$B$4-MIN(B3017*C3017/6,400))/(B3017/8)","v":72.777777777777771},21]
["Paulo",23,101,"M",{"$f":"MIN(B3018*C3018/6,400)/(B3018/2)+(control!$B$4-MIN(B3018*C3018/6,400))/(B3018/8)","v":38.130434782608695},25]
["Pavane",20,102,"M",{"$f":"MIN(B3019*C3019/6,400)/(B3019/2)+(control!$B$4-MIN(B3019*C3019/6,400))/(B3019/8)","v":58},21]
["Pay Check",19,69,"S",{"$f":"MIN(B3020*C3020/6,400)/(B3020/2)+(control!$B$4-MIN(B3020*C3020/6,400))/(B3020/8)","v":99.421052631578945},22]
["Paydro",21,87,"S",{"$f":"MIN(B3021*C3021/6,400)/(B3021/2)+(control!$B$4-MIN(B3021*C3021/6,400))/(B3021/8)","v":65.38095238095238},22]
["Peach",15,94,"S",{"$f":"MIN(B3022*C3022/6,400)/(B3022/2)+(control!$B$4-MIN(B3022*C3022/6,400))/(B3022/8)","v":119.33333333333333},16]
["Peach Blossom",19,64,"S",{"$f":"MIN(B3023*C3023/6,400)/(B3023/2)+(control!$B$4-MIN(B3023*C3023/6,400))/(B3023/8)","v":104.42105263157895},22]
["Peaches",24,77,"S",{"$f":"MIN(B3024*C3024/6,400)/(B3024/2)+(control!$B$4-MIN(B3024*C3024/6,400))/(B3024/8)","v":56.333333333333336},24]
["Peaches n Cream",23,98,"M",{"$f":"MIN(B3025*C3025/6,400)/(B3025/2)+(control!$B$4-MIN(B3025*C3025/6,400))/(B3025/8)","v":41.130434782608695},25]
["Peak",24,63,"S",{"$f":"MIN(B3026*C3026/6,400)/(B3026/2)+(control!$B$4-MIN(B3026*C3026/6,400))/(B3026/8)","v":70.333333333333343},26]
["Peanut",23,99,"S",{"$f":"MIN(B3027*C3027/6,400)/(B3027/2)+(control!$B$4-MIN(B3027*C3027/6,400))/(B3027/8)","v":40.130434782608695},27]
["Peanut Butter",20,101,"M",{"$f":"MIN(B3028*C3028/6,400)/(B3028/2)+(control!$B$4-MIN(B3028*C3028/6,400))/(B3028/8)","v":59},21]
["Pearl",20,61,"M",{"$f":"MIN(B3029*C3029/6,400)/(B3029/2)+(control!$B$4-MIN(B3029*C3029/6,400))/(B3029/8)","v":99},21]
["Pearl Harbor",20,77,"S",{"$f":"MIN(B3030*C3030/6,400)/(B3030/2)+(control!$B$4-MIN(B3030*C3030/6,400))/(B3030/8)","v":83},20]
["Pebbles",25,68,"S",{"$f":"MIN(B3031*C3031/6,400)/(B3031/2)+(control!$B$4-MIN(B3031*C3031/6,400))/(B3031/8)","v":60.000000000000007},27]
["Pegasus",17,81,"S",{"$f":"MIN(B3032*C3032/6,400)/(B3032/2)+(control!$B$4-MIN(B3032*C3032/6,400))/(B3032/8)","v":107.23529411764706},17]
["Pegasus Belle",16,75,"S",{"$f":"MIN(B3033*C3033/6,400)/(B3033/2)+(control!$B$4-MIN(B3033*C3033/6,400))/(B3033/8)","v":125},19]
["Peggy Sue",19,93,"M",{"$f":"MIN(B3034*C3034/6,400)/(B3034/2)+(control!$B$4-MIN(B3034*C3034/6,400))/(B3034/8)","v":75.421052631578945},19]
["Pegretta",18,72,"S",{"$f":"MIN(B3035*C3035/6,400)/(B3035/2)+(control!$B$4-MIN(B3035*C3035/6,400))/(B3035/8)","v":105.77777777777777},22]
["Pendragon",21,98,"M",{"$f":"MIN(B3036*C3036/6,400)/(B3036/2)+(control!$B$4-MIN(B3036*C3036/6,400))/(B3036/8)","v":54.38095238095238},21]
["Penelope",26,82,"M",{"$f":"MIN(B3037*C3037/6,400)/(B3037/2)+(control!$B$4-MIN(B3037*C3037/6,400))/(B3037/8)","v":41.07692307692308},28]
["Pennsylvania",27,78,"M",{"$f":"MIN(B3038*C3038/6,400)/(B3038/2)+(control!$B$4-MIN(B3038*C3038/6,400))/(B3038/8)","v":40.518518518518519},27]
["Penny",15,75,"S",{"$f":"MIN(B3039*C3039/6,400)/(B3039/2)+(control!$B$4-MIN(B3039*C3039/6,400))/(B3039/8)","v":138.33333333333331},17]
["Pepi",22,70,"M",{"$f":"MIN(B3040*C3040/6,400)/(B3040/2)+(control!$B$4-MIN(B3040*C3040/6,400))/(B3040/8)","v":75.454545454545453},22]
["Pepper",18,120,"S",{"$f":"MIN(B3041*C3041/6,400)/(B3041/2)+(control!$B$4-MIN(B3041*C3041/6,400))/(B3041/8)","v":57.777777777777779},18]
["Peppercorn",22,109,"S",{"$f":"MIN(B3042*C3042/6,400)/(B3042/2)+(control!$B$4-MIN(B3042*C3042/6,400))/(B3042/8)","v":36.454545454545453},23]
["Peppermint",24,106,"D",{"$f":"MIN(B3043*C3043/6,400)/(B3043/2)+(control!$B$4-MIN(B3043*C3043/6,400))/(B3043/8)","v":33.333333333333336},27]
["Peppie",26,65,"M",{"$f":"MIN(B3044*C3044/6,400)/(B3044/2)+(control!$B$4-MIN(B3044*C3044/6,400))/(B3044/8)","v":58.076923076923066},30]
["Peppoli",21,107,"S",{"$f":"MIN(B3045*C3045/6,400)/(B3045/2)+(control!$B$4-MIN(B3045*C3045/6,400))/(B3045/8)","v":45.38095238095238},25]
["Peppy",20,71,"S",{"$f":"MIN(B3046*C3046/6,400)/(B3046/2)+(control!$B$4-MIN(B3046*C3046/6,400))/(B3046/8)","v":89},24]
["Pepsi",26,102,"D",{"$f":"MIN(B3047*C3047/6,400)/(B3047/2)+(control!$B$4-MIN(B3047*C3047/6,400))/(B3047/8)","v":30.76923076923077},26]
["Percy",26,70,"M",{"$f":"MIN(B3048*C3048/6,400)/(B3048/2)+(control!$B$4-MIN(B3048*C3048/6,400))/(B3048/8)","v":53.07692307692308},29]
["Perfect Dream",22,73,"S",{"$f":"MIN(B3049*C3049/6,400)/(B3049/2)+(control!$B$4-MIN(B3049*C3049/6,400))/(B3049/8)","v":72.454545454545453},22]
["Perfect Harmony",21,86,"S",{"$f":"MIN(B3050*C3050/6,400)/(B3050/2)+(control!$B$4-MIN(B3050*C3050/6,400))/(B3050/8)","v":66.38095238095238},23]
["Perfect Lullabi",27,97,"S",{"$f":"MIN(B3051*C3051/6,400)/(B3051/2)+(control!$B$4-MIN(B3051*C3051/6,400))/(B3051/8)","v":29.62962962962963},27]
["Perfect Note",22,110,"M",{"$f":"MIN(B3052*C3052/6,400)/(B3052/2)+(control!$B$4-MIN(B3052*C3052/6,400))/(B3052/8)","v":36.363636363636367},24]
["Perfect Picture",21,80,"S",{"$f":"MIN(B3053*C3053/6,400)/(B3053/2)+(control!$B$4-MIN(B3053*C3053/6,400))/(B3053/8)","v":72.38095238095238},24]
["Perfect Winter",19,85,"M",{"$f":"MIN(B3054*C3054/6,400)/(B3054/2)+(control!$B$4-MIN(B3054*C3054/6,400))/(B3054/8)","v":83.421052631578945},21]
["Perfection",15,98,"D",{"$f":"MIN(B3055*C3055/6,400)/(B3055/2)+(control!$B$4-MIN(B3055*C3055/6,400))/(B3055/8)","v":115.33333333333334},17]
["Pericles",16,77,"M",{"$f":"MIN(B3056*C3056/6,400)/(B3056/2)+(control!$B$4-MIN(B3056*C3056/6,400))/(B3056/8)","v":123},20]
["Peridot",18,83,"S",{"$f":"MIN(B3057*C3057/6,400)/(B3057/2)+(control!$B$4-MIN(B3057*C3057/6,400))/(B3057/8)","v":94.777777777777786},22]
["Perseus",21,105,"S",{"$f":"MIN(B3058*C3058/6,400)/(B3058/2)+(control!$B$4-MIN(B3058*C3058/6,400))/(B3058/8)","v":47.38095238095238},24]
["Petal",22,66,"S",{"$f":"MIN(B3059*C3059/6,400)/(B3059/2)+(control!$B$4-MIN(B3059*C3059/6,400))/(B3059/8)","v":79.454545454545453},22]
["Pete",26,61,"S",{"$f":"MIN(B3060*C3060/6,400)/(B3060/2)+(control!$B$4-MIN(B3060*C3060/6,400))/(B3060/8)","v":62.07692307692308},26]
["Peter",27,79,"S",{"$f":"MIN(B3061*C3061/6,400)/(B3061/2)+(control!$B$4-MIN(B3061*C3061/6,400))/(B3061/8)","v":39.518518518518519},31]
["Peter Pan",23,94,"S",{"$f":"MIN(B3062*C3062/6,400)/(B3062/2)+(control!$B$4-MIN(B3062*C3062/6,400))/(B3062/8)","v":45.130434782608702},23]
["Peter Piper",26,95,"S",{"$f":"MIN(B3063*C3063/6,400)/(B3063/2)+(control!$B$4-MIN(B3063*C3063/6,400))/(B3063/8)","v":30.76923076923077},29]
["Peter The Pumpkin Eater",15,68,"S",{"$f":"MIN(B3064*C3064/6,400)/(B3064/2)+(control!$B$4-MIN(B3064*C3064/6,400))/(B3064/8)","v":145.33333333333334},16]
["Petie",20,109,"D",{"$f":"MIN(B3065*C3065/6,400)/(B3065/2)+(control!$B$4-MIN(B3065*C3065/6,400))/(B3065/8)","v":51},20]
["Petzi",19,120,"M",{"$f":"MIN(B3066*C3066/6,400)/(B3066/2)+(control!$B$4-MIN(B3066*C3066/6,400))/(B3066/8)","v":48.421052631578945},20]
["Peyton",22,119,"S",{"$f":"MIN(B3067*C3067/6,400)/(B3067/2)+(control!$B$4-MIN(B3067*C3067/6,400))/(B3067/8)","v":36.363636363636367},26]
["Phantagero",26,80,"M",{"$f":"MIN(B3068*C3068/6,400)/(B3068/2)+(control!$B$4-MIN(B3068*C3068/6,400))/(B3068/8)","v":43.076923076923073},30]
["Phantasia",22,92,"M",{"$f":"MIN(B3069*C3069/6,400)/(B3069/2)+(control!$B$4-MIN(B3069*C3069/6,400))/(B3069/8)","v":53.45454545454546},24]
["Phantom",18,119,"M",{"$f":"MIN(B3070*C3070/6,400)/(B3070/2)+(control!$B$4-MIN(B3070*C3070/6,400))/(B3070/8)","v":58.777777777777771},19]
["Pharoah",20,81,"S",{"$f":"MIN(B3071*C3071/6,400)/(B3071/2)+(control!$B$4-MIN(B3071*C3071/6,400))/(B3071/8)","v":79},22]
["Pheebe",27,72,"S",{"$f":"MIN(B3072*C3072/6,400)/(B3072/2)+(control!$B$4-MIN(B3072*C3072/6,400))/(B3072/8)","v":46.518518518518519},28]
["Phenomenon",16,115,"M",{"$f":"MIN(B3073*C3073/6,400)/(B3073/2)+(control!$B$4-MIN(B3073*C3073/6,400))/(B3073/8)","v":85},18]
["Pheonix",21,81,"S",{"$f":"MIN(B3074*C3074/6,400)/(B3074/2)+(control!$B$4-MIN(B3074*C3074/6,400))/(B3074/8)","v":71.38095238095238},24]
["Philadelphia",19,98,"D",{"$f":"MIN(B3075*C3075/6,400)/(B3075/2)+(control!$B$4-MIN(B3075*C3075/6,400))/(B3075/8)","v":70.421052631578959},19]
["Phillis",21,70,"M",{"$f":"MIN(B3076*C3076/6,400)/(B3076/2)+(control!$B$4-MIN(B3076*C3076/6,400))/(B3076/8)","v":82.38095238095238},24]
["Philly",23,83,"S",{"$f":"MIN(B3077*C3077/6,400)/(B3077/2)+(control!$B$4-MIN(B3077*C3077/6,400))/(B3077/8)","v":56.130434782608688},24]
["Phoebe",18,89,"M",{"$f":"MIN(B3078*C3078/6,400)/(B3078/2)+(control!$B$4-MIN(B3078*C3078/6,400))/(B3078/8)","v":88.777777777777786},21]
["Phoenix",16,61,"S",{"$f":"MIN(B3079*C3079/6,400)/(B3079/2)+(control!$B$4-MIN(B3079*C3079/6,400))/(B3079/8)","v":139},16]
["Phomeron",22,115,"M",{"$f":"MIN(B3080*C3080/6,400)/(B3080/2)+(control!$B$4-MIN(B3080*C3080/6,400))/(B3080/8)","v":36.363636363636367},22]
["Picasso",20,118,"D",{"$f":"MIN(B3081*C3081/6,400)/(B3081/2)+(control!$B$4-MIN(B3081*C3081/6,400))/(B3081/8)","v":42},24]
["Picket",21,87,"S",{"$f":"MIN(B3082*C3082/6,400)/(B3082/2)+(control!$B$4-MIN(B3082*C3082/6,400))/(B3082/8)","v":65.38095238095238},22]
["Picture Perfect",17,90,"S",{"$f":"MIN(B3083*C3083/6,400)/(B3083/2)+(control!$B$4-MIN(B3083*C3083/6,400))/(B3083/8)","v":98.235294117647058},20]
["Pie",15,75,"S",{"$f":"MIN(B3084*C3084/6,400)/(B3084/2)+(control!$B$4-MIN(B3084*C3084/6,400))/(B3084/8)","v":138.33333333333331},17]
["Pied",19,59,"S",{"$f":"MIN(B3085*C3085/6,400)/(B3085/2)+(control!$B$4-MIN(B3085*C3085/6,400))/(B3085/8)","v":109.42105263157895},22]
["Pilgrim",21,91,"D",{"$f":"MIN(B3086*C3086/6,400)/(B3086/2)+(control!$B$4-MIN(B3086*C3086/6,400))/(B3086/8)","v":61.38095238095238},23]
["Pilot",21,97,"S",{"$f":"MIN(B3087*C3087/6,400)/(B3087/2)+(control!$B$4-MIN(B3087*C3087/6,400))/(B3087/8)","v":55.38095238095238},21]
["Pinafore",21,121,"M",{"$f":"MIN(B3088*C3088/6,400)/(B3088/2)+(control!$B$4-MIN(B3088*C3088/6,400))/(B3088/8)","v":38.095238095238095},24]
["Pines Flasher",21,79,"S",{"$f":"MIN(B3089*C3089/6,400)/(B3089/2)+(control!$B$4-MIN(B3089*C3089/6,400))/(B3089/8)","v":73.38095238095238},22]
["Pines Toast",22,99,"M",{"$f":"MIN(B3090*C3090/6,400)/(B3090/2)+(control!$B$4-MIN(B3090*C3090/6,400))/(B3090/8)","v":46.454545454545453},22]
["Pineside Denver",26,87,"M",{"$f":"MIN(B3091*C3091/6,400)/(B3091/2)+(control!$B$4-MIN(B3091*C3091/6,400))/(B3091/8)","v":36.07692307692308},27]
["Pink Panther",16,100,"M",{"$f":"MIN(B3092*C3092/6,400)/(B3092/2)+(control!$B$4-MIN(B3092*C3092/6,400))/(B3092/8)","v":100},20]
["Piper",22,82,"M",{"$f":"MIN(B3093*C3093/6,400)/(B3093/2)+(control!$B$4-MIN(B3093*C3093/6,400))/(B3093/8)","v":63.454545454545453},26]
["Pippa",22,64,"M",{"$f":"MIN(B3094*C3094/6,400)/(B3094/2)+(control!$B$4-MIN(B3094*C3094/6,400))/(B3094/8)","v":81.454545454545453},24]
["Pippi",19,108,"S",{"$f":"MIN(B3095*C3095/6,400)/(B3095/2)+(control!$B$4-MIN(B3095*C3095/6,400))/(B3095/8)","v":60.421052631578945},23]
["Pippin",23,69,"S",{"$f":"MIN(B3096*C3096/6,400)/(B3096/2)+(control!$B$4-MIN(B3096*C3096/6,400))/(B3096/8)","v":70.130434782608688},25]
["Pippy",20,100,"D",{"$f":"MIN(B3097*C3097/6,400)/(B3097/2)+(control!$B$4-MIN(B3097*C3097/6,400))/(B3097/8)","v":60},22]
["Pippy Long Stoking",23,90,"S",{"$f":"MIN(B3098*C3098/6,400)/(B3098/2)+(control!$B$4-MIN(B3098*C3098/6,400))/(B3098/8)","v":49.130434782608695},27]
["Pirate",18,100,"S",{"$f":"MIN(B3099*C3099/6,400)/(B3099/2)+(control!$B$4-MIN(B3099*C3099/6,400))/(B3099/8)","v":77.777777777777771},19]
["Pistol",27,74,"S",{"$f":"MIN(B3100*C3100/6,400)/(B3100/2)+(control!$B$4-MIN(B3100*C3100/6,400))/(B3100/8)","v":44.518518518518519},31]
["Piticelle",22,70,"M",{"$f":"MIN(B3101*C3101/6,400)/(B3101/2)+(control!$B$4-MIN(B3101*C3101/6,400))/(B3101/8)","v":75.454545454545453},23]
["Pittsburgh",17,120,"M",{"$f":"MIN(B3102*C3102/6,400)/(B3102/2)+(control!$B$4-MIN(B3102*C3102/6,400))/(B3102/8)","v":68.235294117647058},21]
["Pixie",17,117,"M",{"$f":"MIN(B3103*C3103/6,400)/(B3103/2)+(control!$B$4-MIN(B3103*C3103/6,400))/(B3103/8)","v":71.235294117647058},17]
["Pizazz",18,86,"S",{"$f":"MIN(B3104*C3104/6,400)/(B3104/2)+(control!$B$4-MIN(B3104*C3104/6,400))/(B3104/8)","v":91.777777777777786},20]
["PK",15,73,"M",{"$f":"MIN(B3105*C3105/6,400)/(B3105/2)+(control!$B$4-MIN(B3105*C3105/6,400))/(B3105/8)","v":140.33333333333334},16]
["Plain N Simple",26,103,"S",{"$f":"MIN(B3106*C3106/6,400)/(B3106/2)+(control!$B$4-MIN(B3106*C3106/6,400))/(B3106/8)","v":30.76923076923077},26]
["Play ta Win",20,91,"D",{"$f":"MIN(B3107*C3107/6,400)/(B3107/2)+(control!$B$4-MIN(B3107*C3107/6,400))/(B3107/8)","v":69},24]
["Playboy",21,98,"D",{"$f":"MIN(B3108*C3108/6,400)/(B3108/2)+(control!$B$4-MIN(B3108*C3108/6,400))/(B3108/8)","v":54.38095238095238},21]
["Player",23,87,"S",{"$f":"MIN(B3109*C3109/6,400)/(B3109/2)+(control!$B$4-MIN(B3109*C3109/6,400))/(B3109/8)","v":52.130434782608695},23]
["Playin' Doubles",17,59,"S",{"$f":"MIN(B3110*C3110/6,400)/(B3110/2)+(control!$B$4-MIN(B3110*C3110/6,400))/(B3110/8)","v":129.23529411764707},21]
["Please Baby Please",20,80,"S",{"$f":"MIN(B3111*C3111/6,400)/(B3111/2)+(control!$B$4-MIN(B3111*C3111/6,400))/(B3111/8)","v":80},24]
["Please Pass The Chic",27,93,"S",{"$f":"MIN(B3112*C3112/6,400)/(B3112/2)+(control!$B$4-MIN(B3112*C3112/6,400))/(B3112/8)","v":29.62962962962963},30]
["Pleasentville Dream",23,76,"M",{"$f":"MIN(B3113*C3113/6,400)/(B3113/2)+(control!$B$4-MIN(B3113*C3113/6,400))/(B3113/8)","v":63.130434782608702},24]
["Plesaures",21,63,"S",{"$f":"MIN(B3114*C3114/6,400)/(B3114/2)+(control!$B$4-MIN(B3114*C3114/6,400))/(B3114/8)","v":89.38095238095238},21]
["Plunket",22,75,"S",{"$f":"MIN(B3115*C3115/6,400)/(B3115/2)+(control!$B$4-MIN(B3115*C3115/6,400))/(B3115/8)","v":70.454545454545453},25]
["Pluto",25,99,"D",{"$f":"MIN(B3116*C3116/6,400)/(B3116/2)+(control!$B$4-MIN(B3116*C3116/6,400))/(B3116/8)","v":32},25]
["Pocaroo",15,93,"D",{"$f":"MIN(B3117*C3117/6,400)/(B3117/2)+(control!$B$4-MIN(B3117*C3117/6,400))/(B3117/8)","v":120.33333333333333},16]
["Pocket Rocket",22,94,"S",{"$f":"MIN(B3118*C3118/6,400)/(B3118/2)+(control!$B$4-MIN(B3118*C3118/6,400))/(B3118/8)","v":51.454545454545453},24]
["Pockets",26,73,"S",{"$f":"MIN(B3119*C3119/6,400)/(B3119/2)+(control!$B$4-MIN(B3119*C3119/6,400))/(B3119/8)","v":50.07692307692308},28]
["Poco",21,74,"M",{"$f":"MIN(B3120*C3120/6,400)/(B3120/2)+(control!$B$4-MIN(B3120*C3120/6,400))/(B3120/8)","v":78.38095238095238},23]
["Poco's Black Charger",20,98,"S",{"$f":"MIN(B3121*C3121/6,400)/(B3121/2)+(control!$B$4-MIN(B3121*C3121/6,400))/(B3121/8)","v":62},24]
["Poe",26,76,"M",{"$f":"MIN(B3122*C3122/6,400)/(B3122/2)+(control!$B$4-MIN(B3122*C3122/6,400))/(B3122/8)","v":47.07692307692308},28]
["Poetry",22,105,"S",{"$f":"MIN(B3123*C3123/6,400)/(B3123/2)+(control!$B$4-MIN(B3123*C3123/6,400))/(B3123/8)","v":40.454545454545453},23]
["Poetry in Motion",17,78,"S",{"$f":"MIN(B3124*C3124/6,400)/(B3124/2)+(control!$B$4-MIN(B3124*C3124/6,400))/(B3124/8)","v":110.23529411764706},19]
["Point",19,74,"M",{"$f":"MIN(B3125*C3125/6,400)/(B3125/2)+(control!$B$4-MIN(B3125*C3125/6,400))/(B3125/8)","v":94.421052631578945},23]
["Point Taken",23,111,"D",{"$f":"MIN(B3126*C3126/6,400)/(B3126/2)+(control!$B$4-MIN(B3126*C3126/6,400))/(B3126/8)","v":34.782608695652172},23]
["Pokey",26,66,"M",{"$f":"MIN(B3127*C3127/6,400)/(B3127/2)+(control!$B$4-MIN(B3127*C3127/6,400))/(B3127/8)","v":57.07692307692308},29]
["Pokey Joe",22,116,"S",{"$f":"MIN(B3128*C3128/6,400)/(B3128/2)+(control!$B$4-MIN(B3128*C3128/6,400))/(B3128/8)","v":36.363636363636367},25]
["Polar",20,78,"S",{"$f":"MIN(B3129*C3129/6,400)/(B3129/2)+(control!$B$4-MIN(B3129*C3129/6,400))/(B3129/8)","v":82},20]
["Polar Express",21,84,"S",{"$f":"MIN(B3130*C3130/6,400)/(B3130/2)+(control!$B$4-MIN(B3130*C3130/6,400))/(B3130/8)","v":68.38095238095238},22]
["Polka",22,98,"S",{"$f":"MIN(B3131*C3131/6,400)/(B3131/2)+(control!$B$4-MIN(B3131*C3131/6,400))/(B3131/8)","v":47.45454545454546},26]
["Polly",27,104,"D",{"$f":"MIN(B3132*C3132/6,400)/(B3132/2)+(control!$B$4-MIN(B3132*C3132/6,400))/(B3132/8)","v":29.62962962962963},28]
["Polly-Anna",19,91,"D",{"$f":"MIN(B3133*C3133/6,400)/(B3133/2)+(control!$B$4-MIN(B3133*C3133/6,400))/(B3133/8)","v":77.421052631578945},21]
["Polo",22,65,"M",{"$f":"MIN(B3134*C3134/6,400)/(B3134/2)+(control!$B$4-MIN(B3134*C3134/6,400))/(B3134/8)","v":80.454545454545453},22]
["Polo Player",22,85,"S",{"$f":"MIN(B3135*C3135/6,400)/(B3135/2)+(control!$B$4-MIN(B3135*C3135/6,400))/(B3135/8)","v":60.454545454545453},26]
["Poly Anna",17,101,"S",{"$f":"MIN(B3136*C3136/6,400)/(B3136/2)+(control!$B$4-MIN(B3136*C3136/6,400))/(B3136/8)","v":87.235294117647058},17]
["Pompom",21,107,"M",{"$f":"MIN(B3137*C3137/6,400)/(B3137/2)+(control!$B$4-MIN(B3137*C3137/6,400))/(B3137/8)","v":45.38095238095238},25]
["Pongo",23,106,"D",{"$f":"MIN(B3138*C3138/6,400)/(B3138/2)+(control!$B$4-MIN(B3138*C3138/6,400))/(B3138/8)","v":34.782608695652172},26]
["Pontiac",19,117,"M",{"$f":"MIN(B3139*C3139/6,400)/(B3139/2)+(control!$B$4-MIN(B3139*C3139/6,400))/(B3139/8)","v":51.421052631578945},21]
["Pony",19,71,"S",{"$f":"MIN(B3140*C3140/6,400)/(B3140/2)+(control!$B$4-MIN(B3140*C3140/6,400))/(B3140/8)","v":97.421052631578945},20]
["Poo Bear",23,102,"S",{"$f":"MIN(B3141*C3141/6,400)/(B3141/2)+(control!$B$4-MIN(B3141*C3141/6,400))/(B3141/8)","v":37.130434782608695},23]
["Pook",19,72,"M",{"$f":"MIN(B3142*C3142/6,400)/(B3142/2)+(control!$B$4-MIN(B3142*C3142/6,400))/(B3142/8)","v":96.421052631578945},21]
["Pookie",25,86,"S",{"$f":"MIN(B3143*C3143/6,400)/(B3143/2)+(control!$B$4-MIN(B3143*C3143/6,400))/(B3143/8)","v":42},25]
["Popcorn",27,93,"S",{"$f":"MIN(B3144*C3144/6,400)/(B3144/2)+(control!$B$4-MIN(B3144*C3144/6,400))/(B3144/8)","v":29.62962962962963},27]
["Poppy",21,89,"S",{"$f":"MIN(B3145*C3145/6,400)/(B3145/2)+(control!$B$4-MIN(B3145*C3145/6,400))/(B3145/8)","v":63.38095238095238},23]
["Porthos",19,72,"S",{"$f":"MIN(B3146*C3146/6,400)/(B3146/2)+(control!$B$4-MIN(B3146*C3146/6,400))/(B3146/8)","v":96.421052631578945},20]
["Portia",26,94,"S",{"$f":"MIN(B3147*C3147/6,400)/(B3147/2)+(control!$B$4-MIN(B3147*C3147/6,400))/(B3147/8)","v":30.76923076923077},27]
["Porto",19,73,"S",{"$f":"MIN(B3148*C3148/6,400)/(B3148/2)+(control!$B$4-MIN(B3148*C3148/6,400))/(B3148/8)","v":95.421052631578945},20]
["Posey",22,62,"S",{"$f":"MIN(B3149*C3149/6,400)/(B3149/2)+(control!$B$4-MIN(B3149*C3149/6,400))/(B3149/8)","v":83.454545454545453},26]
["Posie",24,89,"M",{"$f":"MIN(B3150*C3150/6,400)/(B3150/2)+(control!$B$4-MIN(B3150*C3150/6,400))/(B3150/8)","v":44.333333333333336},28]
["Positively Platnum",20,121,"S",{"$f":"MIN(B3151*C3151/6,400)/(B3151/2)+(control!$B$4-MIN(B3151*C3151/6,400))/(B3151/8)","v":40},23]
["Possibly Me",21,62,"S",{"$f":"MIN(B3152*C3152/6,400)/(B3152/2)+(control!$B$4-MIN(B3152*C3152/6,400))/(B3152/8)","v":90.38095238095238},21]
["Poster Pony",21,111,"S",{"$f":"MIN(B3153*C3153/6,400)/(B3153/2)+(control!$B$4-MIN(B3153*C3153/6,400))/(B3153/8)","v":41.38095238095238},24]
["Powder",15,102,"D",{"$f":"MIN(B3154*C3154/6,400)/(B3154/2)+(control!$B$4-MIN(B3154*C3154/6,400))/(B3154/8)","v":111.33333333333333},17]
["Powder River",15,69,"S",{"$f":"MIN(B3155*C3155/6,400)/(B3155/2)+(control!$B$4-MIN(B3155*C3155/6,400))/(B3155/8)","v":144.33333333333331},18]
["Power Point",21,77,"S",{"$f":"MIN(B3156*C3156/6,400)/(B3156/2)+(control!$B$4-MIN(B3156*C3156/6,400))/(B3156/8)","v":75.38095238095238},25]
["Pracital Cat",22,73,"M",{"$f":"MIN(B3157*C3157/6,400)/(B3157/2)+(control!$B$4-MIN(B3157*C3157/6,400))/(B3157/8)","v":72.454545454545453},24]
["Prada",23,104,"S",{"$f":"MIN(B3158*C3158/6,400)/(B3158/2)+(control!$B$4-MIN(B3158*C3158/6,400))/(B3158/8)","v":35.130434782608695},24]
["Prancer",16,89,"S",{"$f":"MIN(B3159*C3159/6,400)/(B3159/2)+(control!$B$4-MIN(B3159*C3159/6,400))/(B3159/8)","v":111},16]
["Preacher",24,90,"S",{"$f":"MIN(B3160*C3160/6,400)/(B3160/2)+(control!$B$4-MIN(B3160*C3160/6,400))/(B3160/8)","v":43.333333333333336},25]
["Precious Jewel",22,85,"M",{"$f":"MIN(B3161*C3161/6,400)/(B3161/2)+(control!$B$4-MIN(B3161*C3161/6,400))/(B3161/8)","v":60.454545454545453},25]
["Precious Moment",23,70,"S",{"$f":"MIN(B3162*C3162/6,400)/(B3162/2)+(control!$B$4-MIN(B3162*C3162/6,400))/(B3162/8)","v":69.130434782608702},24]
["Precious Moments",15,81,"M",{"$f":"MIN(B3163*C3163/6,400)/(B3163/2)+(control!$B$4-MIN(B3163*C3163/6,400))/(B3163/8)","v":132.33333333333331},15]
["Prelizee",16,78,"S",{"$f":"MIN(B3164*C3164/6,400)/(B3164/2)+(control!$B$4-MIN(B3164*C3164/6,400))/(B3164/8)","v":122},18]
["Prescription",15,101,"D",{"$f":"MIN(B3165*C3165/6,400)/(B3165/2)+(control!$B$4-MIN(B3165*C3165/6,400))/(B3165/8)","v":112.33333333333334},16]
["Prestys",27,86,"M",{"$f":"MIN(B3166*C3166/6,400)/(B3166/2)+(control!$B$4-MIN(B3166*C3166/6,400))/(B3166/8)","v":32.518518518518519},31]
["Pretty Boy",17,101,"D",{"$f":"MIN(B3167*C3167/6,400)/(B3167/2)+(control!$B$4-MIN(B3167*C3167/6,400))/(B3167/8)","v":87.235294117647058},19]
["Pretty Copper Penny",23,90,"M",{"$f":"MIN(B3168*C3168/6,400)/(B3168/2)+(control!$B$4-MIN(B3168*C3168/6,400))/(B3168/8)","v":49.130434782608695},27]
["Pretty In Pink",15,82,"M",{"$f":"MIN(B3169*C3169/6,400)/(B3169/2)+(control!$B$4-MIN(B3169*C3169/6,400))/(B3169/8)","v":131.33333333333334},15]
["Pretty Kitty",20,86,"S",{"$f":"MIN(B3170*C3170/6,400)/(B3170/2)+(control!$B$4-MIN(B3170*C3170/6,400))/(B3170/8)","v":74},21]
["Prickles",20,95,"D",{"$f":"MIN(B3171*C3171/6,400)/(B3171/2)+(control!$B$4-MIN(B3171*C3171/6,400))/(B3171/8)","v":65},23]
["Pride",27,64,"S",{"$f":"MIN(B3172*C3172/6,400)/(B3172/2)+(control!$B$4-MIN(B3172*C3172/6,400))/(B3172/8)","v":54.518518518518519},28]
["Pride and Joy",20,83,"S",{"$f":"MIN(B3173*C3173/6,400)/(B3173/2)+(control!$B$4-MIN(B3173*C3173/6,400))/(B3173/8)","v":77},23]
["Pride N Joy",24,96,"M",{"$f":"MIN(B3174*C3174/6,400)/(B3174/2)+(control!$B$4-MIN(B3174*C3174/6,400))/(B3174/8)","v":37.333333333333336},26]
["Prim",27,108,"S",{"$f":"MIN(B3175*C3175/6,400)/(B3175/2)+(control!$B$4-MIN(B3175*C3175/6,400))/(B3175/8)","v":29.62962962962963},30]
["Prima",15,79,"M",{"$f":"MIN(B3176*C3176/6,400)/(B3176/2)+(control!$B$4-MIN(B3176*C3176/6,400))/(B3176/8)","v":134.33333333333334},19]
["Primadona",21,68,"S",{"$f":"MIN(B3177*C3177/6,400)/(B3177/2)+(control!$B$4-MIN(B3177*C3177/6,400))/(B3177/8)","v":84.38095238095238},25]
["Primo Baby",18,81,"M",{"$f":"MIN(B3178*C3178/6,400)/(B3178/2)+(control!$B$4-MIN(B3178*C3178/6,400))/(B3178/8)","v":96.777777777777771},18]
["Prince",25,90,"S",{"$f":"MIN(B3179*C3179/6,400)/(B3179/2)+(control!$B$4-MIN(B3179*C3179/6,400))/(B3179/8)","v":38},29]
["Prince Caspian",19,104,"D",{"$f":"MIN(B3180*C3180/6,400)/(B3180/2)+(control!$B$4-MIN(B3180*C3180/6,400))/(B3180/8)","v":64.421052631578959},22]
["Prince Charming",16,84,"M",{"$f":"MIN(B3181*C3181/6,400)/(B3181/2)+(control!$B$4-MIN(B3181*C3181/6,400))/(B3181/8)","v":116},19]
["Prince Condor",22,73,"M",{"$f":"MIN(B3182*C3182/6,400)/(B3182/2)+(control!$B$4-MIN(B3182*C3182/6,400))/(B3182/8)","v":72.454545454545453},23]
["Prince of Thieves",24,94,"S",{"$f":"MIN(B3183*C3183/6,400)/(B3183/2)+(control!$B$4-MIN(B3183*C3183/6,400))/(B3183/8)","v":39.333333333333329},25]
["Prince Sevilliane",16,99,"S",{"$f":"MIN(B3184*C3184/6,400)/(B3184/2)+(control!$B$4-MIN(B3184*C3184/6,400))/(B3184/8)","v":101},20]
["Prince Timmy",22,77,"S",{"$f":"MIN(B3185*C3185/6,400)/(B3185/2)+(control!$B$4-MIN(B3185*C3185/6,400))/(B3185/8)","v":68.454545454545467},26]
["Prince Vailiant",21,85,"S",{"$f":"MIN(B3186*C3186/6,400)/(B3186/2)+(control!$B$4-MIN(B3186*C3186/6,400))/(B3186/8)","v":67.38095238095238},22]
["Princess",22,120,"S",{"$f":"MIN(B3187*C3187/6,400)/(B3187/2)+(control!$B$4-MIN(B3187*C3187/6,400))/(B3187/8)","v":36.363636363636367},23]
["Princess Ida",17,99,"M",{"$f":"MIN(B3188*C3188/6,400)/(B3188/2)+(control!$B$4-MIN(B3188*C3188/6,400))/(B3188/8)","v":89.235294117647058},17]
["Princeton",17,78,"M",{"$f":"MIN(B3189*C3189/6,400)/(B3189/2)+(control!$B$4-MIN(B3189*C3189/6,400))/(B3189/8)","v":110.23529411764706},19]
["Prison Guard",16,62,"M",{"$f":"MIN(B3190*C3190/6,400)/(B3190/2)+(control!$B$4-MIN(B3190*C3190/6,400))/(B3190/8)","v":138},16]
["Prissy",15,120,"M",{"$f":"MIN(B3191*C3191/6,400)/(B3191/2)+(control!$B$4-MIN(B3191*C3191/6,400))/(B3191/8)","v":93.333333333333343},19]
["Prixie",21,70,"S",{"$f":"MIN(B3192*C3192/6,400)/(B3192/2)+(control!$B$4-MIN(B3192*C3192/6,400))/(B3192/8)","v":82.38095238095238},24]
["Prize",23,98,"D",{"$f":"MIN(B3193*C3193/6,400)/(B3193/2)+(control!$B$4-MIN(B3193*C3193/6,400))/(B3193/8)","v":41.130434782608695},26]
["Prizeman",20,83,"S",{"$f":"MIN(B3194*C3194/6,400)/(B3194/2)+(control!$B$4-MIN(B3194*C3194/6,400))/(B3194/8)","v":77},20]
["Promise",15,78,"S",{"$f":"MIN(B3195*C3195/6,400)/(B3195/2)+(control!$B$4-MIN(B3195*C3195/6,400))/(B3195/8)","v":135.33333333333331},15]
["Promised Day",19,97,"S",{"$f":"MIN(B3196*C3196/6,400)/(B3196/2)+(control!$B$4-MIN(B3196*C3196/6,400))/(B3196/8)","v":71.421052631578945},22]
["Prospector",19,72,"S",{"$f":"MIN(B3197*C3197/6,400)/(B3197/2)+(control!$B$4-MIN(B3197*C3197/6,400))/(B3197/8)","v":96.421052631578945},21]
["Prudince",27,67,"S",{"$f":"MIN(B3198*C3198/6,400)/(B3198/2)+(control!$B$4-MIN(B3198*C3198/6,400))/(B3198/8)","v":51.518518518518519},31]
["Prymos",24,108,"M",{"$f":"MIN(B3199*C3199/6,400)/(B3199/2)+(control!$B$4-MIN(B3199*C3199/6,400))/(B3199/8)","v":33.333333333333336},25]
["Pull up my socks",15,108,"D",{"$f":"MIN(B3200*C3200/6,400)/(B3200/2)+(control!$B$4-MIN(B3200*C3200/6,400))/(B3200/8)","v":105.33333333333333},16]
["Pumpkin",23,92,"M",{"$f":"MIN(B3201*C3201/6,400)/(B3201/2)+(control!$B$4-MIN(B3201*C3201/6,400))/(B3201/8)","v":47.130434782608688},27]
["Punch",21,69,"M",{"$f":"MIN(B3202*C3202/6,400)/(B3202/2)+(control!$B$4-MIN(B3202*C3202/6,400))/(B3202/8)","v":83.38095238095238},25]
["Punk",21,123,"D",{"$f":"MIN(B3203*C3203/6,400)/(B3203/2)+(control!$B$4-MIN(B3203*C3203/6,400))/(B3203/8)","v":38.095238095238095},23]
["Punkin",25,104,"D",{"$f":"MIN(B3204*C3204/6,400)/(B3204/2)+(control!$B$4-MIN(B3204*C3204/6,400))/(B3204/8)","v":32},26]
["Punky",19,78,"M",{"$f":"MIN(B3205*C3205/6,400)/(B3205/2)+(control!$B$4-MIN(B3205*C3205/6,400))/(B3205/8)","v":90.421052631578945},20]
["Purdey",19,61,"S",{"$f":"MIN(B3206*C3206/6,400)/(B3206/2)+(control!$B$4-MIN(B3206*C3206/6,400))/(B3206/8)","v":107.42105263157895},21]
["Pure",26,97,"M",{"$f":"MIN(B3207*C3207/6,400)/(B3207/2)+(control!$B$4-MIN(B3207*C3207/6,400))/(B3207/8)","v":30.76923076923077},27]
["Pure star",19,117,"S",{"$f":"MIN(B3208*C3208/6,400)/(B3208/2)+(control!$B$4-MIN(B3208*C3208/6,400))/(B3208/8)","v":51.421052631578945},19]
["Pure Valor",15,98,"S",{"$f":"MIN(B3209*C3209/6,400)/(B3209/2)+(control!$B$4-MIN(B3209*C3209/6,400))/(B3209/8)","v":115.33333333333334},15]
["Putney Bridge",19,86,"M",{"$f":"MIN(B3210*C3210/6,400)/(B3210/2)+(control!$B$4-MIN(B3210*C3210/6,400))/(B3210/8)","v":82.421052631578959},19]
["Puzzels",25,90,"S",{"$f":"MIN(B3211*C3211/6,400)/(B3211/2)+(control!$B$4-MIN(B3211*C3211/6,400))/(B3211/8)","v":38},29]
["Puzzle",18,100,"S",{"$f":"MIN(B3212*C3212/6,400)/(B3212/2)+(control!$B$4-MIN(B3212*C3212/6,400))/(B3212/8)","v":77.777777777777771},18]
["Puzzle Pieces",21,79,"S",{"$f":"MIN(B3213*C3213/6,400)/(B3213/2)+(control!$B$4-MIN(B3213*C3213/6,400))/(B3213/8)","v":73.38095238095238},21]
["QT",17,99,"S",{"$f":"MIN(B3214*C3214/6,400)/(B3214/2)+(control!$B$4-MIN(B3214*C3214/6,400))/(B3214/8)","v":89.235294117647058},18]
["Q-tip",16,78,"S",{"$f":"MIN(B3215*C3215/6,400)/(B3215/2)+(control!$B$4-MIN(B3215*C3215/6,400))/(B3215/8)","v":122},16]
["Quail",24,109,"D",{"$f":"MIN(B3216*C3216/6,400)/(B3216/2)+(control!$B$4-MIN(B3216*C3216/6,400))/(B3216/8)","v":33.333333333333336},26]
["Quantum",26,73,"S",{"$f":"MIN(B3217*C3217/6,400)/(B3217/2)+(control!$B$4-MIN(B3217*C3217/6,400))/(B3217/8)","v":50.07692307692308},27]
["Quark",25,92,"D",{"$f":"MIN(B3218*C3218/6,400)/(B3218/2)+(control!$B$4-MIN(B3218*C3218/6,400))/(B3218/8)","v":36},29]
["Quarter Mane",22,101,"S",{"$f":"MIN(B3219*C3219/6,400)/(B3219/2)+(control!$B$4-MIN(B3219*C3219/6,400))/(B3219/8)","v":44.45454545454546},25]
["Quasar",21,93,"S",{"$f":"MIN(B3220*C3220/6,400)/(B3220/2)+(control!$B$4-MIN(B3220*C3220/6,400))/(B3220/8)","v":59.38095238095238},21]
["Quavo's Little Man",22,79,"M",{"$f":"MIN(B3221*C3221/6,400)/(B3221/2)+(control!$B$4-MIN(B3221*C3221/6,400))/(B3221/8)","v":66.454545454545453},24]
["Quazar",24,69,"S",{"$f":"MIN(B3222*C3222/6,400)/(B3222/2)+(control!$B$4-MIN(B3222*C3222/6,400))/(B3222/8)","v":64.333333333333343},28]
["Queen",22,80,"S",{"$f":"MIN(B3223*C3223/6,400)/(B3223/2)+(control!$B$4-MIN(B3223*C3223/6,400))/(B3223/8)","v":65.454545454545467},24]
["Queen Lady Mint",20,113,"M",{"$f":"MIN(B3224*C3224/6,400)/(B3224/2)+(control!$B$4-MIN(B3224*C3224/6,400))/(B3224/8)","v":47},22]
["Queen of Hearts",20,123,"S",{"$f":"MIN(B3225*C3225/6,400)/(B3225/2)+(control!$B$4-MIN(B3225*C3225/6,400))/(B3225/8)","v":40},24]
["Queen of Spades",23,113,"S",{"$f":"MIN(B3226*C3226/6,400)/(B3226/2)+(control!$B$4-MIN(B3226*C3226/6,400))/(B3226/8)","v":34.782608695652172},27]
["Queen of Swords",17,81,"S",{"$f":"MIN(B3227*C3227/6,400)/(B3227/2)+(control!$B$4-MIN(B3227*C3227/6,400))/(B3227/8)","v":107.23529411764706},17]
["Queenie",23,68,"S",{"$f":"MIN(B3228*C3228/6,400)/(B3228/2)+(control!$B$4-MIN(B3228*C3228/6,400))/(B3228/8)","v":71.130434782608688},25]
["Queeny",21,83,"M",{"$f":"MIN(B3229*C3229/6,400)/(B3229/2)+(control!$B$4-MIN(B3229*C3229/6,400))/(B3229/8)","v":69.38095238095238},21]
["Quentin",25,71,"S",{"$f":"MIN(B3230*C3230/6,400)/(B3230/2)+(control!$B$4-MIN(B3230*C3230/6,400))/(B3230/8)","v":57.000000000000007},25]
["Quest",21,79,"S",{"$f":"MIN(B3231*C3231/6,400)/(B3231/2)+(control!$B$4-MIN(B3231*C3231/6,400))/(B3231/8)","v":73.38095238095238},22]
["Question Mark",15,95,"D",{"$f":"MIN(B3232*C3232/6,400)/(B3232/2)+(control!$B$4-MIN(B3232*C3232/6,400))/(B3232/8)","v":118.33333333333334},15]
["Questionable",27,121,"S",{"$f":"MIN(B3233*C3233/6,400)/(B3233/2)+(control!$B$4-MIN(B3233*C3233/6,400))/(B3233/8)","v":29.62962962962963},27]
["Quick Glitter",20,77,"S",{"$f":"MIN(B3234*C3234/6,400)/(B3234/2)+(control!$B$4-MIN(B3234*C3234/6,400))/(B3234/8)","v":83},20]
["Quick Shot",22,73,"S",{"$f":"MIN(B3235*C3235/6,400)/(B3235/2)+(control!$B$4-MIN(B3235*C3235/6,400))/(B3235/8)","v":72.454545454545453},26]
["Quick Silver",19,93,"D",{"$f":"MIN(B3236*C3236/6,400)/(B3236/2)+(control!$B$4-MIN(B3236*C3236/6,400))/(B3236/8)","v":75.421052631578945},23]
["Quick Split",25,89,"S",{"$f":"MIN(B3237*C3237/6,400)/(B3237/2)+(control!$B$4-MIN(B3237*C3237/6,400))/(B3237/8)","v":39},29]
["Quick Timez",23,77,"S",{"$f":"MIN(B3238*C3238/6,400)/(B3238/2)+(control!$B$4-MIN(B3238*C3238/6,400))/(B3238/8)","v":62.130434782608688},26]
["Quicksilver",22,98,"M",{"$f":"MIN(B3239*C3239/6,400)/(B3239/2)+(control!$B$4-MIN(B3239*C3239/6,400))/(B3239/8)","v":47.45454545454546},24]
["Quickstep",16,84,"S",{"$f":"MIN(B3240*C3240/6,400)/(B3240/2)+(control!$B$4-MIN(B3240*C3240/6,400))/(B3240/8)","v":116},16]
["Quidam",20,107,"M",{"$f":"MIN(B3241*C3241/6,400)/(B3241/2)+(control!$B$4-MIN(B3241*C3241/6,400))/(B3241/8)","v":53},22]
["Quimby",21,112,"S",{"$f":"MIN(B3242*C3242/6,400)/(B3242/2)+(control!$B$4-MIN(B3242*C3242/6,400))/(B3242/8)","v":40.38095238095238},22]
["Quimico",20,83,"S",{"$f":"MIN(B3243*C3243/6,400)/(B3243/2)+(control!$B$4-MIN(B3243*C3243/6,400))/(B3243/8)","v":77},24]
["Quincy",26,83,"S",{"$f":"MIN(B3244*C3244/6,400)/(B3244/2)+(control!$B$4-MIN(B3244*C3244/6,400))/(B3244/8)","v":40.076923076923073},30]
["Quinn",19,88,"S",{"$f":"MIN(B3245*C3245/6,400)/(B3245/2)+(control!$B$4-MIN(B3245*C3245/6,400))/(B3245/8)","v":80.421052631578945},23]
["Quinton",26,59,"S",{"$f":"MIN(B3246*C3246/6,400)/(B3246/2)+(control!$B$4-MIN(B3246*C3246/6,400))/(B3246/8)","v":64.07692307692308},29]
["Quiver",24,71,"S",{"$f":"MIN(B3247*C3247/6,400)/(B3247/2)+(control!$B$4-MIN(B3247*C3247/6,400))/(B3247/8)","v":62.333333333333329},27]
["Quiz Master",21,70,"M",{"$f":"MIN(B3248*C3248/6,400)/(B3248/2)+(control!$B$4-MIN(B3248*C3248/6,400))/(B3248/8)","v":82.38095238095238},22]
["Quizzical",20,95,"M",{"$f":"MIN(B3249*C3249/6,400)/(B3249/2)+(control!$B$4-MIN(B3249*C3249/6,400))/(B3249/8)","v":65},23]
["R and B",24,94,"S",{"$f":"MIN(B3250*C3250/6,400)/(B3250/2)+(control!$B$4-MIN(B3250*C3250/6,400))/(B3250/8)","v":39.333333333333329},24]
["R Independence",19,93,"S",{"$f":"MIN(B3251*C3251/6,400)/(B3251/2)+(control!$B$4-MIN(B3251*C3251/6,400))/(B3251/8)","v":75.421052631578945},21]
["Raaj",22,71,"S",{"$f":"MIN(B3252*C3252/6,400)/(B3252/2)+(control!$B$4-MIN(B3252*C3252/6,400))/(B3252/8)","v":74.454545454545467},22]
["Rabbani",16,97,"S",{"$f":"MIN(B3253*C3253/6,400)/(B3253/2)+(control!$B$4-MIN(B3253*C3253/6,400))/(B3253/8)","v":103},16]
["Race the Moon",19,100,"S",{"$f":"MIN(B3254*C3254/6,400)/(B3254/2)+(control!$B$4-MIN(B3254*C3254/6,400))/(B3254/8)","v":68.421052631578945},21]
["Racer",26,69,"S",{"$f":"MIN(B3255*C3255/6,400)/(B3255/2)+(control!$B$4-MIN(B3255*C3255/6,400))/(B3255/8)","v":54.07692307692308},26]
["Rachel",27,98,"S",{"$f":"MIN(B3256*C3256/6,400)/(B3256/2)+(control!$B$4-MIN(B3256*C3256/6,400))/(B3256/8)","v":29.62962962962963},31]
["Raffle",21,111,"S",{"$f":"MIN(B3257*C3257/6,400)/(B3257/2)+(control!$B$4-MIN(B3257*C3257/6,400))/(B3257/8)","v":41.38095238095238},24]
["Rage",19,84,"M",{"$f":"MIN(B3258*C3258/6,400)/(B3258/2)+(control!$B$4-MIN(B3258*C3258/6,400))/(B3258/8)","v":84.421052631578945},21]
["Rageous",22,87,"S",{"$f":"MIN(B3259*C3259/6,400)/(B3259/2)+(control!$B$4-MIN(B3259*C3259/6,400))/(B3259/8)","v":58.454545454545453},25]
["Raggedy Anne",23,119,"D",{"$f":"MIN(B3260*C3260/6,400)/(B3260/2)+(control!$B$4-MIN(B3260*C3260/6,400))/(B3260/8)","v":34.782608695652172},24]
["Raging Fire",27,94,"S",{"$f":"MIN(B3261*C3261/6,400)/(B3261/2)+(control!$B$4-MIN(B3261*C3261/6,400))/(B3261/8)","v":29.62962962962963},27]
["Rags",19,60,"S",{"$f":"MIN(B3262*C3262/6,400)/(B3262/2)+(control!$B$4-MIN(B3262*C3262/6,400))/(B3262/8)","v":108.42105263157895},23]
["Rain",21,100,"D",{"$f":"MIN(B3263*C3263/6,400)/(B3263/2)+(control!$B$4-MIN(B3263*C3263/6,400))/(B3263/8)","v":52.38095238095238},25]
["Rain Dancer",22,98,"S",{"$f":"MIN(B3264*C3264/6,400)/(B3264/2)+(control!$B$4-MIN(B3264*C3264/6,400))/(B3264/8)","v":47.45454545454546},24]
["Rainbow",25,69,"S",{"$f":"MIN(B3265*C3265/6,400)/(B3265/2)+(control!$B$4-MIN(B3265*C3265/6,400))/(B3265/8)","v":59},29]
["Raindrop",18,98,"S",{"$f":"MIN(B3266*C3266/6,400)/(B3266/2)+(control!$B$4-MIN(B3266*C3266/6,400))/(B3266/8)","v":79.777777777777771},21]
["Raindrops on Roses",26,115,"S",{"$f":"MIN(B3267*C3267/6,400)/(B3267/2)+(control!$B$4-MIN(B3267*C3267/6,400))/(B3267/8)","v":30.76923076923077},26]
["Raine",20,69,"M",{"$f":"MIN(B3268*C3268/6,400)/(B3268/2)+(control!$B$4-MIN(B3268*C3268/6,400))/(B3268/8)","v":91},23]
["RainSplasher",15,64,"S",{"$f":"MIN(B3269*C3269/6,400)/(B3269/2)+(control!$B$4-MIN(B3269*C3269/6,400))/(B3269/8)","v":149.33333333333334},18]
["Rainstone",21,116,"S",{"$f":"MIN(B3270*C3270/6,400)/(B3270/2)+(control!$B$4-MIN(B3270*C3270/6,400))/(B3270/8)","v":38.095238095238095},22]
["Rainstorm",20,95,"D",{"$f":"MIN(B3271*C3271/6,400)/(B3271/2)+(control!$B$4-MIN(B3271*C3271/6,400))/(B3271/8)","v":65},23]
["Rainy",24,91,"M",{"$f":"MIN(B3272*C3272/6,400)/(B3272/2)+(control!$B$4-MIN(B3272*C3272/6,400))/(B3272/8)","v":42.333333333333329},28]
["Rainy Day Blues",21,73,"S",{"$f":"MIN(B3273*C3273/6,400)/(B3273/2)+(control!$B$4-MIN(B3273*C3273/6,400))/(B3273/8)","v":79.38095238095238},25]
["Raj",18,99,"D",{"$f":"MIN(B3274*C3274/6,400)/(B3274/2)+(control!$B$4-MIN(B3274*C3274/6,400))/(B3274/8)","v":78.777777777777771},22]
["Ralph",23,75,"M",{"$f":"MIN(B3275*C3275/6,400)/(B3275/2)+(control!$B$4-MIN(B3275*C3275/6,400))/(B3275/8)","v":64.130434782608688},26]
["Ramblin Man",15,79,"S",{"$f":"MIN(B3276*C3276/6,400)/(B3276/2)+(control!$B$4-MIN(B3276*C3276/6,400))/(B3276/8)","v":134.33333333333334},15]
["Rambling Rose",15,74,"S",{"$f":"MIN(B3277*C3277/6,400)/(B3277/2)+(control!$B$4-MIN(B3277*C3277/6,400))/(B3277/8)","v":139.33333333333334},18]
["Rambo",20,88,"S",{"$f":"MIN(B3278*C3278/6,400)/(B3278/2)+(control!$B$4-MIN(B3278*C3278/6,400))/(B3278/8)","v":72},23]
["Ramodi",17,70,"S",{"$f":"MIN(B3279*C3279/6,400)/(B3279/2)+(control!$B$4-MIN(B3279*C3279/6,400))/(B3279/8)","v":118.23529411764704},17]
["Ramodi's Rose",21,115,"S",{"$f":"MIN(B3280*C3280/6,400)/(B3280/2)+(control!$B$4-MIN(B3280*C3280/6,400))/(B3280/8)","v":38.095238095238095},21]
["Ramsis",19,86,"S",{"$f":"MIN(B3281*C3281/6,400)/(B3281/2)+(control!$B$4-MIN(B3281*C3281/6,400))/(B3281/8)","v":82.421052631578959},21]
["Randy",21,68,"M",{"$f":"MIN(B3282*C3282/6,400)/(B3282/2)+(control!$B$4-MIN(B3282*C3282/6,400))/(B3282/8)","v":84.38095238095238},23]
["Ranger",15,82,"S",{"$f":"MIN(B3283*C3283/6,400)/(B3283/2)+(control!$B$4-MIN(B3283*C3283/6,400))/(B3283/8)","v":131.33333333333334},19]
["Ranofer",22,61,"M",{"$f":"MIN(B3284*C3284/6,400)/(B3284/2)+(control!$B$4-MIN(B3284*C3284/6,400))/(B3284/8)","v":84.454545454545453},26]
["Ransom",17,79,"M",{"$f":"MIN(B3285*C3285/6,400)/(B3285/2)+(control!$B$4-MIN(B3285*C3285/6,400))/(B3285/8)","v":109.23529411764704},21]
["Ransom Paycheck",20,117,"S",{"$f":"MIN(B3286*C3286/6,400)/(B3286/2)+(control!$B$4-MIN(B3286*C3286/6,400))/(B3286/8)","v":43},24]
["Raphael",19,122,"D",{"$f":"MIN(B3287*C3287/6,400)/(B3287/2)+(control!$B$4-MIN(B3287*C3287/6,400))/(B3287/8)","v":46.421052631578952},22]
["Rappadan Glory",26,75,"M",{"$f":"MIN(B3288*C3288/6,400)/(B3288/2)+(control!$B$4-MIN(B3288*C3288/6,400))/(B3288/8)","v":48.07692307692308},26]
["Rascal",18,65,"M",{"$f":"MIN(B3289*C3289/6,400)/(B3289/2)+(control!$B$4-MIN(B3289*C3289/6,400))/(B3289/8)","v":112.77777777777779},19]
["Rauli",15,73,"S",{"$f":"MIN(B3290*C3290/6,400)/(B3290/2)+(control!$B$4-MIN(B3290*C3290/6,400))/(B3290/8)","v":140.33333333333334},16]
["Raven",21,110,"D",{"$f":"MIN(B3291*C3291/6,400)/(B3291/2)+(control!$B$4-MIN(B3291*C3291/6,400))/(B3291/8)","v":42.38095238095238},24]
["Ravin' Ryan",22,96,"S",{"$f":"MIN(B3292*C3292/6,400)/(B3292/2)+(control!$B$4-MIN(B3292*C3292/6,400))/(B3292/8)","v":49.454545454545453},25]
["Rawhide",21,76,"M",{"$f":"MIN(B3293*C3293/6,400)/(B3293/2)+(control!$B$4-MIN(B3293*C3293/6,400))/(B3293/8)","v":76.38095238095238},22]
["Razz",20,69,"S",{"$f":"MIN(B3294*C3294/6,400)/(B3294/2)+(control!$B$4-MIN(B3294*C3294/6,400))/(B3294/8)","v":91},20]
["Razzamatazz",27,75,"M",{"$f":"MIN(B3295*C3295/6,400)/(B3295/2)+(control!$B$4-MIN(B3295*C3295/6,400))/(B3295/8)","v":43.518518518518519},30]
["Razzle Dazzle",19,80,"S",{"$f":"MIN(B3296*C3296/6,400)/(B3296/2)+(control!$B$4-MIN(B3296*C3296/6,400))/(B3296/8)","v":88.421052631578945},22]
["Razzle-my-Tazzle",22,104,"D",{"$f":"MIN(B3297*C3297/6,400)/(B3297/2)+(control!$B$4-MIN(B3297*C3297/6,400))/(B3297/8)","v":41.45454545454546},24]
["Razzy",20,65,"S",{"$f":"MIN(B3298*C3298/6,400)/(B3298/2)+(control!$B$4-MIN(B3298*C3298/6,400))/(B3298/8)","v":95},24]
["Reba Dawn",19,103,"S",{"$f":"MIN(B3299*C3299/6,400)/(B3299/2)+(control!$B$4-MIN(B3299*C3299/6,400))/(B3299/8)","v":65.421052631578945},20]
["Rebel",26,107,"D",{"$f":"MIN(B3300*C3300/6,400)/(B3300/2)+(control!$B$4-MIN(B3300*C3300/6,400))/(B3300/8)","v":30.76923076923077},30]
["Rebel Pride",19,122,"D",{"$f":"MIN(B3301*C3301/6,400)/(B3301/2)+(control!$B$4-MIN(B3301*C3301/6,400))/(B3301/8)","v":46.421052631578952},23]
["Rebel's Angel",26,68,"S",{"$f":"MIN(B3302*C3302/6,400)/(B3302/2)+(control!$B$4-MIN(B3302*C3302/6,400))/(B3302/8)","v":55.076923076923066},28]
["Reckless",23,104,"M",{"$f":"MIN(B3303*C3303/6,400)/(B3303/2)+(control!$B$4-MIN(B3303*C3303/6,400))/(B3303/8)","v":35.130434782608695},23]
["Red",16,82,"S",{"$f":"MIN(B3304*C3304/6,400)/(B3304/2)+(control!$B$4-MIN(B3304*C3304/6,400))/(B3304/8)","v":118},18]
["Red Admiral",24,87,"S",{"$f":"MIN(B3305*C3305/6,400)/(B3305/2)+(control!$B$4-MIN(B3305*C3305/6,400))/(B3305/8)","v":46.333333333333329},28]
["Red Angel",18,73,"S",{"$f":"MIN(B3306*C3306/6,400)/(B3306/2)+(control!$B$4-MIN(B3306*C3306/6,400))/(B3306/8)","v":104.77777777777777},22]
["Red Baron",22,77,"S",{"$f":"MIN(B3307*C3307/6,400)/(B3307/2)+(control!$B$4-MIN(B3307*C3307/6,400))/(B3307/8)","v":68.454545454545467},24]
["Red Devil",22,70,"S",{"$f":"MIN(B3308*C3308/6,400)/(B3308/2)+(control!$B$4-MIN(B3308*C3308/6,400))/(B3308/8)","v":75.454545454545453},26]
["Red Eagle",17,88,"S",{"$f":"MIN(B3309*C3309/6,400)/(B3309/2)+(control!$B$4-MIN(B3309*C3309/6,400))/(B3309/8)","v":100.23529411764704},20]
["Red Fire",24,103,"D",{"$f":"MIN(B3310*C3310/6,400)/(B3310/2)+(control!$B$4-MIN(B3310*C3310/6,400))/(B3310/8)","v":33.333333333333336},28]
["Red Man",18,63,"M",{"$f":"MIN(B3311*C3311/6,400)/(B3311/2)+(control!$B$4-MIN(B3311*C3311/6,400))/(B3311/8)","v":114.77777777777777},20]
["Red Mustang",21,79,"S",{"$f":"MIN(B3312*C3312/6,400)/(B3312/2)+(control!$B$4-MIN(B3312*C3312/6,400))/(B3312/8)","v":73.38095238095238},21]
["Red Nell",18,121,"M",{"$f":"MIN(B3313*C3313/6,400)/(B3313/2)+(control!$B$4-MIN(B3313*C3313/6,400))/(B3313/8)","v":56.777777777777779},20]
["Red Oak",26,117,"S",{"$f":"MIN(B3314*C3314/6,400)/(B3314/2)+(control!$B$4-MIN(B3314*C3314/6,400))/(B3314/8)","v":30.76923076923077},30]
["Red Red Rose",16,117,"D",{"$f":"MIN(B3315*C3315/6,400)/(B3315/2)+(control!$B$4-MIN(B3315*C3315/6,400))/(B3315/8)","v":83},18]
["Red Rum",20,70,"M",{"$f":"MIN(B3316*C3316/6,400)/(B3316/2)+(control!$B$4-MIN(B3316*C3316/6,400))/(B3316/8)","v":90},23]
["Red Spring",20,71,"M",{"$f":"MIN(B3317*C3317/6,400)/(B3317/2)+(control!$B$4-MIN(B3317*C3317/6,400))/(B3317/8)","v":89},23]
["Red Spruce",16,118,"D",{"$f":"MIN(B3318*C3318/6,400)/(B3318/2)+(control!$B$4-MIN(B3318*C3318/6,400))/(B3318/8)","v":82},19]
["Red Star",17,100,"S",{"$f":"MIN(B3319*C3319/6,400)/(B3319/2)+(control!$B$4-MIN(B3319*C3319/6,400))/(B3319/8)","v":88.235294117647072},21]
["Red Sunset Sunsation",19,103,"D",{"$f":"MIN(B3320*C3320/6,400)/(B3320/2)+(control!$B$4-MIN(B3320*C3320/6,400))/(B3320/8)","v":65.421052631578945},19]
["Red Zephyr , The",18,69,"S",{"$f":"MIN(B3321*C3321/6,400)/(B3321/2)+(control!$B$4-MIN(B3321*C3321/6,400))/(B3321/8)","v":108.77777777777777},19]
["Redeem My Heart",21,72,"S",{"$f":"MIN(B3322*C3322/6,400)/(B3322/2)+(control!$B$4-MIN(B3322*C3322/6,400))/(B3322/8)","v":80.38095238095238},25]
["Redman",26,73,"M",{"$f":"MIN(B3323*C3323/6,400)/(B3323/2)+(control!$B$4-MIN(B3323*C3323/6,400))/(B3323/8)","v":50.07692307692308},26]
["Redmond",21,62,"M",{"$f":"MIN(B3324*C3324/6,400)/(B3324/2)+(control!$B$4-MIN(B3324*C3324/6,400))/(B3324/8)","v":90.38095238095238},23]
["Reds",20,83,"S",{"$f":"MIN(B3325*C3325/6,400)/(B3325/2)+(control!$B$4-MIN(B3325*C3325/6,400))/(B3325/8)","v":77},20]
["Reds Dawn Mist",22,94,"D",{"$f":"MIN(B3326*C3326/6,400)/(B3326/2)+(control!$B$4-MIN(B3326*C3326/6,400))/(B3326/8)","v":51.454545454545453},23]
["Redwood",21,83,"S",{"$f":"MIN(B3327*C3327/6,400)/(B3327/2)+(control!$B$4-MIN(B3327*C3327/6,400))/(B3327/8)","v":69.38095238095238},22]
["Reflexion",20,77,"S",{"$f":"MIN(B3328*C3328/6,400)/(B3328/2)+(control!$B$4-MIN(B3328*C3328/6,400))/(B3328/8)","v":83},22]
["Regal Blue",21,90,"M",{"$f":"MIN(B3329*C3329/6,400)/(B3329/2)+(control!$B$4-MIN(B3329*C3329/6,400))/(B3329/8)","v":62.38095238095238},23]
["Regal Classic",15,99,"S",{"$f":"MIN(B3330*C3330/6,400)/(B3330/2)+(control!$B$4-MIN(B3330*C3330/6,400))/(B3330/8)","v":114.33333333333333},15]
["Regal Empress",20,103,"S",{"$f":"MIN(B3331*C3331/6,400)/(B3331/2)+(control!$B$4-MIN(B3331*C3331/6,400))/(B3331/8)","v":57},24]
["Reggie",24,100,"S",{"$f":"MIN(B3332*C3332/6,400)/(B3332/2)+(control!$B$4-MIN(B3332*C3332/6,400))/(B3332/8)","v":33.333333333333336},24]
["Regis",27,104,"S",{"$f":"MIN(B3333*C3333/6,400)/(B3333/2)+(control!$B$4-MIN(B3333*C3333/6,400))/(B3333/8)","v":29.62962962962963},29]
["ReKognize Me",16,77,"M",{"$f":"MIN(B3334*C3334/6,400)/(B3334/2)+(control!$B$4-MIN(B3334*C3334/6,400))/(B3334/8)","v":123},17]
["Rembrant",17,66,"M",{"$f":"MIN(B3335*C3335/6,400)/(B3335/2)+(control!$B$4-MIN(B3335*C3335/6,400))/(B3335/8)","v":122.23529411764706},19]
["Remember Me",21,89,"S",{"$f":"MIN(B3336*C3336/6,400)/(B3336/2)+(control!$B$4-MIN(B3336*C3336/6,400))/(B3336/8)","v":63.38095238095238},22]
["Remington",25,84,"S",{"$f":"MIN(B3337*C3337/6,400)/(B3337/2)+(control!$B$4-MIN(B3337*C3337/6,400))/(B3337/8)","v":44},28]
["Remrock",20,121,"S",{"$f":"MIN(B3338*C3338/6,400)/(B3338/2)+(control!$B$4-MIN(B3338*C3338/6,400))/(B3338/8)","v":40},23]
["Remy",25,109,"M",{"$f":"MIN(B3339*C3339/6,400)/(B3339/2)+(control!$B$4-MIN(B3339*C3339/6,400))/(B3339/8)","v":32},25]
["Renaissance",17,120,"M",{"$f":"MIN(B3340*C3340/6,400)/(B3340/2)+(control!$B$4-MIN(B3340*C3340/6,400))/(B3340/8)","v":68.235294117647058},17]
["Renaissance Man",17,67,"S",{"$f":"MIN(B3341*C3341/6,400)/(B3341/2)+(control!$B$4-MIN(B3341*C3341/6,400))/(B3341/8)","v":121.23529411764704},19]
["Renassiance",26,71,"M",{"$f":"MIN(B3342*C3342/6,400)/(B3342/2)+(control!$B$4-MIN(B3342*C3342/6,400))/(B3342/8)","v":52.076923076923073},29]
["Renegade",18,121,"M",{"$f":"MIN(B3343*C3343/6,400)/(B3343/2)+(control!$B$4-MIN(B3343*C3343/6,400))/(B3343/8)","v":56.777777777777779},21]
["Reno",17,71,"S",{"$f":"MIN(B3344*C3344/6,400)/(B3344/2)+(control!$B$4-MIN(B3344*C3344/6,400))/(B3344/8)","v":117.23529411764707},19]
["Report",20,67,"S",{"$f":"MIN(B3345*C3345/6,400)/(B3345/2)+(control!$B$4-MIN(B3345*C3345/6,400))/(B3345/8)","v":93},23]
["Request",16,99,"S",{"$f":"MIN(B3346*C3346/6,400)/(B3346/2)+(control!$B$4-MIN(B3346*C3346/6,400))/(B3346/8)","v":101},19]
["Resoloution",20,104,"D",{"$f":"MIN(B3347*C3347/6,400)/(B3347/2)+(control!$B$4-MIN(B3347*C3347/6,400))/(B3347/8)","v":56},22]
["Restless",15,84,"S",{"$f":"MIN(B3348*C3348/6,400)/(B3348/2)+(control!$B$4-MIN(B3348*C3348/6,400))/(B3348/8)","v":129.33333333333331},17]
["Retained Asset",22,116,"S",{"$f":"MIN(B3349*C3349/6,400)/(B3349/2)+(control!$B$4-MIN(B3349*C3349/6,400))/(B3349/8)","v":36.363636363636367},25]
["Retsy",20,71,"S",{"$f":"MIN(B3350*C3350/6,400)/(B3350/2)+(control!$B$4-MIN(B3350*C3350/6,400))/(B3350/8)","v":89},24]
["Reverberation",26,109,"D",{"$f":"MIN(B3351*C3351/6,400)/(B3351/2)+(control!$B$4-MIN(B3351*C3351/6,400))/(B3351/8)","v":30.76923076923077},28]
["Rex",19,99,"S",{"$f":"MIN(B3352*C3352/6,400)/(B3352/2)+(control!$B$4-MIN(B3352*C3352/6,400))/(B3352/8)","v":69.421052631578945},21]
["Rhambles",22,94,"M",{"$f":"MIN(B3353*C3353/6,400)/(B3353/2)+(control!$B$4-MIN(B3353*C3353/6,400))/(B3353/8)","v":51.454545454545453},23]
["Rhapsidion Snow",27,120,"S",{"$f":"MIN(B3354*C3354/6,400)/(B3354/2)+(control!$B$4-MIN(B3354*C3354/6,400))/(B3354/8)","v":29.62962962962963},29]
["Rhiannon",22,106,"S",{"$f":"MIN(B3355*C3355/6,400)/(B3355/2)+(control!$B$4-MIN(B3355*C3355/6,400))/(B3355/8)","v":39.454545454545453},25]
["Rhubarb",19,77,"S",{"$f":"MIN(B3356*C3356/6,400)/(B3356/2)+(control!$B$4-MIN(B3356*C3356/6,400))/(B3356/8)","v":91.421052631578945},20]
["Rhyme and Reason",15,80,"S",{"$f":"MIN(B3357*C3357/6,400)/(B3357/2)+(control!$B$4-MIN(B3357*C3357/6,400))/(B3357/8)","v":133.33333333333334},18]
["Rhythm and Blues",21,69,"S",{"$f":"MIN(B3358*C3358/6,400)/(B3358/2)+(control!$B$4-MIN(B3358*C3358/6,400))/(B3358/8)","v":83.38095238095238},24]
["Rialta",18,69,"S",{"$f":"MIN(B3359*C3359/6,400)/(B3359/2)+(control!$B$4-MIN(B3359*C3359/6,400))/(B3359/8)","v":108.77777777777777},21]
["Ribbon",17,75,"S",{"$f":"MIN(B3360*C3360/6,400)/(B3360/2)+(control!$B$4-MIN(B3360*C3360/6,400))/(B3360/8)","v":113.23529411764706},21]
["Rico",24,107,"D",{"$f":"MIN(B3361*C3361/6,400)/(B3361/2)+(control!$B$4-MIN(B3361*C3361/6,400))/(B3361/8)","v":33.333333333333336},25]
["Ridgecrest",18,87,"M",{"$f":"MIN(B3362*C3362/6,400)/(B3362/2)+(control!$B$4-MIN(B3362*C3362/6,400))/(B3362/8)","v":90.777777777777771},18]
["Riding Freedom",26,118,"D",{"$f":"MIN(B3363*C3363/6,400)/(B3363/2)+(control!$B$4-MIN(B3363*C3363/6,400))/(B3363/8)","v":30.76923076923077},26]
["Ridley",22,95,"D",{"$f":"MIN(B3364*C3364/6,400)/(B3364/2)+(control!$B$4-MIN(B3364*C3364/6,400))/(B3364/8)","v":50.45454545454546},26]
["Right on the Money",20,82,"M",{"$f":"MIN(B3365*C3365/6,400)/(B3365/2)+(control!$B$4-MIN(B3365*C3365/6,400))/(B3365/8)","v":78},23]
["Rikash",24,99,"D",{"$f":"MIN(B3366*C3366/6,400)/(B3366/2)+(control!$B$4-MIN(B3366*C3366/6,400))/(B3366/8)","v":34.333333333333336},24]
["Riley",23,69,"S",{"$f":"MIN(B3367*C3367/6,400)/(B3367/2)+(control!$B$4-MIN(B3367*C3367/6,400))/(B3367/8)","v":70.130434782608688},24]
["Ring",21,70,"M",{"$f":"MIN(B3368*C3368/6,400)/(B3368/2)+(control!$B$4-MIN(B3368*C3368/6,400))/(B3368/8)","v":82.38095238095238},25]
["Ringmaster",27,77,"M",{"$f":"MIN(B3369*C3369/6,400)/(B3369/2)+(control!$B$4-MIN(B3369*C3369/6,400))/(B3369/8)","v":41.518518518518519},31]
["Ringo",21,78,"M",{"$f":"MIN(B3370*C3370/6,400)/(B3370/2)+(control!$B$4-MIN(B3370*C3370/6,400))/(B3370/8)","v":74.38095238095238},25]
["Rio",27,83,"S",{"$f":"MIN(B3371*C3371/6,400)/(B3371/2)+(control!$B$4-MIN(B3371*C3371/6,400))/(B3371/8)","v":35.518518518518519},28]
["Rio Rojo",27,92,"S",{"$f":"MIN(B3372*C3372/6,400)/(B3372/2)+(control!$B$4-MIN(B3372*C3372/6,400))/(B3372/8)","v":29.62962962962963},30]
["Riosealita",20,91,"D",{"$f":"MIN(B3373*C3373/6,400)/(B3373/2)+(control!$B$4-MIN(B3373*C3373/6,400))/(B3373/8)","v":69},23]
["Ripples",16,101,"D",{"$f":"MIN(B3374*C3374/6,400)/(B3374/2)+(control!$B$4-MIN(B3374*C3374/6,400))/(B3374/8)","v":99},17]
["Rise to Glory",17,97,"D",{"$f":"MIN(B3375*C3375/6,400)/(B3375/2)+(control!$B$4-MIN(B3375*C3375/6,400))/(B3375/8)","v":91.235294117647072},20]
["Rising Star",23,74,"S",{"$f":"MIN(B3376*C3376/6,400)/(B3376/2)+(control!$B$4-MIN(B3376*C3376/6,400))/(B3376/8)","v":65.130434782608688},23]
["Rising Sun",16,70,"S",{"$f":"MIN(B3377*C3377/6,400)/(B3377/2)+(control!$B$4-MIN(B3377*C3377/6,400))/(B3377/8)","v":130},16]
["Risk Taker",25,96,"M",{"$f":"MIN(B3378*C3378/6,400)/(B3378/2)+(control!$B$4-MIN(B3378*C3378/6,400))/(B3378/8)","v":32},29]
["Risky Business",18,100,"D",{"$f":"MIN(B3379*C3379/6,400)/(B3379/2)+(control!$B$4-MIN(B3379*C3379/6,400))/(B3379/8)","v":77.777777777777771},20]
["Rista",20,76,"S",{"$f":"MIN(B3380*C3380/6,400)/(B3380/2)+(control!$B$4-MIN(B3380*C3380/6,400))/(B3380/8)","v":84},21]
["Ritchies Ticket",16,74,"S",{"$f":"MIN(B3381*C3381/6,400)/(B3381/2)+(control!$B$4-MIN(B3381*C3381/6,400))/(B3381/8)","v":126},17]
["River Dancer",27,93,"D",{"$f":"MIN(B3382*C3382/6,400)/(B3382/2)+(control!$B$4-MIN(B3382*C3382/6,400))/(B3382/8)","v":29.62962962962963},28]
["River Phoenix",16,74,"S",{"$f":"MIN(B3383*C3383/6,400)/(B3383/2)+(control!$B$4-MIN(B3383*C3383/6,400))/(B3383/8)","v":126},20]
["Riverwind",15,65,"S",{"$f":"MIN(B3384*C3384/6,400)/(B3384/2)+(control!$B$4-MIN(B3384*C3384/6,400))/(B3384/8)","v":148.33333333333334},16]
["Rizzo",23,102,"D",{"$f":"MIN(B3385*C3385/6,400)/(B3385/2)+(control!$B$4-MIN(B3385*C3385/6,400))/(B3385/8)","v":37.130434782608695},25]
["Roani",20,69,"S",{"$f":"MIN(B3386*C3386/6,400)/(B3386/2)+(control!$B$4-MIN(B3386*C3386/6,400))/(B3386/8)","v":91},20]
["Rob Roy",24,116,"D",{"$f":"MIN(B3387*C3387/6,400)/(B3387/2)+(control!$B$4-MIN(B3387*C3387/6,400))/(B3387/8)","v":33.333333333333336},25]
["Robbie",19,101,"M",{"$f":"MIN(B3388*C3388/6,400)/(B3388/2)+(control!$B$4-MIN(B3388*C3388/6,400))/(B3388/8)","v":67.421052631578959},19]
["Robbin",22,123,"M",{"$f":"MIN(B3389*C3389/6,400)/(B3389/2)+(control!$B$4-MIN(B3389*C3389/6,400))/(B3389/8)","v":36.363636363636367},25]
["Robin",22,79,"M",{"$f":"MIN(B3390*C3390/6,400)/(B3390/2)+(control!$B$4-MIN(B3390*C3390/6,400))/(B3390/8)","v":66.454545454545453},26]
["Robin Hood",21,70,"M",{"$f":"MIN(B3391*C3391/6,400)/(B3391/2)+(control!$B$4-MIN(B3391*C3391/6,400))/(B3391/8)","v":82.38095238095238},24]
["Robins MoonTwist",22,81,"S",{"$f":"MIN(B3392*C3392/6,400)/(B3392/2)+(control!$B$4-MIN(B3392*C3392/6,400))/(B3392/8)","v":64.454545454545453},22]
["Robyn Hood",19,93,"M",{"$f":"MIN(B3393*C3393/6,400)/(B3393/2)+(control!$B$4-MIN(B3393*C3393/6,400))/(B3393/8)","v":75.421052631578945},22]
["Rocco",20,73,"S",{"$f":"MIN(B3394*C3394/6,400)/(B3394/2)+(control!$B$4-MIN(B3394*C3394/6,400))/(B3394/8)","v":87},24]
["Rock",20,105,"M",{"$f":"MIN(B3395*C3395/6,400)/(B3395/2)+(control!$B$4-MIN(B3395*C3395/6,400))/(B3395/8)","v":55},24]
["Rock Candy",23,94,"S",{"$f":"MIN(B3396*C3396/6,400)/(B3396/2)+(control!$B$4-MIN(B3396*C3396/6,400))/(B3396/8)","v":45.130434782608702},25]
["Rock Me Zippo",27,73,"S",{"$f":"MIN(B3397*C3397/6,400)/(B3397/2)+(control!$B$4-MIN(B3397*C3397/6,400))/(B3397/8)","v":45.518518518518519},30]
["Rock Star",27,84,"S",{"$f":"MIN(B3398*C3398/6,400)/(B3398/2)+(control!$B$4-MIN(B3398*C3398/6,400))/(B3398/8)","v":34.518518518518519},31]
["Rock Steady",17,88,"S",{"$f":"MIN(B3399*C3399/6,400)/(B3399/2)+(control!$B$4-MIN(B3399*C3399/6,400))/(B3399/8)","v":100.23529411764704},20]
["Rockafellaz Revenge",20,102,"D",{"$f":"MIN(B3400*C3400/6,400)/(B3400/2)+(control!$B$4-MIN(B3400*C3400/6,400))/(B3400/8)","v":58},23]
["Rocked N Steady",20,121,"M",{"$f":"MIN(B3401*C3401/6,400)/(B3401/2)+(control!$B$4-MIN(B3401*C3401/6,400))/(B3401/8)","v":40},21]
["Rocked Steady",26,93,"D",{"$f":"MIN(B3402*C3402/6,400)/(B3402/2)+(control!$B$4-MIN(B3402*C3402/6,400))/(B3402/8)","v":30.76923076923077},27]
["Rocket",17,60,"S",{"$f":"MIN(B3403*C3403/6,400)/(B3403/2)+(control!$B$4-MIN(B3403*C3403/6,400))/(B3403/8)","v":128.23529411764707},17]
["Rocket Flare",15,99,"D",{"$f":"MIN(B3404*C3404/6,400)/(B3404/2)+(control!$B$4-MIN(B3404*C3404/6,400))/(B3404/8)","v":114.33333333333333},15]
["Rockin' Robin",16,76,"S",{"$f":"MIN(B3405*C3405/6,400)/(B3405/2)+(control!$B$4-MIN(B3405*C3405/6,400))/(B3405/8)","v":124},16]
["Rock-n-Roll",19,115,"S",{"$f":"MIN(B3406*C3406/6,400)/(B3406/2)+(control!$B$4-MIN(B3406*C3406/6,400))/(B3406/8)","v":53.421052631578945},22]
["Rockwood",19,69,"S",{"$f":"MIN(B3407*C3407/6,400)/(B3407/2)+(control!$B$4-MIN(B3407*C3407/6,400))/(B3407/8)","v":99.421052631578945},20]
["Rocky",20,74,"S",{"$f":"MIN(B3408*C3408/6,400)/(B3408/2)+(control!$B$4-MIN(B3408*C3408/6,400))/(B3408/8)","v":86},21]
["Rocky Road",23,78,"M",{"$f":"MIN(B3409*C3409/6,400)/(B3409/2)+(control!$B$4-MIN(B3409*C3409/6,400))/(B3409/8)","v":61.130434782608695},23]
["Rodeo",15,77,"S",{"$f":"MIN(B3410*C3410/6,400)/(B3410/2)+(control!$B$4-MIN(B3410*C3410/6,400))/(B3410/8)","v":136.33333333333334},15]
["Rogue",18,97,"S",{"$f":"MIN(B3411*C3411/6,400)/(B3411/2)+(control!$B$4-MIN(B3411*C3411/6,400))/(B3411/8)","v":80.777777777777771},22]
["Rojo",27,99,"D",{"$f":"MIN(B3412*C3412/6,400)/(B3412/2)+(control!$B$4-MIN(B3412*C3412/6,400))/(B3412/8)","v":29.62962962962963},28]
["Rokit",16,94,"D",{"$f":"MIN(B3413*C3413/6,400)/(B3413/2)+(control!$B$4-MIN(B3413*C3413/6,400))/(B3413/8)","v":106},17]
["Roland Edge",23,93,"D",{"$f":"MIN(B3414*C3414/6,400)/(B3414/2)+(control!$B$4-MIN(B3414*C3414/6,400))/(B3414/8)","v":46.130434782608695},24]
["Rolle",26,94,"M",{"$f":"MIN(B3415*C3415/6,400)/(B3415/2)+(control!$B$4-MIN(B3415*C3415/6,400))/(B3415/8)","v":30.76923076923077},27]
["Rolliker",15,80,"M",{"$f":"MIN(B3416*C3416/6,400)/(B3416/2)+(control!$B$4-MIN(B3416*C3416/6,400))/(B3416/8)","v":133.33333333333334},17]
["Rolo",18,82,"M",{"$f":"MIN(B3417*C3417/6,400)/(B3417/2)+(control!$B$4-MIN(B3417*C3417/6,400))/(B3417/8)","v":95.777777777777771},20]
["Roman",19,103,"D",{"$f":"MIN(B3418*C3418/6,400)/(B3418/2)+(control!$B$4-MIN(B3418*C3418/6,400))/(B3418/8)","v":65.421052631578945},22]
["Roman Candle",15,96,"S",{"$f":"MIN(B3419*C3419/6,400)/(B3419/2)+(control!$B$4-MIN(B3419*C3419/6,400))/(B3419/8)","v":117.33333333333333},17]
["Roman Flame",25,116,"S",{"$f":"MIN(B3420*C3420/6,400)/(B3420/2)+(control!$B$4-MIN(B3420*C3420/6,400))/(B3420/8)","v":32},25]
["Romeo",19,90,"S",{"$f":"MIN(B3421*C3421/6,400)/(B3421/2)+(control!$B$4-MIN(B3421*C3421/6,400))/(B3421/8)","v":78.421052631578945},19]
["Romeo's Juliet",20,70,"S",{"$f":"MIN(B3422*C3422/6,400)/(B3422/2)+(control!$B$4-MIN(B3422*C3422/6,400))/(B3422/8)","v":90},20]
["Romper",18,95,"S",{"$f":"MIN(B3423*C3423/6,400)/(B3423/2)+(control!$B$4-MIN(B3423*C3423/6,400))/(B3423/8)","v":82.777777777777786},20]
["Rona",23,61,"M",{"$f":"MIN(B3424*C3424/6,400)/(B3424/2)+(control!$B$4-MIN(B3424*C3424/6,400))/(B3424/8)","v":78.130434782608688},23]
["Roncalli",23,94,"D",{"$f":"MIN(B3425*C3425/6,400)/(B3425/2)+(control!$B$4-MIN(B3425*C3425/6,400))/(B3425/8)","v":45.130434782608702},25]
["Roo",22,100,"S",{"$f":"MIN(B3426*C3426/6,400)/(B3426/2)+(control!$B$4-MIN(B3426*C3426/6,400))/(B3426/8)","v":45.454545454545453},22]
["Rooe",20,72,"S",{"$f":"MIN(B3427*C3427/6,400)/(B3427/2)+(control!$B$4-MIN(B3427*C3427/6,400))/(B3427/8)","v":88},24]
["Roofus",15,96,"M",{"$f":"MIN(B3428*C3428/6,400)/(B3428/2)+(control!$B$4-MIN(B3428*C3428/6,400))/(B3428/8)","v":117.33333333333333},18]
["Rosa Belle",26,94,"D",{"$f":"MIN(B3429*C3429/6,400)/(B3429/2)+(control!$B$4-MIN(B3429*C3429/6,400))/(B3429/8)","v":30.76923076923077},27]
["Roscoe",20,73,"S",{"$f":"MIN(B3430*C3430/6,400)/(B3430/2)+(control!$B$4-MIN(B3430*C3430/6,400))/(B3430/8)","v":87},23]
["Rose",23,93,"D",{"$f":"MIN(B3431*C3431/6,400)/(B3431/2)+(control!$B$4-MIN(B3431*C3431/6,400))/(B3431/8)","v":46.130434782608695},27]
["Rose Bud",19,90,"M",{"$f":"MIN(B3432*C3432/6,400)/(B3432/2)+(control!$B$4-MIN(B3432*C3432/6,400))/(B3432/8)","v":78.421052631578945},19]
["Roseburg",15,71,"S",{"$f":"MIN(B3433*C3433/6,400)/(B3433/2)+(control!$B$4-MIN(B3433*C3433/6,400))/(B3433/8)","v":142.33333333333334},19]
["Rosemarie",18,68,"S",{"$f":"MIN(B3434*C3434/6,400)/(B3434/2)+(control!$B$4-MIN(B3434*C3434/6,400))/(B3434/8)","v":109.77777777777779},19]
["Rosey",15,64,"M",{"$f":"MIN(B3435*C3435/6,400)/(B3435/2)+(control!$B$4-MIN(B3435*C3435/6,400))/(B3435/8)","v":149.33333333333334},15]
["Rosie",27,114,"S",{"$f":"MIN(B3436*C3436/6,400)/(B3436/2)+(control!$B$4-MIN(B3436*C3436/6,400))/(B3436/8)","v":29.62962962962963},31]
["Rosie Sunshine",20,96,"M",{"$f":"MIN(B3437*C3437/6,400)/(B3437/2)+(control!$B$4-MIN(B3437*C3437/6,400))/(B3437/8)","v":64},20]
["Rosie's Dream",23,93,"S",{"$f":"MIN(B3438*C3438/6,400)/(B3438/2)+(control!$B$4-MIN(B3438*C3438/6,400))/(B3438/8)","v":46.130434782608695},23]
["Rosie's Rebel",20,116,"D",{"$f":"MIN(B3439*C3439/6,400)/(B3439/2)+(control!$B$4-MIN(B3439*C3439/6,400))/(B3439/8)","v":44},21]
["Roswel",22,66,"M",{"$f":"MIN(B3440*C3440/6,400)/(B3440/2)+(control!$B$4-MIN(B3440*C3440/6,400))/(B3440/8)","v":79.454545454545453},22]
["Rouge",17,72,"S",{"$f":"MIN(B3441*C3441/6,400)/(B3441/2)+(control!$B$4-MIN(B3441*C3441/6,400))/(B3441/8)","v":116.23529411764706},19]
["Rough Rebel",23,98,"M",{"$f":"MIN(B3442*C3442/6,400)/(B3442/2)+(control!$B$4-MIN(B3442*C3442/6,400))/(B3442/8)","v":41.130434782608695},25]
["Rough Springs",22,99,"S",{"$f":"MIN(B3443*C3443/6,400)/(B3443/2)+(control!$B$4-MIN(B3443*C3443/6,400))/(B3443/8)","v":46.454545454545453},24]
["Roulette",26,86,"S",{"$f":"MIN(B3444*C3444/6,400)/(B3444/2)+(control!$B$4-MIN(B3444*C3444/6,400))/(B3444/8)","v":37.076923076923073},30]
["Rowdy",16,71,"S",{"$f":"MIN(B3445*C3445/6,400)/(B3445/2)+(control!$B$4-MIN(B3445*C3445/6,400))/(B3445/8)","v":129},20]
["Roxy",19,72,"S",{"$f":"MIN(B3446*C3446/6,400)/(B3446/2)+(control!$B$4-MIN(B3446*C3446/6,400))/(B3446/8)","v":96.421052631578945},22]
["Royal",21,95,"M",{"$f":"MIN(B3447*C3447/6,400)/(B3447/2)+(control!$B$4-MIN(B3447*C3447/6,400))/(B3447/8)","v":57.38095238095238},22]
["Royal Athlete",20,73,"S",{"$f":"MIN(B3448*C3448/6,400)/(B3448/2)+(control!$B$4-MIN(B3448*C3448/6,400))/(B3448/8)","v":87},22]
["Royal Bill",23,86,"S",{"$f":"MIN(B3449*C3449/6,400)/(B3449/2)+(control!$B$4-MIN(B3449*C3449/6,400))/(B3449/8)","v":53.130434782608688},24]
["Royal Commander",20,99,"S",{"$f":"MIN(B3450*C3450/6,400)/(B3450/2)+(control!$B$4-MIN(B3450*C3450/6,400))/(B3450/8)","v":61},20]
["Royal Duchess",22,90,"S",{"$f":"MIN(B3451*C3451/6,400)/(B3451/2)+(control!$B$4-MIN(B3451*C3451/6,400))/(B3451/8)","v":55.454545454545453},23]
["Royal Empire",26,62,"S",{"$f":"MIN(B3452*C3452/6,400)/(B3452/2)+(control!$B$4-MIN(B3452*C3452/6,400))/(B3452/8)","v":61.076923076923066},27]
["Royal Star",26,100,"S",{"$f":"MIN(B3453*C3453/6,400)/(B3453/2)+(control!$B$4-MIN(B3453*C3453/6,400))/(B3453/8)","v":30.76923076923077},28]
["Royal Supernova",19,101,"S",{"$f":"MIN(B3454*C3454/6,400)/(B3454/2)+(control!$B$4-MIN(B3454*C3454/6,400))/(B3454/8)","v":67.421052631578959},20]
["Ruby",15,59,"S",{"$f":"MIN(B3455*C3455/6,400)/(B3455/2)+(control!$B$4-MIN(B3455*C3455/6,400))/(B3455/8)","v":154.33333333333331},17]
["Ruby Moon",25,78,"M",{"$f":"MIN(B3456*C3456/6,400)/(B3456/2)+(control!$B$4-MIN(B3456*C3456/6,400))/(B3456/8)","v":50},27]
["Ruby Slippers",20,117,"M",{"$f":"MIN(B3457*C3457/6,400)/(B3457/2)+(control!$B$4-MIN(B3457*C3457/6,400))/(B3457/8)","v":43},22]
["Rude Awakening",16,78,"S",{"$f":"MIN(B3458*C3458/6,400)/(B3458/2)+(control!$B$4-MIN(B3458*C3458/6,400))/(B3458/8)","v":122},17]
["Rudi",26,85,"S",{"$f":"MIN(B3459*C3459/6,400)/(B3459/2)+(control!$B$4-MIN(B3459*C3459/6,400))/(B3459/8)","v":38.07692307692308},30]
["Rudolph",19,74,"S",{"$f":"MIN(B3460*C3460/6,400)/(B3460/2)+(control!$B$4-MIN(B3460*C3460/6,400))/(B3460/8)","v":94.421052631578945},23]
["Rudy",19,81,"S",{"$f":"MIN(B3461*C3461/6,400)/(B3461/2)+(control!$B$4-MIN(B3461*C3461/6,400))/(B3461/8)","v":87.421052631578945},21]
["Ruemoss Delight",22,88,"S",{"$f":"MIN(B3462*C3462/6,400)/(B3462/2)+(control!$B$4-MIN(B3462*C3462/6,400))/(B3462/8)","v":57.454545454545453},24]
["Ruger",19,106,"D",{"$f":"MIN(B3463*C3463/6,400)/(B3463/2)+(control!$B$4-MIN(B3463*C3463/6,400))/(B3463/8)","v":62.421052631578945},22]
["Ruler's Secret",19,116,"S",{"$f":"MIN(B3464*C3464/6,400)/(B3464/2)+(control!$B$4-MIN(B3464*C3464/6,400))/(B3464/8)","v":52.421052631578952},22]
["Run 2 the Limit",18,81,"S",{"$f":"MIN(B3465*C3465/6,400)/(B3465/2)+(control!$B$4-MIN(B3465*C3465/6,400))/(B3465/8)","v":96.777777777777771},22]
["Run for the Roses",26,60,"S",{"$f":"MIN(B3466*C3466/6,400)/(B3466/2)+(control!$B$4-MIN(B3466*C3466/6,400))/(B3466/8)","v":63.07692307692308},28]
["Run love",21,105,"S",{"$f":"MIN(B3467*C3467/6,400)/(B3467/2)+(control!$B$4-MIN(B3467*C3467/6,400))/(B3467/8)","v":47.38095238095238},22]
["Running For Freedom",19,71,"S",{"$f":"MIN(B3468*C3468/6,400)/(B3468/2)+(control!$B$4-MIN(B3468*C3468/6,400))/(B3468/8)","v":97.421052631578945},23]
["Running Squirrel",21,94,"D",{"$f":"MIN(B3469*C3469/6,400)/(B3469/2)+(control!$B$4-MIN(B3469*C3469/6,400))/(B3469/8)","v":58.38095238095238},21]
["Running Thunder",19,87,"S",{"$f":"MIN(B3470*C3470/6,400)/(B3470/2)+(control!$B$4-MIN(B3470*C3470/6,400))/(B3470/8)","v":81.421052631578945},19]
["Rupert",23,59,"S",{"$f":"MIN(B3471*C3471/6,400)/(B3471/2)+(control!$B$4-MIN(B3471*C3471/6,400))/(B3471/8)","v":80.130434782608688},25]
["Russian Gold",20,59,"S",{"$f":"MIN(B3472*C3472/6,400)/(B3472/2)+(control!$B$4-MIN(B3472*C3472/6,400))/(B3472/8)","v":101},23]
["Rustic Sunrise",23,97,"M",{"$f":"MIN(B3473*C3473/6,400)/(B3473/2)+(control!$B$4-MIN(B3473*C3473/6,400))/(B3473/8)","v":42.130434782608695},24]
["Rustic Trublue",21,85,"S",{"$f":"MIN(B3474*C3474/6,400)/(B3474/2)+(control!$B$4-MIN(B3474*C3474/6,400))/(B3474/8)","v":67.38095238095238},21]
["Rusty",22,105,"S",{"$f":"MIN(B3475*C3475/6,400)/(B3475/2)+(control!$B$4-MIN(B3475*C3475/6,400))/(B3475/8)","v":40.454545454545453},23]
["Rusty Scupper",22,94,"D",{"$f":"MIN(B3476*C3476/6,400)/(B3476/2)+(control!$B$4-MIN(B3476*C3476/6,400))/(B3476/8)","v":51.454545454545453},23]
["Ryck O Shay",19,85,"S",{"$f":"MIN(B3477*C3477/6,400)/(B3477/2)+(control!$B$4-MIN(B3477*C3477/6,400))/(B3477/8)","v":83.421052631578945},20]
["S. H (super horse)",20,90,"S",{"$f":"MIN(B3478*C3478/6,400)/(B3478/2)+(control!$B$4-MIN(B3478*C3478/6,400))/(B3478/8)","v":70},24]
["S.O.S",22,76,"S",{"$f":"MIN(B3479*C3479/6,400)/(B3479/2)+(control!$B$4-MIN(B3479*C3479/6,400))/(B3479/8)","v":69.454545454545453},25]
["Saab",16,59,"S",{"$f":"MIN(B3480*C3480/6,400)/(B3480/2)+(control!$B$4-MIN(B3480*C3480/6,400))/(B3480/8)","v":141},17]
["Sable",18,91,"M",{"$f":"MIN(B3481*C3481/6,400)/(B3481/2)+(control!$B$4-MIN(B3481*C3481/6,400))/(B3481/8)","v":86.777777777777771},18]
["Sabre",21,86,"M",{"$f":"MIN(B3482*C3482/6,400)/(B3482/2)+(control!$B$4-MIN(B3482*C3482/6,400))/(B3482/8)","v":66.38095238095238},21]
["Sabrina",23,96,"S",{"$f":"MIN(B3483*C3483/6,400)/(B3483/2)+(control!$B$4-MIN(B3483*C3483/6,400))/(B3483/8)","v":43.130434782608695},26]
["Sacred Spirit",19,93,"S",{"$f":"MIN(B3484*C3484/6,400)/(B3484/2)+(control!$B$4-MIN(B3484*C3484/6,400))/(B3484/8)","v":75.421052631578945},22]
["Sadie",20,66,"M",{"$f":"MIN(B3485*C3485/6,400)/(B3485/2)+(control!$B$4-MIN(B3485*C3485/6,400))/(B3485/8)","v":94},22]
["SadieKing",22,86,"S",{"$f":"MIN(B3486*C3486/6,400)/(B3486/2)+(control!$B$4-MIN(B3486*C3486/6,400))/(B3486/8)","v":59.45454545454546},25]
["Saffron",19,94,"M",{"$f":"MIN(B3487*C3487/6,400)/(B3487/2)+(control!$B$4-MIN(B3487*C3487/6,400))/(B3487/8)","v":74.421052631578945},21]
["Sage",17,99,"S",{"$f":"MIN(B3488*C3488/6,400)/(B3488/2)+(control!$B$4-MIN(B3488*C3488/6,400))/(B3488/8)","v":89.235294117647058},17]
["Sagebrush Annie",25,81,"M",{"$f":"MIN(B3489*C3489/6,400)/(B3489/2)+(control!$B$4-MIN(B3489*C3489/6,400))/(B3489/8)","v":47},29]
["Sagen",16,64,"M",{"$f":"MIN(B3490*C3490/6,400)/(B3490/2)+(control!$B$4-MIN(B3490*C3490/6,400))/(B3490/8)","v":136},16]
["Sahara",23,82,"S",{"$f":"MIN(B3491*C3491/6,400)/(B3491/2)+(control!$B$4-MIN(B3491*C3491/6,400))/(B3491/8)","v":57.130434782608702},25]
["Said In Spun Silver",19,86,"M",{"$f":"MIN(B3492*C3492/6,400)/(B3492/2)+(control!$B$4-MIN(B3492*C3492/6,400))/(B3492/8)","v":82.421052631578959},23]
["Saint Philip",16,81,"S",{"$f":"MIN(B3493*C3493/6,400)/(B3493/2)+(control!$B$4-MIN(B3493*C3493/6,400))/(B3493/8)","v":119},20]
["Sako",15,115,"D",{"$f":"MIN(B3494*C3494/6,400)/(B3494/2)+(control!$B$4-MIN(B3494*C3494/6,400))/(B3494/8)","v":98.333333333333343},17]
["Salem",21,76,"S",{"$f":"MIN(B3495*C3495/6,400)/(B3495/2)+(control!$B$4-MIN(B3495*C3495/6,400))/(B3495/8)","v":76.38095238095238},24]
["Sally",26,97,"D",{"$f":"MIN(B3496*C3496/6,400)/(B3496/2)+(control!$B$4-MIN(B3496*C3496/6,400))/(B3496/8)","v":30.76923076923077},27]
["Salsa",26,59,"S",{"$f":"MIN(B3497*C3497/6,400)/(B3497/2)+(control!$B$4-MIN(B3497*C3497/6,400))/(B3497/8)","v":64.07692307692308},29]
["Salsa Mystery",17,78,"M",{"$f":"MIN(B3498*C3498/6,400)/(B3498/2)+(control!$B$4-MIN(B3498*C3498/6,400))/(B3498/8)","v":110.23529411764706},19]
["Salt Water Taffee",25,117,"S",{"$f":"MIN(B3499*C3499/6,400)/(B3499/2)+(control!$B$4-MIN(B3499*C3499/6,400))/(B3499/8)","v":32},25]
["Saltwater Taffy",24,108,"S",{"$f":"MIN(B3500*C3500/6,400)/(B3500/2)+(control!$B$4-MIN(B3500*C3500/6,400))/(B3500/8)","v":33.333333333333336},24]
["Sam",19,74,"S",{"$f":"MIN(B3501*C3501/6,400)/(B3501/2)+(control!$B$4-MIN(B3501*C3501/6,400))/(B3501/8)","v":94.421052631578945},22]
["Sam I Am",24,73,"M",{"$f":"MIN(B3502*C3502/6,400)/(B3502/2)+(control!$B$4-MIN(B3502*C3502/6,400))/(B3502/8)","v":60.333333333333329},28]
["Samara",15,72,"S",{"$f":"MIN(B3503*C3503/6,400)/(B3503/2)+(control!$B$4-MIN(B3503*C3503/6,400))/(B3503/8)","v":141.33333333333331},19]
["Samba Dancer",16,94,"S",{"$f":"MIN(B3504*C3504/6,400)/(B3504/2)+(control!$B$4-MIN(B3504*C3504/6,400))/(B3504/8)","v":106},20]
["Sambuca",24,75,"M",{"$f":"MIN(B3505*C3505/6,400)/(B3505/2)+(control!$B$4-MIN(B3505*C3505/6,400))/(B3505/8)","v":58.333333333333336},28]
["Sammie",25,86,"S",{"$f":"MIN(B3506*C3506/6,400)/(B3506/2)+(control!$B$4-MIN(B3506*C3506/6,400))/(B3506/8)","v":42},29]
["Sammy",15,93,"S",{"$f":"MIN(B3507*C3507/6,400)/(B3507/2)+(control!$B$4-MIN(B3507*C3507/6,400))/(B3507/8)","v":120.33333333333333},15]
["Sampson",21,81,"S",{"$f":"MIN(B3508*C3508/6,400)/(B3508/2)+(control!$B$4-MIN(B3508*C3508/6,400))/(B3508/8)","v":71.38095238095238},24]
["Sam's mentor",25,89,"S",{"$f":"MIN(B3509*C3509/6,400)/(B3509/2)+(control!$B$4-MIN(B3509*C3509/6,400))/(B3509/8)","v":39},26]
["Sam's Sugar Shack",26,110,"S",{"$f":"MIN(B3510*C3510/6,400)/(B3510/2)+(control!$B$4-MIN(B3510*C3510/6,400))/(B3510/8)","v":30.76923076923077},27]
["Samson",19,123,"D",{"$f":"MIN(B3511*C3511/6,400)/(B3511/2)+(control!$B$4-MIN(B3511*C3511/6,400))/(B3511/8)","v":45.421052631578945},21]
["San Domingo",20,98,"D",{"$f":"MIN(B3512*C3512/6,400)/(B3512/2)+(control!$B$4-MIN(B3512*C3512/6,400))/(B3512/8)","v":62},21]
["Sancho",23,106,"D",{"$f":"MIN(B3513*C3513/6,400)/(B3513/2)+(control!$B$4-MIN(B3513*C3513/6,400))/(B3513/8)","v":34.782608695652172},24]
["Sancy Girl",19,75,"M",{"$f":"MIN(B3514*C3514/6,400)/(B3514/2)+(control!$B$4-MIN(B3514*C3514/6,400))/(B3514/8)","v":93.421052631578945},19]
["Sandman",21,63,"S",{"$f":"MIN(B3515*C3515/6,400)/(B3515/2)+(control!$B$4-MIN(B3515*C3515/6,400))/(B3515/8)","v":89.38095238095238},25]
["Sandshine",21,91,"S",{"$f":"MIN(B3516*C3516/6,400)/(B3516/2)+(control!$B$4-MIN(B3516*C3516/6,400))/(B3516/8)","v":61.38095238095238},23]
["Sandy",19,90,"S",{"$f":"MIN(B3517*C3517/6,400)/(B3517/2)+(control!$B$4-MIN(B3517*C3517/6,400))/(B3517/8)","v":78.421052631578945},23]
["Sandy's Last Dance",22,82,"M",{"$f":"MIN(B3518*C3518/6,400)/(B3518/2)+(control!$B$4-MIN(B3518*C3518/6,400))/(B3518/8)","v":63.454545454545453},25]
["Sanibel",26,88,"S",{"$f":"MIN(B3519*C3519/6,400)/(B3519/2)+(control!$B$4-MIN(B3519*C3519/6,400))/(B3519/8)","v":35.07692307692308},26]
["Sans Marino",26,118,"D",{"$f":"MIN(B3520*C3520/6,400)/(B3520/2)+(control!$B$4-MIN(B3520*C3520/6,400))/(B3520/8)","v":30.76923076923077},28]
["Santa",18,81,"S",{"$f":"MIN(B3521*C3521/6,400)/(B3521/2)+(control!$B$4-MIN(B3521*C3521/6,400))/(B3521/8)","v":96.777777777777771},19]
["Santana",19,99,"D",{"$f":"MIN(B3522*C3522/6,400)/(B3522/2)+(control!$B$4-MIN(B3522*C3522/6,400))/(B3522/8)","v":69.421052631578945},21]
["Santos",22,76,"S",{"$f":"MIN(B3523*C3523/6,400)/(B3523/2)+(control!$B$4-MIN(B3523*C3523/6,400))/(B3523/8)","v":69.454545454545453},25]
["Sapphire",25,66,"S",{"$f":"MIN(B3524*C3524/6,400)/(B3524/2)+(control!$B$4-MIN(B3524*C3524/6,400))/(B3524/8)","v":62},28]
["Sarah",26,64,"S",{"$f":"MIN(B3525*C3525/6,400)/(B3525/2)+(control!$B$4-MIN(B3525*C3525/6,400))/(B3525/8)","v":59.07692307692308},30]
["Sargent",25,78,"S",{"$f":"MIN(B3526*C3526/6,400)/(B3526/2)+(control!$B$4-MIN(B3526*C3526/6,400))/(B3526/8)","v":50},29]
["Sarsaparilla",21,108,"D",{"$f":"MIN(B3527*C3527/6,400)/(B3527/2)+(control!$B$4-MIN(B3527*C3527/6,400))/(B3527/8)","v":44.38095238095238},25]
["Sasha",27,112,"S",{"$f":"MIN(B3528*C3528/6,400)/(B3528/2)+(control!$B$4-MIN(B3528*C3528/6,400))/(B3528/8)","v":29.62962962962963},29]
["Sassafrass Roots",16,90,"S",{"$f":"MIN(B3529*C3529/6,400)/(B3529/2)+(control!$B$4-MIN(B3529*C3529/6,400))/(B3529/8)","v":110},19]
["Sassy",21,69,"S",{"$f":"MIN(B3530*C3530/6,400)/(B3530/2)+(control!$B$4-MIN(B3530*C3530/6,400))/(B3530/8)","v":83.38095238095238},23]
["Sassy Baby",16,119,"D",{"$f":"MIN(B3531*C3531/6,400)/(B3531/2)+(control!$B$4-MIN(B3531*C3531/6,400))/(B3531/8)","v":81},17]
["Satan",18,87,"M",{"$f":"MIN(B3532*C3532/6,400)/(B3532/2)+(control!$B$4-MIN(B3532*C3532/6,400))/(B3532/8)","v":90.777777777777771},20]
["Satan's Promise",17,114,"D",{"$f":"MIN(B3533*C3533/6,400)/(B3533/2)+(control!$B$4-MIN(B3533*C3533/6,400))/(B3533/8)","v":74.235294117647058},21]
["Sateen",19,71,"S",{"$f":"MIN(B3534*C3534/6,400)/(B3534/2)+(control!$B$4-MIN(B3534*C3534/6,400))/(B3534/8)","v":97.421052631578945},23]
["Satin",21,79,"S",{"$f":"MIN(B3535*C3535/6,400)/(B3535/2)+(control!$B$4-MIN(B3535*C3535/6,400))/(B3535/8)","v":73.38095238095238},25]
["Satine",20,99,"D",{"$f":"MIN(B3536*C3536/6,400)/(B3536/2)+(control!$B$4-MIN(B3536*C3536/6,400))/(B3536/8)","v":61},20]
["Satisfaction Guaranteed",20,64,"S",{"$f":"MIN(B3537*C3537/6,400)/(B3537/2)+(control!$B$4-MIN(B3537*C3537/6,400))/(B3537/8)","v":96},24]
["Saturday Affair",25,116,"S",{"$f":"MIN(B3538*C3538/6,400)/(B3538/2)+(control!$B$4-MIN(B3538*C3538/6,400))/(B3538/8)","v":32},27]
["Saturn",15,89,"M",{"$f":"MIN(B3539*C3539/6,400)/(B3539/2)+(control!$B$4-MIN(B3539*C3539/6,400))/(B3539/8)","v":124.33333333333334},16]
["Saudi Arabia",15,82,"S",{"$f":"MIN(B3540*C3540/6,400)/(B3540/2)+(control!$B$4-MIN(B3540*C3540/6,400))/(B3540/8)","v":131.33333333333334},19]
["Saudi's Mighty Lady",25,88,"M",{"$f":"MIN(B3541*C3541/6,400)/(B3541/2)+(control!$B$4-MIN(B3541*C3541/6,400))/(B3541/8)","v":40},28]
["Savana",19,84,"S",{"$f":"MIN(B3542*C3542/6,400)/(B3542/2)+(control!$B$4-MIN(B3542*C3542/6,400))/(B3542/8)","v":84.421052631578945},19]
["Savannah",19,100,"M",{"$f":"MIN(B3543*C3543/6,400)/(B3543/2)+(control!$B$4-MIN(B3543*C3543/6,400))/(B3543/8)","v":68.421052631578945},23]
["Save The Best For Last",15,118,"S",{"$f":"MIN(B3544*C3544/6,400)/(B3544/2)+(control!$B$4-MIN(B3544*C3544/6,400))/(B3544/8)","v":95.333333333333343},18]
["Saxon Rose",21,98,"S",{"$f":"MIN(B3545*C3545/6,400)/(B3545/2)+(control!$B$4-MIN(B3545*C3545/6,400))/(B3545/8)","v":54.38095238095238},25]
["Saxson",18,91,"D",{"$f":"MIN(B3546*C3546/6,400)/(B3546/2)+(control!$B$4-MIN(B3546*C3546/6,400))/(B3546/8)","v":86.777777777777771},21]
["Say It Ain't So",19,71,"S",{"$f":"MIN(B3547*C3547/6,400)/(B3547/2)+(control!$B$4-MIN(B3547*C3547/6,400))/(B3547/8)","v":97.421052631578945},22]
["Say what",25,76,"M",{"$f":"MIN(B3548*C3548/6,400)/(B3548/2)+(control!$B$4-MIN(B3548*C3548/6,400))/(B3548/8)","v":52},29]
["Say-so",20,90,"S",{"$f":"MIN(B3549*C3549/6,400)/(B3549/2)+(control!$B$4-MIN(B3549*C3549/6,400))/(B3549/8)","v":70},23]
["Scarlet",19,109,"S",{"$f":"MIN(B3550*C3550/6,400)/(B3550/2)+(control!$B$4-MIN(B3550*C3550/6,400))/(B3550/8)","v":59.421052631578945},20]
["Scarlet O' Paradise",22,91,"S",{"$f":"MIN(B3551*C3551/6,400)/(B3551/2)+(control!$B$4-MIN(B3551*C3551/6,400))/(B3551/8)","v":54.454545454545453},23]
["Scarlett",20,88,"M",{"$f":"MIN(B3552*C3552/6,400)/(B3552/2)+(control!$B$4-MIN(B3552*C3552/6,400))/(B3552/8)","v":72},24]
["Schnee (german for snow)",22,89,"S",{"$f":"MIN(B3553*C3553/6,400)/(B3553/2)+(control!$B$4-MIN(B3553*C3553/6,400))/(B3553/8)","v":56.45454545454546},25]
["Scho Can Do",22,76,"S",{"$f":"MIN(B3554*C3554/6,400)/(B3554/2)+(control!$B$4-MIN(B3554*C3554/6,400))/(B3554/8)","v":69.454545454545453},24]
["Schooner",27,89,"M",{"$f":"MIN(B3555*C3555/6,400)/(B3555/2)+(control!$B$4-MIN(B3555*C3555/6,400))/(B3555/8)","v":29.62962962962963},28]
["Scooby",24,76,"S",{"$f":"MIN(B3556*C3556/6,400)/(B3556/2)+(control!$B$4-MIN(B3556*C3556/6,400))/(B3556/8)","v":57.333333333333329},26]
["Scooby Dooby Doo",26,100,"S",{"$f":"MIN(B3557*C3557/6,400)/(B3557/2)+(control!$B$4-MIN(B3557*C3557/6,400))/(B3557/8)","v":30.76923076923077},26]
["Scooter",22,67,"S",{"$f":"MIN(B3558*C3558/6,400)/(B3558/2)+(control!$B$4-MIN(B3558*C3558/6,400))/(B3558/8)","v":78.454545454545453},25]
["Score",18,76,"S",{"$f":"MIN(B3559*C3559/6,400)/(B3559/2)+(control!$B$4-MIN(B3559*C3559/6,400))/(B3559/8)","v":101.77777777777777},22]
["Scottie",16,69,"S",{"$f":"MIN(B3560*C3560/6,400)/(B3560/2)+(control!$B$4-MIN(B3560*C3560/6,400))/(B3560/8)","v":131},18]
["Scottish Lass",20,79,"S",{"$f":"MIN(B3561*C3561/6,400)/(B3561/2)+(control!$B$4-MIN(B3561*C3561/6,400))/(B3561/8)","v":81},23]
["Scotty",25,97,"D",{"$f":"MIN(B3562*C3562/6,400)/(B3562/2)+(control!$B$4-MIN(B3562*C3562/6,400))/(B3562/8)","v":32},26]
["Scout",15,88,"M",{"$f":"MIN(B3563*C3563/6,400)/(B3563/2)+(control!$B$4-MIN(B3563*C3563/6,400))/(B3563/8)","v":125.33333333333333},18]
["Scratch",20,59,"S",{"$f":"MIN(B3564*C3564/6,400)/(B3564/2)+(control!$B$4-MIN(B3564*C3564/6,400))/(B3564/8)","v":101},24]
["Scratch Me Not",21,109,"M",{"$f":"MIN(B3565*C3565/6,400)/(B3565/2)+(control!$B$4-MIN(B3565*C3565/6,400))/(B3565/8)","v":43.38095238095238},23]
["Scribbles",19,94,"D",{"$f":"MIN(B3566*C3566/6,400)/(B3566/2)+(control!$B$4-MIN(B3566*C3566/6,400))/(B3566/8)","v":74.421052631578945},19]
["Sea biscuit",22,90,"M",{"$f":"MIN(B3567*C3567/6,400)/(B3567/2)+(control!$B$4-MIN(B3567*C3567/6,400))/(B3567/8)","v":55.454545454545453},26]
["Seamus",27,88,"S",{"$f":"MIN(B3568*C3568/6,400)/(B3568/2)+(control!$B$4-MIN(B3568*C3568/6,400))/(B3568/8)","v":30.518518518518519},31]
["Sebastian",22,99,"D",{"$f":"MIN(B3569*C3569/6,400)/(B3569/2)+(control!$B$4-MIN(B3569*C3569/6,400))/(B3569/8)","v":46.454545454545453},25]
["Sebulba",22,80,"S",{"$f":"MIN(B3570*C3570/6,400)/(B3570/2)+(control!$B$4-MIN(B3570*C3570/6,400))/(B3570/8)","v":65.454545454545467},25]
["Secoya",22,68,"S",{"$f":"MIN(B3571*C3571/6,400)/(B3571/2)+(control!$B$4-MIN(B3571*C3571/6,400))/(B3571/8)","v":77.454545454545453},22]
["Secret",22,81,"S",{"$f":"MIN(B3572*C3572/6,400)/(B3572/2)+(control!$B$4-MIN(B3572*C3572/6,400))/(B3572/8)","v":64.454545454545453},25]
["Selcier",26,121,"S",{"$f":"MIN(B3573*C3573/6,400)/(B3573/2)+(control!$B$4-MIN(B3573*C3573/6,400))/(B3573/8)","v":30.76923076923077},29]
["Selena",20,93,"S",{"$f":"MIN(B3574*C3574/6,400)/(B3574/2)+(control!$B$4-MIN(B3574*C3574/6,400))/(B3574/8)","v":67},24]
["Senator",25,115,"S",{"$f":"MIN(B3575*C3575/6,400)/(B3575/2)+(control!$B$4-MIN(B3575*C3575/6,400))/(B3575/8)","v":32},27]
["Seneca",17,72,"S",{"$f":"MIN(B3576*C3576/6,400)/(B3576/2)+(control!$B$4-MIN(B3576*C3576/6,400))/(B3576/8)","v":116.23529411764706},21]
["Seneka",21,90,"S",{"$f":"MIN(B3577*C3577/6,400)/(B3577/2)+(control!$B$4-MIN(B3577*C3577/6,400))/(B3577/8)","v":62.38095238095238},23]
["Senna",25,107,"D",{"$f":"MIN(B3578*C3578/6,400)/(B3578/2)+(control!$B$4-MIN(B3578*C3578/6,400))/(B3578/8)","v":32},25]
["Señorita",22,120,"D",{"$f":"MIN(B3579*C3579/6,400)/(B3579/2)+(control!$B$4-MIN(B3579*C3579/6,400))/(B3579/8)","v":36.363636363636367},25]
["Sensation",24,77,"S",{"$f":"MIN(B3580*C3580/6,400)/(B3580/2)+(control!$B$4-MIN(B3580*C3580/6,400))/(B3580/8)","v":56.333333333333336},27]
["Senshi",21,83,"S",{"$f":"MIN(B3581*C3581/6,400)/(B3581/2)+(control!$B$4-MIN(B3581*C3581/6,400))/(B3581/8)","v":69.38095238095238},23]
["Sent From Above",24,86,"S",{"$f":"MIN(B3582*C3582/6,400)/(B3582/2)+(control!$B$4-MIN(B3582*C3582/6,400))/(B3582/8)","v":47.333333333333336},24]
["September",19,67,"S",{"$f":"MIN(B3583*C3583/6,400)/(B3583/2)+(control!$B$4-MIN(B3583*C3583/6,400))/(B3583/8)","v":101.42105263157895},19]
["Serendipity",27,72,"M",{"$f":"MIN(B3584*C3584/6,400)/(B3584/2)+(control!$B$4-MIN(B3584*C3584/6,400))/(B3584/8)","v":46.518518518518519},28]
["Serenity",27,96,"D",{"$f":"MIN(B3585*C3585/6,400)/(B3585/2)+(control!$B$4-MIN(B3585*C3585/6,400))/(B3585/8)","v":29.62962962962963},31]
["Sergent diablo",23,81,"S",{"$f":"MIN(B3586*C3586/6,400)/(B3586/2)+(control!$B$4-MIN(B3586*C3586/6,400))/(B3586/8)","v":58.130434782608695},23]
["Seritza",15,80,"S",{"$f":"MIN(B3587*C3587/6,400)/(B3587/2)+(control!$B$4-MIN(B3587*C3587/6,400))/(B3587/8)","v":133.33333333333334},18]
["Seth",22,87,"S",{"$f":"MIN(B3588*C3588/6,400)/(B3588/2)+(control!$B$4-MIN(B3588*C3588/6,400))/(B3588/8)","v":58.454545454545453},24]
["Sevana",15,90,"S",{"$f":"MIN(B3589*C3589/6,400)/(B3589/2)+(control!$B$4-MIN(B3589*C3589/6,400))/(B3589/8)","v":123.33333333333333},18]
["Sevaritza",17,69,"S",{"$f":"MIN(B3590*C3590/6,400)/(B3590/2)+(control!$B$4-MIN(B3590*C3590/6,400))/(B3590/8)","v":119.23529411764706},20]
["Seyton",22,72,"M",{"$f":"MIN(B3591*C3591/6,400)/(B3591/2)+(control!$B$4-MIN(B3591*C3591/6,400))/(B3591/8)","v":73.454545454545453},22]
["Shabas",25,117,"S",{"$f":"MIN(B3592*C3592/6,400)/(B3592/2)+(control!$B$4-MIN(B3592*C3592/6,400))/(B3592/8)","v":32},26]
["Shaboom",21,98,"D",{"$f":"MIN(B3593*C3593/6,400)/(B3593/2)+(control!$B$4-MIN(B3593*C3593/6,400))/(B3593/8)","v":54.38095238095238},23]
["Shades of Gray",22,91,"S",{"$f":"MIN(B3594*C3594/6,400)/(B3594/2)+(control!$B$4-MIN(B3594*C3594/6,400))/(B3594/8)","v":54.454545454545453},25]
["Shades of Midnight Glory",24,71,"M",{"$f":"MIN(B3595*C3595/6,400)/(B3595/2)+(control!$B$4-MIN(B3595*C3595/6,400))/(B3595/8)","v":62.333333333333329},25]
["Shadow",21,89,"S",{"$f":"MIN(B3596*C3596/6,400)/(B3596/2)+(control!$B$4-MIN(B3596*C3596/6,400))/(B3596/8)","v":63.38095238095238},24]
["Shadow Dancer",26,67,"M",{"$f":"MIN(B3597*C3597/6,400)/(B3597/2)+(control!$B$4-MIN(B3597*C3597/6,400))/(B3597/8)","v":56.07692307692308},30]
["Shadow in the Mist",22,89,"M",{"$f":"MIN(B3598*C3598/6,400)/(B3598/2)+(control!$B$4-MIN(B3598*C3598/6,400))/(B3598/8)","v":56.45454545454546},25]
["Shadow Joe",21,101,"D",{"$f":"MIN(B3599*C3599/6,400)/(B3599/2)+(control!$B$4-MIN(B3599*C3599/6,400))/(B3599/8)","v":51.38095238095238},24]
["Shadow of Moonlight",20,85,"M",{"$f":"MIN(B3600*C3600/6,400)/(B3600/2)+(control!$B$4-MIN(B3600*C3600/6,400))/(B3600/8)","v":75},21]
["Shadowed Rose",18,75,"S",{"$f":"MIN(B3601*C3601/6,400)/(B3601/2)+(control!$B$4-MIN(B3601*C3601/6,400))/(B3601/8)","v":102.77777777777777},19]
["Shadowfax",18,100,"D",{"$f":"MIN(B3602*C3602/6,400)/(B3602/2)+(control!$B$4-MIN(B3602*C3602/6,400))/(B3602/8)","v":77.777777777777771},18]
["Shadows",22,84,"S",{"$f":"MIN(B3603*C3603/6,400)/(B3603/2)+(control!$B$4-MIN(B3603*C3603/6,400))/(B3603/8)","v":61.454545454545453},23]
["Shadows Hidden Dream",16,66,"S",{"$f":"MIN(B3604*C3604/6,400)/(B3604/2)+(control!$B$4-MIN(B3604*C3604/6,400))/(B3604/8)","v":134},16]
["Shadows in the Mist",16,80,"S",{"$f":"MIN(B3605*C3605/6,400)/(B3605/2)+(control!$B$4-MIN(B3605*C3605/6,400))/(B3605/8)","v":120},18]
["Shady",25,122,"D",{"$f":"MIN(B3606*C3606/6,400)/(B3606/2)+(control!$B$4-MIN(B3606*C3606/6,400))/(B3606/8)","v":32},29]
["Shadyb",16,95,"D",{"$f":"MIN(B3607*C3607/6,400)/(B3607/2)+(control!$B$4-MIN(B3607*C3607/6,400))/(B3607/8)","v":105},20]
["Shae",19,76,"S",{"$f":"MIN(B3608*C3608/6,400)/(B3608/2)+(control!$B$4-MIN(B3608*C3608/6,400))/(B3608/8)","v":92.421052631578945},21]
["Shah",22,94,"S",{"$f":"MIN(B3609*C3609/6,400)/(B3609/2)+(control!$B$4-MIN(B3609*C3609/6,400))/(B3609/8)","v":51.454545454545453},24]
["Shakan",23,98,"M",{"$f":"MIN(B3610*C3610/6,400)/(B3610/2)+(control!$B$4-MIN(B3610*C3610/6,400))/(B3610/8)","v":41.130434782608695},25]
["Shall we Dance",22,99,"D",{"$f":"MIN(B3611*C3611/6,400)/(B3611/2)+(control!$B$4-MIN(B3611*C3611/6,400))/(B3611/8)","v":46.454545454545453},23]
["Shallow Hal",20,100,"S",{"$f":"MIN(B3612*C3612/6,400)/(B3612/2)+(control!$B$4-MIN(B3612*C3612/6,400))/(B3612/8)","v":60},20]
["Shallowmar",27,85,"M",{"$f":"MIN(B3613*C3613/6,400)/(B3613/2)+(control!$B$4-MIN(B3613*C3613/6,400))/(B3613/8)","v":33.518518518518519},31]
["Shalom",17,76,"S",{"$f":"MIN(B3614*C3614/6,400)/(B3614/2)+(control!$B$4-MIN(B3614*C3614/6,400))/(B3614/8)","v":112.23529411764704},18]
["Sham",21,83,"S",{"$f":"MIN(B3615*C3615/6,400)/(B3615/2)+(control!$B$4-MIN(B3615*C3615/6,400))/(B3615/8)","v":69.38095238095238},25]
["Shamal",22,75,"S",{"$f":"MIN(B3616*C3616/6,400)/(B3616/2)+(control!$B$4-MIN(B3616*C3616/6,400))/(B3616/8)","v":70.454545454545453},24]
["Shaman",16,95,"S",{"$f":"MIN(B3617*C3617/6,400)/(B3617/2)+(control!$B$4-MIN(B3617*C3617/6,400))/(B3617/8)","v":105},18]
["Shamara",16,90,"S",{"$f":"MIN(B3618*C3618/6,400)/(B3618/2)+(control!$B$4-MIN(B3618*C3618/6,400))/(B3618/8)","v":110},16]
["Shamin",22,93,"S",{"$f":"MIN(B3619*C3619/6,400)/(B3619/2)+(control!$B$4-MIN(B3619*C3619/6,400))/(B3619/8)","v":52.454545454545453},23]
["Shamrock",22,68,"M",{"$f":"MIN(B3620*C3620/6,400)/(B3620/2)+(control!$B$4-MIN(B3620*C3620/6,400))/(B3620/8)","v":77.454545454545453},22]
["Shamrock Lady68",21,60,"S",{"$f":"MIN(B3621*C3621/6,400)/(B3621/2)+(control!$B$4-MIN(B3621*C3621/6,400))/(B3621/8)","v":92.38095238095238},22]
["Shamus",24,76,"S",{"$f":"MIN(B3622*C3622/6,400)/(B3622/2)+(control!$B$4-MIN(B3622*C3622/6,400))/(B3622/8)","v":57.333333333333329},24]
["Shandy",22,59,"S",{"$f":"MIN(B3623*C3623/6,400)/(B3623/2)+(control!$B$4-MIN(B3623*C3623/6,400))/(B3623/8)","v":86.454545454545453},25]
["Shane",20,61,"M",{"$f":"MIN(B3624*C3624/6,400)/(B3624/2)+(control!$B$4-MIN(B3624*C3624/6,400))/(B3624/8)","v":99},22]
["Shanita",21,98,"S",{"$f":"MIN(B3625*C3625/6,400)/(B3625/2)+(control!$B$4-MIN(B3625*C3625/6,400))/(B3625/8)","v":54.38095238095238},22]
["Shannon",15,97,"D",{"$f":"MIN(B3626*C3626/6,400)/(B3626/2)+(control!$B$4-MIN(B3626*C3626/6,400))/(B3626/8)","v":116.33333333333334},19]
["Shanti (means peace)",19,85,"M",{"$f":"MIN(B3627*C3627/6,400)/(B3627/2)+(control!$B$4-MIN(B3627*C3627/6,400))/(B3627/8)","v":83.421052631578945},23]
["Shanty",15,81,"S",{"$f":"MIN(B3628*C3628/6,400)/(B3628/2)+(control!$B$4-MIN(B3628*C3628/6,400))/(B3628/8)","v":132.33333333333331},17]
["Share Me Toodles",21,77,"S",{"$f":"MIN(B3629*C3629/6,400)/(B3629/2)+(control!$B$4-MIN(B3629*C3629/6,400))/(B3629/8)","v":75.38095238095238},25]
["Sharpie",20,118,"D",{"$f":"MIN(B3630*C3630/6,400)/(B3630/2)+(control!$B$4-MIN(B3630*C3630/6,400))/(B3630/8)","v":42},20]
["Shasta",23,99,"M",{"$f":"MIN(B3631*C3631/6,400)/(B3631/2)+(control!$B$4-MIN(B3631*C3631/6,400))/(B3631/8)","v":40.130434782608695},25]
["Shasta moon",16,97,"D",{"$f":"MIN(B3632*C3632/6,400)/(B3632/2)+(control!$B$4-MIN(B3632*C3632/6,400))/(B3632/8)","v":103},19]
["Shawdow's Pride",21,93,"S",{"$f":"MIN(B3633*C3633/6,400)/(B3633/2)+(control!$B$4-MIN(B3633*C3633/6,400))/(B3633/8)","v":59.38095238095238},25]
["Shawnee",22,80,"S",{"$f":"MIN(B3634*C3634/6,400)/(B3634/2)+(control!$B$4-MIN(B3634*C3634/6,400))/(B3634/8)","v":65.454545454545467},22]
["Shaylan",16,116,"D",{"$f":"MIN(B3635*C3635/6,400)/(B3635/2)+(control!$B$4-MIN(B3635*C3635/6,400))/(B3635/8)","v":84},19]
["Sheba",25,76,"M",{"$f":"MIN(B3636*C3636/6,400)/(B3636/2)+(control!$B$4-MIN(B3636*C3636/6,400))/(B3636/8)","v":52},29]
["Shebe",27,100,"S",{"$f":"MIN(B3637*C3637/6,400)/(B3637/2)+(control!$B$4-MIN(B3637*C3637/6,400))/(B3637/8)","v":29.62962962962963},30]
["SheDaisy",24,88,"S",{"$f":"MIN(B3638*C3638/6,400)/(B3638/2)+(control!$B$4-MIN(B3638*C3638/6,400))/(B3638/8)","v":45.333333333333329},27]
["Sheena",22,76,"S",{"$f":"MIN(B3639*C3639/6,400)/(B3639/2)+(control!$B$4-MIN(B3639*C3639/6,400))/(B3639/8)","v":69.454545454545453},26]
["Sheena's Golden Nugget",25,64,"S",{"$f":"MIN(B3640*C3640/6,400)/(B3640/2)+(control!$B$4-MIN(B3640*C3640/6,400))/(B3640/8)","v":63.999999999999993},29]
["Sheer Trouble",17,61,"M",{"$f":"MIN(B3641*C3641/6,400)/(B3641/2)+(control!$B$4-MIN(B3641*C3641/6,400))/(B3641/8)","v":127.23529411764704},18]
["Sheeva",21,60,"S",{"$f":"MIN(B3642*C3642/6,400)/(B3642/2)+(control!$B$4-MIN(B3642*C3642/6,400))/(B3642/8)","v":92.38095238095238},21]
["Sheik",17,68,"S",{"$f":"MIN(B3643*C3643/6,400)/(B3643/2)+(control!$B$4-MIN(B3643*C3643/6,400))/(B3643/8)","v":120.23529411764707},20]
["Shelby",15,76,"M",{"$f":"MIN(B3644*C3644/6,400)/(B3644/2)+(control!$B$4-MIN(B3644*C3644/6,400))/(B3644/8)","v":137.33333333333334},15]
["Shera",16,70,"S",{"$f":"MIN(B3645*C3645/6,400)/(B3645/2)+(control!$B$4-MIN(B3645*C3645/6,400))/(B3645/8)","v":130},18]
["Sherbet",24,89,"M",{"$f":"MIN(B3646*C3646/6,400)/(B3646/2)+(control!$B$4-MIN(B3646*C3646/6,400))/(B3646/8)","v":44.333333333333336},26]
["Shergar",17,101,"S",{"$f":"MIN(B3647*C3647/6,400)/(B3647/2)+(control!$B$4-MIN(B3647*C3647/6,400))/(B3647/8)","v":87.235294117647058},20]
["Sherif of Notingham",24,83,"S",{"$f":"MIN(B3648*C3648/6,400)/(B3648/2)+(control!$B$4-MIN(B3648*C3648/6,400))/(B3648/8)","v":50.333333333333336},24]
["Sherlock Holmes",16,109,"M",{"$f":"MIN(B3649*C3649/6,400)/(B3649/2)+(control!$B$4-MIN(B3649*C3649/6,400))/(B3649/8)","v":91},19]
["Sherman",15,90,"M",{"$f":"MIN(B3650*C3650/6,400)/(B3650/2)+(control!$B$4-MIN(B3650*C3650/6,400))/(B3650/8)","v":123.33333333333333},15]
["Sherreef",27,90,"M",{"$f":"MIN(B3651*C3651/6,400)/(B3651/2)+(control!$B$4-MIN(B3651*C3651/6,400))/(B3651/8)","v":29.62962962962963},29]
["Sherri",20,75,"M",{"$f":"MIN(B3652*C3652/6,400)/(B3652/2)+(control!$B$4-MIN(B3652*C3652/6,400))/(B3652/8)","v":85},21]
["Sherrif",22,123,"S",{"$f":"MIN(B3653*C3653/6,400)/(B3653/2)+(control!$B$4-MIN(B3653*C3653/6,400))/(B3653/8)","v":36.363636363636367},25]
["Sherwin",25,91,"S",{"$f":"MIN(B3654*C3654/6,400)/(B3654/2)+(control!$B$4-MIN(B3654*C3654/6,400))/(B3654/8)","v":37},28]
["She's all That",18,74,"S",{"$f":"MIN(B3655*C3655/6,400)/(B3655/2)+(control!$B$4-MIN(B3655*C3655/6,400))/(B3655/8)","v":103.77777777777779},19]
["She's All That Jazz",24,94,"D",{"$f":"MIN(B3656*C3656/6,400)/(B3656/2)+(control!$B$4-MIN(B3656*C3656/6,400))/(B3656/8)","v":39.333333333333329},24]
["Shesa",16,91,"M",{"$f":"MIN(B3657*C3657/6,400)/(B3657/2)+(control!$B$4-MIN(B3657*C3657/6,400))/(B3657/8)","v":109},19]
["Shesa Easy Dream",24,92,"M",{"$f":"MIN(B3658*C3658/6,400)/(B3658/2)+(control!$B$4-MIN(B3658*C3658/6,400))/(B3658/8)","v":41.333333333333336},26]
["Shetan (arabic for devil)",23,103,"D",{"$f":"MIN(B3659*C3659/6,400)/(B3659/2)+(control!$B$4-MIN(B3659*C3659/6,400))/(B3659/8)","v":36.130434782608695},26]
["Sheyanne",19,87,"S",{"$f":"MIN(B3660*C3660/6,400)/(B3660/2)+(control!$B$4-MIN(B3660*C3660/6,400))/(B3660/8)","v":81.421052631578945},23]
["Sheza",17,93,"D",{"$f":"MIN(B3661*C3661/6,400)/(B3661/2)+(control!$B$4-MIN(B3661*C3661/6,400))/(B3661/8)","v":95.235294117647058},21]
["Sheza Desert Rose",20,81,"M",{"$f":"MIN(B3662*C3662/6,400)/(B3662/2)+(control!$B$4-MIN(B3662*C3662/6,400))/(B3662/8)","v":79},20]
["Shianne",20,89,"M",{"$f":"MIN(B3663*C3663/6,400)/(B3663/2)+(control!$B$4-MIN(B3663*C3663/6,400))/(B3663/8)","v":71},23]
["Shilo",27,80,"S",{"$f":"MIN(B3664*C3664/6,400)/(B3664/2)+(control!$B$4-MIN(B3664*C3664/6,400))/(B3664/8)","v":38.518518518518519},28]
["Shiloh",17,106,"M",{"$f":"MIN(B3665*C3665/6,400)/(B3665/2)+(control!$B$4-MIN(B3665*C3665/6,400))/(B3665/8)","v":82.235294117647072},18]
["Shiloh`s Trooper",25,68,"S",{"$f":"MIN(B3666*C3666/6,400)/(B3666/2)+(control!$B$4-MIN(B3666*C3666/6,400))/(B3666/8)","v":60.000000000000007},28]
["Shimmaree",21,62,"S",{"$f":"MIN(B3667*C3667/6,400)/(B3667/2)+(control!$B$4-MIN(B3667*C3667/6,400))/(B3667/8)","v":90.38095238095238},21]
["Shimmer",22,79,"S",{"$f":"MIN(B3668*C3668/6,400)/(B3668/2)+(control!$B$4-MIN(B3668*C3668/6,400))/(B3668/8)","v":66.454545454545453},26]
["Shindeagan (means Beautiful Star)",21,64,"S",{"$f":"MIN(B3669*C3669/6,400)/(B3669/2)+(control!$B$4-MIN(B3669*C3669/6,400))/(B3669/8)","v":88.38095238095238},22]
["Shindig",24,113,"M",{"$f":"MIN(B3670*C3670/6,400)/(B3670/2)+(control!$B$4-MIN(B3670*C3670/6,400))/(B3670/8)","v":33.333333333333336},28]
["Shinegami (Goddess of Death)",17,93,"S",{"$f":"MIN(B3671*C3671/6,400)/(B3671/2)+(control!$B$4-MIN(B3671*C3671/6,400))/(B3671/8)","v":95.235294117647058},18]
["Shining",16,83,"S",{"$f":"MIN(B3672*C3672/6,400)/(B3672/2)+(control!$B$4-MIN(B3672*C3672/6,400))/(B3672/8)","v":117},19]
["Shining Example",26,103,"D",{"$f":"MIN(B3673*C3673/6,400)/(B3673/2)+(control!$B$4-MIN(B3673*C3673/6,400))/(B3673/8)","v":30.76923076923077},30]
["Shining star",20,63,"M",{"$f":"MIN(B3674*C3674/6,400)/(B3674/2)+(control!$B$4-MIN(B3674*C3674/6,400))/(B3674/8)","v":97},22]
["Shiniqua",24,120,"S",{"$f":"MIN(B3675*C3675/6,400)/(B3675/2)+(control!$B$4-MIN(B3675*C3675/6,400))/(B3675/8)","v":33.333333333333336},28]
["Shinning Glory",21,86,"S",{"$f":"MIN(B3676*C3676/6,400)/(B3676/2)+(control!$B$4-MIN(B3676*C3676/6,400))/(B3676/8)","v":66.38095238095238},25]
["Shirley",21,86,"S",{"$f":"MIN(B3677*C3677/6,400)/(B3677/2)+(control!$B$4-MIN(B3677*C3677/6,400))/(B3677/8)","v":66.38095238095238},22]
["Shiver",20,95,"S",{"$f":"MIN(B3678*C3678/6,400)/(B3678/2)+(control!$B$4-MIN(B3678*C3678/6,400))/(B3678/8)","v":65},21]
["Shizsaad",15,95,"D",{"$f":"MIN(B3679*C3679/6,400)/(B3679/2)+(control!$B$4-MIN(B3679*C3679/6,400))/(B3679/8)","v":118.33333333333334},16]
["Shocker",20,76,"S",{"$f":"MIN(B3680*C3680/6,400)/(B3680/2)+(control!$B$4-MIN(B3680*C3680/6,400))/(B3680/8)","v":84},21]
["Shooting Star",19,78,"M",{"$f":"MIN(B3681*C3681/6,400)/(B3681/2)+(control!$B$4-MIN(B3681*C3681/6,400))/(B3681/8)","v":90.421052631578945},20]
["Short Story",19,94,"D",{"$f":"MIN(B3682*C3682/6,400)/(B3682/2)+(control!$B$4-MIN(B3682*C3682/6,400))/(B3682/8)","v":74.421052631578945},19]
["Shorty",18,88,"M",{"$f":"MIN(B3683*C3683/6,400)/(B3683/2)+(control!$B$4-MIN(B3683*C3683/6,400))/(B3683/8)","v":89.777777777777771},20]
["ShotGun",22,110,"D",{"$f":"MIN(B3684*C3684/6,400)/(B3684/2)+(control!$B$4-MIN(B3684*C3684/6,400))/(B3684/8)","v":36.363636363636367},25]
["Show Me Chism",21,76,"S",{"$f":"MIN(B3685*C3685/6,400)/(B3685/2)+(control!$B$4-MIN(B3685*C3685/6,400))/(B3685/8)","v":76.38095238095238},23]
["Show me the money",17,123,"D",{"$f":"MIN(B3686*C3686/6,400)/(B3686/2)+(control!$B$4-MIN(B3686*C3686/6,400))/(B3686/8)","v":65.235294117647058},19]
["Show N Tell",20,59,"S",{"$f":"MIN(B3687*C3687/6,400)/(B3687/2)+(control!$B$4-MIN(B3687*C3687/6,400))/(B3687/8)","v":101},20]
["Showdow Lark",23,73,"S",{"$f":"MIN(B3688*C3688/6,400)/(B3688/2)+(control!$B$4-MIN(B3688*C3688/6,400))/(B3688/8)","v":66.130434782608702},24]
["Showdown",27,82,"M",{"$f":"MIN(B3689*C3689/6,400)/(B3689/2)+(control!$B$4-MIN(B3689*C3689/6,400))/(B3689/8)","v":36.518518518518519},29]
["Showmen",16,74,"S",{"$f":"MIN(B3690*C3690/6,400)/(B3690/2)+(control!$B$4-MIN(B3690*C3690/6,400))/(B3690/8)","v":126},16]
["Shutter Bug",18,72,"M",{"$f":"MIN(B3691*C3691/6,400)/(B3691/2)+(control!$B$4-MIN(B3691*C3691/6,400))/(B3691/8)","v":105.77777777777777},22]
["Shuttle Bus",20,101,"D",{"$f":"MIN(B3692*C3692/6,400)/(B3692/2)+(control!$B$4-MIN(B3692*C3692/6,400))/(B3692/8)","v":59},22]
["Shy",19,98,"S",{"$f":"MIN(B3693*C3693/6,400)/(B3693/2)+(control!$B$4-MIN(B3693*C3693/6,400))/(B3693/8)","v":70.421052631578959},20]
["Shy Boy",25,99,"S",{"$f":"MIN(B3694*C3694/6,400)/(B3694/2)+(control!$B$4-MIN(B3694*C3694/6,400))/(B3694/8)","v":32},27]
["Shy Dandee",24,113,"D",{"$f":"MIN(B3695*C3695/6,400)/(B3695/2)+(control!$B$4-MIN(B3695*C3695/6,400))/(B3695/8)","v":33.333333333333336},26]
["Shyanne",21,102,"D",{"$f":"MIN(B3696*C3696/6,400)/(B3696/2)+(control!$B$4-MIN(B3696*C3696/6,400))/(B3696/8)","v":50.38095238095238},24]
["Shyboy",25,74,"S",{"$f":"MIN(B3697*C3697/6,400)/(B3697/2)+(control!$B$4-MIN(B3697*C3697/6,400))/(B3697/8)","v":54},26]
["Shyguy",20,82,"M",{"$f":"MIN(B3698*C3698/6,400)/(B3698/2)+(control!$B$4-MIN(B3698*C3698/6,400))/(B3698/8)","v":78},23]
["Sicsic",20,69,"S",{"$f":"MIN(B3699*C3699/6,400)/(B3699/2)+(control!$B$4-MIN(B3699*C3699/6,400))/(B3699/8)","v":91},23]
["Sid",20,96,"S",{"$f":"MIN(B3700*C3700/6,400)/(B3700/2)+(control!$B$4-MIN(B3700*C3700/6,400))/(B3700/8)","v":64},21]
["Sidney",27,99,"D",{"$f":"MIN(B3701*C3701/6,400)/(B3701/2)+(control!$B$4-MIN(B3701*C3701/6,400))/(B3701/8)","v":29.62962962962963},31]
["Sierra",19,63,"M",{"$f":"MIN(B3702*C3702/6,400)/(B3702/2)+(control!$B$4-MIN(B3702*C3702/6,400))/(B3702/8)","v":105.42105263157895},22]
["Sierra Nevada",26,88,"S",{"$f":"MIN(B3703*C3703/6,400)/(B3703/2)+(control!$B$4-MIN(B3703*C3703/6,400))/(B3703/8)","v":35.07692307692308},28]
["Sierra's Legacy",18,98,"D",{"$f":"MIN(B3704*C3704/6,400)/(B3704/2)+(control!$B$4-MIN(B3704*C3704/6,400))/(B3704/8)","v":79.777777777777771},22]
["Sierra's Sweet Rain",18,87,"M",{"$f":"MIN(B3705*C3705/6,400)/(B3705/2)+(control!$B$4-MIN(B3705*C3705/6,400))/(B3705/8)","v":90.777777777777771},18]
["Siesta",16,108,"D",{"$f":"MIN(B3706*C3706/6,400)/(B3706/2)+(control!$B$4-MIN(B3706*C3706/6,400))/(B3706/8)","v":92},16]
["Silence",26,82,"S",{"$f":"MIN(B3707*C3707/6,400)/(B3707/2)+(control!$B$4-MIN(B3707*C3707/6,400))/(B3707/8)","v":41.07692307692308},28]
["Silent Gray Fellow",26,89,"S",{"$f":"MIN(B3708*C3708/6,400)/(B3708/2)+(control!$B$4-MIN(B3708*C3708/6,400))/(B3708/8)","v":34.076923076923073},26]
["Silent Mist",18,80,"S",{"$f":"MIN(B3709*C3709/6,400)/(B3709/2)+(control!$B$4-MIN(B3709*C3709/6,400))/(B3709/8)","v":97.777777777777786},22]
["Silhouette",17,78,"S",{"$f":"MIN(B3710*C3710/6,400)/(B3710/2)+(control!$B$4-MIN(B3710*C3710/6,400))/(B3710/8)","v":110.23529411764706},21]
["Silk",17,110,"D",{"$f":"MIN(B3711*C3711/6,400)/(B3711/2)+(control!$B$4-MIN(B3711*C3711/6,400))/(B3711/8)","v":78.235294117647058},18]
["Silky",20,90,"S",{"$f":"MIN(B3712*C3712/6,400)/(B3712/2)+(control!$B$4-MIN(B3712*C3712/6,400))/(B3712/8)","v":70},22]
["Silly",24,75,"M",{"$f":"MIN(B3713*C3713/6,400)/(B3713/2)+(control!$B$4-MIN(B3713*C3713/6,400))/(B3713/8)","v":58.333333333333336},27]
["Silvara",26,105,"D",{"$f":"MIN(B3714*C3714/6,400)/(B3714/2)+(control!$B$4-MIN(B3714*C3714/6,400))/(B3714/8)","v":30.76923076923077},27]
["Silver",21,86,"M",{"$f":"MIN(B3715*C3715/6,400)/(B3715/2)+(control!$B$4-MIN(B3715*C3715/6,400))/(B3715/8)","v":66.38095238095238},25]
["Silver and Gold",17,75,"S",{"$f":"MIN(B3716*C3716/6,400)/(B3716/2)+(control!$B$4-MIN(B3716*C3716/6,400))/(B3716/8)","v":113.23529411764706},19]
["Silver Angel Beauty",22,101,"D",{"$f":"MIN(B3717*C3717/6,400)/(B3717/2)+(control!$B$4-MIN(B3717*C3717/6,400))/(B3717/8)","v":44.45454545454546},24]
["Silver Belle",24,100,"D",{"$f":"MIN(B3718*C3718/6,400)/(B3718/2)+(control!$B$4-MIN(B3718*C3718/6,400))/(B3718/8)","v":33.333333333333336},28]
["Silver Dollar",24,65,"S",{"$f":"MIN(B3719*C3719/6,400)/(B3719/2)+(control!$B$4-MIN(B3719*C3719/6,400))/(B3719/8)","v":68.333333333333329},26]
["Silver Flames",25,61,"S",{"$f":"MIN(B3720*C3720/6,400)/(B3720/2)+(control!$B$4-MIN(B3720*C3720/6,400))/(B3720/8)","v":67},25]
["Silver Knight",17,72,"M",{"$f":"MIN(B3721*C3721/6,400)/(B3721/2)+(control!$B$4-MIN(B3721*C3721/6,400))/(B3721/8)","v":116.23529411764706},21]
["Silver Lady",23,123,"S",{"$f":"MIN(B3722*C3722/6,400)/(B3722/2)+(control!$B$4-MIN(B3722*C3722/6,400))/(B3722/8)","v":34.782608695652172},27]
["Silver Lining",25,60,"S",{"$f":"MIN(B3723*C3723/6,400)/(B3723/2)+(control!$B$4-MIN(B3723*C3723/6,400))/(B3723/8)","v":68},29]
["Silver Marks",25,75,"M",{"$f":"MIN(B3724*C3724/6,400)/(B3724/2)+(control!$B$4-MIN(B3724*C3724/6,400))/(B3724/8)","v":53},25]
["Silver Moon",17,95,"M",{"$f":"MIN(B3725*C3725/6,400)/(B3725/2)+(control!$B$4-MIN(B3725*C3725/6,400))/(B3725/8)","v":93.235294117647058},19]
["Silver Satan",27,77,"S",{"$f":"MIN(B3726*C3726/6,400)/(B3726/2)+(control!$B$4-MIN(B3726*C3726/6,400))/(B3726/8)","v":41.518518518518519},30]
["Silver Seraph",21,87,"S",{"$f":"MIN(B3727*C3727/6,400)/(B3727/2)+(control!$B$4-MIN(B3727*C3727/6,400))/(B3727/8)","v":65.38095238095238},22]
["Silver Set",21,111,"S",{"$f":"MIN(B3728*C3728/6,400)/(B3728/2)+(control!$B$4-MIN(B3728*C3728/6,400))/(B3728/8)","v":41.38095238095238},21]
["Silver Spirit",15,101,"M",{"$f":"MIN(B3729*C3729/6,400)/(B3729/2)+(control!$B$4-MIN(B3729*C3729/6,400))/(B3729/8)","v":112.33333333333334},16]
["Silver Storm",18,100,"D",{"$f":"MIN(B3730*C3730/6,400)/(B3730/2)+(control!$B$4-MIN(B3730*C3730/6,400))/(B3730/8)","v":77.777777777777771},19]
["Silver Wind",22,101,"D",{"$f":"MIN(B3731*C3731/6,400)/(B3731/2)+(control!$B$4-MIN(B3731*C3731/6,400))/(B3731/8)","v":44.45454545454546},25]
["Silverwood",23,90,"M",{"$f":"MIN(B3732*C3732/6,400)/(B3732/2)+(control!$B$4-MIN(B3732*C3732/6,400))/(B3732/8)","v":49.130434782608695},25]
["Simba",15,89,"S",{"$f":"MIN(B3733*C3733/6,400)/(B3733/2)+(control!$B$4-MIN(B3733*C3733/6,400))/(B3733/8)","v":124.33333333333334},17]
["Simmon",21,68,"S",{"$f":"MIN(B3734*C3734/6,400)/(B3734/2)+(control!$B$4-MIN(B3734*C3734/6,400))/(B3734/8)","v":84.38095238095238},24]
["Simon",19,92,"D",{"$f":"MIN(B3735*C3735/6,400)/(B3735/2)+(control!$B$4-MIN(B3735*C3735/6,400))/(B3735/8)","v":76.421052631578959},22]
["Simple Obsession",19,123,"M",{"$f":"MIN(B3736*C3736/6,400)/(B3736/2)+(control!$B$4-MIN(B3736*C3736/6,400))/(B3736/8)","v":45.421052631578945},20]
["Simple Solution",21,91,"S",{"$f":"MIN(B3737*C3737/6,400)/(B3737/2)+(control!$B$4-MIN(B3737*C3737/6,400))/(B3737/8)","v":61.38095238095238},24]
["Simplicity",27,70,"M",{"$f":"MIN(B3738*C3738/6,400)/(B3738/2)+(control!$B$4-MIN(B3738*C3738/6,400))/(B3738/8)","v":48.518518518518519},28]
["Simply Dillon",20,112,"M",{"$f":"MIN(B3739*C3739/6,400)/(B3739/2)+(control!$B$4-MIN(B3739*C3739/6,400))/(B3739/8)","v":48},23]
["Simply Magestic",24,63,"S",{"$f":"MIN(B3740*C3740/6,400)/(B3740/2)+(control!$B$4-MIN(B3740*C3740/6,400))/(B3740/8)","v":70.333333333333343},28]
["Simply Sensational",19,72,"S",{"$f":"MIN(B3741*C3741/6,400)/(B3741/2)+(control!$B$4-MIN(B3741*C3741/6,400))/(B3741/8)","v":96.421052631578945},21]
["Simply Special",18,75,"S",{"$f":"MIN(B3742*C3742/6,400)/(B3742/2)+(control!$B$4-MIN(B3742*C3742/6,400))/(B3742/8)","v":102.77777777777777},20]
["Simply Spot",15,59,"S",{"$f":"MIN(B3743*C3743/6,400)/(B3743/2)+(control!$B$4-MIN(B3743*C3743/6,400))/(B3743/8)","v":154.33333333333331},17]
["Sinbad",17,81,"S",{"$f":"MIN(B3744*C3744/6,400)/(B3744/2)+(control!$B$4-MIN(B3744*C3744/6,400))/(B3744/8)","v":107.23529411764706},20]
["Sintana Strata",21,80,"S",{"$f":"MIN(B3745*C3745/6,400)/(B3745/2)+(control!$B$4-MIN(B3745*C3745/6,400))/(B3745/8)","v":72.38095238095238},23]
["Siobhan",27,61,"S",{"$f":"MIN(B3746*C3746/6,400)/(B3746/2)+(control!$B$4-MIN(B3746*C3746/6,400))/(B3746/8)","v":57.518518518518519},28]
["Sioux",17,106,"S",{"$f":"MIN(B3747*C3747/6,400)/(B3747/2)+(control!$B$4-MIN(B3747*C3747/6,400))/(B3747/8)","v":82.235294117647072},20]
["Sir Charles",25,90,"M",{"$f":"MIN(B3748*C3748/6,400)/(B3748/2)+(control!$B$4-MIN(B3748*C3748/6,400))/(B3748/8)","v":38},27]
["Sir Kick-a-lot",21,70,"S",{"$f":"MIN(B3749*C3749/6,400)/(B3749/2)+(control!$B$4-MIN(B3749*C3749/6,400))/(B3749/8)","v":82.38095238095238},25]
["Sir Lancelot",25,75,"M",{"$f":"MIN(B3750*C3750/6,400)/(B3750/2)+(control!$B$4-MIN(B3750*C3750/6,400))/(B3750/8)","v":53},27]
["Sir Nedrick",21,84,"S",{"$f":"MIN(B3751*C3751/6,400)/(B3751/2)+(control!$B$4-MIN(B3751*C3751/6,400))/(B3751/8)","v":68.38095238095238},25]
["Sir Patch",17,76,"S",{"$f":"MIN(B3752*C3752/6,400)/(B3752/2)+(control!$B$4-MIN(B3752*C3752/6,400))/(B3752/8)","v":112.23529411764704},17]
["Sir Prince",21,99,"S",{"$f":"MIN(B3753*C3753/6,400)/(B3753/2)+(control!$B$4-MIN(B3753*C3753/6,400))/(B3753/8)","v":53.38095238095238},23]
["Sir Prize",15,98,"S",{"$f":"MIN(B3754*C3754/6,400)/(B3754/2)+(control!$B$4-MIN(B3754*C3754/6,400))/(B3754/8)","v":115.33333333333334},18]
["Sir Reginald",21,94,"M",{"$f":"MIN(B3755*C3755/6,400)/(B3755/2)+(control!$B$4-MIN(B3755*C3755/6,400))/(B3755/8)","v":58.38095238095238},23]
["Sir Trooper",19,70,"M",{"$f":"MIN(B3756*C3756/6,400)/(B3756/2)+(control!$B$4-MIN(B3756*C3756/6,400))/(B3756/8)","v":98.421052631578945},21]
["Sirius",22,122,"S",{"$f":"MIN(B3757*C3757/6,400)/(B3757/2)+(control!$B$4-MIN(B3757*C3757/6,400))/(B3757/8)","v":36.363636363636367},26]
["Siroco",22,119,"S",{"$f":"MIN(B3758*C3758/6,400)/(B3758/2)+(control!$B$4-MIN(B3758*C3758/6,400))/(B3758/8)","v":36.363636363636367},24]
["Sisco",16,96,"D",{"$f":"MIN(B3759*C3759/6,400)/(B3759/2)+(control!$B$4-MIN(B3759*C3759/6,400))/(B3759/8)","v":104},17]
["Sissy",23,90,"M",{"$f":"MIN(B3760*C3760/6,400)/(B3760/2)+(control!$B$4-MIN(B3760*C3760/6,400))/(B3760/8)","v":49.130434782608695},25]
["Sister",24,91,"D",{"$f":"MIN(B3761*C3761/6,400)/(B3761/2)+(control!$B$4-MIN(B3761*C3761/6,400))/(B3761/8)","v":42.333333333333329},27]
["Sizzler",19,89,"S",{"$f":"MIN(B3762*C3762/6,400)/(B3762/2)+(control!$B$4-MIN(B3762*C3762/6,400))/(B3762/8)","v":79.421052631578959},20]
["Sizzling Cisco",24,76,"S",{"$f":"MIN(B3763*C3763/6,400)/(B3763/2)+(control!$B$4-MIN(B3763*C3763/6,400))/(B3763/8)","v":57.333333333333329},26]
["Sk8terboi ",24,89,"M",{"$f":"MIN(B3764*C3764/6,400)/(B3764/2)+(control!$B$4-MIN(B3764*C3764/6,400))/(B3764/8)","v":44.333333333333336},28]
["Skeeter",21,99,"S",{"$f":"MIN(B3765*C3765/6,400)/(B3765/2)+(control!$B$4-MIN(B3765*C3765/6,400))/(B3765/8)","v":53.38095238095238},23]
["Skip",22,60,"S",{"$f":"MIN(B3766*C3766/6,400)/(B3766/2)+(control!$B$4-MIN(B3766*C3766/6,400))/(B3766/8)","v":85.454545454545453},26]
["Skip A Beat Kid",17,84,"M",{"$f":"MIN(B3767*C3767/6,400)/(B3767/2)+(control!$B$4-MIN(B3767*C3767/6,400))/(B3767/8)","v":104.23529411764706},18]
["Skippa",19,74,"S",{"$f":"MIN(B3768*C3768/6,400)/(B3768/2)+(control!$B$4-MIN(B3768*C3768/6,400))/(B3768/8)","v":94.421052631578945},21]
["Skipper",26,92,"D",{"$f":"MIN(B3769*C3769/6,400)/(B3769/2)+(control!$B$4-MIN(B3769*C3769/6,400))/(B3769/8)","v":31.076923076923073},26]
["Skippers Cool Rainbo",21,102,"S",{"$f":"MIN(B3770*C3770/6,400)/(B3770/2)+(control!$B$4-MIN(B3770*C3770/6,400))/(B3770/8)","v":50.38095238095238},23]
["Skippers Midnight Bar",22,75,"M",{"$f":"MIN(B3771*C3771/6,400)/(B3771/2)+(control!$B$4-MIN(B3771*C3771/6,400))/(B3771/8)","v":70.454545454545453},24]
["Skippy",22,91,"S",{"$f":"MIN(B3772*C3772/6,400)/(B3772/2)+(control!$B$4-MIN(B3772*C3772/6,400))/(B3772/8)","v":54.454545454545453},25]
["Skips Sweet Dreams",26,116,"D",{"$f":"MIN(B3773*C3773/6,400)/(B3773/2)+(control!$B$4-MIN(B3773*C3773/6,400))/(B3773/8)","v":30.76923076923077},26]
["Skittles",26,87,"S",{"$f":"MIN(B3774*C3774/6,400)/(B3774/2)+(control!$B$4-MIN(B3774*C3774/6,400))/(B3774/8)","v":36.07692307692308},27]
["Skor",20,74,"S",{"$f":"MIN(B3775*C3775/6,400)/(B3775/2)+(control!$B$4-MIN(B3775*C3775/6,400))/(B3775/8)","v":86},24]
["Skwirt",20,87,"S",{"$f":"MIN(B3776*C3776/6,400)/(B3776/2)+(control!$B$4-MIN(B3776*C3776/6,400))/(B3776/8)","v":73},23]
["Sky",26,102,"S",{"$f":"MIN(B3777*C3777/6,400)/(B3777/2)+(control!$B$4-MIN(B3777*C3777/6,400))/(B3777/8)","v":30.76923076923077},28]
["Sky Classic",20,81,"S",{"$f":"MIN(B3778*C3778/6,400)/(B3778/2)+(control!$B$4-MIN(B3778*C3778/6,400))/(B3778/8)","v":79},21]
["Sky Dancer",19,91,"D",{"$f":"MIN(B3779*C3779/6,400)/(B3779/2)+(control!$B$4-MIN(B3779*C3779/6,400))/(B3779/8)","v":77.421052631578945},21]
["Sky Flyer",18,60,"S",{"$f":"MIN(B3780*C3780/6,400)/(B3780/2)+(control!$B$4-MIN(B3780*C3780/6,400))/(B3780/8)","v":117.77777777777777},22]
["Sky Master",15,85,"M",{"$f":"MIN(B3781*C3781/6,400)/(B3781/2)+(control!$B$4-MIN(B3781*C3781/6,400))/(B3781/8)","v":128.33333333333334},15]
["Sky Rocket",20,83,"M",{"$f":"MIN(B3782*C3782/6,400)/(B3782/2)+(control!$B$4-MIN(B3782*C3782/6,400))/(B3782/8)","v":77},24]
["Sky Song",25,110,"D",{"$f":"MIN(B3783*C3783/6,400)/(B3783/2)+(control!$B$4-MIN(B3783*C3783/6,400))/(B3783/8)","v":32},28]
["Skybound",21,112,"D",{"$f":"MIN(B3784*C3784/6,400)/(B3784/2)+(control!$B$4-MIN(B3784*C3784/6,400))/(B3784/8)","v":40.38095238095238},25]
["Skycab",23,60,"S",{"$f":"MIN(B3785*C3785/6,400)/(B3785/2)+(control!$B$4-MIN(B3785*C3785/6,400))/(B3785/8)","v":79.130434782608688},23]
["Skydance",22,70,"M",{"$f":"MIN(B3786*C3786/6,400)/(B3786/2)+(control!$B$4-MIN(B3786*C3786/6,400))/(B3786/8)","v":75.454545454545453},25]
["Skydancer",16,95,"S",{"$f":"MIN(B3787*C3787/6,400)/(B3787/2)+(control!$B$4-MIN(B3787*C3787/6,400))/(B3787/8)","v":105},16]
["Skye",17,76,"S",{"$f":"MIN(B3788*C3788/6,400)/(B3788/2)+(control!$B$4-MIN(B3788*C3788/6,400))/(B3788/8)","v":112.23529411764704},21]
["Skye's The Limit",17,75,"M",{"$f":"MIN(B3789*C3789/6,400)/(B3789/2)+(control!$B$4-MIN(B3789*C3789/6,400))/(B3789/8)","v":113.23529411764706},20]
["Skyla",17,87,"M",{"$f":"MIN(B3790*C3790/6,400)/(B3790/2)+(control!$B$4-MIN(B3790*C3790/6,400))/(B3790/8)","v":101.23529411764706},17]
["Skylark",22,121,"S",{"$f":"MIN(B3791*C3791/6,400)/(B3791/2)+(control!$B$4-MIN(B3791*C3791/6,400))/(B3791/8)","v":36.363636363636367},24]
["Skyler",19,65,"M",{"$f":"MIN(B3792*C3792/6,400)/(B3792/2)+(control!$B$4-MIN(B3792*C3792/6,400))/(B3792/8)","v":103.42105263157895},20]
["Sky's the Limit",21,73,"S",{"$f":"MIN(B3793*C3793/6,400)/(B3793/2)+(control!$B$4-MIN(B3793*C3793/6,400))/(B3793/8)","v":79.38095238095238},22]
["Skysong",18,80,"S",{"$f":"MIN(B3794*C3794/6,400)/(B3794/2)+(control!$B$4-MIN(B3794*C3794/6,400))/(B3794/8)","v":97.777777777777786},18]
["Skywalker",16,94,"D",{"$f":"MIN(B3795*C3795/6,400)/(B3795/2)+(control!$B$4-MIN(B3795*C3795/6,400))/(B3795/8)","v":106},18]
["Slate",23,90,"M",{"$f":"MIN(B3796*C3796/6,400)/(B3796/2)+(control!$B$4-MIN(B3796*C3796/6,400))/(B3796/8)","v":49.130434782608695},25]
["Sleepless in Seattle",22,107,"D",{"$f":"MIN(B3797*C3797/6,400)/(B3797/2)+(control!$B$4-MIN(B3797*C3797/6,400))/(B3797/8)","v":38.45454545454546},25]
["Slew Baby",25,94,"S",{"$f":"MIN(B3798*C3798/6,400)/(B3798/2)+(control!$B$4-MIN(B3798*C3798/6,400))/(B3798/8)","v":34},27]
["Slick",25,84,"M",{"$f":"MIN(B3799*C3799/6,400)/(B3799/2)+(control!$B$4-MIN(B3799*C3799/6,400))/(B3799/8)","v":44},25]
["Sling",21,82,"S",{"$f":"MIN(B3800*C3800/6,400)/(B3800/2)+(control!$B$4-MIN(B3800*C3800/6,400))/(B3800/8)","v":70.38095238095238},22]
["Slinky Dog",19,110,"S",{"$f":"MIN(B3801*C3801/6,400)/(B3801/2)+(control!$B$4-MIN(B3801*C3801/6,400))/(B3801/8)","v":58.421052631578952},19]
["Slippers",19,120,"M",{"$f":"MIN(B3802*C3802/6,400)/(B3802/2)+(control!$B$4-MIN(B3802*C3802/6,400))/(B3802/8)","v":48.421052631578945},23]
["Slippy",24,76,"S",{"$f":"MIN(B3803*C3803/6,400)/(B3803/2)+(control!$B$4-MIN(B3803*C3803/6,400))/(B3803/8)","v":57.333333333333329},25]
["Slow Show Shimer",19,111,"D",{"$f":"MIN(B3804*C3804/6,400)/(B3804/2)+(control!$B$4-MIN(B3804*C3804/6,400))/(B3804/8)","v":57.421052631578945},21]
["Sly",20,76,"S",{"$f":"MIN(B3805*C3805/6,400)/(B3805/2)+(control!$B$4-MIN(B3805*C3805/6,400))/(B3805/8)","v":84},21]
["Small Change",27,63,"S",{"$f":"MIN(B3806*C3806/6,400)/(B3806/2)+(control!$B$4-MIN(B3806*C3806/6,400))/(B3806/8)","v":55.518518518518519},29]
["Smartie",17,81,"M",{"$f":"MIN(B3807*C3807/6,400)/(B3807/2)+(control!$B$4-MIN(B3807*C3807/6,400))/(B3807/8)","v":107.23529411764706},18]
["Smartie",19,79,"S",{"$f":"MIN(B3808*C3808/6,400)/(B3808/2)+(control!$B$4-MIN(B3808*C3808/6,400))/(B3808/8)","v":89.421052631578945},21]
["Smokey",15,80,"S",{"$f":"MIN(B3809*C3809/6,400)/(B3809/2)+(control!$B$4-MIN(B3809*C3809/6,400))/(B3809/8)","v":133.33333333333334},15]
["Smokin' Jo Horn",19,76,"S",{"$f":"MIN(B3810*C3810/6,400)/(B3810/2)+(control!$B$4-MIN(B3810*C3810/6,400))/(B3810/8)","v":92.421052631578945},19]
["Smokin' Jo Horn",20,89,"S",{"$f":"MIN(B3811*C3811/6,400)/(B3811/2)+(control!$B$4-MIN(B3811*C3811/6,400))/(B3811/8)","v":71},23]
["Smokin Satin Bars",24,102,"M",{"$f":"MIN(B3812*C3812/6,400)/(B3812/2)+(control!$B$4-MIN(B3812*C3812/6,400))/(B3812/8)","v":33.333333333333336},28]
["Smoors",21,83,"S",{"$f":"MIN(B3813*C3813/6,400)/(B3813/2)+(control!$B$4-MIN(B3813*C3813/6,400))/(B3813/8)","v":69.38095238095238},25]
["Smooth Flight",21,85,"M",{"$f":"MIN(B3814*C3814/6,400)/(B3814/2)+(control!$B$4-MIN(B3814*C3814/6,400))/(B3814/8)","v":67.38095238095238},23]
["Smooth Passin Dude",21,98,"D",{"$f":"MIN(B3815*C3815/6,400)/(B3815/2)+(control!$B$4-MIN(B3815*C3815/6,400))/(B3815/8)","v":54.38095238095238},25]
["Snake",18,83,"S",{"$f":"MIN(B3816*C3816/6,400)/(B3816/2)+(control!$B$4-MIN(B3816*C3816/6,400))/(B3816/8)","v":94.777777777777786},20]
["Snap Dragon",19,72,"S",{"$f":"MIN(B3817*C3817/6,400)/(B3817/2)+(control!$B$4-MIN(B3817*C3817/6,400))/(B3817/8)","v":96.421052631578945},22]
["Snapple",16,91,"S",{"$f":"MIN(B3818*C3818/6,400)/(B3818/2)+(control!$B$4-MIN(B3818*C3818/6,400))/(B3818/8)","v":109},17]
["Snappy",16,109,"D",{"$f":"MIN(B3819*C3819/6,400)/(B3819/2)+(control!$B$4-MIN(B3819*C3819/6,400))/(B3819/8)","v":91},18]
["Sneak Preview",26,86,"M",{"$f":"MIN(B3820*C3820/6,400)/(B3820/2)+(control!$B$4-MIN(B3820*C3820/6,400))/(B3820/8)","v":37.076923076923073},28]
["Sneakers",16,82,"S",{"$f":"MIN(B3821*C3821/6,400)/(B3821/2)+(control!$B$4-MIN(B3821*C3821/6,400))/(B3821/8)","v":118},19]
["Snicker Doodle",22,87,"M",{"$f":"MIN(B3822*C3822/6,400)/(B3822/2)+(control!$B$4-MIN(B3822*C3822/6,400))/(B3822/8)","v":58.454545454545453},24]
["Snickerdoodledandy",23,85,"S",{"$f":"MIN(B3823*C3823/6,400)/(B3823/2)+(control!$B$4-MIN(B3823*C3823/6,400))/(B3823/8)","v":54.130434782608702},23]
["Snickers",15,108,"M",{"$f":"MIN(B3824*C3824/6,400)/(B3824/2)+(control!$B$4-MIN(B3824*C3824/6,400))/(B3824/8)","v":105.33333333333333},19]
["Snip",27,109,"S",{"$f":"MIN(B3825*C3825/6,400)/(B3825/2)+(control!$B$4-MIN(B3825*C3825/6,400))/(B3825/8)","v":29.62962962962963},30]
["Sniper",18,75,"S",{"$f":"MIN(B3826*C3826/6,400)/(B3826/2)+(control!$B$4-MIN(B3826*C3826/6,400))/(B3826/8)","v":102.77777777777777},19]
["Snipper",24,72,"S",{"$f":"MIN(B3827*C3827/6,400)/(B3827/2)+(control!$B$4-MIN(B3827*C3827/6,400))/(B3827/8)","v":61.333333333333336},28]
["Snoopy",18,79,"S",{"$f":"MIN(B3828*C3828/6,400)/(B3828/2)+(control!$B$4-MIN(B3828*C3828/6,400))/(B3828/8)","v":98.777777777777771},20]
["Snoozy",22,70,"M",{"$f":"MIN(B3829*C3829/6,400)/(B3829/2)+(control!$B$4-MIN(B3829*C3829/6,400))/(B3829/8)","v":75.454545454545453},22]
["Snow",19,98,"M",{"$f":"MIN(B3830*C3830/6,400)/(B3830/2)+(control!$B$4-MIN(B3830*C3830/6,400))/(B3830/8)","v":70.421052631578959},20]
["Snow Bird",21,76,"M",{"$f":"MIN(B3831*C3831/6,400)/(B3831/2)+(control!$B$4-MIN(B3831*C3831/6,400))/(B3831/8)","v":76.38095238095238},22]
["Snow Dancer",16,88,"S",{"$f":"MIN(B3832*C3832/6,400)/(B3832/2)+(control!$B$4-MIN(B3832*C3832/6,400))/(B3832/8)","v":112},19]
["Snow Feather",26,74,"S",{"$f":"MIN(B3833*C3833/6,400)/(B3833/2)+(control!$B$4-MIN(B3833*C3833/6,400))/(B3833/8)","v":49.076923076923073},28]
["Snow Storm",20,109,"S",{"$f":"MIN(B3834*C3834/6,400)/(B3834/2)+(control!$B$4-MIN(B3834*C3834/6,400))/(B3834/8)","v":51},23]
["Snow White",21,72,"M",{"$f":"MIN(B3835*C3835/6,400)/(B3835/2)+(control!$B$4-MIN(B3835*C3835/6,400))/(B3835/8)","v":80.38095238095238},24]
["Snowball",19,80,"S",{"$f":"MIN(B3836*C3836/6,400)/(B3836/2)+(control!$B$4-MIN(B3836*C3836/6,400))/(B3836/8)","v":88.421052631578945},23]
["Snowey",19,94,"D",{"$f":"MIN(B3837*C3837/6,400)/(B3837/2)+(control!$B$4-MIN(B3837*C3837/6,400))/(B3837/8)","v":74.421052631578945},23]
["Snowflake",23,85,"S",{"$f":"MIN(B3838*C3838/6,400)/(B3838/2)+(control!$B$4-MIN(B3838*C3838/6,400))/(B3838/8)","v":54.130434782608702},23]
["Snowflake Revenge",21,68,"S",{"$f":"MIN(B3839*C3839/6,400)/(B3839/2)+(control!$B$4-MIN(B3839*C3839/6,400))/(B3839/8)","v":84.38095238095238},22]
["Snowflakes Irish Dream",19,88,"S",{"$f":"MIN(B3840*C3840/6,400)/(B3840/2)+(control!$B$4-MIN(B3840*C3840/6,400))/(B3840/8)","v":80.421052631578945},23]
["Snowhite",20,79,"M",{"$f":"MIN(B3841*C3841/6,400)/(B3841/2)+(control!$B$4-MIN(B3841*C3841/6,400))/(B3841/8)","v":81},21]
["Snowy",21,108,"M",{"$f":"MIN(B3842*C3842/6,400)/(B3842/2)+(control!$B$4-MIN(B3842*C3842/6,400))/(B3842/8)","v":44.38095238095238},25]
["Snowy",15,113,"D",{"$f":"MIN(B3843*C3843/6,400)/(B3843/2)+(control!$B$4-MIN(B3843*C3843/6,400))/(B3843/8)","v":100.33333333333333},18]
["So Perfect",20,103,"S",{"$f":"MIN(B3844*C3844/6,400)/(B3844/2)+(control!$B$4-MIN(B3844*C3844/6,400))/(B3844/8)","v":57},21]
["Social Security",21,89,"M",{"$f":"MIN(B3845*C3845/6,400)/(B3845/2)+(control!$B$4-MIN(B3845*C3845/6,400))/(B3845/8)","v":63.38095238095238},23]
["Sockowitz",16,77,"M",{"$f":"MIN(B3846*C3846/6,400)/(B3846/2)+(control!$B$4-MIN(B3846*C3846/6,400))/(B3846/8)","v":123},20]
["Socks",17,113,"S",{"$f":"MIN(B3847*C3847/6,400)/(B3847/2)+(control!$B$4-MIN(B3847*C3847/6,400))/(B3847/8)","v":75.235294117647058},18]
["Soho",27,80,"S",{"$f":"MIN(B3848*C3848/6,400)/(B3848/2)+(control!$B$4-MIN(B3848*C3848/6,400))/(B3848/8)","v":38.518518518518519},30]
["Solar Blaze",27,64,"S",{"$f":"MIN(B3849*C3849/6,400)/(B3849/2)+(control!$B$4-MIN(B3849*C3849/6,400))/(B3849/8)","v":54.518518518518519},30]
["Solar Eclipse",24,77,"M",{"$f":"MIN(B3850*C3850/6,400)/(B3850/2)+(control!$B$4-MIN(B3850*C3850/6,400))/(B3850/8)","v":56.333333333333336},24]
["Solar Flare",15,88,"S",{"$f":"MIN(B3851*C3851/6,400)/(B3851/2)+(control!$B$4-MIN(B3851*C3851/6,400))/(B3851/8)","v":125.33333333333333},16]
["Solaris",15,75,"M",{"$f":"MIN(B3852*C3852/6,400)/(B3852/2)+(control!$B$4-MIN(B3852*C3852/6,400))/(B3852/8)","v":138.33333333333331},16]
["Soleil",25,79,"S",{"$f":"MIN(B3853*C3853/6,400)/(B3853/2)+(control!$B$4-MIN(B3853*C3853/6,400))/(B3853/8)","v":49},27]
["Solmyr",18,119,"S",{"$f":"MIN(B3854*C3854/6,400)/(B3854/2)+(control!$B$4-MIN(B3854*C3854/6,400))/(B3854/8)","v":58.777777777777771},18]
["Solo",20,73,"M",{"$f":"MIN(B3855*C3855/6,400)/(B3855/2)+(control!$B$4-MIN(B3855*C3855/6,400))/(B3855/8)","v":87},20]
["Solomon",21,84,"S",{"$f":"MIN(B3856*C3856/6,400)/(B3856/2)+(control!$B$4-MIN(B3856*C3856/6,400))/(B3856/8)","v":68.38095238095238},25]
["Solomon Grundy",27,60,"S",{"$f":"MIN(B3857*C3857/6,400)/(B3857/2)+(control!$B$4-MIN(B3857*C3857/6,400))/(B3857/8)","v":58.518518518518519},31]
["Solon",18,76,"S",{"$f":"MIN(B3858*C3858/6,400)/(B3858/2)+(control!$B$4-MIN(B3858*C3858/6,400))/(B3858/8)","v":101.77777777777777},22]
["Some Fantastic",20,73,"S",{"$f":"MIN(B3859*C3859/6,400)/(B3859/2)+(control!$B$4-MIN(B3859*C3859/6,400))/(B3859/8)","v":87},21]
["Something Different",24,105,"S",{"$f":"MIN(B3860*C3860/6,400)/(B3860/2)+(control!$B$4-MIN(B3860*C3860/6,400))/(B3860/8)","v":33.333333333333336},24]
["Something Special",24,103,"D",{"$f":"MIN(B3861*C3861/6,400)/(B3861/2)+(control!$B$4-MIN(B3861*C3861/6,400))/(B3861/8)","v":33.333333333333336},24]
["Something to Remember",27,98,"D",{"$f":"MIN(B3862*C3862/6,400)/(B3862/2)+(control!$B$4-MIN(B3862*C3862/6,400))/(B3862/8)","v":29.62962962962963},31]
["Something To Talk About",26,67,"S",{"$f":"MIN(B3863*C3863/6,400)/(B3863/2)+(control!$B$4-MIN(B3863*C3863/6,400))/(B3863/8)","v":56.07692307692308},27]
["Sommer",25,84,"S",{"$f":"MIN(B3864*C3864/6,400)/(B3864/2)+(control!$B$4-MIN(B3864*C3864/6,400))/(B3864/8)","v":44},27]
["Song",23,109,"D",{"$f":"MIN(B3865*C3865/6,400)/(B3865/2)+(control!$B$4-MIN(B3865*C3865/6,400))/(B3865/8)","v":34.782608695652172},23]
["Song of the South",19,75,"M",{"$f":"MIN(B3866*C3866/6,400)/(B3866/2)+(control!$B$4-MIN(B3866*C3866/6,400))/(B3866/8)","v":93.421052631578945},22]
["Songstress",26,74,"S",{"$f":"MIN(B3867*C3867/6,400)/(B3867/2)+(control!$B$4-MIN(B3867*C3867/6,400))/(B3867/8)","v":49.076923076923073},30]
["Sonic",27,110,"S",{"$f":"MIN(B3868*C3868/6,400)/(B3868/2)+(control!$B$4-MIN(B3868*C3868/6,400))/(B3868/8)","v":29.62962962962963},31]
["Sonny",19,82,"M",{"$f":"MIN(B3869*C3869/6,400)/(B3869/2)+(control!$B$4-MIN(B3869*C3869/6,400))/(B3869/8)","v":86.421052631578945},20]
["Sonny Dee Zippin",15,101,"D",{"$f":"MIN(B3870*C3870/6,400)/(B3870/2)+(control!$B$4-MIN(B3870*C3870/6,400))/(B3870/8)","v":112.33333333333334},19]
["Sonnys Oakie Twister",19,91,"S",{"$f":"MIN(B3871*C3871/6,400)/(B3871/2)+(control!$B$4-MIN(B3871*C3871/6,400))/(B3871/8)","v":77.421052631578945},22]
["Sony",19,76,"M",{"$f":"MIN(B3872*C3872/6,400)/(B3872/2)+(control!$B$4-MIN(B3872*C3872/6,400))/(B3872/8)","v":92.421052631578945},22]
["Soozy",22,77,"S",{"$f":"MIN(B3873*C3873/6,400)/(B3873/2)+(control!$B$4-MIN(B3873*C3873/6,400))/(B3873/8)","v":68.454545454545467},26]
["Sound Reason",22,80,"M",{"$f":"MIN(B3874*C3874/6,400)/(B3874/2)+(control!$B$4-MIN(B3874*C3874/6,400))/(B3874/8)","v":65.454545454545467},26]
["South Street",26,92,"D",{"$f":"MIN(B3875*C3875/6,400)/(B3875/2)+(control!$B$4-MIN(B3875*C3875/6,400))/(B3875/8)","v":31.076923076923073},27]
["Southern Belle",22,89,"S",{"$f":"MIN(B3876*C3876/6,400)/(B3876/2)+(control!$B$4-MIN(B3876*C3876/6,400))/(B3876/8)","v":56.45454545454546},25]
["Southern comfort",21,74,"S",{"$f":"MIN(B3877*C3877/6,400)/(B3877/2)+(control!$B$4-MIN(B3877*C3877/6,400))/(B3877/8)","v":78.38095238095238},23]
["Southern Dixie Pride",21,111,"D",{"$f":"MIN(B3878*C3878/6,400)/(B3878/2)+(control!$B$4-MIN(B3878*C3878/6,400))/(B3878/8)","v":41.38095238095238},24]
["Southern Drawl",25,75,"S",{"$f":"MIN(B3879*C3879/6,400)/(B3879/2)+(control!$B$4-MIN(B3879*C3879/6,400))/(B3879/8)","v":53},28]
["Spaghetti",22,97,"M",{"$f":"MIN(B3880*C3880/6,400)/(B3880/2)+(control!$B$4-MIN(B3880*C3880/6,400))/(B3880/8)","v":48.454545454545453},25]
["Spanky",22,85,"M",{"$f":"MIN(B3881*C3881/6,400)/(B3881/2)+(control!$B$4-MIN(B3881*C3881/6,400))/(B3881/8)","v":60.454545454545453},25]
["Sparkey",20,95,"S",{"$f":"MIN(B3882*C3882/6,400)/(B3882/2)+(control!$B$4-MIN(B3882*C3882/6,400))/(B3882/8)","v":65},20]
["Sparkler",20,66,"S",{"$f":"MIN(B3883*C3883/6,400)/(B3883/2)+(control!$B$4-MIN(B3883*C3883/6,400))/(B3883/8)","v":94},22]
["Sparkling Sapphire",24,90,"M",{"$f":"MIN(B3884*C3884/6,400)/(B3884/2)+(control!$B$4-MIN(B3884*C3884/6,400))/(B3884/8)","v":43.333333333333336},27]
["Sparky",17,119,"S",{"$f":"MIN(B3885*C3885/6,400)/(B3885/2)+(control!$B$4-MIN(B3885*C3885/6,400))/(B3885/8)","v":69.235294117647058},17]
["Spartan",20,72,"S",{"$f":"MIN(B3886*C3886/6,400)/(B3886/2)+(control!$B$4-MIN(B3886*C3886/6,400))/(B3886/8)","v":88},20]
["Special Dark",27,96,"D",{"$f":"MIN(B3887*C3887/6,400)/(B3887/2)+(control!$B$4-MIN(B3887*C3887/6,400))/(B3887/8)","v":29.62962962962963},29]
["Special Edition",23,121,"S",{"$f":"MIN(B3888*C3888/6,400)/(B3888/2)+(control!$B$4-MIN(B3888*C3888/6,400))/(B3888/8)","v":34.782608695652172},23]
["Special Effects",18,79,"S",{"$f":"MIN(B3889*C3889/6,400)/(B3889/2)+(control!$B$4-MIN(B3889*C3889/6,400))/(B3889/8)","v":98.777777777777771},19]
["Speckles",20,98,"D",{"$f":"MIN(B3890*C3890/6,400)/(B3890/2)+(control!$B$4-MIN(B3890*C3890/6,400))/(B3890/8)","v":62},22]
["Speed",20,84,"M",{"$f":"MIN(B3891*C3891/6,400)/(B3891/2)+(control!$B$4-MIN(B3891*C3891/6,400))/(B3891/8)","v":76},23]
["Speedy",21,107,"S",{"$f":"MIN(B3892*C3892/6,400)/(B3892/2)+(control!$B$4-MIN(B3892*C3892/6,400))/(B3892/8)","v":45.38095238095238},25]
["Speedy Gonzales",19,90,"S",{"$f":"MIN(B3893*C3893/6,400)/(B3893/2)+(control!$B$4-MIN(B3893*C3893/6,400))/(B3893/8)","v":78.421052631578945},23]
["Spencer",26,73,"S",{"$f":"MIN(B3894*C3894/6,400)/(B3894/2)+(control!$B$4-MIN(B3894*C3894/6,400))/(B3894/8)","v":50.07692307692308},27]
["Spice",25,118,"S",{"$f":"MIN(B3895*C3895/6,400)/(B3895/2)+(control!$B$4-MIN(B3895*C3895/6,400))/(B3895/8)","v":32},25]
["Spider",15,72,"S",{"$f":"MIN(B3896*C3896/6,400)/(B3896/2)+(control!$B$4-MIN(B3896*C3896/6,400))/(B3896/8)","v":141.33333333333331},15]
["Spiffy",24,62,"S",{"$f":"MIN(B3897*C3897/6,400)/(B3897/2)+(control!$B$4-MIN(B3897*C3897/6,400))/(B3897/8)","v":71.333333333333329},26]
["Spike",19,82,"S",{"$f":"MIN(B3898*C3898/6,400)/(B3898/2)+(control!$B$4-MIN(B3898*C3898/6,400))/(B3898/8)","v":86.421052631578945},20]
["Spikel",16,89,"M",{"$f":"MIN(B3899*C3899/6,400)/(B3899/2)+(control!$B$4-MIN(B3899*C3899/6,400))/(B3899/8)","v":111},16]
["Spinner",16,77,"M",{"$f":"MIN(B3900*C3900/6,400)/(B3900/2)+(control!$B$4-MIN(B3900*C3900/6,400))/(B3900/8)","v":123},18]
["Spirit",22,80,"S",{"$f":"MIN(B3901*C3901/6,400)/(B3901/2)+(control!$B$4-MIN(B3901*C3901/6,400))/(B3901/8)","v":65.454545454545467},26]
["Spirit of the West",17,87,"S",{"$f":"MIN(B3902*C3902/6,400)/(B3902/2)+(control!$B$4-MIN(B3902*C3902/6,400))/(B3902/8)","v":101.23529411764706},21]
["Spirit Within",22,111,"D",{"$f":"MIN(B3903*C3903/6,400)/(B3903/2)+(control!$B$4-MIN(B3903*C3903/6,400))/(B3903/8)","v":36.363636363636367},23]
["Spirited Swift Wind",20,96,"D",{"$f":"MIN(B3904*C3904/6,400)/(B3904/2)+(control!$B$4-MIN(B3904*C3904/6,400))/(B3904/8)","v":64},24]
["Spitfire",16,70,"M",{"$f":"MIN(B3905*C3905/6,400)/(B3905/2)+(control!$B$4-MIN(B3905*C3905/6,400))/(B3905/8)","v":130},17]
["Splash",20,111,"D",{"$f":"MIN(B3906*C3906/6,400)/(B3906/2)+(control!$B$4-MIN(B3906*C3906/6,400))/(B3906/8)","v":49},23]
["Splash Of Class",20,96,"D",{"$f":"MIN(B3907*C3907/6,400)/(B3907/2)+(control!$B$4-MIN(B3907*C3907/6,400))/(B3907/8)","v":64},20]
["Splash of Honey",20,77,"M",{"$f":"MIN(B3908*C3908/6,400)/(B3908/2)+(control!$B$4-MIN(B3908*C3908/6,400))/(B3908/8)","v":83},22]
["Splendid Export",21,85,"M",{"$f":"MIN(B3909*C3909/6,400)/(B3909/2)+(control!$B$4-MIN(B3909*C3909/6,400))/(B3909/8)","v":67.38095238095238},22]
["Splendor",20,85,"S",{"$f":"MIN(B3910*C3910/6,400)/(B3910/2)+(control!$B$4-MIN(B3910*C3910/6,400))/(B3910/8)","v":75},20]
["Splish-Splash",21,74,"M",{"$f":"MIN(B3911*C3911/6,400)/(B3911/2)+(control!$B$4-MIN(B3911*C3911/6,400))/(B3911/8)","v":78.38095238095238},21]
["Split Decision",15,81,"S",{"$f":"MIN(B3912*C3912/6,400)/(B3912/2)+(control!$B$4-MIN(B3912*C3912/6,400))/(B3912/8)","v":132.33333333333331},15]
["Splotch",20,101,"M",{"$f":"MIN(B3913*C3913/6,400)/(B3913/2)+(control!$B$4-MIN(B3913*C3913/6,400))/(B3913/8)","v":59},23]
["Spock",25,109,"D",{"$f":"MIN(B3914*C3914/6,400)/(B3914/2)+(control!$B$4-MIN(B3914*C3914/6,400))/(B3914/8)","v":32},27]
["Spoof",15,73,"S",{"$f":"MIN(B3915*C3915/6,400)/(B3915/2)+(control!$B$4-MIN(B3915*C3915/6,400))/(B3915/8)","v":140.33333333333334},15]
["Spook",19,98,"D",{"$f":"MIN(B3916*C3916/6,400)/(B3916/2)+(control!$B$4-MIN(B3916*C3916/6,400))/(B3916/8)","v":70.421052631578959},19]
["Spooky",24,85,"M",{"$f":"MIN(B3917*C3917/6,400)/(B3917/2)+(control!$B$4-MIN(B3917*C3917/6,400))/(B3917/8)","v":48.333333333333329},26]
["Sport",23,82,"S",{"$f":"MIN(B3918*C3918/6,400)/(B3918/2)+(control!$B$4-MIN(B3918*C3918/6,400))/(B3918/8)","v":57.130434782608702},25]
["Sport-n-Style",26,113,"D",{"$f":"MIN(B3919*C3919/6,400)/(B3919/2)+(control!$B$4-MIN(B3919*C3919/6,400))/(B3919/8)","v":30.76923076923077},29]
["Sporto",23,92,"S",{"$f":"MIN(B3920*C3920/6,400)/(B3920/2)+(control!$B$4-MIN(B3920*C3920/6,400))/(B3920/8)","v":47.130434782608688},27]
["Spot",21,84,"M",{"$f":"MIN(B3921*C3921/6,400)/(B3921/2)+(control!$B$4-MIN(B3921*C3921/6,400))/(B3921/8)","v":68.38095238095238},23]
["Spot a Dot",24,79,"M",{"$f":"MIN(B3922*C3922/6,400)/(B3922/2)+(control!$B$4-MIN(B3922*C3922/6,400))/(B3922/8)","v":54.333333333333329},26]
["Spots",27,71,"S",{"$f":"MIN(B3923*C3923/6,400)/(B3923/2)+(control!$B$4-MIN(B3923*C3923/6,400))/(B3923/8)","v":47.518518518518519},30]
["Sprite",19,69,"S",{"$f":"MIN(B3924*C3924/6,400)/(B3924/2)+(control!$B$4-MIN(B3924*C3924/6,400))/(B3924/8)","v":99.421052631578945},23]
["Sprocket",24,74,"M",{"$f":"MIN(B3925*C3925/6,400)/(B3925/2)+(control!$B$4-MIN(B3925*C3925/6,400))/(B3925/8)","v":59.333333333333329},25]
["Spunky",21,96,"D",{"$f":"MIN(B3926*C3926/6,400)/(B3926/2)+(control!$B$4-MIN(B3926*C3926/6,400))/(B3926/8)","v":56.38095238095238},21]
["Sputnick,",23,70,"M",{"$f":"MIN(B3927*C3927/6,400)/(B3927/2)+(control!$B$4-MIN(B3927*C3927/6,400))/(B3927/8)","v":69.130434782608702},26]
["Spy",27,120,"D",{"$f":"MIN(B3928*C3928/6,400)/(B3928/2)+(control!$B$4-MIN(B3928*C3928/6,400))/(B3928/8)","v":29.62962962962963},29]
["Squiggy",27,78,"S",{"$f":"MIN(B3929*C3929/6,400)/(B3929/2)+(control!$B$4-MIN(B3929*C3929/6,400))/(B3929/8)","v":40.518518518518519},31]
["Squirrel",25,99,"D",{"$f":"MIN(B3930*C3930/6,400)/(B3930/2)+(control!$B$4-MIN(B3930*C3930/6,400))/(B3930/8)","v":32},27]
["Srawberry Shortcake",21,95,"D",{"$f":"MIN(B3931*C3931/6,400)/(B3931/2)+(control!$B$4-MIN(B3931*C3931/6,400))/(B3931/8)","v":57.38095238095238},23]
["St.Andrew",25,120,"S",{"$f":"MIN(B3932*C3932/6,400)/(B3932/2)+(control!$B$4-MIN(B3932*C3932/6,400))/(B3932/8)","v":32},27]
["Sta Puff Marshmallow Man",16,84,"S",{"$f":"MIN(B3933*C3933/6,400)/(B3933/2)+(control!$B$4-MIN(B3933*C3933/6,400))/(B3933/8)","v":116},18]
["Stadium Jumper",21,88,"M",{"$f":"MIN(B3934*C3934/6,400)/(B3934/2)+(control!$B$4-MIN(B3934*C3934/6,400))/(B3934/8)","v":64.38095238095238},23]
["Stallion",24,121,"S",{"$f":"MIN(B3935*C3935/6,400)/(B3935/2)+(control!$B$4-MIN(B3935*C3935/6,400))/(B3935/8)","v":33.333333333333336},25]
["Standing Ovation",23,92,"D",{"$f":"MIN(B3936*C3936/6,400)/(B3936/2)+(control!$B$4-MIN(B3936*C3936/6,400))/(B3936/8)","v":47.130434782608688},25]
["Stanley",19,84,"M",{"$f":"MIN(B3937*C3937/6,400)/(B3937/2)+(control!$B$4-MIN(B3937*C3937/6,400))/(B3937/8)","v":84.421052631578945},22]
["Star",19,93,"D",{"$f":"MIN(B3938*C3938/6,400)/(B3938/2)+(control!$B$4-MIN(B3938*C3938/6,400))/(B3938/8)","v":75.421052631578945},22]
["Star",20,99,"D",{"$f":"MIN(B3939*C3939/6,400)/(B3939/2)+(control!$B$4-MIN(B3939*C3939/6,400))/(B3939/8)","v":61},21]
["Star \"O\" Wonder",23,98,"S",{"$f":"MIN(B3940*C3940/6,400)/(B3940/2)+(control!$B$4-MIN(B3940*C3940/6,400))/(B3940/8)","v":41.130434782608695},27]
["Star Dust",21,106,"S",{"$f":"MIN(B3941*C3941/6,400)/(B3941/2)+(control!$B$4-MIN(B3941*C3941/6,400))/(B3941/8)","v":46.38095238095238},22]
["Star Gazer",21,77,"M",{"$f":"MIN(B3942*C3942/6,400)/(B3942/2)+(control!$B$4-MIN(B3942*C3942/6,400))/(B3942/8)","v":75.38095238095238},25]
["Star Puff",20,93,"S",{"$f":"MIN(B3943*C3943/6,400)/(B3943/2)+(control!$B$4-MIN(B3943*C3943/6,400))/(B3943/8)","v":67},23]
["Star Status",20,83,"S",{"$f":"MIN(B3944*C3944/6,400)/(B3944/2)+(control!$B$4-MIN(B3944*C3944/6,400))/(B3944/8)","v":77},21]
["Star Struck",16,84,"M",{"$f":"MIN(B3945*C3945/6,400)/(B3945/2)+(control!$B$4-MIN(B3945*C3945/6,400))/(B3945/8)","v":116},19]
["Star Studded",19,74,"M",{"$f":"MIN(B3946*C3946/6,400)/(B3946/2)+(control!$B$4-MIN(B3946*C3946/6,400))/(B3946/8)","v":94.421052631578945},23]
["Star Trail",22,80,"S",{"$f":"MIN(B3947*C3947/6,400)/(B3947/2)+(control!$B$4-MIN(B3947*C3947/6,400))/(B3947/8)","v":65.454545454545467},25]
["Star Trek",24,82,"S",{"$f":"MIN(B3948*C3948/6,400)/(B3948/2)+(control!$B$4-MIN(B3948*C3948/6,400))/(B3948/8)","v":51.333333333333329},26]
["Star Wind",22,60,"S",{"$f":"MIN(B3949*C3949/6,400)/(B3949/2)+(control!$B$4-MIN(B3949*C3949/6,400))/(B3949/8)","v":85.454545454545453},22]
["Starbright",22,85,"S",{"$f":"MIN(B3950*C3950/6,400)/(B3950/2)+(control!$B$4-MIN(B3950*C3950/6,400))/(B3950/8)","v":60.454545454545453},23]
["Starbuck",22,98,"S",{"$f":"MIN(B3951*C3951/6,400)/(B3951/2)+(control!$B$4-MIN(B3951*C3951/6,400))/(B3951/8)","v":47.45454545454546},26]
["Starburst",19,82,"M",{"$f":"MIN(B3952*C3952/6,400)/(B3952/2)+(control!$B$4-MIN(B3952*C3952/6,400))/(B3952/8)","v":86.421052631578945},22]
["Starburst Doll",18,85,"M",{"$f":"MIN(B3953*C3953/6,400)/(B3953/2)+(control!$B$4-MIN(B3953*C3953/6,400))/(B3953/8)","v":92.777777777777771},18]
["Starburst Dynamite",15,86,"S",{"$f":"MIN(B3954*C3954/6,400)/(B3954/2)+(control!$B$4-MIN(B3954*C3954/6,400))/(B3954/8)","v":127.33333333333334},15]
["Stardust",21,112,"S",{"$f":"MIN(B3955*C3955/6,400)/(B3955/2)+(control!$B$4-MIN(B3955*C3955/6,400))/(B3955/8)","v":40.38095238095238},22]
["Starduster",21,93,"M",{"$f":"MIN(B3956*C3956/6,400)/(B3956/2)+(control!$B$4-MIN(B3956*C3956/6,400))/(B3956/8)","v":59.38095238095238},22]
["Stardust's Shine",26,79,"S",{"$f":"MIN(B3957*C3957/6,400)/(B3957/2)+(control!$B$4-MIN(B3957*C3957/6,400))/(B3957/8)","v":44.07692307692308},28]
["Stargazer",27,95,"S",{"$f":"MIN(B3958*C3958/6,400)/(B3958/2)+(control!$B$4-MIN(B3958*C3958/6,400))/(B3958/8)","v":29.62962962962963},27]
["Starlett",17,59,"S",{"$f":"MIN(B3959*C3959/6,400)/(B3959/2)+(control!$B$4-MIN(B3959*C3959/6,400))/(B3959/8)","v":129.23529411764707},21]
["Starlight",22,85,"M",{"$f":"MIN(B3960*C3960/6,400)/(B3960/2)+(control!$B$4-MIN(B3960*C3960/6,400))/(B3960/8)","v":60.454545454545453},25]
["Starlight Gazer",20,90,"S",{"$f":"MIN(B3961*C3961/6,400)/(B3961/2)+(control!$B$4-MIN(B3961*C3961/6,400))/(B3961/8)","v":70},23]
["Starlight silver",27,111,"D",{"$f":"MIN(B3962*C3962/6,400)/(B3962/2)+(control!$B$4-MIN(B3962*C3962/6,400))/(B3962/8)","v":29.62962962962963},29]
["Starling",19,70,"S",{"$f":"MIN(B3963*C3963/6,400)/(B3963/2)+(control!$B$4-MIN(B3963*C3963/6,400))/(B3963/8)","v":98.421052631578945},20]
["Starlit",21,78,"S",{"$f":"MIN(B3964*C3964/6,400)/(B3964/2)+(control!$B$4-MIN(B3964*C3964/6,400))/(B3964/8)","v":74.38095238095238},25]
["Starman",18,97,"D",{"$f":"MIN(B3965*C3965/6,400)/(B3965/2)+(control!$B$4-MIN(B3965*C3965/6,400))/(B3965/8)","v":80.777777777777771},21]
["Starr",22,76,"M",{"$f":"MIN(B3966*C3966/6,400)/(B3966/2)+(control!$B$4-MIN(B3966*C3966/6,400))/(B3966/8)","v":69.454545454545453},25]
["Starshine",16,82,"S",{"$f":"MIN(B3967*C3967/6,400)/(B3967/2)+(control!$B$4-MIN(B3967*C3967/6,400))/(B3967/8)","v":118},19]
["Starstruck",23,95,"S",{"$f":"MIN(B3968*C3968/6,400)/(B3968/2)+(control!$B$4-MIN(B3968*C3968/6,400))/(B3968/8)","v":44.130434782608688},26]
["Starz",21,95,"M",{"$f":"MIN(B3969*C3969/6,400)/(B3969/2)+(control!$B$4-MIN(B3969*C3969/6,400))/(B3969/8)","v":57.38095238095238},21]
["Starzao",17,120,"D",{"$f":"MIN(B3970*C3970/6,400)/(B3970/2)+(control!$B$4-MIN(B3970*C3970/6,400))/(B3970/8)","v":68.235294117647058},21]
["Staying the best",16,63,"S",{"$f":"MIN(B3971*C3971/6,400)/(B3971/2)+(control!$B$4-MIN(B3971*C3971/6,400))/(B3971/8)","v":137},20]
["Stealy Dan",17,78,"M",{"$f":"MIN(B3972*C3972/6,400)/(B3972/2)+(control!$B$4-MIN(B3972*C3972/6,400))/(B3972/8)","v":110.23529411764706},20]
["Steamer",23,94,"S",{"$f":"MIN(B3973*C3973/6,400)/(B3973/2)+(control!$B$4-MIN(B3973*C3973/6,400))/(B3973/8)","v":45.130434782608702},26]
["Steel Force",16,91,"M",{"$f":"MIN(B3974*C3974/6,400)/(B3974/2)+(control!$B$4-MIN(B3974*C3974/6,400))/(B3974/8)","v":109},17]
["Steelsings",21,74,"M",{"$f":"MIN(B3975*C3975/6,400)/(B3975/2)+(control!$B$4-MIN(B3975*C3975/6,400))/(B3975/8)","v":78.38095238095238},25]
["Stella",21,63,"M",{"$f":"MIN(B3976*C3976/6,400)/(B3976/2)+(control!$B$4-MIN(B3976*C3976/6,400))/(B3976/8)","v":89.38095238095238},21]
["Stella Artois of Loxley",15,94,"D",{"$f":"MIN(B3977*C3977/6,400)/(B3977/2)+(control!$B$4-MIN(B3977*C3977/6,400))/(B3977/8)","v":119.33333333333333},18]
["Stellar",22,94,"D",{"$f":"MIN(B3978*C3978/6,400)/(B3978/2)+(control!$B$4-MIN(B3978*C3978/6,400))/(B3978/8)","v":51.454545454545453},23]
["Stepin Out",19,60,"S",{"$f":"MIN(B3979*C3979/6,400)/(B3979/2)+(control!$B$4-MIN(B3979*C3979/6,400))/(B3979/8)","v":108.42105263157895},19]
["Steppin' It Out",20,103,"M",{"$f":"MIN(B3980*C3980/6,400)/(B3980/2)+(control!$B$4-MIN(B3980*C3980/6,400))/(B3980/8)","v":57},21]
["Steppin' Out",19,79,"S",{"$f":"MIN(B3981*C3981/6,400)/(B3981/2)+(control!$B$4-MIN(B3981*C3981/6,400))/(B3981/8)","v":89.421052631578945},20]
["Steppin' Stars",27,86,"M",{"$f":"MIN(B3982*C3982/6,400)/(B3982/2)+(control!$B$4-MIN(B3982*C3982/6,400))/(B3982/8)","v":32.518518518518519},30]
["Sterling",25,70,"M",{"$f":"MIN(B3983*C3983/6,400)/(B3983/2)+(control!$B$4-MIN(B3983*C3983/6,400))/(B3983/8)","v":57.999999999999993},25]
["Sterling Dreamz",24,79,"S",{"$f":"MIN(B3984*C3984/6,400)/(B3984/2)+(control!$B$4-MIN(B3984*C3984/6,400))/(B3984/8)","v":54.333333333333329},27]
["Sterling Silver",26,93,"D",{"$f":"MIN(B3985*C3985/6,400)/(B3985/2)+(control!$B$4-MIN(B3985*C3985/6,400))/(B3985/8)","v":30.76923076923077},30]
["Sterling's Dream",22,91,"S",{"$f":"MIN(B3986*C3986/6,400)/(B3986/2)+(control!$B$4-MIN(B3986*C3986/6,400))/(B3986/8)","v":54.454545454545453},24]
["Stevie",25,92,"D",{"$f":"MIN(B3987*C3987/6,400)/(B3987/2)+(control!$B$4-MIN(B3987*C3987/6,400))/(B3987/8)","v":36},26]
["Stewball",25,72,"S",{"$f":"MIN(B3988*C3988/6,400)/(B3988/2)+(control!$B$4-MIN(B3988*C3988/6,400))/(B3988/8)","v":56},27]
["Stone",27,72,"M",{"$f":"MIN(B3989*C3989/6,400)/(B3989/2)+(control!$B$4-MIN(B3989*C3989/6,400))/(B3989/8)","v":46.518518518518519},27]
["Stone Hinger",27,59,"S",{"$f":"MIN(B3990*C3990/6,400)/(B3990/2)+(control!$B$4-MIN(B3990*C3990/6,400))/(B3990/8)","v":59.518518518518519},28]
["Stoney",20,65,"S",{"$f":"MIN(B3991*C3991/6,400)/(B3991/2)+(control!$B$4-MIN(B3991*C3991/6,400))/(B3991/8)","v":95},21]
["Stony",26,79,"M",{"$f":"MIN(B3992*C3992/6,400)/(B3992/2)+(control!$B$4-MIN(B3992*C3992/6,400))/(B3992/8)","v":44.07692307692308},26]
["Storm",21,69,"M",{"$f":"MIN(B3993*C3993/6,400)/(B3993/2)+(control!$B$4-MIN(B3993*C3993/6,400))/(B3993/8)","v":83.38095238095238},23]
["Storm Cloud",16,89,"M",{"$f":"MIN(B3994*C3994/6,400)/(B3994/2)+(control!$B$4-MIN(B3994*C3994/6,400))/(B3994/8)","v":111},17]
["Storm Front",23,118,"M",{"$f":"MIN(B3995*C3995/6,400)/(B3995/2)+(control!$B$4-MIN(B3995*C3995/6,400))/(B3995/8)","v":34.782608695652172},25]
["Storm Watch",16,105,"S",{"$f":"MIN(B3996*C3996/6,400)/(B3996/2)+(control!$B$4-MIN(B3996*C3996/6,400))/(B3996/8)","v":95},20]
["Storm's Destiny",22,70,"M",{"$f":"MIN(B3997*C3997/6,400)/(B3997/2)+(control!$B$4-MIN(B3997*C3997/6,400))/(B3997/8)","v":75.454545454545453},26]
["Storm's Ransom",20,90,"S",{"$f":"MIN(B3998*C3998/6,400)/(B3998/2)+(control!$B$4-MIN(B3998*C3998/6,400))/(B3998/8)","v":70},20]
["Stormy",25,60,"S",{"$f":"MIN(B3999*C3999/6,400)/(B3999/2)+(control!$B$4-MIN(B3999*C3999/6,400))/(B3999/8)","v":68},27]
["Stormy Knight",27,95,"S",{"$f":"MIN(B4000*C4000/6,400)/(B4000/2)+(control!$B$4-MIN(B4000*C4000/6,400))/(B4000/8)","v":29.62962962962963},28]
["Story",16,93,"S",{"$f":"MIN(B4001*C4001/6,400)/(B4001/2)+(control!$B$4-MIN(B4001*C4001/6,400))/(B4001/8)","v":107},19]
["Straberry Shortcake",27,87,"M",{"$f":"MIN(B4002*C4002/6,400)/(B4002/2)+(control!$B$4-MIN(B4002*C4002/6,400))/(B4002/8)","v":31.518518518518519},27]
["Straight Arrow",27,69,"S",{"$f":"MIN(B4003*C4003/6,400)/(B4003/2)+(control!$B$4-MIN(B4003*C4003/6,400))/(B4003/8)","v":49.518518518518519},27]
["Strappa",15,71,"S",{"$f":"MIN(B4004*C4004/6,400)/(B4004/2)+(control!$B$4-MIN(B4004*C4004/6,400))/(B4004/8)","v":142.33333333333334},16]
["Strawberries and Cake",17,74,"S",{"$f":"MIN(B4005*C4005/6,400)/(B4005/2)+(control!$B$4-MIN(B4005*C4005/6,400))/(B4005/8)","v":114.23529411764707},17]
["Strawberry",16,109,"M",{"$f":"MIN(B4006*C4006/6,400)/(B4006/2)+(control!$B$4-MIN(B4006*C4006/6,400))/(B4006/8)","v":91},16]
["Strawberry Dream",19,89,"S",{"$f":"MIN(B4007*C4007/6,400)/(B4007/2)+(control!$B$4-MIN(B4007*C4007/6,400))/(B4007/8)","v":79.421052631578959},19]
["Strawberry Wine",26,112,"D",{"$f":"MIN(B4008*C4008/6,400)/(B4008/2)+(control!$B$4-MIN(B4008*C4008/6,400))/(B4008/8)","v":30.76923076923077},28]
["Streak",17,119,"M",{"$f":"MIN(B4009*C4009/6,400)/(B4009/2)+(control!$B$4-MIN(B4009*C4009/6,400))/(B4009/8)","v":69.235294117647058},20]
["Streaker",20,74,"S",{"$f":"MIN(B4010*C4010/6,400)/(B4010/2)+(control!$B$4-MIN(B4010*C4010/6,400))/(B4010/8)","v":86},20]
["Street Jammer",15,86,"S",{"$f":"MIN(B4011*C4011/6,400)/(B4011/2)+(control!$B$4-MIN(B4011*C4011/6,400))/(B4011/8)","v":127.33333333333334},18]
["Strictly Overtime",25,84,"M",{"$f":"MIN(B4012*C4012/6,400)/(B4012/2)+(control!$B$4-MIN(B4012*C4012/6,400))/(B4012/8)","v":44},27]
["Strider",24,90,"S",{"$f":"MIN(B4013*C4013/6,400)/(B4013/2)+(control!$B$4-MIN(B4013*C4013/6,400))/(B4013/8)","v":43.333333333333336},26]
["Stripe",17,107,"D",{"$f":"MIN(B4014*C4014/6,400)/(B4014/2)+(control!$B$4-MIN(B4014*C4014/6,400))/(B4014/8)","v":81.235294117647058},20]
["Stroking Commotion",19,86,"S",{"$f":"MIN(B4015*C4015/6,400)/(B4015/2)+(control!$B$4-MIN(B4015*C4015/6,400))/(B4015/8)","v":82.421052631578959},23]
["Stryker",16,70,"M",{"$f":"MIN(B4016*C4016/6,400)/(B4016/2)+(control!$B$4-MIN(B4016*C4016/6,400))/(B4016/8)","v":130},17]
["Sub Zero",22,78,"S",{"$f":"MIN(B4017*C4017/6,400)/(B4017/2)+(control!$B$4-MIN(B4017*C4017/6,400))/(B4017/8)","v":67.454545454545453},26]
["Sudden Explosion",21,89,"S",{"$f":"MIN(B4018*C4018/6,400)/(B4018/2)+(control!$B$4-MIN(B4018*C4018/6,400))/(B4018/8)","v":63.38095238095238},25]
["Sueno",22,73,"S",{"$f":"MIN(B4019*C4019/6,400)/(B4019/2)+(control!$B$4-MIN(B4019*C4019/6,400))/(B4019/8)","v":72.454545454545453},26]
["Suey",22,122,"D",{"$f":"MIN(B4020*C4020/6,400)/(B4020/2)+(control!$B$4-MIN(B4020*C4020/6,400))/(B4020/8)","v":36.363636363636367},22]
["Sugar",19,83,"S",{"$f":"MIN(B4021*C4021/6,400)/(B4021/2)+(control!$B$4-MIN(B4021*C4021/6,400))/(B4021/8)","v":85.421052631578959},22]
["Sugar & Spice",21,116,"S",{"$f":"MIN(B4022*C4022/6,400)/(B4022/2)+(control!$B$4-MIN(B4022*C4022/6,400))/(B4022/8)","v":38.095238095238095},23]
["Sugar Baby",22,84,"S",{"$f":"MIN(B4023*C4023/6,400)/(B4023/2)+(control!$B$4-MIN(B4023*C4023/6,400))/(B4023/8)","v":61.454545454545453},23]
["Sugar Foot",27,105,"M",{"$f":"MIN(B4024*C4024/6,400)/(B4024/2)+(control!$B$4-MIN(B4024*C4024/6,400))/(B4024/8)","v":29.62962962962963},30]
["Sugar N Spice",19,60,"S",{"$f":"MIN(B4025*C4025/6,400)/(B4025/2)+(control!$B$4-MIN(B4025*C4025/6,400))/(B4025/8)","v":108.42105263157895},23]
["Sugar Twin",18,121,"M",{"$f":"MIN(B4026*C4026/6,400)/(B4026/2)+(control!$B$4-MIN(B4026*C4026/6,400))/(B4026/8)","v":56.777777777777779},22]
["Sugarfoot (Mina)",16,71,"S",{"$f":"MIN(B4027*C4027/6,400)/(B4027/2)+(control!$B$4-MIN(B4027*C4027/6,400))/(B4027/8)","v":129},16]
["Sugar-n-Spice",15,78,"S",{"$f":"MIN(B4028*C4028/6,400)/(B4028/2)+(control!$B$4-MIN(B4028*C4028/6,400))/(B4028/8)","v":135.33333333333331},16]
["Sugars Delight",19,117,"S",{"$f":"MIN(B4029*C4029/6,400)/(B4029/2)+(control!$B$4-MIN(B4029*C4029/6,400))/(B4029/8)","v":51.421052631578945},23]
["Sugar's Pride",20,72,"M",{"$f":"MIN(B4030*C4030/6,400)/(B4030/2)+(control!$B$4-MIN(B4030*C4030/6,400))/(B4030/8)","v":88},21]
["Suki",20,113,"S",{"$f":"MIN(B4031*C4031/6,400)/(B4031/2)+(control!$B$4-MIN(B4031*C4031/6,400))/(B4031/8)","v":47},21]
["Sukura",20,86,"S",{"$f":"MIN(B4032*C4032/6,400)/(B4032/2)+(control!$B$4-MIN(B4032*C4032/6,400))/(B4032/8)","v":74},21]
["Sullivan",22,96,"D",{"$f":"MIN(B4033*C4033/6,400)/(B4033/2)+(control!$B$4-MIN(B4033*C4033/6,400))/(B4033/8)","v":49.454545454545453},23]
["Sully",21,95,"M",{"$f":"MIN(B4034*C4034/6,400)/(B4034/2)+(control!$B$4-MIN(B4034*C4034/6,400))/(B4034/8)","v":57.38095238095238},24]
["Sultan",23,91,"D",{"$f":"MIN(B4035*C4035/6,400)/(B4035/2)+(control!$B$4-MIN(B4035*C4035/6,400))/(B4035/8)","v":48.130434782608702},23]
["Summer",15,111,"M",{"$f":"MIN(B4036*C4036/6,400)/(B4036/2)+(control!$B$4-MIN(B4036*C4036/6,400))/(B4036/8)","v":102.33333333333333},19]
["Summer Breeze",15,123,"D",{"$f":"MIN(B4037*C4037/6,400)/(B4037/2)+(control!$B$4-MIN(B4037*C4037/6,400))/(B4037/8)","v":90.333333333333343},19]
["Summer Eclipse",22,91,"D",{"$f":"MIN(B4038*C4038/6,400)/(B4038/2)+(control!$B$4-MIN(B4038*C4038/6,400))/(B4038/8)","v":54.454545454545453},22]
["Summer Sensation",20,87,"S",{"$f":"MIN(B4039*C4039/6,400)/(B4039/2)+(control!$B$4-MIN(B4039*C4039/6,400))/(B4039/8)","v":73},21]
["Summer's Breeze",22,90,"S",{"$f":"MIN(B4040*C4040/6,400)/(B4040/2)+(control!$B$4-MIN(B4040*C4040/6,400))/(B4040/8)","v":55.454545454545453},22]
["Summit",22,73,"S",{"$f":"MIN(B4041*C4041/6,400)/(B4041/2)+(control!$B$4-MIN(B4041*C4041/6,400))/(B4041/8)","v":72.454545454545453},24]
["Summoner",16,93,"M",{"$f":"MIN(B4042*C4042/6,400)/(B4042/2)+(control!$B$4-MIN(B4042*C4042/6,400))/(B4042/8)","v":107},18]
["Sun Dancer",21,85,"M",{"$f":"MIN(B4043*C4043/6,400)/(B4043/2)+(control!$B$4-MIN(B4043*C4043/6,400))/(B4043/8)","v":67.38095238095238},21]
["Sun Raider",25,77,"S",{"$f":"MIN(B4044*C4044/6,400)/(B4044/2)+(control!$B$4-MIN(B4044*C4044/6,400))/(B4044/8)","v":51},27]
["Sunbriar",25,69,"S",{"$f":"MIN(B4045*C4045/6,400)/(B4045/2)+(control!$B$4-MIN(B4045*C4045/6,400))/(B4045/8)","v":59},27]
["Suncatcher Baby",18,95,"S",{"$f":"MIN(B4046*C4046/6,400)/(B4046/2)+(control!$B$4-MIN(B4046*C4046/6,400))/(B4046/8)","v":82.777777777777786},22]
["Sunchaser",20,123,"S",{"$f":"MIN(B4047*C4047/6,400)/(B4047/2)+(control!$B$4-MIN(B4047*C4047/6,400))/(B4047/8)","v":40},21]
["Sundance",23,89,"S",{"$f":"MIN(B4048*C4048/6,400)/(B4048/2)+(control!$B$4-MIN(B4048*C4048/6,400))/(B4048/8)","v":50.130434782608688},26]
["Sundancer",15,93,"D",{"$f":"MIN(B4049*C4049/6,400)/(B4049/2)+(control!$B$4-MIN(B4049*C4049/6,400))/(B4049/8)","v":120.33333333333333},15]
["Sundancer Melody",25,94,"M",{"$f":"MIN(B4050*C4050/6,400)/(B4050/2)+(control!$B$4-MIN(B4050*C4050/6,400))/(B4050/8)","v":34},25]
["Sunday Silence",26,122,"S",{"$f":"MIN(B4051*C4051/6,400)/(B4051/2)+(control!$B$4-MIN(B4051*C4051/6,400))/(B4051/8)","v":30.76923076923077},26]
["Sundrop",27,90,"S",{"$f":"MIN(B4052*C4052/6,400)/(B4052/2)+(control!$B$4-MIN(B4052*C4052/6,400))/(B4052/8)","v":29.62962962962963},27]
["Sunfire",24,92,"S",{"$f":"MIN(B4053*C4053/6,400)/(B4053/2)+(control!$B$4-MIN(B4053*C4053/6,400))/(B4053/8)","v":41.333333333333336},24]
["Sunkist",24,79,"S",{"$f":"MIN(B4054*C4054/6,400)/(B4054/2)+(control!$B$4-MIN(B4054*C4054/6,400))/(B4054/8)","v":54.333333333333329},24]
["Sunlight",19,94,"S",{"$f":"MIN(B4055*C4055/6,400)/(B4055/2)+(control!$B$4-MIN(B4055*C4055/6,400))/(B4055/8)","v":74.421052631578945},19]
["Sunny",21,98,"M",{"$f":"MIN(B4056*C4056/6,400)/(B4056/2)+(control!$B$4-MIN(B4056*C4056/6,400))/(B4056/8)","v":54.38095238095238},21]
["Sunny Bono",22,123,"S",{"$f":"MIN(B4057*C4057/6,400)/(B4057/2)+(control!$B$4-MIN(B4057*C4057/6,400))/(B4057/8)","v":36.363636363636367},25]
["Sunny Day",19,99,"M",{"$f":"MIN(B4058*C4058/6,400)/(B4058/2)+(control!$B$4-MIN(B4058*C4058/6,400))/(B4058/8)","v":69.421052631578945},22]
["Sunny Delight",18,103,"D",{"$f":"MIN(B4059*C4059/6,400)/(B4059/2)+(control!$B$4-MIN(B4059*C4059/6,400))/(B4059/8)","v":74.777777777777771},22]
["Sunny Second",23,90,"M",{"$f":"MIN(B4060*C4060/6,400)/(B4060/2)+(control!$B$4-MIN(B4060*C4060/6,400))/(B4060/8)","v":49.130434782608695},26]
["Sunrise",16,99,"M",{"$f":"MIN(B4061*C4061/6,400)/(B4061/2)+(control!$B$4-MIN(B4061*C4061/6,400))/(B4061/8)","v":101},20]
["Sunsational Girl",21,106,"S",{"$f":"MIN(B4062*C4062/6,400)/(B4062/2)+(control!$B$4-MIN(B4062*C4062/6,400))/(B4062/8)","v":46.38095238095238},22]
["Sunshine",22,94,"D",{"$f":"MIN(B4063*C4063/6,400)/(B4063/2)+(control!$B$4-MIN(B4063*C4063/6,400))/(B4063/8)","v":51.454545454545453},24]
["Sunshine Heart",24,76,"M",{"$f":"MIN(B4064*C4064/6,400)/(B4064/2)+(control!$B$4-MIN(B4064*C4064/6,400))/(B4064/8)","v":57.333333333333329},27]
["Sunzoray",19,98,"S",{"$f":"MIN(B4065*C4065/6,400)/(B4065/2)+(control!$B$4-MIN(B4065*C4065/6,400))/(B4065/8)","v":70.421052631578959},22]
["Super Cowboy",15,84,"S",{"$f":"MIN(B4066*C4066/6,400)/(B4066/2)+(control!$B$4-MIN(B4066*C4066/6,400))/(B4066/8)","v":129.33333333333331},19]
["Super Man",21,78,"S",{"$f":"MIN(B4067*C4067/6,400)/(B4067/2)+(control!$B$4-MIN(B4067*C4067/6,400))/(B4067/8)","v":74.38095238095238},23]
["Super Model",18,59,"S",{"$f":"MIN(B4068*C4068/6,400)/(B4068/2)+(control!$B$4-MIN(B4068*C4068/6,400))/(B4068/8)","v":118.77777777777779},18]
["Super Nova",22,104,"M",{"$f":"MIN(B4069*C4069/6,400)/(B4069/2)+(control!$B$4-MIN(B4069*C4069/6,400))/(B4069/8)","v":41.45454545454546},23]
["Super Star",17,76,"M",{"$f":"MIN(B4070*C4070/6,400)/(B4070/2)+(control!$B$4-MIN(B4070*C4070/6,400))/(B4070/8)","v":112.23529411764704},18]
["Superman",20,90,"S",{"$f":"MIN(B4071*C4071/6,400)/(B4071/2)+(control!$B$4-MIN(B4071*C4071/6,400))/(B4071/8)","v":70},20]
["Superstar",25,77,"S",{"$f":"MIN(B4072*C4072/6,400)/(B4072/2)+(control!$B$4-MIN(B4072*C4072/6,400))/(B4072/8)","v":51},29]
["Supersticous",21,88,"S",{"$f":"MIN(B4073*C4073/6,400)/(B4073/2)+(control!$B$4-MIN(B4073*C4073/6,400))/(B4073/8)","v":64.38095238095238},24]
["Superstitious Satisfaction",22,74,"S",{"$f":"MIN(B4074*C4074/6,400)/(B4074/2)+(control!$B$4-MIN(B4074*C4074/6,400))/(B4074/8)","v":71.454545454545467},23]
["Suppose",18,118,"D",{"$f":"MIN(B4075*C4075/6,400)/(B4075/2)+(control!$B$4-MIN(B4075*C4075/6,400))/(B4075/8)","v":59.777777777777779},21]
["Supreme",22,75,"M",{"$f":"MIN(B4076*C4076/6,400)/(B4076/2)+(control!$B$4-MIN(B4076*C4076/6,400))/(B4076/8)","v":70.454545454545453},24]
["Sure Thing",18,93,"S",{"$f":"MIN(B4077*C4077/6,400)/(B4077/2)+(control!$B$4-MIN(B4077*C4077/6,400))/(B4077/8)","v":84.777777777777771},19]
["Surf Dancer",16,67,"M",{"$f":"MIN(B4078*C4078/6,400)/(B4078/2)+(control!$B$4-MIN(B4078*C4078/6,400))/(B4078/8)","v":133},18]
["Surprise",18,102,"D",{"$f":"MIN(B4079*C4079/6,400)/(B4079/2)+(control!$B$4-MIN(B4079*C4079/6,400))/(B4079/8)","v":75.777777777777771},19]
["Survivor",22,113,"D",{"$f":"MIN(B4080*C4080/6,400)/(B4080/2)+(control!$B$4-MIN(B4080*C4080/6,400))/(B4080/8)","v":36.363636363636367},24]
["Susie",16,83,"S",{"$f":"MIN(B4081*C4081/6,400)/(B4081/2)+(control!$B$4-MIN(B4081*C4081/6,400))/(B4081/8)","v":117},16]
["Suzie Q",20,96,"D",{"$f":"MIN(B4082*C4082/6,400)/(B4082/2)+(control!$B$4-MIN(B4082*C4082/6,400))/(B4082/8)","v":64},23]
["Swallo",15,90,"M",{"$f":"MIN(B4083*C4083/6,400)/(B4083/2)+(control!$B$4-MIN(B4083*C4083/6,400))/(B4083/8)","v":123.33333333333333},18]
["Sweat Dreams",22,77,"S",{"$f":"MIN(B4084*C4084/6,400)/(B4084/2)+(control!$B$4-MIN(B4084*C4084/6,400))/(B4084/8)","v":68.454545454545467},25]
["Sweet as Sugar",25,73,"M",{"$f":"MIN(B4085*C4085/6,400)/(B4085/2)+(control!$B$4-MIN(B4085*C4085/6,400))/(B4085/8)","v":55},29]
["Sweet Breeze",22,59,"S",{"$f":"MIN(B4086*C4086/6,400)/(B4086/2)+(control!$B$4-MIN(B4086*C4086/6,400))/(B4086/8)","v":86.454545454545453},25]
["Sweet Dreams",26,71,"S",{"$f":"MIN(B4087*C4087/6,400)/(B4087/2)+(control!$B$4-MIN(B4087*C4087/6,400))/(B4087/8)","v":52.076923076923073},26]
["Sweet Emotion",19,78,"S",{"$f":"MIN(B4088*C4088/6,400)/(B4088/2)+(control!$B$4-MIN(B4088*C4088/6,400))/(B4088/8)","v":90.421052631578945},20]
["Sweet Kisses In The Moonlight",17,88,"M",{"$f":"MIN(B4089*C4089/6,400)/(B4089/2)+(control!$B$4-MIN(B4089*C4089/6,400))/(B4089/8)","v":100.23529411764704},18]
["Sweet Medicine",24,75,"M",{"$f":"MIN(B4090*C4090/6,400)/(B4090/2)+(control!$B$4-MIN(B4090*C4090/6,400))/(B4090/8)","v":58.333333333333336},28]
["Sweet Melody",21,73,"S",{"$f":"MIN(B4091*C4091/6,400)/(B4091/2)+(control!$B$4-MIN(B4091*C4091/6,400))/(B4091/8)","v":79.38095238095238},23]
["Sweet N Zippo",21,93,"S",{"$f":"MIN(B4092*C4092/6,400)/(B4092/2)+(control!$B$4-MIN(B4092*C4092/6,400))/(B4092/8)","v":59.38095238095238},22]
["Sweet Pea",15,93,"S",{"$f":"MIN(B4093*C4093/6,400)/(B4093/2)+(control!$B$4-MIN(B4093*C4093/6,400))/(B4093/8)","v":120.33333333333333},16]
["Sweet Pea",20,64,"S",{"$f":"MIN(B4094*C4094/6,400)/(B4094/2)+(control!$B$4-MIN(B4094*C4094/6,400))/(B4094/8)","v":96},22]
["Sweet Red Wine",19,112,"M",{"$f":"MIN(B4095*C4095/6,400)/(B4095/2)+(control!$B$4-MIN(B4095*C4095/6,400))/(B4095/8)","v":56.421052631578945},22]
["Sweet Revenge",16,59,"S",{"$f":"MIN(B4096*C4096/6,400)/(B4096/2)+(control!$B$4-MIN(B4096*C4096/6,400))/(B4096/8)","v":141},17]
["Sweet Rhythm and Blues",15,71,"M",{"$f":"MIN(B4097*C4097/6,400)/(B4097/2)+(control!$B$4-MIN(B4097*C4097/6,400))/(B4097/8)","v":142.33333333333334},15]
["Sweet Rum Can Do",19,78,"S",{"$f":"MIN(B4098*C4098/6,400)/(B4098/2)+(control!$B$4-MIN(B4098*C4098/6,400))/(B4098/8)","v":90.421052631578945},23]
["Sweet Sandy Girl",20,60,"S",{"$f":"MIN(B4099*C4099/6,400)/(B4099/2)+(control!$B$4-MIN(B4099*C4099/6,400))/(B4099/8)","v":100},21]
["Sweet Sensation",15,87,"M",{"$f":"MIN(B4100*C4100/6,400)/(B4100/2)+(control!$B$4-MIN(B4100*C4100/6,400))/(B4100/8)","v":126.33333333333333},18]
["Sweet Tea",26,91,"S",{"$f":"MIN(B4101*C4101/6,400)/(B4101/2)+(control!$B$4-MIN(B4101*C4101/6,400))/(B4101/8)","v":32.07692307692308},29]
["Sweet Winter",24,60,"S",{"$f":"MIN(B4102*C4102/6,400)/(B4102/2)+(control!$B$4-MIN(B4102*C4102/6,400))/(B4102/8)","v":73.333333333333343},26]
["Sweetart",24,92,"D",{"$f":"MIN(B4103*C4103/6,400)/(B4103/2)+(control!$B$4-MIN(B4103*C4103/6,400))/(B4103/8)","v":41.333333333333336},28]
["Sweetie",21,93,"D",{"$f":"MIN(B4104*C4104/6,400)/(B4104/2)+(control!$B$4-MIN(B4104*C4104/6,400))/(B4104/8)","v":59.38095238095238},22]
["Sweetness Is",15,93,"S",{"$f":"MIN(B4105*C4105/6,400)/(B4105/2)+(control!$B$4-MIN(B4105*C4105/6,400))/(B4105/8)","v":120.33333333333333},16]
["Swirl",19,117,"S",{"$f":"MIN(B4106*C4106/6,400)/(B4106/2)+(control!$B$4-MIN(B4106*C4106/6,400))/(B4106/8)","v":51.421052631578945},19]
["Sydney",21,65,"M",{"$f":"MIN(B4107*C4107/6,400)/(B4107/2)+(control!$B$4-MIN(B4107*C4107/6,400))/(B4107/8)","v":87.38095238095238},25]
["Sylvester",20,83,"M",{"$f":"MIN(B4108*C4108/6,400)/(B4108/2)+(control!$B$4-MIN(B4108*C4108/6,400))/(B4108/8)","v":77},24]
["Symphony",15,100,"D",{"$f":"MIN(B4109*C4109/6,400)/(B4109/2)+(control!$B$4-MIN(B4109*C4109/6,400))/(B4109/8)","v":113.33333333333334},16]
["Syncopation",25,66,"S",{"$f":"MIN(B4110*C4110/6,400)/(B4110/2)+(control!$B$4-MIN(B4110*C4110/6,400))/(B4110/8)","v":62},26]
["Taffy",16,90,"S",{"$f":"MIN(B4111*C4111/6,400)/(B4111/2)+(control!$B$4-MIN(B4111*C4111/6,400))/(B4111/8)","v":110},18]
["Tagi",19,92,"S",{"$f":"MIN(B4112*C4112/6,400)/(B4112/2)+(control!$B$4-MIN(B4112*C4112/6,400))/(B4112/8)","v":76.421052631578959},22]
["Tahoe",21,100,"S",{"$f":"MIN(B4113*C4113/6,400)/(B4113/2)+(control!$B$4-MIN(B4113*C4113/6,400))/(B4113/8)","v":52.38095238095238},21]
["Taiga",21,76,"M",{"$f":"MIN(B4114*C4114/6,400)/(B4114/2)+(control!$B$4-MIN(B4114*C4114/6,400))/(B4114/8)","v":76.38095238095238},24]
["Tail Spin",18,101,"S",{"$f":"MIN(B4115*C4115/6,400)/(B4115/2)+(control!$B$4-MIN(B4115*C4115/6,400))/(B4115/8)","v":76.777777777777771},18]
["Tajsh Serrion",25,78,"S",{"$f":"MIN(B4116*C4116/6,400)/(B4116/2)+(control!$B$4-MIN(B4116*C4116/6,400))/(B4116/8)","v":50},27]
["Take A Gambit",22,90,"S",{"$f":"MIN(B4117*C4117/6,400)/(B4117/2)+(control!$B$4-MIN(B4117*C4117/6,400))/(B4117/8)","v":55.454545454545453},23]
["Talented love",17,82,"M",{"$f":"MIN(B4118*C4118/6,400)/(B4118/2)+(control!$B$4-MIN(B4118*C4118/6,400))/(B4118/8)","v":106.23529411764704},17]
["Talleyrand",27,95,"D",{"$f":"MIN(B4119*C4119/6,400)/(B4119/2)+(control!$B$4-MIN(B4119*C4119/6,400))/(B4119/8)","v":29.62962962962963},30]
["Tallyesson",19,93,"D",{"$f":"MIN(B4120*C4120/6,400)/(B4120/2)+(control!$B$4-MIN(B4120*C4120/6,400))/(B4120/8)","v":75.421052631578945},23]
["Talyn",21,77,"S",{"$f":"MIN(B4121*C4121/6,400)/(B4121/2)+(control!$B$4-MIN(B4121*C4121/6,400))/(B4121/8)","v":75.38095238095238},21]
["Talzanna",21,112,"S",{"$f":"MIN(B4122*C4122/6,400)/(B4122/2)+(control!$B$4-MIN(B4122*C4122/6,400))/(B4122/8)","v":40.38095238095238},21]
["Tamara",22,76,"S",{"$f":"MIN(B4123*C4123/6,400)/(B4123/2)+(control!$B$4-MIN(B4123*C4123/6,400))/(B4123/8)","v":69.454545454545453},25]
["Tambourine",19,112,"D",{"$f":"MIN(B4124*C4124/6,400)/(B4124/2)+(control!$B$4-MIN(B4124*C4124/6,400))/(B4124/8)","v":56.421052631578945},21]
["Tami",22,85,"S",{"$f":"MIN(B4125*C4125/6,400)/(B4125/2)+(control!$B$4-MIN(B4125*C4125/6,400))/(B4125/8)","v":60.454545454545453},25]
["Tamika",20,78,"S",{"$f":"MIN(B4126*C4126/6,400)/(B4126/2)+(control!$B$4-MIN(B4126*C4126/6,400))/(B4126/8)","v":82},24]
["Tammy",24,105,"D",{"$f":"MIN(B4127*C4127/6,400)/(B4127/2)+(control!$B$4-MIN(B4127*C4127/6,400))/(B4127/8)","v":33.333333333333336},25]
["Tang",18,123,"S",{"$f":"MIN(B4128*C4128/6,400)/(B4128/2)+(control!$B$4-MIN(B4128*C4128/6,400))/(B4128/8)","v":54.777777777777779},20]
["Tango",21,87,"S",{"$f":"MIN(B4129*C4129/6,400)/(B4129/2)+(control!$B$4-MIN(B4129*C4129/6,400))/(B4129/8)","v":65.38095238095238},21]
["Tango Goin Cash",22,94,"D",{"$f":"MIN(B4130*C4130/6,400)/(B4130/2)+(control!$B$4-MIN(B4130*C4130/6,400))/(B4130/8)","v":51.454545454545453},24]
["Tanis",19,73,"M",{"$f":"MIN(B4131*C4131/6,400)/(B4131/2)+(control!$B$4-MIN(B4131*C4131/6,400))/(B4131/8)","v":95.421052631578945},23]
["Tanna",20,85,"S",{"$f":"MIN(B4132*C4132/6,400)/(B4132/2)+(control!$B$4-MIN(B4132*C4132/6,400))/(B4132/8)","v":75},23]
["Tanner",24,91,"S",{"$f":"MIN(B4133*C4133/6,400)/(B4133/2)+(control!$B$4-MIN(B4133*C4133/6,400))/(B4133/8)","v":42.333333333333329},27]
["Tantor",19,76,"S",{"$f":"MIN(B4134*C4134/6,400)/(B4134/2)+(control!$B$4-MIN(B4134*C4134/6,400))/(B4134/8)","v":92.421052631578945},19]
["Tara",24,88,"M",{"$f":"MIN(B4135*C4135/6,400)/(B4135/2)+(control!$B$4-MIN(B4135*C4135/6,400))/(B4135/8)","v":45.333333333333329},26]
["Taragon",15,121,"D",{"$f":"MIN(B4136*C4136/6,400)/(B4136/2)+(control!$B$4-MIN(B4136*C4136/6,400))/(B4136/8)","v":92.333333333333343},18]
["Target's Grand Splash",21,83,"S",{"$f":"MIN(B4137*C4137/6,400)/(B4137/2)+(control!$B$4-MIN(B4137*C4137/6,400))/(B4137/8)","v":69.38095238095238},24]
["Tarot",20,74,"S",{"$f":"MIN(B4138*C4138/6,400)/(B4138/2)+(control!$B$4-MIN(B4138*C4138/6,400))/(B4138/8)","v":86},24]
["Tarzan",21,88,"M",{"$f":"MIN(B4139*C4139/6,400)/(B4139/2)+(control!$B$4-MIN(B4139*C4139/6,400))/(B4139/8)","v":64.38095238095238},24]
["Tash",25,92,"D",{"$f":"MIN(B4140*C4140/6,400)/(B4140/2)+(control!$B$4-MIN(B4140*C4140/6,400))/(B4140/8)","v":36},29]
["Tasha",21,81,"S",{"$f":"MIN(B4141*C4141/6,400)/(B4141/2)+(control!$B$4-MIN(B4141*C4141/6,400))/(B4141/8)","v":71.38095238095238},23]
["Tater",15,94,"M",{"$f":"MIN(B4142*C4142/6,400)/(B4142/2)+(control!$B$4-MIN(B4142*C4142/6,400))/(B4142/8)","v":119.33333333333333},19]
["Tater Tot",27,97,"D",{"$f":"MIN(B4143*C4143/6,400)/(B4143/2)+(control!$B$4-MIN(B4143*C4143/6,400))/(B4143/8)","v":29.62962962962963},27]
["Tatonka Ohwashe",20,77,"S",{"$f":"MIN(B4144*C4144/6,400)/(B4144/2)+(control!$B$4-MIN(B4144*C4144/6,400))/(B4144/8)","v":83},23]
["Tator",22,59,"S",{"$f":"MIN(B4145*C4145/6,400)/(B4145/2)+(control!$B$4-MIN(B4145*C4145/6,400))/(B4145/8)","v":86.454545454545453},23]
["Tattoo",17,79,"S",{"$f":"MIN(B4146*C4146/6,400)/(B4146/2)+(control!$B$4-MIN(B4146*C4146/6,400))/(B4146/8)","v":109.23529411764704},19]
["Tawny",26,89,"S",{"$f":"MIN(B4147*C4147/6,400)/(B4147/2)+(control!$B$4-MIN(B4147*C4147/6,400))/(B4147/8)","v":34.076923076923073},29]
["Taxi",20,92,"D",{"$f":"MIN(B4148*C4148/6,400)/(B4148/2)+(control!$B$4-MIN(B4148*C4148/6,400))/(B4148/8)","v":68},22]
["Taydee",16,68,"M",{"$f":"MIN(B4149*C4149/6,400)/(B4149/2)+(control!$B$4-MIN(B4149*C4149/6,400))/(B4149/8)","v":132},20]
["Taylor",26,110,"S",{"$f":"MIN(B4150*C4150/6,400)/(B4150/2)+(control!$B$4-MIN(B4150*C4150/6,400))/(B4150/8)","v":30.76923076923077},26]
["Taylor Made",16,92,"D",{"$f":"MIN(B4151*C4151/6,400)/(B4151/2)+(control!$B$4-MIN(B4151*C4151/6,400))/(B4151/8)","v":108},17]
["Taylor Made Fantasy",15,97,"D",{"$f":"MIN(B4152*C4152/6,400)/(B4152/2)+(control!$B$4-MIN(B4152*C4152/6,400))/(B4152/8)","v":116.33333333333334},15]
["Taz",17,74,"S",{"$f":"MIN(B4153*C4153/6,400)/(B4153/2)+(control!$B$4-MIN(B4153*C4153/6,400))/(B4153/8)","v":114.23529411764707},18]
["Taz Mania",22,101,"D",{"$f":"MIN(B4154*C4154/6,400)/(B4154/2)+(control!$B$4-MIN(B4154*C4154/6,400))/(B4154/8)","v":44.45454545454546},25]
["Tazman",27,113,"S",{"$f":"MIN(B4155*C4155/6,400)/(B4155/2)+(control!$B$4-MIN(B4155*C4155/6,400))/(B4155/8)","v":29.62962962962963},31]
["T-bone",19,116,"D",{"$f":"MIN(B4156*C4156/6,400)/(B4156/2)+(control!$B$4-MIN(B4156*C4156/6,400))/(B4156/8)","v":52.421052631578952},19]
["Tea Buiscet",20,96,"S",{"$f":"MIN(B4157*C4157/6,400)/(B4157/2)+(control!$B$4-MIN(B4157*C4157/6,400))/(B4157/8)","v":64},20]
["Tea For Two",21,100,"S",{"$f":"MIN(B4158*C4158/6,400)/(B4158/2)+(control!$B$4-MIN(B4158*C4158/6,400))/(B4158/8)","v":52.38095238095238},25]
["Tea Leaves",24,75,"M",{"$f":"MIN(B4159*C4159/6,400)/(B4159/2)+(control!$B$4-MIN(B4159*C4159/6,400))/(B4159/8)","v":58.333333333333336},24]
["Tea Spoon",23,108,"S",{"$f":"MIN(B4160*C4160/6,400)/(B4160/2)+(control!$B$4-MIN(B4160*C4160/6,400))/(B4160/8)","v":34.782608695652172},27]
["Teach",17,73,"S",{"$f":"MIN(B4161*C4161/6,400)/(B4161/2)+(control!$B$4-MIN(B4161*C4161/6,400))/(B4161/8)","v":115.23529411764704},19]
["Teacher's Pet",26,91,"S",{"$f":"MIN(B4162*C4162/6,400)/(B4162/2)+(control!$B$4-MIN(B4162*C4162/6,400))/(B4162/8)","v":32.07692307692308},28]
["Teardrops and Rose",16,74,"S",{"$f":"MIN(B4163*C4163/6,400)/(B4163/2)+(control!$B$4-MIN(B4163*C4163/6,400))/(B4163/8)","v":126},19]
["Tease",26,62,"S",{"$f":"MIN(B4164*C4164/6,400)/(B4164/2)+(control!$B$4-MIN(B4164*C4164/6,400))/(B4164/8)","v":61.076923076923066},30]
["Teasle",23,101,"M",{"$f":"MIN(B4165*C4165/6,400)/(B4165/2)+(control!$B$4-MIN(B4165*C4165/6,400))/(B4165/8)","v":38.130434782608695},27]
["Tebo",27,74,"M",{"$f":"MIN(B4166*C4166/6,400)/(B4166/2)+(control!$B$4-MIN(B4166*C4166/6,400))/(B4166/8)","v":44.518518518518519},28]
["Ted",24,74,"M",{"$f":"MIN(B4167*C4167/6,400)/(B4167/2)+(control!$B$4-MIN(B4167*C4167/6,400))/(B4167/8)","v":59.333333333333329},25]
["Teddy",19,122,"S",{"$f":"MIN(B4168*C4168/6,400)/(B4168/2)+(control!$B$4-MIN(B4168*C4168/6,400))/(B4168/8)","v":46.421052631578952},23]
["Teddy Bear",21,93,"S",{"$f":"MIN(B4169*C4169/6,400)/(B4169/2)+(control!$B$4-MIN(B4169*C4169/6,400))/(B4169/8)","v":59.38095238095238},24]
["Teddy Bear--Bear",20,85,"M",{"$f":"MIN(B4170*C4170/6,400)/(B4170/2)+(control!$B$4-MIN(B4170*C4170/6,400))/(B4170/8)","v":75},23]
["Teddy Boy",23,71,"S",{"$f":"MIN(B4171*C4171/6,400)/(B4171/2)+(control!$B$4-MIN(B4171*C4171/6,400))/(B4171/8)","v":68.130434782608688},23]
["Tedwin",19,71,"S",{"$f":"MIN(B4172*C4172/6,400)/(B4172/2)+(control!$B$4-MIN(B4172*C4172/6,400))/(B4172/8)","v":97.421052631578945},22]
["Teebaby",21,111,"D",{"$f":"MIN(B4173*C4173/6,400)/(B4173/2)+(control!$B$4-MIN(B4173*C4173/6,400))/(B4173/8)","v":41.38095238095238},25]
["TeeJay",20,92,"D",{"$f":"MIN(B4174*C4174/6,400)/(B4174/2)+(control!$B$4-MIN(B4174*C4174/6,400))/(B4174/8)","v":68},24]
["Teko",19,71,"S",{"$f":"MIN(B4175*C4175/6,400)/(B4175/2)+(control!$B$4-MIN(B4175*C4175/6,400))/(B4175/8)","v":97.421052631578945},21]
["Tell Me A Fable",15,94,"D",{"$f":"MIN(B4176*C4176/6,400)/(B4176/2)+(control!$B$4-MIN(B4176*C4176/6,400))/(B4176/8)","v":119.33333333333333},15]
["Temper",23,88,"S",{"$f":"MIN(B4177*C4177/6,400)/(B4177/2)+(control!$B$4-MIN(B4177*C4177/6,400))/(B4177/8)","v":51.130434782608702},23]
["Tempo",24,98,"S",{"$f":"MIN(B4178*C4178/6,400)/(B4178/2)+(control!$B$4-MIN(B4178*C4178/6,400))/(B4178/8)","v":35.333333333333329},24]
["Temptress",19,123,"S",{"$f":"MIN(B4179*C4179/6,400)/(B4179/2)+(control!$B$4-MIN(B4179*C4179/6,400))/(B4179/8)","v":45.421052631578945},19]
["Tender Mist",25,69,"S",{"$f":"MIN(B4180*C4180/6,400)/(B4180/2)+(control!$B$4-MIN(B4180*C4180/6,400))/(B4180/8)","v":59},28]
["Tenneche",22,115,"D",{"$f":"MIN(B4181*C4181/6,400)/(B4181/2)+(control!$B$4-MIN(B4181*C4181/6,400))/(B4181/8)","v":36.363636363636367},26]
["Tennessee Tuxedo",19,96,"M",{"$f":"MIN(B4182*C4182/6,400)/(B4182/2)+(control!$B$4-MIN(B4182*C4182/6,400))/(B4182/8)","v":72.421052631578945},20]
["Tens Golden Nugget",27,67,"S",{"$f":"MIN(B4183*C4183/6,400)/(B4183/2)+(control!$B$4-MIN(B4183*C4183/6,400))/(B4183/8)","v":51.518518518518519},30]
["Tequila",24,87,"S",{"$f":"MIN(B4184*C4184/6,400)/(B4184/2)+(control!$B$4-MIN(B4184*C4184/6,400))/(B4184/8)","v":46.333333333333329},28]
["Tequila Sunrise",22,87,"M",{"$f":"MIN(B4185*C4185/6,400)/(B4185/2)+(control!$B$4-MIN(B4185*C4185/6,400))/(B4185/8)","v":58.454545454545453},26]
["Tequilla",20,90,"S",{"$f":"MIN(B4186*C4186/6,400)/(B4186/2)+(control!$B$4-MIN(B4186*C4186/6,400))/(B4186/8)","v":70},20]
["Tess",26,74,"S",{"$f":"MIN(B4187*C4187/6,400)/(B4187/2)+(control!$B$4-MIN(B4187*C4187/6,400))/(B4187/8)","v":49.076923076923073},26]
["Tess Lady Bug",24,84,"S",{"$f":"MIN(B4188*C4188/6,400)/(B4188/2)+(control!$B$4-MIN(B4188*C4188/6,400))/(B4188/8)","v":49.333333333333329},27]
["Tessa",16,71,"S",{"$f":"MIN(B4189*C4189/6,400)/(B4189/2)+(control!$B$4-MIN(B4189*C4189/6,400))/(B4189/8)","v":129},19]
["Tex",21,113,"S",{"$f":"MIN(B4190*C4190/6,400)/(B4190/2)+(control!$B$4-MIN(B4190*C4190/6,400))/(B4190/8)","v":39.38095238095238},25]
["Texas",22,103,"S",{"$f":"MIN(B4191*C4191/6,400)/(B4191/2)+(control!$B$4-MIN(B4191*C4191/6,400))/(B4191/8)","v":42.454545454545453},23]
["Texas Rodeo",18,85,"M",{"$f":"MIN(B4192*C4192/6,400)/(B4192/2)+(control!$B$4-MIN(B4192*C4192/6,400))/(B4192/8)","v":92.777777777777771},21]
["Text",23,80,"S",{"$f":"MIN(B4193*C4193/6,400)/(B4193/2)+(control!$B$4-MIN(B4193*C4193/6,400))/(B4193/8)","v":59.130434782608688},23]
["Thade",24,70,"S",{"$f":"MIN(B4194*C4194/6,400)/(B4194/2)+(control!$B$4-MIN(B4194*C4194/6,400))/(B4194/8)","v":63.333333333333329},28]
["That's the bulk of them",19,123,"S",{"$f":"MIN(B4195*C4195/6,400)/(B4195/2)+(control!$B$4-MIN(B4195*C4195/6,400))/(B4195/8)","v":45.421052631578945},21]
["That's the Idea",20,75,"S",{"$f":"MIN(B4196*C4196/6,400)/(B4196/2)+(control!$B$4-MIN(B4196*C4196/6,400))/(B4196/8)","v":85},23]
["Thaw",22,78,"S",{"$f":"MIN(B4197*C4197/6,400)/(B4197/2)+(control!$B$4-MIN(B4197*C4197/6,400))/(B4197/8)","v":67.454545454545453},24]
["The American Way",25,62,"S",{"$f":"MIN(B4198*C4198/6,400)/(B4198/2)+(control!$B$4-MIN(B4198*C4198/6,400))/(B4198/8)","v":66},27]
["The Duke",18,100,"M",{"$f":"MIN(B4199*C4199/6,400)/(B4199/2)+(control!$B$4-MIN(B4199*C4199/6,400))/(B4199/8)","v":77.777777777777771},19]
["The Flying Wonder",24,88,"S",{"$f":"MIN(B4200*C4200/6,400)/(B4200/2)+(control!$B$4-MIN(B4200*C4200/6,400))/(B4200/8)","v":45.333333333333329},26]
["The General",20,67,"S",{"$f":"MIN(B4201*C4201/6,400)/(B4201/2)+(control!$B$4-MIN(B4201*C4201/6,400))/(B4201/8)","v":93},23]
["The Ghost is Dancing",22,119,"D",{"$f":"MIN(B4202*C4202/6,400)/(B4202/2)+(control!$B$4-MIN(B4202*C4202/6,400))/(B4202/8)","v":36.363636363636367},22]
["The Milky Bar Kid",26,59,"S",{"$f":"MIN(B4203*C4203/6,400)/(B4203/2)+(control!$B$4-MIN(B4203*C4203/6,400))/(B4203/8)","v":64.07692307692308},30]
["The Outlaw",26,107,"D",{"$f":"MIN(B4204*C4204/6,400)/(B4204/2)+(control!$B$4-MIN(B4204*C4204/6,400))/(B4204/8)","v":30.76923076923077},26]
["The Patriot",16,79,"S",{"$f":"MIN(B4205*C4205/6,400)/(B4205/2)+(control!$B$4-MIN(B4205*C4205/6,400))/(B4205/8)","v":121},20]
["The Secrets Out",21,79,"M",{"$f":"MIN(B4206*C4206/6,400)/(B4206/2)+(control!$B$4-MIN(B4206*C4206/6,400))/(B4206/8)","v":73.38095238095238},25]
["The Sky's the Limit",26,69,"S",{"$f":"MIN(B4207*C4207/6,400)/(B4207/2)+(control!$B$4-MIN(B4207*C4207/6,400))/(B4207/8)","v":54.07692307692308},28]
["The Super Conductor",21,109,"S",{"$f":"MIN(B4208*C4208/6,400)/(B4208/2)+(control!$B$4-MIN(B4208*C4208/6,400))/(B4208/8)","v":43.38095238095238},25]
["The Whiskey Bandit",22,93,"D",{"$f":"MIN(B4209*C4209/6,400)/(B4209/2)+(control!$B$4-MIN(B4209*C4209/6,400))/(B4209/8)","v":52.454545454545453},26]
["Theo",21,91,"M",{"$f":"MIN(B4210*C4210/6,400)/(B4210/2)+(control!$B$4-MIN(B4210*C4210/6,400))/(B4210/8)","v":61.38095238095238},21]
["Theodorable",18,117,"S",{"$f":"MIN(B4211*C4211/6,400)/(B4211/2)+(control!$B$4-MIN(B4211*C4211/6,400))/(B4211/8)","v":60.777777777777779},20]
["Think",19,114,"S",{"$f":"MIN(B4212*C4212/6,400)/(B4212/2)+(control!$B$4-MIN(B4212*C4212/6,400))/(B4212/8)","v":54.421052631578945},21]
["Think Of It",24,83,"S",{"$f":"MIN(B4213*C4213/6,400)/(B4213/2)+(control!$B$4-MIN(B4213*C4213/6,400))/(B4213/8)","v":50.333333333333336},28]
["Third Degree",16,88,"S",{"$f":"MIN(B4214*C4214/6,400)/(B4214/2)+(control!$B$4-MIN(B4214*C4214/6,400))/(B4214/8)","v":112},16]
["Thomas",22,87,"S",{"$f":"MIN(B4215*C4215/6,400)/(B4215/2)+(control!$B$4-MIN(B4215*C4215/6,400))/(B4215/8)","v":58.454545454545453},22]
["Thor",22,79,"S",{"$f":"MIN(B4216*C4216/6,400)/(B4216/2)+(control!$B$4-MIN(B4216*C4216/6,400))/(B4216/8)","v":66.454545454545453},26]
["Thowra",27,78,"S",{"$f":"MIN(B4217*C4217/6,400)/(B4217/2)+(control!$B$4-MIN(B4217*C4217/6,400))/(B4217/8)","v":40.518518518518519},31]
["Thuderstorm",19,67,"S",{"$f":"MIN(B4218*C4218/6,400)/(B4218/2)+(control!$B$4-MIN(B4218*C4218/6,400))/(B4218/8)","v":101.42105263157895},20]
["Thumbelina",22,121,"S",{"$f":"MIN(B4219*C4219/6,400)/(B4219/2)+(control!$B$4-MIN(B4219*C4219/6,400))/(B4219/8)","v":36.363636363636367},23]
["Thumper",23,71,"S",{"$f":"MIN(B4220*C4220/6,400)/(B4220/2)+(control!$B$4-MIN(B4220*C4220/6,400))/(B4220/8)","v":68.130434782608688},25]
["Thunder",19,76,"S",{"$f":"MIN(B4221*C4221/6,400)/(B4221/2)+(control!$B$4-MIN(B4221*C4221/6,400))/(B4221/8)","v":92.421052631578945},19]
["Thunder Bolt",17,80,"M",{"$f":"MIN(B4222*C4222/6,400)/(B4222/2)+(control!$B$4-MIN(B4222*C4222/6,400))/(B4222/8)","v":108.23529411764707},18]
["Thunder Jam",17,75,"S",{"$f":"MIN(B4223*C4223/6,400)/(B4223/2)+(control!$B$4-MIN(B4223*C4223/6,400))/(B4223/8)","v":113.23529411764706},19]
["Thunderhead",20,87,"S",{"$f":"MIN(B4224*C4224/6,400)/(B4224/2)+(control!$B$4-MIN(B4224*C4224/6,400))/(B4224/8)","v":73},22]
["Thunderjam",16,100,"S",{"$f":"MIN(B4225*C4225/6,400)/(B4225/2)+(control!$B$4-MIN(B4225*C4225/6,400))/(B4225/8)","v":100},18]
["'Ti Gars",22,76,"S",{"$f":"MIN(B4226*C4226/6,400)/(B4226/2)+(control!$B$4-MIN(B4226*C4226/6,400))/(B4226/8)","v":69.454545454545453},26]
["Tia",15,120,"S",{"$f":"MIN(B4227*C4227/6,400)/(B4227/2)+(control!$B$4-MIN(B4227*C4227/6,400))/(B4227/8)","v":93.333333333333343},18]
["Tiara",25,97,"S",{"$f":"MIN(B4228*C4228/6,400)/(B4228/2)+(control!$B$4-MIN(B4228*C4228/6,400))/(B4228/8)","v":32},25]
["Tic Tac",21,112,"S",{"$f":"MIN(B4229*C4229/6,400)/(B4229/2)+(control!$B$4-MIN(B4229*C4229/6,400))/(B4229/8)","v":40.38095238095238},24]
["Tico",22,105,"D",{"$f":"MIN(B4230*C4230/6,400)/(B4230/2)+(control!$B$4-MIN(B4230*C4230/6,400))/(B4230/8)","v":40.454545454545453},24]
["Tiddly-winks",24,60,"S",{"$f":"MIN(B4231*C4231/6,400)/(B4231/2)+(control!$B$4-MIN(B4231*C4231/6,400))/(B4231/8)","v":73.333333333333343},27]
["Tido",16,82,"S",{"$f":"MIN(B4232*C4232/6,400)/(B4232/2)+(control!$B$4-MIN(B4232*C4232/6,400))/(B4232/8)","v":118},18]
["Tiffy",19,85,"S",{"$f":"MIN(B4233*C4233/6,400)/(B4233/2)+(control!$B$4-MIN(B4233*C4233/6,400))/(B4233/8)","v":83.421052631578945},22]
["Tifton",23,84,"S",{"$f":"MIN(B4234*C4234/6,400)/(B4234/2)+(control!$B$4-MIN(B4234*C4234/6,400))/(B4234/8)","v":55.130434782608695},27]
["Tiger",16,83,"M",{"$f":"MIN(B4235*C4235/6,400)/(B4235/2)+(control!$B$4-MIN(B4235*C4235/6,400))/(B4235/8)","v":117},18]
["Tiger Lily",21,79,"S",{"$f":"MIN(B4236*C4236/6,400)/(B4236/2)+(control!$B$4-MIN(B4236*C4236/6,400))/(B4236/8)","v":73.38095238095238},25]
["Tigger",25,84,"M",{"$f":"MIN(B4237*C4237/6,400)/(B4237/2)+(control!$B$4-MIN(B4237*C4237/6,400))/(B4237/8)","v":44},29]
["Tigre",22,75,"S",{"$f":"MIN(B4238*C4238/6,400)/(B4238/2)+(control!$B$4-MIN(B4238*C4238/6,400))/(B4238/8)","v":70.454545454545453},26]
["Tilly",25,84,"S",{"$f":"MIN(B4239*C4239/6,400)/(B4239/2)+(control!$B$4-MIN(B4239*C4239/6,400))/(B4239/8)","v":44},28]
["Tim Buck 2",15,100,"S",{"$f":"MIN(B4240*C4240/6,400)/(B4240/2)+(control!$B$4-MIN(B4240*C4240/6,400))/(B4240/8)","v":113.33333333333334},16]
["Timber",17,75,"S",{"$f":"MIN(B4241*C4241/6,400)/(B4241/2)+(control!$B$4-MIN(B4241*C4241/6,400))/(B4241/8)","v":113.23529411764706},21]
["Tin Man",22,72,"S",{"$f":"MIN(B4242*C4242/6,400)/(B4242/2)+(control!$B$4-MIN(B4242*C4242/6,400))/(B4242/8)","v":73.454545454545453},25]
["Tink",27,77,"S",{"$f":"MIN(B4243*C4243/6,400)/(B4243/2)+(control!$B$4-MIN(B4243*C4243/6,400))/(B4243/8)","v":41.518518518518519},28]
["Tinkerbell",18,85,"S",{"$f":"MIN(B4244*C4244/6,400)/(B4244/2)+(control!$B$4-MIN(B4244*C4244/6,400))/(B4244/8)","v":92.777777777777771},21]
["Tiny",17,96,"D",{"$f":"MIN(B4245*C4245/6,400)/(B4245/2)+(control!$B$4-MIN(B4245*C4245/6,400))/(B4245/8)","v":92.235294117647058},21]
["Tip Toeing To Success",21,88,"S",{"$f":"MIN(B4246*C4246/6,400)/(B4246/2)+(control!$B$4-MIN(B4246*C4246/6,400))/(B4246/8)","v":64.38095238095238},23]
["Tippy",20,75,"M",{"$f":"MIN(B4247*C4247/6,400)/(B4247/2)+(control!$B$4-MIN(B4247*C4247/6,400))/(B4247/8)","v":85},23]
["Tishia/Tishya",24,79,"M",{"$f":"MIN(B4248*C4248/6,400)/(B4248/2)+(control!$B$4-MIN(B4248*C4248/6,400))/(B4248/8)","v":54.333333333333329},27]
["Titan",15,73,"M",{"$f":"MIN(B4249*C4249/6,400)/(B4249/2)+(control!$B$4-MIN(B4249*C4249/6,400))/(B4249/8)","v":140.33333333333334},15]
["Titan It Up Jack",21,71,"S",{"$f":"MIN(B4250*C4250/6,400)/(B4250/2)+(control!$B$4-MIN(B4250*C4250/6,400))/(B4250/8)","v":81.38095238095238},21]
["Titus",22,75,"M",{"$f":"MIN(B4251*C4251/6,400)/(B4251/2)+(control!$B$4-MIN(B4251*C4251/6,400))/(B4251/8)","v":70.454545454545453},26]
["TJ",21,93,"S",{"$f":"MIN(B4252*C4252/6,400)/(B4252/2)+(control!$B$4-MIN(B4252*C4252/6,400))/(B4252/8)","v":59.38095238095238},25]
["To Be Cherished",20,81,"M",{"$f":"MIN(B4253*C4253/6,400)/(B4253/2)+(control!$B$4-MIN(B4253*C4253/6,400))/(B4253/8)","v":79},22]
["To Close For Comfort",20,99,"S",{"$f":"MIN(B4254*C4254/6,400)/(B4254/2)+(control!$B$4-MIN(B4254*C4254/6,400))/(B4254/8)","v":61},24]
["Tobasco",18,85,"S",{"$f":"MIN(B4255*C4255/6,400)/(B4255/2)+(control!$B$4-MIN(B4255*C4255/6,400))/(B4255/8)","v":92.777777777777771},20]
["Tobiana",21,99,"D",{"$f":"MIN(B4256*C4256/6,400)/(B4256/2)+(control!$B$4-MIN(B4256*C4256/6,400))/(B4256/8)","v":53.38095238095238},24]
["Tobie",23,88,"S",{"$f":"MIN(B4257*C4257/6,400)/(B4257/2)+(control!$B$4-MIN(B4257*C4257/6,400))/(B4257/8)","v":51.130434782608702},24]
["Toby",21,78,"S",{"$f":"MIN(B4258*C4258/6,400)/(B4258/2)+(control!$B$4-MIN(B4258*C4258/6,400))/(B4258/8)","v":74.38095238095238},21]
["Tocker",22,73,"S",{"$f":"MIN(B4259*C4259/6,400)/(B4259/2)+(control!$B$4-MIN(B4259*C4259/6,400))/(B4259/8)","v":72.454545454545453},22]
["Todd",21,121,"S",{"$f":"MIN(B4260*C4260/6,400)/(B4260/2)+(control!$B$4-MIN(B4260*C4260/6,400))/(B4260/8)","v":38.095238095238095},21]
["Tody",19,62,"S",{"$f":"MIN(B4261*C4261/6,400)/(B4261/2)+(control!$B$4-MIN(B4261*C4261/6,400))/(B4261/8)","v":106.42105263157895},23]
["Toffee",19,86,"M",{"$f":"MIN(B4262*C4262/6,400)/(B4262/2)+(control!$B$4-MIN(B4262*C4262/6,400))/(B4262/8)","v":82.421052631578959},20]
["Tokai",25,78,"S",{"$f":"MIN(B4263*C4263/6,400)/(B4263/2)+(control!$B$4-MIN(B4263*C4263/6,400))/(B4263/8)","v":50},29]
["Tola",22,72,"M",{"$f":"MIN(B4264*C4264/6,400)/(B4264/2)+(control!$B$4-MIN(B4264*C4264/6,400))/(B4264/8)","v":73.454545454545453},26]
["Tolo",27,95,"M",{"$f":"MIN(B4265*C4265/6,400)/(B4265/2)+(control!$B$4-MIN(B4265*C4265/6,400))/(B4265/8)","v":29.62962962962963},28]
["Tom Fool",19,67,"S",{"$f":"MIN(B4266*C4266/6,400)/(B4266/2)+(control!$B$4-MIN(B4266*C4266/6,400))/(B4266/8)","v":101.42105263157895},22]
["Tomboy",27,79,"S",{"$f":"MIN(B4267*C4267/6,400)/(B4267/2)+(control!$B$4-MIN(B4267*C4267/6,400))/(B4267/8)","v":39.518518518518519},29]
["Tomcat",16,70,"S",{"$f":"MIN(B4268*C4268/6,400)/(B4268/2)+(control!$B$4-MIN(B4268*C4268/6,400))/(B4268/8)","v":130},17]
["Tommy",15,121,"S",{"$f":"MIN(B4269*C4269/6,400)/(B4269/2)+(control!$B$4-MIN(B4269*C4269/6,400))/(B4269/8)","v":92.333333333333343},18]
["Tomorrow's Dreams",19,74,"S",{"$f":"MIN(B4270*C4270/6,400)/(B4270/2)+(control!$B$4-MIN(B4270*C4270/6,400))/(B4270/8)","v":94.421052631578945},20]
["Tongo",20,82,"S",{"$f":"MIN(B4271*C4271/6,400)/(B4271/2)+(control!$B$4-MIN(B4271*C4271/6,400))/(B4271/8)","v":78},22]
["Tonka",15,86,"S",{"$f":"MIN(B4272*C4272/6,400)/(B4272/2)+(control!$B$4-MIN(B4272*C4272/6,400))/(B4272/8)","v":127.33333333333334},17]
["Tonka Truck",15,80,"M",{"$f":"MIN(B4273*C4273/6,400)/(B4273/2)+(control!$B$4-MIN(B4273*C4273/6,400))/(B4273/8)","v":133.33333333333334},15]
["Tono",27,72,"M",{"$f":"MIN(B4274*C4274/6,400)/(B4274/2)+(control!$B$4-MIN(B4274*C4274/6,400))/(B4274/8)","v":46.518518518518519},29]
["Tonto",26,87,"M",{"$f":"MIN(B4275*C4275/6,400)/(B4275/2)+(control!$B$4-MIN(B4275*C4275/6,400))/(B4275/8)","v":36.07692307692308},26]
["Tony",25,76,"M",{"$f":"MIN(B4276*C4276/6,400)/(B4276/2)+(control!$B$4-MIN(B4276*C4276/6,400))/(B4276/8)","v":52},25]
["Too Hot To Handle",20,67,"M",{"$f":"MIN(B4277*C4277/6,400)/(B4277/2)+(control!$B$4-MIN(B4277*C4277/6,400))/(B4277/8)","v":93},23]
["Tooter",18,71,"M",{"$f":"MIN(B4278*C4278/6,400)/(B4278/2)+(control!$B$4-MIN(B4278*C4278/6,400))/(B4278/8)","v":106.77777777777779},21]
["Tootie Frutie",19,90,"S",{"$f":"MIN(B4279*C4279/6,400)/(B4279/2)+(control!$B$4-MIN(B4279*C4279/6,400))/(B4279/8)","v":78.421052631578945},22]
["Tootles",21,93,"D",{"$f":"MIN(B4280*C4280/6,400)/(B4280/2)+(control!$B$4-MIN(B4280*C4280/6,400))/(B4280/8)","v":59.38095238095238},24]
["Top Cat",19,92,"D",{"$f":"MIN(B4281*C4281/6,400)/(B4281/2)+(control!$B$4-MIN(B4281*C4281/6,400))/(B4281/8)","v":76.421052631578959},21]
["Top Hat",18,73,"S",{"$f":"MIN(B4282*C4282/6,400)/(B4282/2)+(control!$B$4-MIN(B4282*C4282/6,400))/(B4282/8)","v":104.77777777777777},18]
["Top of the Line",22,87,"M",{"$f":"MIN(B4283*C4283/6,400)/(B4283/2)+(control!$B$4-MIN(B4283*C4283/6,400))/(B4283/8)","v":58.454545454545453},22]
["Top Prize",24,109,"S",{"$f":"MIN(B4284*C4284/6,400)/(B4284/2)+(control!$B$4-MIN(B4284*C4284/6,400))/(B4284/8)","v":33.333333333333336},28]
["Top Quality",16,101,"D",{"$f":"MIN(B4285*C4285/6,400)/(B4285/2)+(control!$B$4-MIN(B4285*C4285/6,400))/(B4285/8)","v":99},16]
["Top Score",19,68,"M",{"$f":"MIN(B4286*C4286/6,400)/(B4286/2)+(control!$B$4-MIN(B4286*C4286/6,400))/(B4286/8)","v":100.42105263157895},23]
["Top Secret",19,76,"S",{"$f":"MIN(B4287*C4287/6,400)/(B4287/2)+(control!$B$4-MIN(B4287*C4287/6,400))/(B4287/8)","v":92.421052631578945},23]
["Top Story",21,103,"D",{"$f":"MIN(B4288*C4288/6,400)/(B4288/2)+(control!$B$4-MIN(B4288*C4288/6,400))/(B4288/8)","v":49.38095238095238},22]
["Top Style",20,86,"M",{"$f":"MIN(B4289*C4289/6,400)/(B4289/2)+(control!$B$4-MIN(B4289*C4289/6,400))/(B4289/8)","v":74},20]
["Topanga",23,85,"S",{"$f":"MIN(B4290*C4290/6,400)/(B4290/2)+(control!$B$4-MIN(B4290*C4290/6,400))/(B4290/8)","v":54.130434782608702},24]
["Topanna",19,81,"S",{"$f":"MIN(B4291*C4291/6,400)/(B4291/2)+(control!$B$4-MIN(B4291*C4291/6,400))/(B4291/8)","v":87.421052631578945},23]
["Topaz",19,93,"D",{"$f":"MIN(B4292*C4292/6,400)/(B4292/2)+(control!$B$4-MIN(B4292*C4292/6,400))/(B4292/8)","v":75.421052631578945},22]
["Topic",22,79,"M",{"$f":"MIN(B4293*C4293/6,400)/(B4293/2)+(control!$B$4-MIN(B4293*C4293/6,400))/(B4293/8)","v":66.454545454545453},23]
["Topnotch",27,118,"D",{"$f":"MIN(B4294*C4294/6,400)/(B4294/2)+(control!$B$4-MIN(B4294*C4294/6,400))/(B4294/8)","v":29.62962962962963},28]
["Topside",20,78,"M",{"$f":"MIN(B4295*C4295/6,400)/(B4295/2)+(control!$B$4-MIN(B4295*C4295/6,400))/(B4295/8)","v":82},24]
["Tora",20,116,"D",{"$f":"MIN(B4296*C4296/6,400)/(B4296/2)+(control!$B$4-MIN(B4296*C4296/6,400))/(B4296/8)","v":44},21]
["Torahka (Hebrew-Carrier of the Law)",22,76,"M",{"$f":"MIN(B4297*C4297/6,400)/(B4297/2)+(control!$B$4-MIN(B4297*C4297/6,400))/(B4297/8)","v":69.454545454545453},22]
["Torch",21,101,"M",{"$f":"MIN(B4298*C4298/6,400)/(B4298/2)+(control!$B$4-MIN(B4298*C4298/6,400))/(B4298/8)","v":51.38095238095238},25]
["Tori",22,70,"M",{"$f":"MIN(B4299*C4299/6,400)/(B4299/2)+(control!$B$4-MIN(B4299*C4299/6,400))/(B4299/8)","v":75.454545454545453},22]
["Toric",23,96,"D",{"$f":"MIN(B4300*C4300/6,400)/(B4300/2)+(control!$B$4-MIN(B4300*C4300/6,400))/(B4300/8)","v":43.130434782608695},23]
["Torigon",27,81,"M",{"$f":"MIN(B4301*C4301/6,400)/(B4301/2)+(control!$B$4-MIN(B4301*C4301/6,400))/(B4301/8)","v":37.518518518518519},30]
["Tornado",23,81,"M",{"$f":"MIN(B4302*C4302/6,400)/(B4302/2)+(control!$B$4-MIN(B4302*C4302/6,400))/(B4302/8)","v":58.130434782608695},27]
["Toronto",17,106,"D",{"$f":"MIN(B4303*C4303/6,400)/(B4303/2)+(control!$B$4-MIN(B4303*C4303/6,400))/(B4303/8)","v":82.235294117647072},20]
["Torque",18,105,"D",{"$f":"MIN(B4304*C4304/6,400)/(B4304/2)+(control!$B$4-MIN(B4304*C4304/6,400))/(B4304/8)","v":72.777777777777771},22]
["Total Rebellion",22,73,"S",{"$f":"MIN(B4305*C4305/6,400)/(B4305/2)+(control!$B$4-MIN(B4305*C4305/6,400))/(B4305/8)","v":72.454545454545453},24]
["Touch",20,83,"M",{"$f":"MIN(B4306*C4306/6,400)/(B4306/2)+(control!$B$4-MIN(B4306*C4306/6,400))/(B4306/8)","v":77},20]
["Touch of Class",22,101,"D",{"$f":"MIN(B4307*C4307/6,400)/(B4307/2)+(control!$B$4-MIN(B4307*C4307/6,400))/(B4307/8)","v":44.45454545454546},26]
["Touch of Dandy",27,66,"M",{"$f":"MIN(B4308*C4308/6,400)/(B4308/2)+(control!$B$4-MIN(B4308*C4308/6,400))/(B4308/8)","v":52.518518518518519},30]
["Touch of Faith",15,95,"S",{"$f":"MIN(B4309*C4309/6,400)/(B4309/2)+(control!$B$4-MIN(B4309*C4309/6,400))/(B4309/8)","v":118.33333333333334},18]
["Touch of Frost",18,81,"M",{"$f":"MIN(B4310*C4310/6,400)/(B4310/2)+(control!$B$4-MIN(B4310*C4310/6,400))/(B4310/8)","v":96.777777777777771},18]
["Tough Opposition",16,97,"M",{"$f":"MIN(B4311*C4311/6,400)/(B4311/2)+(control!$B$4-MIN(B4311*C4311/6,400))/(B4311/8)","v":103},18]
["Toy",16,98,"D",{"$f":"MIN(B4312*C4312/6,400)/(B4312/2)+(control!$B$4-MIN(B4312*C4312/6,400))/(B4312/8)","v":102},19]
["Toyland",20,120,"S",{"$f":"MIN(B4313*C4313/6,400)/(B4313/2)+(control!$B$4-MIN(B4313*C4313/6,400))/(B4313/8)","v":40},20]
["Trace",19,93,"D",{"$f":"MIN(B4314*C4314/6,400)/(B4314/2)+(control!$B$4-MIN(B4314*C4314/6,400))/(B4314/8)","v":75.421052631578945},19]
["Tracer",25,100,"S",{"$f":"MIN(B4315*C4315/6,400)/(B4315/2)+(control!$B$4-MIN(B4315*C4315/6,400))/(B4315/8)","v":32},28]
["Tracker",19,69,"M",{"$f":"MIN(B4316*C4316/6,400)/(B4316/2)+(control!$B$4-MIN(B4316*C4316/6,400))/(B4316/8)","v":99.421052631578945},20]
["Traditional Style",16,84,"M",{"$f":"MIN(B4317*C4317/6,400)/(B4317/2)+(control!$B$4-MIN(B4317*C4317/6,400))/(B4317/8)","v":116},16]
["Trail Blazer",19,79,"M",{"$f":"MIN(B4318*C4318/6,400)/(B4318/2)+(control!$B$4-MIN(B4318*C4318/6,400))/(B4318/8)","v":89.421052631578945},20]
["Tramp",24,76,"S",{"$f":"MIN(B4319*C4319/6,400)/(B4319/2)+(control!$B$4-MIN(B4319*C4319/6,400))/(B4319/8)","v":57.333333333333329},28]
["Trapper",25,69,"S",{"$f":"MIN(B4320*C4320/6,400)/(B4320/2)+(control!$B$4-MIN(B4320*C4320/6,400))/(B4320/8)","v":59},26]
["Travaldo",24,74,"S",{"$f":"MIN(B4321*C4321/6,400)/(B4321/2)+(control!$B$4-MIN(B4321*C4321/6,400))/(B4321/8)","v":59.333333333333329},24]
["Traveler",19,79,"M",{"$f":"MIN(B4322*C4322/6,400)/(B4322/2)+(control!$B$4-MIN(B4322*C4322/6,400))/(B4322/8)","v":89.421052631578945},19]
["Travelers Proud Poco",21,90,"M",{"$f":"MIN(B4323*C4323/6,400)/(B4323/2)+(control!$B$4-MIN(B4323*C4323/6,400))/(B4323/8)","v":62.38095238095238},25]
["Travlers Delieght",19,59,"S",{"$f":"MIN(B4324*C4324/6,400)/(B4324/2)+(control!$B$4-MIN(B4324*C4324/6,400))/(B4324/8)","v":109.42105263157895},19]
["Travlin Man",20,112,"M",{"$f":"MIN(B4325*C4325/6,400)/(B4325/2)+(control!$B$4-MIN(B4325*C4325/6,400))/(B4325/8)","v":48},21]
["Trax",17,73,"S",{"$f":"MIN(B4326*C4326/6,400)/(B4326/2)+(control!$B$4-MIN(B4326*C4326/6,400))/(B4326/8)","v":115.23529411764704},20]
["Treacle",19,78,"M",{"$f":"MIN(B4327*C4327/6,400)/(B4327/2)+(control!$B$4-MIN(B4327*C4327/6,400))/(B4327/8)","v":90.421052631578945},23]
["Treasure",21,67,"M",{"$f":"MIN(B4328*C4328/6,400)/(B4328/2)+(control!$B$4-MIN(B4328*C4328/6,400))/(B4328/8)","v":85.38095238095238},25]
["Treke",21,79,"S",{"$f":"MIN(B4329*C4329/6,400)/(B4329/2)+(control!$B$4-MIN(B4329*C4329/6,400))/(B4329/8)","v":73.38095238095238},24]
["Trevor",17,93,"S",{"$f":"MIN(B4330*C4330/6,400)/(B4330/2)+(control!$B$4-MIN(B4330*C4330/6,400))/(B4330/8)","v":95.235294117647058},21]
["Trey",27,81,"M",{"$f":"MIN(B4331*C4331/6,400)/(B4331/2)+(control!$B$4-MIN(B4331*C4331/6,400))/(B4331/8)","v":37.518518518518519},30]
["Tribulation",20,90,"S",{"$f":"MIN(B4332*C4332/6,400)/(B4332/2)+(control!$B$4-MIN(B4332*C4332/6,400))/(B4332/8)","v":70},22]
["Tribute",18,82,"S",{"$f":"MIN(B4333*C4333/6,400)/(B4333/2)+(control!$B$4-MIN(B4333*C4333/6,400))/(B4333/8)","v":95.777777777777771},18]
["Tricks",25,97,"D",{"$f":"MIN(B4334*C4334/6,400)/(B4334/2)+(control!$B$4-MIN(B4334*C4334/6,400))/(B4334/8)","v":32},25]
["Trigger",20,79,"M",{"$f":"MIN(B4335*C4335/6,400)/(B4335/2)+(control!$B$4-MIN(B4335*C4335/6,400))/(B4335/8)","v":81},24]
["Trinity",20,116,"D",{"$f":"MIN(B4336*C4336/6,400)/(B4336/2)+(control!$B$4-MIN(B4336*C4336/6,400))/(B4336/8)","v":44},23]
["Trio",20,97,"S",{"$f":"MIN(B4337*C4337/6,400)/(B4337/2)+(control!$B$4-MIN(B4337*C4337/6,400))/(B4337/8)","v":63},21]
["Triple Treat",22,73,"S",{"$f":"MIN(B4338*C4338/6,400)/(B4338/2)+(control!$B$4-MIN(B4338*C4338/6,400))/(B4338/8)","v":72.454545454545453},24]
["Triples",23,89,"M",{"$f":"MIN(B4339*C4339/6,400)/(B4339/2)+(control!$B$4-MIN(B4339*C4339/6,400))/(B4339/8)","v":50.130434782608688},27]
["Tripp",25,67,"M",{"$f":"MIN(B4340*C4340/6,400)/(B4340/2)+(control!$B$4-MIN(B4340*C4340/6,400))/(B4340/8)","v":60.999999999999993},25]
["Tristan",22,61,"M",{"$f":"MIN(B4341*C4341/6,400)/(B4341/2)+(control!$B$4-MIN(B4341*C4341/6,400))/(B4341/8)","v":84.454545454545453},23]
["Triton",18,115,"M",{"$f":"MIN(B4342*C4342/6,400)/(B4342/2)+(control!$B$4-MIN(B4342*C4342/6,400))/(B4342/8)","v":62.777777777777779},20]
["Trixie",25,96,"S",{"$f":"MIN(B4343*C4343/6,400)/(B4343/2)+(control!$B$4-MIN(B4343*C4343/6,400))/(B4343/8)","v":32},29]
["Trixies Cool Rainbow",16,77,"S",{"$f":"MIN(B4344*C4344/6,400)/(B4344/2)+(control!$B$4-MIN(B4344*C4344/6,400))/(B4344/8)","v":123},16]
["Trocadero",23,68,"S",{"$f":"MIN(B4345*C4345/6,400)/(B4345/2)+(control!$B$4-MIN(B4345*C4345/6,400))/(B4345/8)","v":71.130434782608688},24]
["Trojan",25,100,"D",{"$f":"MIN(B4346*C4346/6,400)/(B4346/2)+(control!$B$4-MIN(B4346*C4346/6,400))/(B4346/8)","v":32},25]
["Tronto",15,90,"M",{"$f":"MIN(B4347*C4347/6,400)/(B4347/2)+(control!$B$4-MIN(B4347*C4347/6,400))/(B4347/8)","v":123.33333333333333},18]
["Trooper",19,121,"D",{"$f":"MIN(B4348*C4348/6,400)/(B4348/2)+(control!$B$4-MIN(B4348*C4348/6,400))/(B4348/8)","v":47.421052631578945},19]
["Troubles",20,63,"S",{"$f":"MIN(B4349*C4349/6,400)/(B4349/2)+(control!$B$4-MIN(B4349*C4349/6,400))/(B4349/8)","v":97},23]
["Trudy",25,97,"D",{"$f":"MIN(B4350*C4350/6,400)/(B4350/2)+(control!$B$4-MIN(B4350*C4350/6,400))/(B4350/8)","v":32},27]
["True Confidence",20,96,"S",{"$f":"MIN(B4351*C4351/6,400)/(B4351/2)+(control!$B$4-MIN(B4351*C4351/6,400))/(B4351/8)","v":64},23]
["True Stepper",20,74,"S",{"$f":"MIN(B4352*C4352/6,400)/(B4352/2)+(control!$B$4-MIN(B4352*C4352/6,400))/(B4352/8)","v":86},22]
["True Zippo",21,93,"M",{"$f":"MIN(B4353*C4353/6,400)/(B4353/2)+(control!$B$4-MIN(B4353*C4353/6,400))/(B4353/8)","v":59.38095238095238},25]
["Truffles",22,122,"D",{"$f":"MIN(B4354*C4354/6,400)/(B4354/2)+(control!$B$4-MIN(B4354*C4354/6,400))/(B4354/8)","v":36.363636363636367},26]
["Truly Intelligent",24,71,"S",{"$f":"MIN(B4355*C4355/6,400)/(B4355/2)+(control!$B$4-MIN(B4355*C4355/6,400))/(B4355/8)","v":62.333333333333329},26]
["Truska",22,70,"S",{"$f":"MIN(B4356*C4356/6,400)/(B4356/2)+(control!$B$4-MIN(B4356*C4356/6,400))/(B4356/8)","v":75.454545454545453},26]
["Try Me Hot",22,72,"M",{"$f":"MIN(B4357*C4357/6,400)/(B4357/2)+(control!$B$4-MIN(B4357*C4357/6,400))/(B4357/8)","v":73.454545454545453},22]
["Trylan Aire",18,92,"S",{"$f":"MIN(B4358*C4358/6,400)/(B4358/2)+(control!$B$4-MIN(B4358*C4358/6,400))/(B4358/8)","v":85.777777777777786},19]
["Tubby",21,101,"D",{"$f":"MIN(B4359*C4359/6,400)/(B4359/2)+(control!$B$4-MIN(B4359*C4359/6,400))/(B4359/8)","v":51.38095238095238},23]
["Tucker",27,94,"D",{"$f":"MIN(B4360*C4360/6,400)/(B4360/2)+(control!$B$4-MIN(B4360*C4360/6,400))/(B4360/8)","v":29.62962962962963},27]
["Tuff",21,93,"D",{"$f":"MIN(B4361*C4361/6,400)/(B4361/2)+(control!$B$4-MIN(B4361*C4361/6,400))/(B4361/8)","v":59.38095238095238},25]
["Tuff E Nuff Zippo",22,66,"S",{"$f":"MIN(B4362*C4362/6,400)/(B4362/2)+(control!$B$4-MIN(B4362*C4362/6,400))/(B4362/8)","v":79.454545454545453},23]
["Tuffy",17,81,"M",{"$f":"MIN(B4363*C4363/6,400)/(B4363/2)+(control!$B$4-MIN(B4363*C4363/6,400))/(B4363/8)","v":107.23529411764706},21]
["Tulsa",22,71,"S",{"$f":"MIN(B4364*C4364/6,400)/(B4364/2)+(control!$B$4-MIN(B4364*C4364/6,400))/(B4364/8)","v":74.454545454545467},24]
["Tumbleweed",18,79,"S",{"$f":"MIN(B4365*C4365/6,400)/(B4365/2)+(control!$B$4-MIN(B4365*C4365/6,400))/(B4365/8)","v":98.777777777777771},20]
["Tune",19,77,"M",{"$f":"MIN(B4366*C4366/6,400)/(B4366/2)+(control!$B$4-MIN(B4366*C4366/6,400))/(B4366/8)","v":91.421052631578945},23]
["Tunka",24,83,"S",{"$f":"MIN(B4367*C4367/6,400)/(B4367/2)+(control!$B$4-MIN(B4367*C4367/6,400))/(B4367/8)","v":50.333333333333336},27]
["Tuppence",16,94,"S",{"$f":"MIN(B4368*C4368/6,400)/(B4368/2)+(control!$B$4-MIN(B4368*C4368/6,400))/(B4368/8)","v":106},20]
["Turbo",17,116,"S",{"$f":"MIN(B4369*C4369/6,400)/(B4369/2)+(control!$B$4-MIN(B4369*C4369/6,400))/(B4369/8)","v":72.235294117647058},18]
["Turk",19,87,"M",{"$f":"MIN(B4370*C4370/6,400)/(B4370/2)+(control!$B$4-MIN(B4370*C4370/6,400))/(B4370/8)","v":81.421052631578945},23]
["Turning Point",17,76,"M",{"$f":"MIN(B4371*C4371/6,400)/(B4371/2)+(control!$B$4-MIN(B4371*C4371/6,400))/(B4371/8)","v":112.23529411764704},20]
["Turtle",15,90,"M",{"$f":"MIN(B4372*C4372/6,400)/(B4372/2)+(control!$B$4-MIN(B4372*C4372/6,400))/(B4372/8)","v":123.33333333333333},15]
["Tuvok",22,88,"S",{"$f":"MIN(B4373*C4373/6,400)/(B4373/2)+(control!$B$4-MIN(B4373*C4373/6,400))/(B4373/8)","v":57.454545454545453},25]
["Tux",21,76,"M",{"$f":"MIN(B4374*C4374/6,400)/(B4374/2)+(control!$B$4-MIN(B4374*C4374/6,400))/(B4374/8)","v":76.38095238095238},23]
["Tuxedo",21,85,"M",{"$f":"MIN(B4375*C4375/6,400)/(B4375/2)+(control!$B$4-MIN(B4375*C4375/6,400))/(B4375/8)","v":67.38095238095238},24]
["Twain",15,59,"S",{"$f":"MIN(B4376*C4376/6,400)/(B4376/2)+(control!$B$4-MIN(B4376*C4376/6,400))/(B4376/8)","v":154.33333333333331},19]
["Twenty-Eleven",20,65,"S",{"$f":"MIN(B4377*C4377/6,400)/(B4377/2)+(control!$B$4-MIN(B4377*C4377/6,400))/(B4377/8)","v":95},23]
["Twice",22,97,"S",{"$f":"MIN(B4378*C4378/6,400)/(B4378/2)+(control!$B$4-MIN(B4378*C4378/6,400))/(B4378/8)","v":48.454545454545453},26]
["Twiggs",18,88,"M",{"$f":"MIN(B4379*C4379/6,400)/(B4379/2)+(control!$B$4-MIN(B4379*C4379/6,400))/(B4379/8)","v":89.777777777777771},18]
["Twilight",16,74,"S",{"$f":"MIN(B4380*C4380/6,400)/(B4380/2)+(control!$B$4-MIN(B4380*C4380/6,400))/(B4380/8)","v":126},16]
["Twilight Zone",26,84,"S",{"$f":"MIN(B4381*C4381/6,400)/(B4381/2)+(control!$B$4-MIN(B4381*C4381/6,400))/(B4381/8)","v":39.07692307692308},30]
["Twin",22,97,"M",{"$f":"MIN(B4382*C4382/6,400)/(B4382/2)+(control!$B$4-MIN(B4382*C4382/6,400))/(B4382/8)","v":48.454545454545453},23]
["Twinkie",25,79,"S",{"$f":"MIN(B4383*C4383/6,400)/(B4383/2)+(control!$B$4-MIN(B4383*C4383/6,400))/(B4383/8)","v":49},25]
["Twinkle",19,99,"M",{"$f":"MIN(B4384*C4384/6,400)/(B4384/2)+(control!$B$4-MIN(B4384*C4384/6,400))/(B4384/8)","v":69.421052631578945},22]
["Twinkle Toes",19,116,"S",{"$f":"MIN(B4385*C4385/6,400)/(B4385/2)+(control!$B$4-MIN(B4385*C4385/6,400))/(B4385/8)","v":52.421052631578952},19]
["Twist n' Shout",21,69,"M",{"$f":"MIN(B4386*C4386/6,400)/(B4386/2)+(control!$B$4-MIN(B4386*C4386/6,400))/(B4386/8)","v":83.38095238095238},22]
["Twist N Time",21,123,"D",{"$f":"MIN(B4387*C4387/6,400)/(B4387/2)+(control!$B$4-MIN(B4387*C4387/6,400))/(B4387/8)","v":38.095238095238095},25]
["Twisted Noodle",16,88,"S",{"$f":"MIN(B4388*C4388/6,400)/(B4388/2)+(control!$B$4-MIN(B4388*C4388/6,400))/(B4388/8)","v":112},17]
["Twister",20,88,"S",{"$f":"MIN(B4389*C4389/6,400)/(B4389/2)+(control!$B$4-MIN(B4389*C4389/6,400))/(B4389/8)","v":72},22]
["Twlight Tossin' It Up",22,92,"S",{"$f":"MIN(B4390*C4390/6,400)/(B4390/2)+(control!$B$4-MIN(B4390*C4390/6,400))/(B4390/8)","v":53.45454545454546},25]
["Two Bits",20,86,"S",{"$f":"MIN(B4391*C4391/6,400)/(B4391/2)+(control!$B$4-MIN(B4391*C4391/6,400))/(B4391/8)","v":74},21]
["Two Socks",16,65,"S",{"$f":"MIN(B4392*C4392/6,400)/(B4392/2)+(control!$B$4-MIN(B4392*C4392/6,400))/(B4392/8)","v":135},19]
["Two to Tango",24,117,"D",{"$f":"MIN(B4393*C4393/6,400)/(B4393/2)+(control!$B$4-MIN(B4393*C4393/6,400))/(B4393/8)","v":33.333333333333336},25]
["Ty",19,66,"S",{"$f":"MIN(B4394*C4394/6,400)/(B4394/2)+(control!$B$4-MIN(B4394*C4394/6,400))/(B4394/8)","v":102.42105263157895},19]
["Tyra",19,68,"S",{"$f":"MIN(B4395*C4395/6,400)/(B4395/2)+(control!$B$4-MIN(B4395*C4395/6,400))/(B4395/8)","v":100.42105263157895},22]
["Tyrees Pride",15,79,"S",{"$f":"MIN(B4396*C4396/6,400)/(B4396/2)+(control!$B$4-MIN(B4396*C4396/6,400))/(B4396/8)","v":134.33333333333334},16]
["Tyson",27,97,"M",{"$f":"MIN(B4397*C4397/6,400)/(B4397/2)+(control!$B$4-MIN(B4397*C4397/6,400))/(B4397/8)","v":29.62962962962963},29]
["Tzar Bria",27,101,"S",{"$f":"MIN(B4398*C4398/6,400)/(B4398/2)+(control!$B$4-MIN(B4398*C4398/6,400))/(B4398/8)","v":29.62962962962963},28]
["U For Me",18,70,"S",{"$f":"MIN(B4399*C4399/6,400)/(B4399/2)+(control!$B$4-MIN(B4399*C4399/6,400))/(B4399/8)","v":107.77777777777777},19]
["Uakea (means Misty)",27,107,"S",{"$f":"MIN(B4400*C4400/6,400)/(B4400/2)+(control!$B$4-MIN(B4400*C4400/6,400))/(B4400/8)","v":29.62962962962963},27]
["Uaki",18,63,"S",{"$f":"MIN(B4401*C4401/6,400)/(B4401/2)+(control!$B$4-MIN(B4401*C4401/6,400))/(B4401/8)","v":114.77777777777777},20]
["Uila (means Lightening)",19,101,"D",{"$f":"MIN(B4402*C4402/6,400)/(B4402/2)+(control!$B$4-MIN(B4402*C4402/6,400))/(B4402/8)","v":67.421052631578959},21]
["Ula",26,102,"D",{"$f":"MIN(B4403*C4403/6,400)/(B4403/2)+(control!$B$4-MIN(B4403*C4403/6,400))/(B4403/8)","v":30.76923076923077},29]
["Ultimate Best",22,123,"D",{"$f":"MIN(B4404*C4404/6,400)/(B4404/2)+(control!$B$4-MIN(B4404*C4404/6,400))/(B4404/8)","v":36.363636363636367},26]
["Ultimate Depth",19,109,"D",{"$f":"MIN(B4405*C4405/6,400)/(B4405/2)+(control!$B$4-MIN(B4405*C4405/6,400))/(B4405/8)","v":59.421052631578945},20]
["Ultimate Height",17,85,"S",{"$f":"MIN(B4406*C4406/6,400)/(B4406/2)+(control!$B$4-MIN(B4406*C4406/6,400))/(B4406/8)","v":103.23529411764704},17]
["Ultimate Risk",24,72,"M",{"$f":"MIN(B4407*C4407/6,400)/(B4407/2)+(control!$B$4-MIN(B4407*C4407/6,400))/(B4407/8)","v":61.333333333333336},26]
["Ulyses",22,121,"D",{"$f":"MIN(B4408*C4408/6,400)/(B4408/2)+(control!$B$4-MIN(B4408*C4408/6,400))/(B4408/8)","v":36.363636363636367},25]
["Ulysses",19,113,"M",{"$f":"MIN(B4409*C4409/6,400)/(B4409/2)+(control!$B$4-MIN(B4409*C4409/6,400))/(B4409/8)","v":55.421052631578952},20]
["Uma (girl in Japanese)",26,98,"M",{"$f":"MIN(B4410*C4410/6,400)/(B4410/2)+(control!$B$4-MIN(B4410*C4410/6,400))/(B4410/8)","v":30.76923076923077},28]
["Umbra",24,75,"S",{"$f":"MIN(B4411*C4411/6,400)/(B4411/2)+(control!$B$4-MIN(B4411*C4411/6,400))/(B4411/8)","v":58.333333333333336},26]
["Un Poco",24,80,"M",{"$f":"MIN(B4412*C4412/6,400)/(B4412/2)+(control!$B$4-MIN(B4412*C4412/6,400))/(B4412/8)","v":53.333333333333336},24]
["Unagi",22,92,"S",{"$f":"MIN(B4413*C4413/6,400)/(B4413/2)+(control!$B$4-MIN(B4413*C4413/6,400))/(B4413/8)","v":53.45454545454546},24]
["Unannounced Pleasure",15,76,"S",{"$f":"MIN(B4414*C4414/6,400)/(B4414/2)+(control!$B$4-MIN(B4414*C4414/6,400))/(B4414/8)","v":137.33333333333334},15]
["Unbridled Dreams",21,82,"M",{"$f":"MIN(B4415*C4415/6,400)/(B4415/2)+(control!$B$4-MIN(B4415*C4415/6,400))/(B4415/8)","v":70.38095238095238},23]
["Uncas",20,66,"S",{"$f":"MIN(B4416*C4416/6,400)/(B4416/2)+(control!$B$4-MIN(B4416*C4416/6,400))/(B4416/8)","v":94},20]
["Undecided",18,69,"S",{"$f":"MIN(B4417*C4417/6,400)/(B4417/2)+(control!$B$4-MIN(B4417*C4417/6,400))/(B4417/8)","v":108.77777777777777},20]
["Under Par",20,89,"M",{"$f":"MIN(B4418*C4418/6,400)/(B4418/2)+(control!$B$4-MIN(B4418*C4418/6,400))/(B4418/8)","v":71},22]
["Under The Stars",20,70,"M",{"$f":"MIN(B4419*C4419/6,400)/(B4419/2)+(control!$B$4-MIN(B4419*C4419/6,400))/(B4419/8)","v":90},22]
["Underdog",25,76,"S",{"$f":"MIN(B4420*C4420/6,400)/(B4420/2)+(control!$B$4-MIN(B4420*C4420/6,400))/(B4420/8)","v":52},27]
["Understandably",26,112,"M",{"$f":"MIN(B4421*C4421/6,400)/(B4421/2)+(control!$B$4-MIN(B4421*C4421/6,400))/(B4421/8)","v":30.76923076923077},26]
["Unexpected visitor",21,115,"D",{"$f":"MIN(B4422*C4422/6,400)/(B4422/2)+(control!$B$4-MIN(B4422*C4422/6,400))/(B4422/8)","v":38.095238095238095},22]
["Uniquess",27,69,"S",{"$f":"MIN(B4423*C4423/6,400)/(B4423/2)+(control!$B$4-MIN(B4423*C4423/6,400))/(B4423/8)","v":49.518518518518519},28]
["Unity",27,87,"M",{"$f":"MIN(B4424*C4424/6,400)/(B4424/2)+(control!$B$4-MIN(B4424*C4424/6,400))/(B4424/8)","v":31.518518518518519},28]
["Universal",18,101,"D",{"$f":"MIN(B4425*C4425/6,400)/(B4425/2)+(control!$B$4-MIN(B4425*C4425/6,400))/(B4425/8)","v":76.777777777777771},22]
["Unnstoppable",27,74,"S",{"$f":"MIN(B4426*C4426/6,400)/(B4426/2)+(control!$B$4-MIN(B4426*C4426/6,400))/(B4426/8)","v":44.518518518518519},28]
["Uno",21,75,"S",{"$f":"MIN(B4427*C4427/6,400)/(B4427/2)+(control!$B$4-MIN(B4427*C4427/6,400))/(B4427/8)","v":77.38095238095238},21]
["Uno Mas",22,92,"D",{"$f":"MIN(B4428*C4428/6,400)/(B4428/2)+(control!$B$4-MIN(B4428*C4428/6,400))/(B4428/8)","v":53.45454545454546},26]
["Untamed Desert",20,113,"S",{"$f":"MIN(B4429*C4429/6,400)/(B4429/2)+(control!$B$4-MIN(B4429*C4429/6,400))/(B4429/8)","v":47},20]
["Unusual",16,64,"M",{"$f":"MIN(B4430*C4430/6,400)/(B4430/2)+(control!$B$4-MIN(B4430*C4430/6,400))/(B4430/8)","v":136},18]
["Up, Up and away",26,72,"M",{"$f":"MIN(B4431*C4431/6,400)/(B4431/2)+(control!$B$4-MIN(B4431*C4431/6,400))/(B4431/8)","v":51.07692307692308},29]
["Upwell",21,87,"S",{"$f":"MIN(B4432*C4432/6,400)/(B4432/2)+(control!$B$4-MIN(B4432*C4432/6,400))/(B4432/8)","v":65.38095238095238},21]
["Urban Cowboy",22,77,"S",{"$f":"MIN(B4433*C4433/6,400)/(B4433/2)+(control!$B$4-MIN(B4433*C4433/6,400))/(B4433/8)","v":68.454545454545467},26]
["Urban Cowgirl",21,94,"D",{"$f":"MIN(B4434*C4434/6,400)/(B4434/2)+(control!$B$4-MIN(B4434*C4434/6,400))/(B4434/8)","v":58.38095238095238},25]
["Urko",26,88,"S",{"$f":"MIN(B4435*C4435/6,400)/(B4435/2)+(control!$B$4-MIN(B4435*C4435/6,400))/(B4435/8)","v":35.07692307692308},28]
["Ursa",24,61,"S",{"$f":"MIN(B4436*C4436/6,400)/(B4436/2)+(control!$B$4-MIN(B4436*C4436/6,400))/(B4436/8)","v":72.333333333333329},26]
["Ursula",25,80,"S",{"$f":"MIN(B4437*C4437/6,400)/(B4437/2)+(control!$B$4-MIN(B4437*C4437/6,400))/(B4437/8)","v":48},29]
["Utara",20,103,"M",{"$f":"MIN(B4438*C4438/6,400)/(B4438/2)+(control!$B$4-MIN(B4438*C4438/6,400))/(B4438/8)","v":57},23]
["Uther",21,78,"S",{"$f":"MIN(B4439*C4439/6,400)/(B4439/2)+(control!$B$4-MIN(B4439*C4439/6,400))/(B4439/8)","v":74.38095238095238},22]
["Utopia",27,76,"S",{"$f":"MIN(B4440*C4440/6,400)/(B4440/2)+(control!$B$4-MIN(B4440*C4440/6,400))/(B4440/8)","v":42.518518518518519},29]
["Vagabond",26,71,"S",{"$f":"MIN(B4441*C4441/6,400)/(B4441/2)+(control!$B$4-MIN(B4441*C4441/6,400))/(B4441/8)","v":52.076923076923073},30]
["Val",17,80,"M",{"$f":"MIN(B4442*C4442/6,400)/(B4442/2)+(control!$B$4-MIN(B4442*C4442/6,400))/(B4442/8)","v":108.23529411764707},19]
["Valentine",21,81,"S",{"$f":"MIN(B4443*C4443/6,400)/(B4443/2)+(control!$B$4-MIN(B4443*C4443/6,400))/(B4443/8)","v":71.38095238095238},25]
["Valentino",22,65,"S",{"$f":"MIN(B4444*C4444/6,400)/(B4444/2)+(control!$B$4-MIN(B4444*C4444/6,400))/(B4444/8)","v":80.454545454545453},26]
["Valley",22,101,"D",{"$f":"MIN(B4445*C4445/6,400)/(B4445/2)+(control!$B$4-MIN(B4445*C4445/6,400))/(B4445/8)","v":44.45454545454546},23]
["Valley Whisper",19,81,"S",{"$f":"MIN(B4446*C4446/6,400)/(B4446/2)+(control!$B$4-MIN(B4446*C4446/6,400))/(B4446/8)","v":87.421052631578945},22]
["Value Point",16,100,"M",{"$f":"MIN(B4447*C4447/6,400)/(B4447/2)+(control!$B$4-MIN(B4447*C4447/6,400))/(B4447/8)","v":100},19]
["Van Gogh",16,113,"D",{"$f":"MIN(B4448*C4448/6,400)/(B4448/2)+(control!$B$4-MIN(B4448*C4448/6,400))/(B4448/8)","v":87},19]
["Vandy",19,88,"S",{"$f":"MIN(B4449*C4449/6,400)/(B4449/2)+(control!$B$4-MIN(B4449*C4449/6,400))/(B4449/8)","v":80.421052631578945},23]
["Vanilla",17,70,"S",{"$f":"MIN(B4450*C4450/6,400)/(B4450/2)+(control!$B$4-MIN(B4450*C4450/6,400))/(B4450/8)","v":118.23529411764704},18]
["Vanilla Rose",18,64,"S",{"$f":"MIN(B4451*C4451/6,400)/(B4451/2)+(control!$B$4-MIN(B4451*C4451/6,400))/(B4451/8)","v":113.77777777777777},20]
["Vanity",17,72,"S",{"$f":"MIN(B4452*C4452/6,400)/(B4452/2)+(control!$B$4-MIN(B4452*C4452/6,400))/(B4452/8)","v":116.23529411764706},18]
["Vanity Fair",16,120,"M",{"$f":"MIN(B4453*C4453/6,400)/(B4453/2)+(control!$B$4-MIN(B4453*C4453/6,400))/(B4453/8)","v":80},19]
["Varsity",21,73,"S",{"$f":"MIN(B4454*C4454/6,400)/(B4454/2)+(control!$B$4-MIN(B4454*C4454/6,400))/(B4454/8)","v":79.38095238095238},23]
["Vassili",25,78,"M",{"$f":"MIN(B4455*C4455/6,400)/(B4455/2)+(control!$B$4-MIN(B4455*C4455/6,400))/(B4455/8)","v":50},26]
["Vebula",26,95,"S",{"$f":"MIN(B4456*C4456/6,400)/(B4456/2)+(control!$B$4-MIN(B4456*C4456/6,400))/(B4456/8)","v":30.76923076923077},26]
["Vedette",20,97,"M",{"$f":"MIN(B4457*C4457/6,400)/(B4457/2)+(control!$B$4-MIN(B4457*C4457/6,400))/(B4457/8)","v":63},21]
["Vega",27,60,"S",{"$f":"MIN(B4458*C4458/6,400)/(B4458/2)+(control!$B$4-MIN(B4458*C4458/6,400))/(B4458/8)","v":58.518518518518519},28]
["Vegas",21,63,"S",{"$f":"MIN(B4459*C4459/6,400)/(B4459/2)+(control!$B$4-MIN(B4459*C4459/6,400))/(B4459/8)","v":89.38095238095238},25]
["Velocity",18,75,"M",{"$f":"MIN(B4460*C4460/6,400)/(B4460/2)+(control!$B$4-MIN(B4460*C4460/6,400))/(B4460/8)","v":102.77777777777777},20]
["Velvet",19,95,"M",{"$f":"MIN(B4461*C4461/6,400)/(B4461/2)+(control!$B$4-MIN(B4461*C4461/6,400))/(B4461/8)","v":73.421052631578959},19]
["Velvet Blackjack",19,80,"S",{"$f":"MIN(B4462*C4462/6,400)/(B4462/2)+(control!$B$4-MIN(B4462*C4462/6,400))/(B4462/8)","v":88.421052631578945},22]
["Venture",20,104,"S",{"$f":"MIN(B4463*C4463/6,400)/(B4463/2)+(control!$B$4-MIN(B4463*C4463/6,400))/(B4463/8)","v":56},23]
["Venus",20,90,"S",{"$f":"MIN(B4464*C4464/6,400)/(B4464/2)+(control!$B$4-MIN(B4464*C4464/6,400))/(B4464/8)","v":70},20]
["Verdun",21,72,"S",{"$f":"MIN(B4465*C4465/6,400)/(B4465/2)+(control!$B$4-MIN(B4465*C4465/6,400))/(B4465/8)","v":80.38095238095238},22]
["Verona",25,123,"D",{"$f":"MIN(B4466*C4466/6,400)/(B4466/2)+(control!$B$4-MIN(B4466*C4466/6,400))/(B4466/8)","v":32},25]
["Verse",27,76,"S",{"$f":"MIN(B4467*C4467/6,400)/(B4467/2)+(control!$B$4-MIN(B4467*C4467/6,400))/(B4467/8)","v":42.518518518518519},27]
["Vertical Limit",25,80,"S",{"$f":"MIN(B4468*C4468/6,400)/(B4468/2)+(control!$B$4-MIN(B4468*C4468/6,400))/(B4468/8)","v":48},29]
["Vice Versa",22,64,"M",{"$f":"MIN(B4469*C4469/6,400)/(B4469/2)+(control!$B$4-MIN(B4469*C4469/6,400))/(B4469/8)","v":81.454545454545453},23]
["Vicky",27,93,"D",{"$f":"MIN(B4470*C4470/6,400)/(B4470/2)+(control!$B$4-MIN(B4470*C4470/6,400))/(B4470/8)","v":29.62962962962963},28]
["Victor",22,83,"S",{"$f":"MIN(B4471*C4471/6,400)/(B4471/2)+(control!$B$4-MIN(B4471*C4471/6,400))/(B4471/8)","v":62.45454545454546},26]
["Victorias Secret",21,60,"S",{"$f":"MIN(B4472*C4472/6,400)/(B4472/2)+(control!$B$4-MIN(B4472*C4472/6,400))/(B4472/8)","v":92.38095238095238},22]
["Victory",22,74,"M",{"$f":"MIN(B4473*C4473/6,400)/(B4473/2)+(control!$B$4-MIN(B4473*C4473/6,400))/(B4473/8)","v":71.454545454545467},24]
["Victory Blues",23,94,"S",{"$f":"MIN(B4474*C4474/6,400)/(B4474/2)+(control!$B$4-MIN(B4474*C4474/6,400))/(B4474/8)","v":45.130434782608702},27]
["Viking",22,75,"S",{"$f":"MIN(B4475*C4475/6,400)/(B4475/2)+(control!$B$4-MIN(B4475*C4475/6,400))/(B4475/8)","v":70.454545454545453},25]
["Villain",24,76,"M",{"$f":"MIN(B4476*C4476/6,400)/(B4476/2)+(control!$B$4-MIN(B4476*C4476/6,400))/(B4476/8)","v":57.333333333333329},26]
["Vincent",16,80,"S",{"$f":"MIN(B4477*C4477/6,400)/(B4477/2)+(control!$B$4-MIN(B4477*C4477/6,400))/(B4477/8)","v":120},19]
["Vinnie",24,105,"S",{"$f":"MIN(B4478*C4478/6,400)/(B4478/2)+(control!$B$4-MIN(B4478*C4478/6,400))/(B4478/8)","v":33.333333333333336},28]
["Vinny",18,81,"S",{"$f":"MIN(B4479*C4479/6,400)/(B4479/2)+(control!$B$4-MIN(B4479*C4479/6,400))/(B4479/8)","v":96.777777777777771},18]
["Violence",25,107,"M",{"$f":"MIN(B4480*C4480/6,400)/(B4480/2)+(control!$B$4-MIN(B4480*C4480/6,400))/(B4480/8)","v":32},28]
["Violent Storm",25,69,"M",{"$f":"MIN(B4481*C4481/6,400)/(B4481/2)+(control!$B$4-MIN(B4481*C4481/6,400))/(B4481/8)","v":59},25]
["Virgo",17,97,"D",{"$f":"MIN(B4482*C4482/6,400)/(B4482/2)+(control!$B$4-MIN(B4482*C4482/6,400))/(B4482/8)","v":91.235294117647072},20]
["Virtual Reality",22,98,"S",{"$f":"MIN(B4483*C4483/6,400)/(B4483/2)+(control!$B$4-MIN(B4483*C4483/6,400))/(B4483/8)","v":47.45454545454546},22]
["Visa Mastercard",25,96,"D",{"$f":"MIN(B4484*C4484/6,400)/(B4484/2)+(control!$B$4-MIN(B4484*C4484/6,400))/(B4484/8)","v":32},26]
["Visa Vi",24,73,"M",{"$f":"MIN(B4485*C4485/6,400)/(B4485/2)+(control!$B$4-MIN(B4485*C4485/6,400))/(B4485/8)","v":60.333333333333329},28]
["Vito",19,113,"M",{"$f":"MIN(B4486*C4486/6,400)/(B4486/2)+(control!$B$4-MIN(B4486*C4486/6,400))/(B4486/8)","v":55.421052631578952},22]
["Vivace",25,96,"D",{"$f":"MIN(B4487*C4487/6,400)/(B4487/2)+(control!$B$4-MIN(B4487*C4487/6,400))/(B4487/8)","v":32},28]
["Vixen",24,74,"S",{"$f":"MIN(B4488*C4488/6,400)/(B4488/2)+(control!$B$4-MIN(B4488*C4488/6,400))/(B4488/8)","v":59.333333333333329},28]
["Vogue",20,103,"M",{"$f":"MIN(B4489*C4489/6,400)/(B4489/2)+(control!$B$4-MIN(B4489*C4489/6,400))/(B4489/8)","v":57},20]
["Volano",18,78,"S",{"$f":"MIN(B4490*C4490/6,400)/(B4490/2)+(control!$B$4-MIN(B4490*C4490/6,400))/(B4490/8)","v":99.777777777777771},19]
["Voyager",17,86,"S",{"$f":"MIN(B4491*C4491/6,400)/(B4491/2)+(control!$B$4-MIN(B4491*C4491/6,400))/(B4491/8)","v":102.23529411764707},19]
["Wakita",18,73,"M",{"$f":"MIN(B4492*C4492/6,400)/(B4492/2)+(control!$B$4-MIN(B4492*C4492/6,400))/(B4492/8)","v":104.77777777777777},22]
["Waldo",26,111,"D",{"$f":"MIN(B4493*C4493/6,400)/(B4493/2)+(control!$B$4-MIN(B4493*C4493/6,400))/(B4493/8)","v":30.76923076923077},29]
["Walk on the Wild Side",19,82,"S",{"$f":"MIN(B4494*C4494/6,400)/(B4494/2)+(control!$B$4-MIN(B4494*C4494/6,400))/(B4494/8)","v":86.421052631578945},21]
["Walk on the wild side",22,79,"S",{"$f":"MIN(B4495*C4495/6,400)/(B4495/2)+(control!$B$4-MIN(B4495*C4495/6,400))/(B4495/8)","v":66.454545454545453},26]
["Walker",15,98,"D",{"$f":"MIN(B4496*C4496/6,400)/(B4496/2)+(control!$B$4-MIN(B4496*C4496/6,400))/(B4496/8)","v":115.33333333333334},17]
["Walking Thunder",20,113,"D",{"$f":"MIN(B4497*C4497/6,400)/(B4497/2)+(control!$B$4-MIN(B4497*C4497/6,400))/(B4497/8)","v":47},22]
["Wallflower",25,98,"S",{"$f":"MIN(B4498*C4498/6,400)/(B4498/2)+(control!$B$4-MIN(B4498*C4498/6,400))/(B4498/8)","v":32},26]
["Walter",22,84,"M",{"$f":"MIN(B4499*C4499/6,400)/(B4499/2)+(control!$B$4-MIN(B4499*C4499/6,400))/(B4499/8)","v":61.454545454545453},22]
["Wanna Red Checker",27,97,"S",{"$f":"MIN(B4500*C4500/6,400)/(B4500/2)+(control!$B$4-MIN(B4500*C4500/6,400))/(B4500/8)","v":29.62962962962963},29]
["Wapiti",22,103,"M",{"$f":"MIN(B4501*C4501/6,400)/(B4501/2)+(control!$B$4-MIN(B4501*C4501/6,400))/(B4501/8)","v":42.454545454545453},25]
["Warned",15,75,"S",{"$f":"MIN(B4502*C4502/6,400)/(B4502/2)+(control!$B$4-MIN(B4502*C4502/6,400))/(B4502/8)","v":138.33333333333331},19]
["Warrior",22,88,"M",{"$f":"MIN(B4503*C4503/6,400)/(B4503/2)+(control!$B$4-MIN(B4503*C4503/6,400))/(B4503/8)","v":57.454545454545453},22]
["Warrior Ace",15,87,"S",{"$f":"MIN(B4504*C4504/6,400)/(B4504/2)+(control!$B$4-MIN(B4504*C4504/6,400))/(B4504/8)","v":126.33333333333333},18]
["Watch This",19,87,"S",{"$f":"MIN(B4505*C4505/6,400)/(B4505/2)+(control!$B$4-MIN(B4505*C4505/6,400))/(B4505/8)","v":81.421052631578945},21]
["Water Music",16,98,"S",{"$f":"MIN(B4506*C4506/6,400)/(B4506/2)+(control!$B$4-MIN(B4506*C4506/6,400))/(B4506/8)","v":102},20]
["Watson",16,99,"D",{"$f":"MIN(B4507*C4507/6,400)/(B4507/2)+(control!$B$4-MIN(B4507*C4507/6,400))/(B4507/8)","v":101},20]
["Waylan",20,59,"S",{"$f":"MIN(B4508*C4508/6,400)/(B4508/2)+(control!$B$4-MIN(B4508*C4508/6,400))/(B4508/8)","v":101},22]
["Wayland Blues",20,65,"S",{"$f":"MIN(B4509*C4509/6,400)/(B4509/2)+(control!$B$4-MIN(B4509*C4509/6,400))/(B4509/8)","v":95},24]
["Waylon",20,121,"S",{"$f":"MIN(B4510*C4510/6,400)/(B4510/2)+(control!$B$4-MIN(B4510*C4510/6,400))/(B4510/8)","v":40},20]
["Waylon Jennings",16,85,"M",{"$f":"MIN(B4511*C4511/6,400)/(B4511/2)+(control!$B$4-MIN(B4511*C4511/6,400))/(B4511/8)","v":115},17]
["WazUp Sunshine",26,96,"D",{"$f":"MIN(B4512*C4512/6,400)/(B4512/2)+(control!$B$4-MIN(B4512*C4512/6,400))/(B4512/8)","v":30.76923076923077},26]
["Webster",23,119,"S",{"$f":"MIN(B4513*C4513/6,400)/(B4513/2)+(control!$B$4-MIN(B4513*C4513/6,400))/(B4513/8)","v":34.782608695652172},26]
["Wench",17,60,"S",{"$f":"MIN(B4514*C4514/6,400)/(B4514/2)+(control!$B$4-MIN(B4514*C4514/6,400))/(B4514/8)","v":128.23529411764707},20]
["Wesley",22,76,"S",{"$f":"MIN(B4515*C4515/6,400)/(B4515/2)+(control!$B$4-MIN(B4515*C4515/6,400))/(B4515/8)","v":69.454545454545453},24]
["West",22,72,"S",{"$f":"MIN(B4516*C4516/6,400)/(B4516/2)+(control!$B$4-MIN(B4516*C4516/6,400))/(B4516/8)","v":73.454545454545453},22]
["Westbound",27,76,"S",{"$f":"MIN(B4517*C4517/6,400)/(B4517/2)+(control!$B$4-MIN(B4517*C4517/6,400))/(B4517/8)","v":42.518518518518519},31]
["Westerly Winds",27,107,"S",{"$f":"MIN(B4518*C4518/6,400)/(B4518/2)+(control!$B$4-MIN(B4518*C4518/6,400))/(B4518/8)","v":29.62962962962963},28]
["Western Spark",19,101,"D",{"$f":"MIN(B4519*C4519/6,400)/(B4519/2)+(control!$B$4-MIN(B4519*C4519/6,400))/(B4519/8)","v":67.421052631578959},22]
["Weston",23,59,"S",{"$f":"MIN(B4520*C4520/6,400)/(B4520/2)+(control!$B$4-MIN(B4520*C4520/6,400))/(B4520/8)","v":80.130434782608688},23]
["Westpoint",22,92,"S",{"$f":"MIN(B4521*C4521/6,400)/(B4521/2)+(control!$B$4-MIN(B4521*C4521/6,400))/(B4521/8)","v":53.45454545454546},26]
["Wexford",22,66,"S",{"$f":"MIN(B4522*C4522/6,400)/(B4522/2)+(control!$B$4-MIN(B4522*C4522/6,400))/(B4522/8)","v":79.454545454545453},25]
["What A Wonder",19,71,"M",{"$f":"MIN(B4523*C4523/6,400)/(B4523/2)+(control!$B$4-MIN(B4523*C4523/6,400))/(B4523/8)","v":97.421052631578945},20]
["What Dreams may come True",24,103,"S",{"$f":"MIN(B4524*C4524/6,400)/(B4524/2)+(control!$B$4-MIN(B4524*C4524/6,400))/(B4524/8)","v":33.333333333333336},26]
["Whatever",22,92,"M",{"$f":"MIN(B4525*C4525/6,400)/(B4525/2)+(control!$B$4-MIN(B4525*C4525/6,400))/(B4525/8)","v":53.45454545454546},25]
["Wheels",20,82,"S",{"$f":"MIN(B4526*C4526/6,400)/(B4526/2)+(control!$B$4-MIN(B4526*C4526/6,400))/(B4526/8)","v":78},22]
["When Lightning Strikes",26,84,"S",{"$f":"MIN(B4527*C4527/6,400)/(B4527/2)+(control!$B$4-MIN(B4527*C4527/6,400))/(B4527/8)","v":39.07692307692308},27]
["Where It's At",24,123,"S",{"$f":"MIN(B4528*C4528/6,400)/(B4528/2)+(control!$B$4-MIN(B4528*C4528/6,400))/(B4528/8)","v":33.333333333333336},25]
["Whipping Wind",22,116,"D",{"$f":"MIN(B4529*C4529/6,400)/(B4529/2)+(control!$B$4-MIN(B4529*C4529/6,400))/(B4529/8)","v":36.363636363636367},25]
["Whiskey",18,86,"S",{"$f":"MIN(B4530*C4530/6,400)/(B4530/2)+(control!$B$4-MIN(B4530*C4530/6,400))/(B4530/8)","v":91.777777777777786},22]
["Whiskey River",19,79,"M",{"$f":"MIN(B4531*C4531/6,400)/(B4531/2)+(control!$B$4-MIN(B4531*C4531/6,400))/(B4531/8)","v":89.421052631578945},20]
["Whisky",27,77,"S",{"$f":"MIN(B4532*C4532/6,400)/(B4532/2)+(control!$B$4-MIN(B4532*C4532/6,400))/(B4532/8)","v":41.518518518518519},31]
["Whisky Gen",21,83,"M",{"$f":"MIN(B4533*C4533/6,400)/(B4533/2)+(control!$B$4-MIN(B4533*C4533/6,400))/(B4533/8)","v":69.38095238095238},24]
["Whisper",17,83,"S",{"$f":"MIN(B4534*C4534/6,400)/(B4534/2)+(control!$B$4-MIN(B4534*C4534/6,400))/(B4534/8)","v":105.23529411764707},19]
["Whispering Spirit",20,105,"D",{"$f":"MIN(B4535*C4535/6,400)/(B4535/2)+(control!$B$4-MIN(B4535*C4535/6,400))/(B4535/8)","v":55},20]
["Whita",23,96,"M",{"$f":"MIN(B4536*C4536/6,400)/(B4536/2)+(control!$B$4-MIN(B4536*C4536/6,400))/(B4536/8)","v":43.130434782608695},26]
["White Christmas",20,112,"D",{"$f":"MIN(B4537*C4537/6,400)/(B4537/2)+(control!$B$4-MIN(B4537*C4537/6,400))/(B4537/8)","v":48},24]
["White Darkness",20,101,"D",{"$f":"MIN(B4538*C4538/6,400)/(B4538/2)+(control!$B$4-MIN(B4538*C4538/6,400))/(B4538/8)","v":59},23]
["White Dove",25,74,"S",{"$f":"MIN(B4539*C4539/6,400)/(B4539/2)+(control!$B$4-MIN(B4539*C4539/6,400))/(B4539/8)","v":54},27]
["White Lightening,",21,101,"M",{"$f":"MIN(B4540*C4540/6,400)/(B4540/2)+(control!$B$4-MIN(B4540*C4540/6,400))/(B4540/8)","v":51.38095238095238},24]
["White Lightning",22,94,"D",{"$f":"MIN(B4541*C4541/6,400)/(B4541/2)+(control!$B$4-MIN(B4541*C4541/6,400))/(B4541/8)","v":51.454545454545453},24]
["White Magic",25,99,"D",{"$f":"MIN(B4542*C4542/6,400)/(B4542/2)+(control!$B$4-MIN(B4542*C4542/6,400))/(B4542/8)","v":32},29]
["White Prince",20,82,"S",{"$f":"MIN(B4543*C4543/6,400)/(B4543/2)+(control!$B$4-MIN(B4543*C4543/6,400))/(B4543/8)","v":78},24]
["White River",19,79,"M",{"$f":"MIN(B4544*C4544/6,400)/(B4544/2)+(control!$B$4-MIN(B4544*C4544/6,400))/(B4544/8)","v":89.421052631578945},22]
["White Rose",17,109,"D",{"$f":"MIN(B4545*C4545/6,400)/(B4545/2)+(control!$B$4-MIN(B4545*C4545/6,400))/(B4545/8)","v":79.235294117647072},19]
["White Snowflakes",21,79,"S",{"$f":"MIN(B4546*C4546/6,400)/(B4546/2)+(control!$B$4-MIN(B4546*C4546/6,400))/(B4546/8)","v":73.38095238095238},23]
["White Wash",21,64,"M",{"$f":"MIN(B4547*C4547/6,400)/(B4547/2)+(control!$B$4-MIN(B4547*C4547/6,400))/(B4547/8)","v":88.38095238095238},23]
["Whitley",22,69,"S",{"$f":"MIN(B4548*C4548/6,400)/(B4548/2)+(control!$B$4-MIN(B4548*C4548/6,400))/(B4548/8)","v":76.454545454545453},24]
["Why Not",22,80,"M",{"$f":"MIN(B4549*C4549/6,400)/(B4549/2)+(control!$B$4-MIN(B4549*C4549/6,400))/(B4549/8)","v":65.454545454545467},25]
["Why Not Me?",21,74,"S",{"$f":"MIN(B4550*C4550/6,400)/(B4550/2)+(control!$B$4-MIN(B4550*C4550/6,400))/(B4550/8)","v":78.38095238095238},21]
["Wiard",17,92,"S",{"$f":"MIN(B4551*C4551/6,400)/(B4551/2)+(control!$B$4-MIN(B4551*C4551/6,400))/(B4551/8)","v":96.235294117647058},18]
["Wide Awake In Dream Land",19,109,"S",{"$f":"MIN(B4552*C4552/6,400)/(B4552/2)+(control!$B$4-MIN(B4552*C4552/6,400))/(B4552/8)","v":59.421052631578945},19]
["Wilbur",22,66,"M",{"$f":"MIN(B4553*C4553/6,400)/(B4553/2)+(control!$B$4-MIN(B4553*C4553/6,400))/(B4553/8)","v":79.454545454545453},25]
["Wild at Heart",19,99,"M",{"$f":"MIN(B4554*C4554/6,400)/(B4554/2)+(control!$B$4-MIN(B4554*C4554/6,400))/(B4554/8)","v":69.421052631578945},20]
["Wild Buck",19,74,"M",{"$f":"MIN(B4555*C4555/6,400)/(B4555/2)+(control!$B$4-MIN(B4555*C4555/6,400))/(B4555/8)","v":94.421052631578945},21]
["Wild Card",20,90,"M",{"$f":"MIN(B4556*C4556/6,400)/(B4556/2)+(control!$B$4-MIN(B4556*C4556/6,400))/(B4556/8)","v":70},23]
["Wild Card",22,101,"S",{"$f":"MIN(B4557*C4557/6,400)/(B4557/2)+(control!$B$4-MIN(B4557*C4557/6,400))/(B4557/8)","v":44.45454545454546},24]
["Wild Child",20,96,"D",{"$f":"MIN(B4558*C4558/6,400)/(B4558/2)+(control!$B$4-MIN(B4558*C4558/6,400))/(B4558/8)","v":64},22]
["Wild Eye",22,103,"S",{"$f":"MIN(B4559*C4559/6,400)/(B4559/2)+(control!$B$4-MIN(B4559*C4559/6,400))/(B4559/8)","v":42.454545454545453},24]
["Wild Fire",17,65,"M",{"$f":"MIN(B4560*C4560/6,400)/(B4560/2)+(control!$B$4-MIN(B4560*C4560/6,400))/(B4560/8)","v":123.23529411764707},17]
["Wild Magic",21,118,"D",{"$f":"MIN(B4561*C4561/6,400)/(B4561/2)+(control!$B$4-MIN(B4561*C4561/6,400))/(B4561/8)","v":38.095238095238095},25]
["Wild Rose",15,61,"M",{"$f":"MIN(B4562*C4562/6,400)/(B4562/2)+(control!$B$4-MIN(B4562*C4562/6,400))/(B4562/8)","v":152.33333333333334},16]
["Wild Son",20,76,"S",{"$f":"MIN(B4563*C4563/6,400)/(B4563/2)+(control!$B$4-MIN(B4563*C4563/6,400))/(B4563/8)","v":84},23]
["Wild Sun",20,77,"M",{"$f":"MIN(B4564*C4564/6,400)/(B4564/2)+(control!$B$4-MIN(B4564*C4564/6,400))/(B4564/8)","v":83},22]
["Wild Thang",20,91,"M",{"$f":"MIN(B4565*C4565/6,400)/(B4565/2)+(control!$B$4-MIN(B4565*C4565/6,400))/(B4565/8)","v":69},22]
["Wild Thing",22,64,"S",{"$f":"MIN(B4566*C4566/6,400)/(B4566/2)+(control!$B$4-MIN(B4566*C4566/6,400))/(B4566/8)","v":81.454545454545453},24]
["Wildcat",20,88,"S",{"$f":"MIN(B4567*C4567/6,400)/(B4567/2)+(control!$B$4-MIN(B4567*C4567/6,400))/(B4567/8)","v":72},23]
["Wilder Wein",16,79,"S",{"$f":"MIN(B4568*C4568/6,400)/(B4568/2)+(control!$B$4-MIN(B4568*C4568/6,400))/(B4568/8)","v":121},20]
["Wildfire",22,89,"S",{"$f":"MIN(B4569*C4569/6,400)/(B4569/2)+(control!$B$4-MIN(B4569*C4569/6,400))/(B4569/8)","v":56.45454545454546},25]
["Wildfire Sensation",25,84,"S",{"$f":"MIN(B4570*C4570/6,400)/(B4570/2)+(control!$B$4-MIN(B4570*C4570/6,400))/(B4570/8)","v":44},26]
["Wildwind",20,88,"M",{"$f":"MIN(B4571*C4571/6,400)/(B4571/2)+(control!$B$4-MIN(B4571*C4571/6,400))/(B4571/8)","v":72},20]
["Wiley",17,59,"S",{"$f":"MIN(B4572*C4572/6,400)/(B4572/2)+(control!$B$4-MIN(B4572*C4572/6,400))/(B4572/8)","v":129.23529411764707},18]
["Wilky",24,99,"S",{"$f":"MIN(B4573*C4573/6,400)/(B4573/2)+(control!$B$4-MIN(B4573*C4573/6,400))/(B4573/8)","v":34.333333333333336},25]
["Will",20,80,"S",{"$f":"MIN(B4574*C4574/6,400)/(B4574/2)+(control!$B$4-MIN(B4574*C4574/6,400))/(B4574/8)","v":80},21]
["Will if I Want",15,105,"D",{"$f":"MIN(B4575*C4575/6,400)/(B4575/2)+(control!$B$4-MIN(B4575*C4575/6,400))/(B4575/8)","v":108.33333333333333},16]
["William",26,117,"S",{"$f":"MIN(B4576*C4576/6,400)/(B4576/2)+(control!$B$4-MIN(B4576*C4576/6,400))/(B4576/8)","v":30.76923076923077},29]
["Willie",21,82,"S",{"$f":"MIN(B4577*C4577/6,400)/(B4577/2)+(control!$B$4-MIN(B4577*C4577/6,400))/(B4577/8)","v":70.38095238095238},22]
["Willie West",21,72,"M",{"$f":"MIN(B4578*C4578/6,400)/(B4578/2)+(control!$B$4-MIN(B4578*C4578/6,400))/(B4578/8)","v":80.38095238095238},23]
["Willow",24,94,"S",{"$f":"MIN(B4579*C4579/6,400)/(B4579/2)+(control!$B$4-MIN(B4579*C4579/6,400))/(B4579/8)","v":39.333333333333329},24]
["Wills",17,93,"S",{"$f":"MIN(B4580*C4580/6,400)/(B4580/2)+(control!$B$4-MIN(B4580*C4580/6,400))/(B4580/8)","v":95.235294117647058},20]
["Willy",16,93,"S",{"$f":"MIN(B4581*C4581/6,400)/(B4581/2)+(control!$B$4-MIN(B4581*C4581/6,400))/(B4581/8)","v":107},17]
["Wilma",22,75,"M",{"$f":"MIN(B4582*C4582/6,400)/(B4582/2)+(control!$B$4-MIN(B4582*C4582/6,400))/(B4582/8)","v":70.454545454545453},24]
["Winalot",22,90,"S",{"$f":"MIN(B4583*C4583/6,400)/(B4583/2)+(control!$B$4-MIN(B4583*C4583/6,400))/(B4583/8)","v":55.454545454545453},25]
["Wind",21,79,"M",{"$f":"MIN(B4584*C4584/6,400)/(B4584/2)+(control!$B$4-MIN(B4584*C4584/6,400))/(B4584/8)","v":73.38095238095238},25]
["Wind Breaker",27,108,"D",{"$f":"MIN(B4585*C4585/6,400)/(B4585/2)+(control!$B$4-MIN(B4585*C4585/6,400))/(B4585/8)","v":29.62962962962963},27]
["Wind Chaser",16,78,"S",{"$f":"MIN(B4586*C4586/6,400)/(B4586/2)+(control!$B$4-MIN(B4586*C4586/6,400))/(B4586/8)","v":122},19]
["Wind Dancer",18,71,"M",{"$f":"MIN(B4587*C4587/6,400)/(B4587/2)+(control!$B$4-MIN(B4587*C4587/6,400))/(B4587/8)","v":106.77777777777779},19]
["Wind Maker",23,89,"S",{"$f":"MIN(B4588*C4588/6,400)/(B4588/2)+(control!$B$4-MIN(B4588*C4588/6,400))/(B4588/8)","v":50.130434782608688},26]
["Wind of the North",22,78,"S",{"$f":"MIN(B4589*C4589/6,400)/(B4589/2)+(control!$B$4-MIN(B4589*C4589/6,400))/(B4589/8)","v":67.454545454545453},26]
["Wind Runner",22,75,"S",{"$f":"MIN(B4590*C4590/6,400)/(B4590/2)+(control!$B$4-MIN(B4590*C4590/6,400))/(B4590/8)","v":70.454545454545453},23]
["Wind Song",20,82,"S",{"$f":"MIN(B4591*C4591/6,400)/(B4591/2)+(control!$B$4-MIN(B4591*C4591/6,400))/(B4591/8)","v":78},20]
["Wind Whistler",22,85,"S",{"$f":"MIN(B4592*C4592/6,400)/(B4592/2)+(control!$B$4-MIN(B4592*C4592/6,400))/(B4592/8)","v":60.454545454545453},26]
["Windago",23,108,"D",{"$f":"MIN(B4593*C4593/6,400)/(B4593/2)+(control!$B$4-MIN(B4593*C4593/6,400))/(B4593/8)","v":34.782608695652172},27]
["Windchime",20,93,"S",{"$f":"MIN(B4594*C4594/6,400)/(B4594/2)+(control!$B$4-MIN(B4594*C4594/6,400))/(B4594/8)","v":67},24]
["Windjammer",16,64,"M",{"$f":"MIN(B4595*C4595/6,400)/(B4595/2)+(control!$B$4-MIN(B4595*C4595/6,400))/(B4595/8)","v":136},16]
["Windrunner",16,113,"M",{"$f":"MIN(B4596*C4596/6,400)/(B4596/2)+(control!$B$4-MIN(B4596*C4596/6,400))/(B4596/8)","v":87},19]
["Windsong",22,68,"S",{"$f":"MIN(B4597*C4597/6,400)/(B4597/2)+(control!$B$4-MIN(B4597*C4597/6,400))/(B4597/8)","v":77.454545454545453},23]
["Windsor",19,89,"M",{"$f":"MIN(B4598*C4598/6,400)/(B4598/2)+(control!$B$4-MIN(B4598*C4598/6,400))/(B4598/8)","v":79.421052631578959},23]
["Windstorm",27,72,"S",{"$f":"MIN(B4599*C4599/6,400)/(B4599/2)+(control!$B$4-MIN(B4599*C4599/6,400))/(B4599/8)","v":46.518518518518519},28]
["Windswept",21,81,"M",{"$f":"MIN(B4600*C4600/6,400)/(B4600/2)+(control!$B$4-MIN(B4600*C4600/6,400))/(B4600/8)","v":71.38095238095238},21]
["Windy",16,92,"S",{"$f":"MIN(B4601*C4601/6,400)/(B4601/2)+(control!$B$4-MIN(B4601*C4601/6,400))/(B4601/8)","v":108},16]
["Wing and a Prayer",19,80,"S",{"$f":"MIN(B4602*C4602/6,400)/(B4602/2)+(control!$B$4-MIN(B4602*C4602/6,400))/(B4602/8)","v":88.421052631578945},23]
["Wings",22,114,"D",{"$f":"MIN(B4603*C4603/6,400)/(B4603/2)+(control!$B$4-MIN(B4603*C4603/6,400))/(B4603/8)","v":36.363636363636367},26]
["Wings of Smoke",22,96,"D",{"$f":"MIN(B4604*C4604/6,400)/(B4604/2)+(control!$B$4-MIN(B4604*C4604/6,400))/(B4604/8)","v":49.454545454545453},22]
["Wingstar",16,89,"S",{"$f":"MIN(B4605*C4605/6,400)/(B4605/2)+(control!$B$4-MIN(B4605*C4605/6,400))/(B4605/8)","v":111},20]
["Winnie",23,76,"S",{"$f":"MIN(B4606*C4606/6,400)/(B4606/2)+(control!$B$4-MIN(B4606*C4606/6,400))/(B4606/8)","v":63.130434782608702},23]
["Winnie the Pooh",26,99,"D",{"$f":"MIN(B4607*C4607/6,400)/(B4607/2)+(control!$B$4-MIN(B4607*C4607/6,400))/(B4607/8)","v":30.76923076923077},26]
["Winning Glory",15,81,"S",{"$f":"MIN(B4608*C4608/6,400)/(B4608/2)+(control!$B$4-MIN(B4608*C4608/6,400))/(B4608/8)","v":132.33333333333331},16]
["Winning Player",22,90,"S",{"$f":"MIN(B4609*C4609/6,400)/(B4609/2)+(control!$B$4-MIN(B4609*C4609/6,400))/(B4609/8)","v":55.454545454545453},24]
["Winny",22,93,"D",{"$f":"MIN(B4610*C4610/6,400)/(B4610/2)+(control!$B$4-MIN(B4610*C4610/6,400))/(B4610/8)","v":52.454545454545453},22]
["Winslow",19,114,"M",{"$f":"MIN(B4611*C4611/6,400)/(B4611/2)+(control!$B$4-MIN(B4611*C4611/6,400))/(B4611/8)","v":54.421052631578945},22]
["Winsome",21,88,"S",{"$f":"MIN(B4612*C4612/6,400)/(B4612/2)+(control!$B$4-MIN(B4612*C4612/6,400))/(B4612/8)","v":64.38095238095238},25]
["Winston",18,74,"S",{"$f":"MIN(B4613*C4613/6,400)/(B4613/2)+(control!$B$4-MIN(B4613*C4613/6,400))/(B4613/8)","v":103.77777777777779},18]
["Winter Wonderland",19,92,"S",{"$f":"MIN(B4614*C4614/6,400)/(B4614/2)+(control!$B$4-MIN(B4614*C4614/6,400))/(B4614/8)","v":76.421052631578959},22]
["WinterGold",24,90,"S",{"$f":"MIN(B4615*C4615/6,400)/(B4615/2)+(control!$B$4-MIN(B4615*C4615/6,400))/(B4615/8)","v":43.333333333333336},25]
["Wisard",23,80,"M",{"$f":"MIN(B4616*C4616/6,400)/(B4616/2)+(control!$B$4-MIN(B4616*C4616/6,400))/(B4616/8)","v":59.130434782608688},24]
["Wish List",22,82,"S",{"$f":"MIN(B4617*C4617/6,400)/(B4617/2)+(control!$B$4-MIN(B4617*C4617/6,400))/(B4617/8)","v":63.454545454545453},24]
["Wish Upon A Star",23,100,"D",{"$f":"MIN(B4618*C4618/6,400)/(B4618/2)+(control!$B$4-MIN(B4618*C4618/6,400))/(B4618/8)","v":39.130434782608695},27]
["Wishful Thinking",23,105,"S",{"$f":"MIN(B4619*C4619/6,400)/(B4619/2)+(control!$B$4-MIN(B4619*C4619/6,400))/(B4619/8)","v":34.782608695652172},23]
["Wishin on a silver Star",19,103,"D",{"$f":"MIN(B4620*C4620/6,400)/(B4620/2)+(control!$B$4-MIN(B4620*C4620/6,400))/(B4620/8)","v":65.421052631578945},20]
["Witch Craft",19,108,"D",{"$f":"MIN(B4621*C4621/6,400)/(B4621/2)+(control!$B$4-MIN(B4621*C4621/6,400))/(B4621/8)","v":60.421052631578945},19]
["With All My Heart",22,86,"S",{"$f":"MIN(B4622*C4622/6,400)/(B4622/2)+(control!$B$4-MIN(B4622*C4622/6,400))/(B4622/8)","v":59.45454545454546},26]
["Without Makeup",27,79,"S",{"$f":"MIN(B4623*C4623/6,400)/(B4623/2)+(control!$B$4-MIN(B4623*C4623/6,400))/(B4623/8)","v":39.518518518518519},29]
["Wizard",18,114,"S",{"$f":"MIN(B4624*C4624/6,400)/(B4624/2)+(control!$B$4-MIN(B4624*C4624/6,400))/(B4624/8)","v":63.777777777777779},18]
["Wogglebug",25,97,"D",{"$f":"MIN(B4625*C4625/6,400)/(B4625/2)+(control!$B$4-MIN(B4625*C4625/6,400))/(B4625/8)","v":32},26]
["Wolf",18,64,"S",{"$f":"MIN(B4626*C4626/6,400)/(B4626/2)+(control!$B$4-MIN(B4626*C4626/6,400))/(B4626/8)","v":113.77777777777777},18]
["Wolves Howl",27,64,"M",{"$f":"MIN(B4627*C4627/6,400)/(B4627/2)+(control!$B$4-MIN(B4627*C4627/6,400))/(B4627/8)","v":54.518518518518519},30]
["Wombat",21,72,"S",{"$f":"MIN(B4628*C4628/6,400)/(B4628/2)+(control!$B$4-MIN(B4628*C4628/6,400))/(B4628/8)","v":80.38095238095238},25]
["Womble",19,112,"M",{"$f":"MIN(B4629*C4629/6,400)/(B4629/2)+(control!$B$4-MIN(B4629*C4629/6,400))/(B4629/8)","v":56.421052631578945},21]
["Wonder",19,95,"D",{"$f":"MIN(B4630*C4630/6,400)/(B4630/2)+(control!$B$4-MIN(B4630*C4630/6,400))/(B4630/8)","v":73.421052631578959},21]
["Wonder Blue",24,107,"S",{"$f":"MIN(B4631*C4631/6,400)/(B4631/2)+(control!$B$4-MIN(B4631*C4631/6,400))/(B4631/8)","v":33.333333333333336},27]
["Wonder Boy",21,88,"S",{"$f":"MIN(B4632*C4632/6,400)/(B4632/2)+(control!$B$4-MIN(B4632*C4632/6,400))/(B4632/8)","v":64.38095238095238},24]
["Wonder Stuff",20,73,"S",{"$f":"MIN(B4633*C4633/6,400)/(B4633/2)+(control!$B$4-MIN(B4633*C4633/6,400))/(B4633/8)","v":87},21]
["Wonders Champion",26,122,"M",{"$f":"MIN(B4634*C4634/6,400)/(B4634/2)+(control!$B$4-MIN(B4634*C4634/6,400))/(B4634/8)","v":30.76923076923077},28]
["Wonders Pride",16,85,"S",{"$f":"MIN(B4635*C4635/6,400)/(B4635/2)+(control!$B$4-MIN(B4635*C4635/6,400))/(B4635/8)","v":115},18]
["Wonders Princess",22,75,"S",{"$f":"MIN(B4636*C4636/6,400)/(B4636/2)+(control!$B$4-MIN(B4636*C4636/6,400))/(B4636/8)","v":70.454545454545453},22]
["Woodstock",26,101,"M",{"$f":"MIN(B4637*C4637/6,400)/(B4637/2)+(control!$B$4-MIN(B4637*C4637/6,400))/(B4637/8)","v":30.76923076923077},30]
["Woody",22,84,"S",{"$f":"MIN(B4638*C4638/6,400)/(B4638/2)+(control!$B$4-MIN(B4638*C4638/6,400))/(B4638/8)","v":61.454545454545453},26]
["Woohoo",21,77,"S",{"$f":"MIN(B4639*C4639/6,400)/(B4639/2)+(control!$B$4-MIN(B4639*C4639/6,400))/(B4639/8)","v":75.38095238095238},21]
["World Class",25,123,"D",{"$f":"MIN(B4640*C4640/6,400)/(B4640/2)+(control!$B$4-MIN(B4640*C4640/6,400))/(B4640/8)","v":32},25]
["World's Hero",20,92,"M",{"$f":"MIN(B4641*C4641/6,400)/(B4641/2)+(control!$B$4-MIN(B4641*C4641/6,400))/(B4641/8)","v":68},20]
["Worthwhile",22,99,"S",{"$f":"MIN(B4642*C4642/6,400)/(B4642/2)+(control!$B$4-MIN(B4642*C4642/6,400))/(B4642/8)","v":46.454545454545453},25]
["Wots up Doc",15,74,"S",{"$f":"MIN(B4643*C4643/6,400)/(B4643/2)+(control!$B$4-MIN(B4643*C4643/6,400))/(B4643/8)","v":139.33333333333334},18]
["Wouldn't Be Sweet",18,123,"D",{"$f":"MIN(B4644*C4644/6,400)/(B4644/2)+(control!$B$4-MIN(B4644*C4644/6,400))/(B4644/8)","v":54.777777777777779},20]
["Wrangler",21,121,"S",{"$f":"MIN(B4645*C4645/6,400)/(B4645/2)+(control!$B$4-MIN(B4645*C4645/6,400))/(B4645/8)","v":38.095238095238095},22]
["Wriggley",22,118,"D",{"$f":"MIN(B4646*C4646/6,400)/(B4646/2)+(control!$B$4-MIN(B4646*C4646/6,400))/(B4646/8)","v":36.363636363636367},24]
["Written in Verse",22,59,"S",{"$f":"MIN(B4647*C4647/6,400)/(B4647/2)+(control!$B$4-MIN(B4647*C4647/6,400))/(B4647/8)","v":86.454545454545453},26]
["X",20,73,"M",{"$f":"MIN(B4648*C4648/6,400)/(B4648/2)+(control!$B$4-MIN(B4648*C4648/6,400))/(B4648/8)","v":87},23]
["X Marks the Spot",23,59,"S",{"$f":"MIN(B4649*C4649/6,400)/(B4649/2)+(control!$B$4-MIN(B4649*C4649/6,400))/(B4649/8)","v":80.130434782608688},23]
["X Rated",24,122,"S",{"$f":"MIN(B4650*C4650/6,400)/(B4650/2)+(control!$B$4-MIN(B4650*C4650/6,400))/(B4650/8)","v":33.333333333333336},26]
["Xanadu",18,104,"D",{"$f":"MIN(B4651*C4651/6,400)/(B4651/2)+(control!$B$4-MIN(B4651*C4651/6,400))/(B4651/8)","v":73.777777777777771},21]
["Xander",21,119,"S",{"$f":"MIN(B4652*C4652/6,400)/(B4652/2)+(control!$B$4-MIN(B4652*C4652/6,400))/(B4652/8)","v":38.095238095238095},23]
["XanderRoman",25,105,"S",{"$f":"MIN(B4653*C4653/6,400)/(B4653/2)+(control!$B$4-MIN(B4653*C4653/6,400))/(B4653/8)","v":32},28]
["Xantoxu",22,93,"S",{"$f":"MIN(B4654*C4654/6,400)/(B4654/2)+(control!$B$4-MIN(B4654*C4654/6,400))/(B4654/8)","v":52.454545454545453},24]
["Xaohroa",17,101,"D",{"$f":"MIN(B4655*C4655/6,400)/(B4655/2)+(control!$B$4-MIN(B4655*C4655/6,400))/(B4655/8)","v":87.235294117647058},19]
["Xavier",24,72,"S",{"$f":"MIN(B4656*C4656/6,400)/(B4656/2)+(control!$B$4-MIN(B4656*C4656/6,400))/(B4656/8)","v":61.333333333333336},25]
["Xavior",22,71,"M",{"$f":"MIN(B4657*C4657/6,400)/(B4657/2)+(control!$B$4-MIN(B4657*C4657/6,400))/(B4657/8)","v":74.454545454545467},23]
["Xena",17,81,"S",{"$f":"MIN(B4658*C4658/6,400)/(B4658/2)+(control!$B$4-MIN(B4658*C4658/6,400))/(B4658/8)","v":107.23529411764706},19]
["Xenia",19,67,"S",{"$f":"MIN(B4659*C4659/6,400)/(B4659/2)+(control!$B$4-MIN(B4659*C4659/6,400))/(B4659/8)","v":101.42105263157895},20]
["Xerox",23,86,"M",{"$f":"MIN(B4660*C4660/6,400)/(B4660/2)+(control!$B$4-MIN(B4660*C4660/6,400))/(B4660/8)","v":53.130434782608688},25]
["Xerxes",16,65,"S",{"$f":"MIN(B4661*C4661/6,400)/(B4661/2)+(control!$B$4-MIN(B4661*C4661/6,400))/(B4661/8)","v":135},20]
["Xiao",27,86,"M",{"$f":"MIN(B4662*C4662/6,400)/(B4662/2)+(control!$B$4-MIN(B4662*C4662/6,400))/(B4662/8)","v":32.518518518518519},31]
["Xo",24,70,"S",{"$f":"MIN(B4663*C4663/6,400)/(B4663/2)+(control!$B$4-MIN(B4663*C4663/6,400))/(B4663/8)","v":63.333333333333329},24]
["X-run",21,80,"S",{"$f":"MIN(B4664*C4664/6,400)/(B4664/2)+(control!$B$4-MIN(B4664*C4664/6,400))/(B4664/8)","v":72.38095238095238},24]
["Xtina",15,84,"M",{"$f":"MIN(B4665*C4665/6,400)/(B4665/2)+(control!$B$4-MIN(B4665*C4665/6,400))/(B4665/8)","v":129.33333333333331},17]
["Xtreme",24,62,"M",{"$f":"MIN(B4666*C4666/6,400)/(B4666/2)+(control!$B$4-MIN(B4666*C4666/6,400))/(B4666/8)","v":71.333333333333329},27]
["Xylon",26,118,"S",{"$f":"MIN(B4667*C4667/6,400)/(B4667/2)+(control!$B$4-MIN(B4667*C4667/6,400))/(B4667/8)","v":30.76923076923077},27]
["Xylos",21,61,"M",{"$f":"MIN(B4668*C4668/6,400)/(B4668/2)+(control!$B$4-MIN(B4668*C4668/6,400))/(B4668/8)","v":91.38095238095238},21]
["Yager Meister",23,93,"D",{"$f":"MIN(B4669*C4669/6,400)/(B4669/2)+(control!$B$4-MIN(B4669*C4669/6,400))/(B4669/8)","v":46.130434782608695},25]
["Yago",21,69,"M",{"$f":"MIN(B4670*C4670/6,400)/(B4670/2)+(control!$B$4-MIN(B4670*C4670/6,400))/(B4670/8)","v":83.38095238095238},23]
["Yamasce",16,92,"S",{"$f":"MIN(B4671*C4671/6,400)/(B4671/2)+(control!$B$4-MIN(B4671*C4671/6,400))/(B4671/8)","v":108},16]
["Yankee",19,103,"S",{"$f":"MIN(B4672*C4672/6,400)/(B4672/2)+(control!$B$4-MIN(B4672*C4672/6,400))/(B4672/8)","v":65.421052631578945},21]
["Yankee Doodle",21,70,"S",{"$f":"MIN(B4673*C4673/6,400)/(B4673/2)+(control!$B$4-MIN(B4673*C4673/6,400))/(B4673/8)","v":82.38095238095238},21]
["Yarrman (Australian Aborigional for horse)",26,95,"D",{"$f":"MIN(B4674*C4674/6,400)/(B4674/2)+(control!$B$4-MIN(B4674*C4674/6,400))/(B4674/8)","v":30.76923076923077},26]
["Yellow",27,73,"S",{"$f":"MIN(B4675*C4675/6,400)/(B4675/2)+(control!$B$4-MIN(B4675*C4675/6,400))/(B4675/8)","v":45.518518518518519},31]
["Yellow Sky",26,84,"S",{"$f":"MIN(B4676*C4676/6,400)/(B4676/2)+(control!$B$4-MIN(B4676*C4676/6,400))/(B4676/8)","v":39.07692307692308},30]
["Yentel",24,66,"M",{"$f":"MIN(B4677*C4677/6,400)/(B4677/2)+(control!$B$4-MIN(B4677*C4677/6,400))/(B4677/8)","v":67.333333333333343},26]
["Yesterday",20,99,"M",{"$f":"MIN(B4678*C4678/6,400)/(B4678/2)+(control!$B$4-MIN(B4678*C4678/6,400))/(B4678/8)","v":61},23]
["Ying Yang",21,92,"S",{"$f":"MIN(B4679*C4679/6,400)/(B4679/2)+(control!$B$4-MIN(B4679*C4679/6,400))/(B4679/8)","v":60.38095238095238},24]
["Yoda",15,69,"S",{"$f":"MIN(B4680*C4680/6,400)/(B4680/2)+(control!$B$4-MIN(B4680*C4680/6,400))/(B4680/8)","v":144.33333333333331},17]
["Yogi",18,85,"M",{"$f":"MIN(B4681*C4681/6,400)/(B4681/2)+(control!$B$4-MIN(B4681*C4681/6,400))/(B4681/8)","v":92.777777777777771},19]
["Yogi",27,79,"S",{"$f":"MIN(B4682*C4682/6,400)/(B4682/2)+(control!$B$4-MIN(B4682*C4682/6,400))/(B4682/8)","v":39.518518518518519},30]
["Yorik",21,71,"S",{"$f":"MIN(B4683*C4683/6,400)/(B4683/2)+(control!$B$4-MIN(B4683*C4683/6,400))/(B4683/8)","v":81.38095238095238},22]
["York's Fashion Fare",19,110,"D",{"$f":"MIN(B4684*C4684/6,400)/(B4684/2)+(control!$B$4-MIN(B4684*C4684/6,400))/(B4684/8)","v":58.421052631578952},22]
["Yosemite",20,72,"M",{"$f":"MIN(B4685*C4685/6,400)/(B4685/2)+(control!$B$4-MIN(B4685*C4685/6,400))/(B4685/8)","v":88},20]
["Yoshi",22,74,"M",{"$f":"MIN(B4686*C4686/6,400)/(B4686/2)+(control!$B$4-MIN(B4686*C4686/6,400))/(B4686/8)","v":71.454545454545467},25]
["Yoshiko",17,70,"S",{"$f":"MIN(B4687*C4687/6,400)/(B4687/2)+(control!$B$4-MIN(B4687*C4687/6,400))/(B4687/8)","v":118.23529411764704},20]
["You Might Wonder",27,107,"S",{"$f":"MIN(B4688*C4688/6,400)/(B4688/2)+(control!$B$4-MIN(B4688*C4688/6,400))/(B4688/8)","v":29.62962962962963},27]
["You think?",20,82,"S",{"$f":"MIN(B4689*C4689/6,400)/(B4689/2)+(control!$B$4-MIN(B4689*C4689/6,400))/(B4689/8)","v":78},22]
["Yoyo",22,105,"S",{"$f":"MIN(B4690*C4690/6,400)/(B4690/2)+(control!$B$4-MIN(B4690*C4690/6,400))/(B4690/8)","v":40.454545454545453},24]
["Yuki",27,69,"S",{"$f":"MIN(B4691*C4691/6,400)/(B4691/2)+(control!$B$4-MIN(B4691*C4691/6,400))/(B4691/8)","v":49.518518518518519},28]
["Yukon",19,101,"D",{"$f":"MIN(B4692*C4692/6,400)/(B4692/2)+(control!$B$4-MIN(B4692*C4692/6,400))/(B4692/8)","v":67.421052631578959},19]
["Z",26,85,"S",{"$f":"MIN(B4693*C4693/6,400)/(B4693/2)+(control!$B$4-MIN(B4693*C4693/6,400))/(B4693/8)","v":38.07692307692308},30]
["Zace",20,107,"S",{"$f":"MIN(B4694*C4694/6,400)/(B4694/2)+(control!$B$4-MIN(B4694*C4694/6,400))/(B4694/8)","v":53},20]
["Zachary",24,103,"S",{"$f":"MIN(B4695*C4695/6,400)/(B4695/2)+(control!$B$4-MIN(B4695*C4695/6,400))/(B4695/8)","v":33.333333333333336},25]
["Zack",20,107,"S",{"$f":"MIN(B4696*C4696/6,400)/(B4696/2)+(control!$B$4-MIN(B4696*C4696/6,400))/(B4696/8)","v":53},22]
["Zack Attack",19,77,"S",{"$f":"MIN(B4697*C4697/6,400)/(B4697/2)+(control!$B$4-MIN(B4697*C4697/6,400))/(B4697/8)","v":91.421052631578945},22]
["Zaide",25,92,"S",{"$f":"MIN(B4698*C4698/6,400)/(B4698/2)+(control!$B$4-MIN(B4698*C4698/6,400))/(B4698/8)","v":36},26]
["Zalika",27,66,"S",{"$f":"MIN(B4699*C4699/6,400)/(B4699/2)+(control!$B$4-MIN(B4699*C4699/6,400))/(B4699/8)","v":52.518518518518519},31]
["Zan",22,91,"S",{"$f":"MIN(B4700*C4700/6,400)/(B4700/2)+(control!$B$4-MIN(B4700*C4700/6,400))/(B4700/8)","v":54.454545454545453},22]
["Zander",20,84,"S",{"$f":"MIN(B4701*C4701/6,400)/(B4701/2)+(control!$B$4-MIN(B4701*C4701/6,400))/(B4701/8)","v":76},24]
["Zane",18,86,"M",{"$f":"MIN(B4702*C4702/6,400)/(B4702/2)+(control!$B$4-MIN(B4702*C4702/6,400))/(B4702/8)","v":91.777777777777786},19]
["Zani",21,97,"S",{"$f":"MIN(B4703*C4703/6,400)/(B4703/2)+(control!$B$4-MIN(B4703*C4703/6,400))/(B4703/8)","v":55.38095238095238},25]
["Zanzibar",19,88,"S",{"$f":"MIN(B4704*C4704/6,400)/(B4704/2)+(control!$B$4-MIN(B4704*C4704/6,400))/(B4704/8)","v":80.421052631578945},20]
["Zara",26,74,"S",{"$f":"MIN(B4705*C4705/6,400)/(B4705/2)+(control!$B$4-MIN(B4705*C4705/6,400))/(B4705/8)","v":49.076923076923073},30]
["Zaracha",23,60,"S",{"$f":"MIN(B4706*C4706/6,400)/(B4706/2)+(control!$B$4-MIN(B4706*C4706/6,400))/(B4706/8)","v":79.130434782608688},27]
["Zazu",21,123,"S",{"$f":"MIN(B4707*C4707/6,400)/(B4707/2)+(control!$B$4-MIN(B4707*C4707/6,400))/(B4707/8)","v":38.095238095238095},23]
["Zebedee",22,114,"D",{"$f":"MIN(B4708*C4708/6,400)/(B4708/2)+(control!$B$4-MIN(B4708*C4708/6,400))/(B4708/8)","v":36.363636363636367},22]
["Zed",17,73,"S",{"$f":"MIN(B4709*C4709/6,400)/(B4709/2)+(control!$B$4-MIN(B4709*C4709/6,400))/(B4709/8)","v":115.23529411764704},19]
["Zeda",26,108,"S",{"$f":"MIN(B4710*C4710/6,400)/(B4710/2)+(control!$B$4-MIN(B4710*C4710/6,400))/(B4710/8)","v":30.76923076923077},28]
["Zeek",20,98,"S",{"$f":"MIN(B4711*C4711/6,400)/(B4711/2)+(control!$B$4-MIN(B4711*C4711/6,400))/(B4711/8)","v":62},20]
["Zeke",17,100,"M",{"$f":"MIN(B4712*C4712/6,400)/(B4712/2)+(control!$B$4-MIN(B4712*C4712/6,400))/(B4712/8)","v":88.235294117647072},18]
["Zelda",17,90,"S",{"$f":"MIN(B4713*C4713/6,400)/(B4713/2)+(control!$B$4-MIN(B4713*C4713/6,400))/(B4713/8)","v":98.235294117647058},20]
["Zen",16,79,"S",{"$f":"MIN(B4714*C4714/6,400)/(B4714/2)+(control!$B$4-MIN(B4714*C4714/6,400))/(B4714/8)","v":121},17]
["Zena",25,63,"S",{"$f":"MIN(B4715*C4715/6,400)/(B4715/2)+(control!$B$4-MIN(B4715*C4715/6,400))/(B4715/8)","v":65},26]
["Zenith",17,88,"M",{"$f":"MIN(B4716*C4716/6,400)/(B4716/2)+(control!$B$4-MIN(B4716*C4716/6,400))/(B4716/8)","v":100.23529411764704},21]
["Zenon",23,69,"S",{"$f":"MIN(B4717*C4717/6,400)/(B4717/2)+(control!$B$4-MIN(B4717*C4717/6,400))/(B4717/8)","v":70.130434782608688},25]
["Zepher",21,92,"D",{"$f":"MIN(B4718*C4718/6,400)/(B4718/2)+(control!$B$4-MIN(B4718*C4718/6,400))/(B4718/8)","v":60.38095238095238},21]
["Zephyr",16,96,"D",{"$f":"MIN(B4719*C4719/6,400)/(B4719/2)+(control!$B$4-MIN(B4719*C4719/6,400))/(B4719/8)","v":104},20]
["Zeplin",22,100,"S",{"$f":"MIN(B4720*C4720/6,400)/(B4720/2)+(control!$B$4-MIN(B4720*C4720/6,400))/(B4720/8)","v":45.454545454545453},22]
["Zeppia",26,82,"M",{"$f":"MIN(B4721*C4721/6,400)/(B4721/2)+(control!$B$4-MIN(B4721*C4721/6,400))/(B4721/8)","v":41.07692307692308},26]
["Zesta",16,87,"S",{"$f":"MIN(B4722*C4722/6,400)/(B4722/2)+(control!$B$4-MIN(B4722*C4722/6,400))/(B4722/8)","v":113},17]
["Zeus",23,68,"M",{"$f":"MIN(B4723*C4723/6,400)/(B4723/2)+(control!$B$4-MIN(B4723*C4723/6,400))/(B4723/8)","v":71.130434782608688},27]
["Zia",23,102,"D",{"$f":"MIN(B4724*C4724/6,400)/(B4724/2)+(control!$B$4-MIN(B4724*C4724/6,400))/(B4724/8)","v":37.130434782608695},24]
["Zig Zag",20,100,"S",{"$f":"MIN(B4725*C4725/6,400)/(B4725/2)+(control!$B$4-MIN(B4725*C4725/6,400))/(B4725/8)","v":60},21]
["Ziggy",16,107,"D",{"$f":"MIN(B4726*C4726/6,400)/(B4726/2)+(control!$B$4-MIN(B4726*C4726/6,400))/(B4726/8)","v":93},16]
["Zimbro",16,92,"M",{"$f":"MIN(B4727*C4727/6,400)/(B4727/2)+(control!$B$4-MIN(B4727*C4727/6,400))/(B4727/8)","v":108},20]
["Zinc",25,91,"M",{"$f":"MIN(B4728*C4728/6,400)/(B4728/2)+(control!$B$4-MIN(B4728*C4728/6,400))/(B4728/8)","v":37},27]
["Zip",20,113,"D",{"$f":"MIN(B4729*C4729/6,400)/(B4729/2)+(control!$B$4-MIN(B4729*C4729/6,400))/(B4729/8)","v":47},24]
["Zip Appeal",21,73,"S",{"$f":"MIN(B4730*C4730/6,400)/(B4730/2)+(control!$B$4-MIN(B4730*C4730/6,400))/(B4730/8)","v":79.38095238095238},25]
["Zip Me Up",19,98,"S",{"$f":"MIN(B4731*C4731/6,400)/(B4731/2)+(control!$B$4-MIN(B4731*C4731/6,400))/(B4731/8)","v":70.421052631578959},21]
["Ziploose N Fancy Free",22,97,"S",{"$f":"MIN(B4732*C4732/6,400)/(B4732/2)+(control!$B$4-MIN(B4732*C4732/6,400))/(B4732/8)","v":48.454545454545453},23]
["Zippidee Doo Dah",22,99,"D",{"$f":"MIN(B4733*C4733/6,400)/(B4733/2)+(control!$B$4-MIN(B4733*C4733/6,400))/(B4733/8)","v":46.454545454545453},22]
["Zippin' Old Stile",23,114,"D",{"$f":"MIN(B4734*C4734/6,400)/(B4734/2)+(control!$B$4-MIN(B4734*C4734/6,400))/(B4734/8)","v":34.782608695652172},24]
["Zippit",16,78,"S",{"$f":"MIN(B4735*C4735/6,400)/(B4735/2)+(control!$B$4-MIN(B4735*C4735/6,400))/(B4735/8)","v":122},19]
["Zippity Doodah",19,82,"S",{"$f":"MIN(B4736*C4736/6,400)/(B4736/2)+(control!$B$4-MIN(B4736*C4736/6,400))/(B4736/8)","v":86.421052631578945},21]
["Zippo",18,84,"M",{"$f":"MIN(B4737*C4737/6,400)/(B4737/2)+(control!$B$4-MIN(B4737*C4737/6,400))/(B4737/8)","v":93.777777777777771},20]
["Zippo Pine Shine",18,108,"S",{"$f":"MIN(B4738*C4738/6,400)/(B4738/2)+(control!$B$4-MIN(B4738*C4738/6,400))/(B4738/8)","v":69.777777777777771},18]
["Zippo's Sensation",20,112,"M",{"$f":"MIN(B4739*C4739/6,400)/(B4739/2)+(control!$B$4-MIN(B4739*C4739/6,400))/(B4739/8)","v":48},23]
["Zippy",18,79,"M",{"$f":"MIN(B4740*C4740/6,400)/(B4740/2)+(control!$B$4-MIN(B4740*C4740/6,400))/(B4740/8)","v":98.777777777777771},20]
["Zippy Chippie",22,96,"D",{"$f":"MIN(B4741*C4741/6,400)/(B4741/2)+(control!$B$4-MIN(B4741*C4741/6,400))/(B4741/8)","v":49.454545454545453},26]
["Zippy Kay",20,116,"S",{"$f":"MIN(B4742*C4742/6,400)/(B4742/2)+(control!$B$4-MIN(B4742*C4742/6,400))/(B4742/8)","v":44},23]
["Zips Dima a Day",21,105,"D",{"$f":"MIN(B4743*C4743/6,400)/(B4743/2)+(control!$B$4-MIN(B4743*C4743/6,400))/(B4743/8)","v":47.38095238095238},24]
["Zod",19,81,"S",{"$f":"MIN(B4744*C4744/6,400)/(B4744/2)+(control!$B$4-MIN(B4744*C4744/6,400))/(B4744/8)","v":87.421052631578945},23]
["Zodiac",17,69,"S",{"$f":"MIN(B4745*C4745/6,400)/(B4745/2)+(control!$B$4-MIN(B4745*C4745/6,400))/(B4745/8)","v":119.23529411764706},20]
["Zodiac Princess",16,80,"S",{"$f":"MIN(B4746*C4746/6,400)/(B4746/2)+(control!$B$4-MIN(B4746*C4746/6,400))/(B4746/8)","v":120},17]
["Zoe",22,107,"D",{"$f":"MIN(B4747*C4747/6,400)/(B4747/2)+(control!$B$4-MIN(B4747*C4747/6,400))/(B4747/8)","v":38.45454545454546},23]
["Zollie",19,93,"D",{"$f":"MIN(B4748*C4748/6,400)/(B4748/2)+(control!$B$4-MIN(B4748*C4748/6,400))/(B4748/8)","v":75.421052631578945},20]
["Zora",21,100,"D",{"$f":"MIN(B4749*C4749/6,400)/(B4749/2)+(control!$B$4-MIN(B4749*C4749/6,400))/(B4749/8)","v":52.38095238095238},23]
["Zorino",27,119,"M",{"$f":"MIN(B4750*C4750/6,400)/(B4750/2)+(control!$B$4-MIN(B4750*C4750/6,400))/(B4750/8)","v":29.62962962962963},27]
["Zorro",19,83,"M",{"$f":"MIN(B4751*C4751/6,400)/(B4751/2)+(control!$B$4-MIN(B4751*C4751/6,400))/(B4751/8)","v":85.421052631578959},23]
["Zorro Garlic",17,95,"M",{"$f":"MIN(B4752*C4752/6,400)/(B4752/2)+(control!$B$4-MIN(B4752*C4752/6,400))/(B4752/8)","v":93.235294117647058},20]
["Zorrow",22,62,"S",{"$f":"MIN(B4753*C4753/6,400)/(B4753/2)+(control!$B$4-MIN(B4753*C4753/6,400))/(B4753/8)","v":83.454545454545453},25]
["Zulu",21,106,"S",{"$f":"MIN(B4754*C4754/6,400)/(B4754/2)+(control!$B$4-MIN(B4754*C4754/6,400))/(B4754/8)","v":46.38095238095238},24]
["Zylan",24,121,"D",{"$f":"MIN(B4755*C4755/6,400)/(B4755/2)+(control!$B$4-MIN(B4755*C4755/6,400))/(B4755/8)","v":33.333333333333336},26]
["Bieber",10,40,"S",{"$f":"MIN(B4756*C4756/6,400)/(B4756/2)+(control!$B$4-MIN(B4756*C4756/6,400))/(B4756/8)","v":279.99999999999994},13]
["Angus Young",28,130,"D",{"$f":"MIN(B4757*C4757/6,400)/(B4757/2)+(control!$B$4-MIN(B4757*C4757/6,400))/(B4757/8)","v":28.571428571428573},32]
["Avenger",26,117,"D",{"$f":"MIN(B4758*C4758/6,400)/(B4758/2)+(control!$B$4-MIN(B4758*C4758/6,400))/(B4758/8)","v":30.76923076923077},29]
["Hulk",18,125,"S",{"$f":"MIN(B4759*C4759/6,400)/(B4759/2)+(control!$B$4-MIN(B4759*C4759/6,400))/(B4759/8)","v":52.777777777777771},21]
["Iron Man",25,100,{"$f":"IF(C4760>91,IF(RAND()>0.4,\"D\",\"S\"),\"S\")","v":"D"},{"$f":"MIN(B4760*C4760/6,400)/(B4760/2)+(control!$B$4-MIN(B4760*C4760/6,400))/(B4760/8)","v":32},27]
["Thor",24,108,"D",{"$f":"MIN(B4761*C4761/6,400)/(B4761/2)+(control!$B$4-MIN(B4761*C4761/6,400))/(B4761/8)","v":33.333333333333336},26]
["Captain America",22,127,"D",{"$f":"MIN(B4762*C4762/6,400)/(B4762/2)+(control!$B$4-MIN(B4762*C4762/6,400))/(B4762/8)","v":36.363636363636367},24]
["Ozzy",22,99,"D",{"$f":"MIN(B4763*C4763/6,400)/(B4763/2)+(control!$B$4-MIN(B4763*C4763/6,400))/(B4763/8)","v":46.454545454545453},24]
["RANDOM",{"$f":"IF(RAND()<0.5,RANDBETWEEN(15,22),RANDBETWEEN(19,27))","v":24},{"$f":"IF(RAND()<0.5,RANDBETWEEN(59,101),RANDBETWEEN(69,123))","v":105},{"$f":"IF(AND(RAND()<0.4,C4764>90),\"D\",IF(AND(RAND()<0.33,C4764>60),\"M\",\"S\"))","v":"S"},{"$f":"MIN(B4764*C4764/6,400)/(B4764/2)+(control!$B$4-MIN(B4764*C4764/6,400))/(B4764/8)","v":33.333333333333336},25]

{"sheet":"the race","index":1,"n_rows":84,"n_cols":30,"rows_kept":84,"cut":false,"hidden":false,"merged":[[51,21,51,22],[51,23,51,24],[52,21,52,22],[52,23,52,24],[53,21,53,22],[53,23,53,24],[42,21,42,22],[43,21,43,22],[44,21,44,22],[45,21,45,22],[46,21,46,22],[42,23,42,24],[43,23,43,24],[44,23,44,24],[45,23,45,24],[46,23,46,24],[48,21,48,24],[49,21,49,22],[49,23,49,24],[50,21,50,22],[50,23,50,24],[69,9,69,11],[70,9,71,11],[28,1,28,11],[29,1,29,11],[63,1,63,2],[30,1,30,11],[31,1,31,11],[32,1,32,11],[33,1,33,11],[34,1,34,11],[35,1,35,11],[36,1,36,11],[37,1,37,11],[38,1,38,11],[39,1,39,11],[40,1,40,11],[22,15,22,17],[23,15,23,17],[24,15,24,17],[25,15,25,17],[26,15,26,17],[27,15,27,17],[28,15,28,17],[29,15,29,17],[30,15,30,17],[31,15,31,17],[32,15,32,17],[38,15,38,17],[39,15,39,17],[40,15,40,17],[41,15,41,17],[33,15,33,17],[34,15,34,17],[35,15,35,17],[36,15,36,17],[37,15,37,17],[41,1,41,11],[27,1,27,11],[22,1,22,11],[23,1,23,11],[24,1,24,11],[25,1,25,11],[26,1,26,11]]}
["horse","stamina remaining","distance","strategy","speed","stamina","stamina cost","move next turn","new stamina","new distance",null,"new horses","race times","race over?",null,"expected time",null,null,null,null,null,null,null,"APPLIED AGAINST ODDS","min roll","AGAINST ODDS? ","in-race rank",null,{"$f":"IF(AND(MAX(C2:C21)>=length_race*0.95,MAX(C2:C21)<length_race),\"Y\",\"N\")","v":"N"},"<<slow down speed?"]
["Wills",0,400,{"$f":"IFERROR(VLOOKUP(A2,horses!A:D,4,FALSE),\"\")","v":"S"},{"$f":"IFERROR(VLOOKUP(A2,horses!A:D,IF(horses!$L$7=\"Yes\",2,6),FALSE),\"\")","v":17},{"$f":"IFERROR(VLOOKUP(A2,horses!A:D,3,FALSE),\"\")","v":93},{"$f":"IFERROR(IF(OR(AND(D2=\"D\",C2<0.2*control!$B$4),AND(D2=\"M\",C2<0.06*control!$B$4)),1,IF(AND(D2=\"M\",C2<0.33*control!$B$4),2,MIN(3,B2))),\"\")","v":0},{"$f":"IFERROR(IF(G2=0,RANDBETWEEN(IF(horses!$L$7=\"Yes\",Y2,ROUNDUP(E2*0.25,0)),ROUNDUP(E2*0.25,0)),RANDBETWEEN(IF(horses!$L$7=\"Yes\",Y2,ROUNDUP(E2*G2/3,0)),ROUNDUP(E2*G2/3,0))),\"\")","v":4},{"$f":"B2-G2","v":0},{"$f":"IFERROR(MIN(control!$B$4,C2+H2+IF(AND(X2=1,horses!$L$7=\"Yes\"),ROUNDUP(SQRT(B44),0),0)),\"\")","v":400},null,{"$f":"IF(ROW()-1<=number_horses,IF(X23=\"\",INDIRECT(ADDRESS(RANDBETWEEN(2,horses!$G$19),1,1,1,\"horses\"),TRUE),X23),\"\")","v":"Krugerrand"},51,{"$f":"IF(COUNTIF(M2:M21,\">0\")=number_horses,1,0)","v":1},null,{"$f":"IFERROR(VLOOKUP(A2,horses!A:E,5,FALSE),\"\")","v":95.235294117647058},null,{"$f":"IFERROR(STANDARDIZE(P2,control!$B$1,control!$B$2),\"\")","v":1.6477197149386995},{"$f":"IFERROR(NORMSDIST(R2),\"\")","v":0.95029489974731574},{"$f":"IFERROR(1-S2,\"\")","v":4.9705100252684264E-2},{"$f":"IFERROR(T2/SUM($T$2:$T$21),\"\")","v":1.8796722124122856E-2},{"$f":"IFERROR(ROUNDUP(0.55/U2,0),\"\")","v":30},{"$f":"IFERROR(ROUNDUP(2*V2/MIN($V$2:$V$21),0)+X2,\"\")","v":30},0,{"$f":"IF(B44>25,4,IF(B44>10,3,1))","v":4},{"$f":"IFERROR(IF(RAND()<1/B44,1,0),\"\")","v":0},{"$f":"IFERROR(C2+IFERROR(1/M2,0)+ROW()/10000,\"\")","v":400.01980784313724},{"$f":"IFERROR(RANK(AA2,$AA$2:$AA$21,0),\"\")","v":3},{"$f":"IFERROR(A2&IF(AD2=\"\",\"\",\" (\"&AD2&\" )\"),\"\")","v":"Wills"},{"$f":"IF(E44>0,\" 1\",\"\")&IF(F44>0,\" 2\",\"\")&IF(G44>0,\" 3\",\"\")&IF(H44>0,\" 4\",\"\")&IF(I44>0,\" 5\",\"\")&IF(J44>0,\" 6\",\"\")&IF(K44>0,\" 7\",\"\")&IF(L44>0,\" 8\",\"\")&IF(M44>0,\" 9\",\"\")&IF(N44>0,\" 10\",\"\")&IF(O44>0,\" 11\",\"\")&IF(P44>0,\" 12\",\"\")&IF(Q44>0,\" 13\",\"\")&IF(R44>0,\" 14\",\"\")&IF(S44>0,\" 15\",\"\")","v":""}]
["Doris",0,400,{"$f":"IFERROR(VLOOKUP(A3,horses!A:D,4,FALSE),\"\")","v":"M"},{"$f":"IFERROR(VLOOKUP(A3,horses!A:D,2,FALSE),\"\")","v":21},{"$f":"IFERROR(VLOOKUP(A3,horses!A:D,3,FALSE),\"\")","v":87},{"$f":"IFERROR(IF(OR(AND(D3=\"D\",C3<0.2*control!$B$4),AND(D3=\"M\",C3<0.06*control!$B$4)),1,IF(AND(D3=\"M\",C3<0.33*control!$B$4),2,MIN(3,B3))),\"\")","v":0},{"$f":"IFERROR(IF(G3=0,RANDBETWEEN(IF(horses!$L$7=\"Yes\",Y3,ROUNDUP(E3*0.25,0)),ROUNDUP(E3*0.25,0)),RANDBETWEEN(IF(horses!$L$7=\"Yes\",Y3,ROUNDUP(E3*G3/3,0)),ROUNDUP(E3*G3/3,0))),\"\")","v":4},{"$f":"B3-G3","v":0},{"$f":"IFERROR(MIN(control!$B$4,C3+H3+IF(AND(X3=1,horses!$L$7=\"Yes\"),ROUNDUP(SQRT(B45),0),0)),\"\")","v":400},null,{"$f":"IF(ROW()-1<=number_horses,IF(X24=\"\",INDIRECT(ADDRESS(RANDBETWEEN(2,horses!$G$19),1,1,1,\"horses\"),TRUE),X24),\"\")","v":"Virtual Reality"},63.6,null,null,{"$f":"IFERROR(VLOOKUP(A3,horses!A:E,5,FALSE),\"\")","v":65.38095238095238},null,{"$f":"IFERROR(STANDARDIZE(P3,control!$B$1,control!$B$2),\"\")","v":0.1123774694774059},{"$f":"IFERROR(NORMSDIST(R3),\"\")","v":0.54473794054602931},{"$f":"IFERROR(1-S3,\"\")","v":0.45526205945397069},{"$f":"IFERROR(T3/SUM($T$2:$T$21),\"\")","v":0.17216411156418607},{"$f":"IFERROR(ROUNDUP(0.55/U3,0),\"\")","v":4},{"$f":"IFERROR(ROUNDUP(2*V3/MIN($V$2:$V$21),0)+X3,\"\")","v":4},0,{"$f":"IF(B45>25,4,IF(B45>10,3,1))","v":1},{"$f":"IFERROR(IF(RAND()<1/B45,1,0),\"\")","v":1},{"$f":"IFERROR(C3+IFERROR(1/M3,0)+ROW()/10000,\"\")","v":400.01602327044026},{"$f":"IFERROR(RANK(AA3,$AA$2:$AA$21,0),\"\")","v":5},{"$f":"IFERROR(A3&IF(AD3=\"\",\"\",\" (\"&AD3&\" )\"),\"\")","v":"Doris"},{"$f":"IF(E45>0,\" 1\",\"\")&IF(F45>0,\" 2\",\"\")&IF(G45>0,\" 3\",\"\")&IF(H45>0,\" 4\",\"\")&IF(I45>0,\" 5\",\"\")&IF(J45>0,\" 6\",\"\")&IF(K45>0,\" 7\",\"\")&IF(L45>0,\" 8\",\"\")&IF(M45>0,\" 9\",\"\")&IF(N45>0,\" 10\",\"\")&IF(O45>0,\" 11\",\"\")&IF(P45>0,\" 12\",\"\")&IF(Q45>0,\" 13\",\"\")&IF(R45>0,\" 14\",\"\")&IF(S45>0,\" 15\",\"\")","v":""}]
["Greased Lightning",0,400,{"$f":"IFERROR(VLOOKUP(A4,horses!A:D,4,FALSE),\"\")","v":"M"},{"$f":"IFERROR(VLOOKUP(A4,horses!A:D,2,FALSE),\"\")","v":18},{"$f":"IFERROR(VLOOKUP(A4,horses!A:D,3,FALSE),\"\")","v":121},{"$f":"IFERROR(IF(OR(AND(D4=\"D\",C4<0.2*control!$B$4),AND(D4=\"M\",C4<0.06*control!$B$4)),1,IF(AND(D4=\"M\",C4<0.33*control!$B$4),2,MIN(3,B4))),\"\")","v":0},{"$f":"IFERROR(IF(G4=0,RANDBETWEEN(IF(horses!$L$7=\"Yes\",Y4,ROUNDUP(E4*0.25,0)),ROUNDUP(E4*0.25,0)),RANDBETWEEN(IF(horses!$L$7=\"Yes\",Y4,ROUNDUP(E4*G4/3,0)),ROUNDUP(E4*G4/3,0))),\"\")","v":3},0,{"$f":"IFERROR(MIN(control!$B$4,C4+H4+IF(AND(X4=1,horses!$L$7=\"Yes\"),ROUNDUP(SQRT(B46),0),0)),\"\")","v":400},null,{"$f":"IF(ROW()-1<=number_horses,IF(X25=\"\",INDIRECT(ADDRESS(RANDBETWEEN(2,horses!$G$19),1,1,1,\"horses\"),TRUE),X25),\"\")","v":"Celtic Jewel"},61.2,null,null,{"$f":"IFERROR(VLOOKUP(A4,horses!A:E,5,FALSE),\"\")","v":56.777777777777779},null,{"$f":"IFERROR(STANDARDIZE(P4,control!$B$1,control!$B$2),\"\")","v":-0.33006462252485708},0.37067556688607561,0.62932443311392439,0.2379883841905088,3,3,0,1,1,400.01673986928108,4,"Greased Lightning",""]
["Damien",0,400,{"$f":"IFERROR(VLOOKUP(A5,horses!A:D,4,FALSE),\"\")","v":"D"},{"$f":"IFERROR(VLOOKUP(A5,horses!A:D,2,FALSE),\"\")","v":22},{"$f":"IFERROR(VLOOKUP(A5,horses!A:D,3,FALSE),\"\")","v":91},{"$f":"IFERROR(IF(OR(AND(D5=\"D\",C5<0.2*control!$B$4),AND(D5=\"M\",C5<0.06*control!$B$4)),1,IF(AND(D5=\"M\",C5<0.33*control!$B$4),2,MIN(3,B5))),\"\")","v":0},{"$f":"IFERROR(IF(G5=0,RANDBETWEEN(IF(horses!$L$7=\"Yes\",Y5,ROUNDUP(E5*0.25,0)),ROUNDUP(E5*0.25,0)),RANDBETWEEN(IF(horses!$L$7=\"Yes\",Y5,ROUNDUP(E5*G5/3,0)),ROUNDUP(E5*G5/3,0))),\"\")","v":4},0,{"$f":"IFERROR(MIN(control!$B$4,C5+H5+IF(AND(X5=1,horses!$L$7=\"Yes\"),ROUNDUP(SQRT(B47),0),0)),\"\")","v":400},null,{"$f":"IF(ROW()-1<=number_horses,IF(X26=\"\",INDIRECT(ADDRESS(RANDBETWEEN(2,horses!$G$19),1,1,1,\"horses\"),TRUE),X26),\"\")","v":"Chickaboo"},31.1,null,null,{"$f":"IFERROR(VLOOKUP(A5,horses!A:E,5,FALSE),\"\")","v":54.454545454545453},null,{"$f":"IFERROR(STANDARDIZE(P5,control!$B$1,control!$B$2),\"\")","v":-0.44954328205582728},0.32651989633709394,0.67348010366290612,0.25468650702486928,3,4,1,1,0,400.03265434083602,2,"Damien",""]
["Dame de Pique",0,400,{"$f":"IFERROR(VLOOKUP(A6,horses!A:D,4,FALSE),\"\")","v":"S"},{"$f":"IFERROR(VLOOKUP(A6,horses!A:D,2,FALSE),\"\")","v":23},{"$f":"IFERROR(VLOOKUP(A6,horses!A:D,3,FALSE),\"\")","v":95},{"$f":"IFERROR(IF(OR(AND(D6=\"D\",C6<0.2*control!$B$4),AND(D6=\"M\",C6<0.06*control!$B$4)),1,IF(AND(D6=\"M\",C6<0.33*control!$B$4),2,MIN(3,B6))),\"\")","v":0},{"$f":"IFERROR(IF(G6=0,RANDBETWEEN(IF(horses!$L$7=\"Yes\",Y6,ROUNDUP(E6*0.25,0)),ROUNDUP(E6*0.25,0)),RANDBETWEEN(IF(horses!$L$7=\"Yes\",Y6,ROUNDUP(E6*G6/3,0)),ROUNDUP(E6*G6/3,0))),\"\")","v":3},0,{"$f":"IFERROR(MIN(control!$B$4,C6+H6+IF(AND(X6=1,horses!$L$7=\"Yes\"),ROUNDUP(SQRT(B48),0),0)),\"\")","v":400},null,{"$f":"IF(ROW()-1<=number_horses,IF(X27=\"\",INDIRECT(ADDRESS(RANDBETWEEN(2,horses!$G$19),1,1,1,\"horses\"),TRUE),X27),\"\")","v":"Sierra"},26.294117647058822,null,null,{"$f":"IFERROR(VLOOKUP(A6,horses!A:E,5,FALSE),\"\")","v":44.130434782608688},null,{"$f":"IFERROR(STANDARDIZE(P6,control!$B$1,control!$B$2),\"\")","v":-0.98048927983542011},0.1634223293725573,0.8365776706274427,0.31636427509631293,2,3,1,1,0,400.03863131991051,1,"Dame de Pique",""]
[null,0,null,{"$f":"IFERROR(VLOOKUP(A7,horses!A:D,4,FALSE),\"\")","v":""},{"$f":"IFERROR(VLOOKUP(A7,horses!A:D,2,FALSE),\"\")","v":""},{"$f":"IFERROR(VLOOKUP(A7,horses!A:D,3,FALSE),\"\")","v":""},{"$f":"IFERROR(IF(OR(AND(D7=\"D\",C7<0.2*control!$B$4),AND(D7=\"M\",C7<0.06*control!$B$4)),1,IF(AND(D7=\"M\",C7<0.33*control!$B$4),2,MIN(3,B7))),\"\")","v":0},{"$f":"IFERROR(IF(G7=0,RANDBETWEEN(IF(horses!$L$7=\"Yes\",Y7,ROUNDUP(E7*0.25,0)),ROUNDUP(E7*0.25,0)),RANDBETWEEN(IF(horses!$L$7=\"Yes\",Y7,ROUNDUP(E7*G7/3,0)),ROUNDUP(E7*G7/3,0))),\"\")","v":""},0,{"$f":"IFERROR(MIN(control!$B$4,C7+H7+IF(AND(X7=1,horses!$L$7=\"Yes\"),ROUNDUP(SQRT(B49),0),0)),\"\")","v":""},null,{"$f":"IF(ROW()-1<=number_horses,IF(X28=\"\",INDIRECT(ADDRESS(RANDBETWEEN(2,horses!$G$19),1,1,1,\"horses\"),TRUE),X28),\"\")","v":""},0,null,null,{"$f":"IFERROR(VLOOKUP(A7,horses!A:E,5,FALSE),\"\")","v":""},null,{"$f":"IFERROR(STANDARDIZE(P7,control!$B$1,control!$B$2),\"\")","v":""},"","","","","",null,4,"",6.9999999999999999E-4,20,"",""]
[null,0,null,{"$f":"IFERROR(VLOOKUP(A8,horses!A:D,4,FALSE),\"\")","v":""},{"$f":"IFERROR(VLOOKUP(A8,horses!A:D,2,FALSE),\"\")","v":""},{"$f":"IFERROR(VLOOKUP(A8,horses!A:D,3,FALSE),\"\")","v":""},{"$f":"IFERROR(IF(OR(AND(D8=\"D\",C8<0.2*control!$B$4),AND(D8=\"M\",C8<0.06*control!$B$4)),1,IF(AND(D8=\"M\",C8<0.33*control!$B$4),2,MIN(3,B8))),\"\")","v":0},{"$f":"IFERROR(IF(G8=0,RANDBETWEEN(IF(horses!$L$7=\"Yes\",Y8,ROUNDUP(E8*0.25,0)),ROUNDUP(E8*0.25,0)),RANDBETWEEN(IF(horses!$L$7=\"Yes\",Y8,ROUNDUP(E8*G8/3,0)),ROUNDUP(E8*G8/3,0))),\"\")","v":""},0,{"$f":"IFERROR(MIN(control!$B$4,C8+H8+IF(AND(X8=1,horses!$L$7=\"Yes\"),ROUNDUP(SQRT(B50),0),0)),\"\")","v":""},null,{"$f":"IF(ROW()-1<=number_horses,IF(X29=\"\",INDIRECT(ADDRESS(RANDBETWEEN(2,horses!$G$19),1,1,1,\"horses\"),TRUE),X29),\"\")","v":""},0,null,null,{"$f":"IFERROR(VLOOKUP(A8,horses!A:E,5,FALSE),\"\")","v":""},null,{"$f":"IFERROR(STANDARDIZE(P8,control!$B$1,control!$B$2),\"\")","v":""},"","","","","",null,4,"",8.0000000000000004E-4,19,"",""]
[null,0,null,{"$f":"IFERROR(VLOOKUP(A9,horses!A:D,4,FALSE),\"\")","v":""},{"$f":"IFERROR(VLOOKUP(A9,horses!A:D,2,FALSE),\"\")","v":""},{"$f":"IFERROR(VLOOKUP(A9,horses!A:D,3,FALSE),\"\")","v":""},{"$f":"IFERROR(IF(OR(AND(D9=\"D\",C9<0.2*control!$B$4),AND(D9=\"M\",C9<0.06*control!$B$4)),1,IF(AND(D9=\"M\",C9<0.33*control!$B$4),2,MIN(3,B9))),\"\")","v":0},{"$f":"IFERROR(IF(G9=0,RANDBETWEEN(IF(horses!$L$7=\"Yes\",Y9,ROUNDUP(E9*0.25,0)),ROUNDUP(E9*0.25,0)),RANDBETWEEN(IF(horses!$L$7=\"Yes\",Y9,ROUNDUP(E9*G9/3,0)),ROUNDUP(E9*G9/3,0))),\"\")","v":""},0,{"$f":"IFERROR(MIN(control!$B$4,C9+H9+IF(AND(X9=1,horses!$L$7=\"Yes\"),ROUNDUP(SQRT(B51),0),0)),\"\")","v":""},null,{"$f":"IF(ROW()-1<=number_horses,IF(X30=\"\",INDIRECT(ADDRESS(RANDBETWEEN(2,horses!$G$19),1,1,1,\"horses\"),TRUE),X30),\"\")","v":""},0,null,null,{"$f":"IFERROR(VLOOKUP(A9,horses!A:E,5,FALSE),\"\")","v":""},null,{"$f":"IFERROR(STANDARDIZE(P9,control!$B$1,control!$B$2),\"\")","v":""},"","","","","",null,4,"",8.9999999999999998E-4,18,"",""]
[null,0,null,{"$f":"IFERROR(VLOOKUP(A10,horses!A:D,4,FALSE),\"\")","v":""},{"$f":"IFERROR(VLOOKUP(A10,horses!A:D,2,FALSE),\"\")","v":""},{"$f":"IFERROR(VLOOKUP(A10,horses!A:D,3,FALSE),\"\")","v":""},{"$f":"IFERROR(IF(OR(AND(D10=\"D\",C10<0.2*control!$B$4),AND(D10=\"M\",C10<0.06*control!$B$4)),1,IF(AND(D10=\"M\",C10<0.33*control!$B$4),2,MIN(3,B10))),\"\")","v":0},{"$f":"IFERROR(IF(G10=0,RANDBETWEEN(IF(horses!$L$7=\"Yes\",Y10,ROUNDUP(E10*0.25,0)),ROUNDUP(E10*0.25,0)),RANDBETWEEN(IF(horses!$L$7=\"Yes\",Y10,ROUNDUP(E10*G10/3,0)),ROUNDUP(E10*G10/3,0))),\"\")","v":""},0,{"$f":"IFERROR(MIN(control!$B$4,C10+H10+IF(AND(X10=1,horses!$L$7=\"Yes\"),ROUNDUP(SQRT(B52),0),0)),\"\")","v":""},null,{"$f":"IF(ROW()-1<=number_horses,IF(X31=\"\",INDIRECT(ADDRESS(RANDBETWEEN(2,horses!$G$19),1,1,1,\"horses\"),TRUE),X31),\"\")","v":""},0,null,null,{"$f":"IFERROR(VLOOKUP(A10,horses!A:E,5,FALSE),\"\")","v":""},null,{"$f":"IFERROR(STANDARDIZE(P10,control!$B$1,control!$B$2),\"\")","v":""},"","","","","",null,{"$f":"IF(B52>25,4,IF(B52>10,3,1))","v":4},"",1E-3,17,"",""]
[null,0,null,{"$f":"IFERROR(VLOOKUP(A11,horses!A:D,4,FALSE),\"\")","v":""},{"$f":"IFERROR(VLOOKUP(A11,horses!A:D,2,FALSE),\"\")","v":""},{"$f":"IFERROR(VLOOKUP(A11,horses!A:D,3,FALSE),\"\")","v":""},{"$f":"IFERROR(IF(OR(AND(D11=\"D\",C11<0.2*control!$B$4),AND(D11=\"M\",C11<0.06*control!$B$4)),1,IF(AND(D11=\"M\",C11<0.33*control!$B$4),2,MIN(3,B11))),\"\")","v":0},{"$f":"IFERROR(IF(G11=0,RANDBETWEEN(IF(horses!$L$7=\"Yes\",Y11,ROUNDUP(E11*0.25,0)),ROUNDUP(E11*0.25,0)),RANDBETWEEN(IF(horses!$L$7=\"Yes\",Y11,ROUNDUP(E11*G11/3,0)),ROUNDUP(E11*G11/3,0))),\"\")","v":""},0,{"$f":"IFERROR(MIN(control!$B$4,C11+H11+IF(AND(X11=1,horses!$L$7=\"Yes\"),ROUNDUP(SQRT(B53),0),0)),\"\")","v":""},null,{"$f":"IF(ROW()-1<=number_horses,IF(X32=\"\",INDIRECT(ADDRESS(RANDBETWEEN(2,horses!$G$19),1,1,1,\"horses\"),TRUE),X32),\"\")","v":""},0,null,null,{"$f":"IFERROR(VLOOKUP(A11,horses!A:E,5,FALSE),\"\")","v":""},null,{"$f":"IFERROR(STANDARDIZE(P11,control!$B$1,control!$B$2),\"\")","v":""},"","","","","",null,4,"",1.1000000000000001E-3,16,"",""]
[null,0,null,{"$f":"IFERROR(VLOOKUP(A12,horses!A:D,4,FALSE),\"\")","v":""},{"$f":"IFERROR(VLOOKUP(A12,horses!A:D,2,FALSE),\"\")","v":""},{"$f":"IFERROR(VLOOKUP(A12,horses!A:D,3,FALSE),\"\")","v":""},{"$f":"IFERROR(IF(OR(AND(D12=\"D\",C12<0.2*control!$B$4),AND(D12=\"M\",C12<0.06*control!$B$4)),1,IF(AND(D12=\"M\",C12<0.33*control!$B$4),2,MIN(3,B12))),\"\")","v":0},{"$f":"IFERROR(IF(G12=0,RANDBETWEEN(IF(horses!$L$7=\"Yes\",Y12,ROUNDUP(E12*0.25,0)),ROUNDUP(E12*0.25,0)),RANDBETWEEN(IF(horses!$L$7=\"Yes\",Y12,ROUNDUP(E12*G12/3,0)),ROUNDUP(E12*G12/3,0))),\"\")","v":""},0,{"$f":"IFERROR(MIN(control!$B$4,C12+H12+IF(AND(X12=1,horses!$L$7=\"Yes\"),ROUNDUP(SQRT(B54),0),0)),\"\")","v":""},null,{"$f":"IF(ROW()-1<=number_horses,IF(X33=\"\",INDIRECT(ADDRESS(RANDBETWEEN(2,horses!$G$19),1,1,1,\"horses\"),TRUE),X33),\"\")","v":""},0,null,null,{"$f":"IFERROR(VLOOKUP(A12,horses!A:E,5,FALSE),\"\")","v":""},null,{"$f":"IFERROR(STANDARDIZE(P12,control!$B$1,control!$B$2),\"\")","v":""},"","","","","",null,4,"",1.1999999999999999E-3,15,"",""]
[null,0,null,{"$f":"IFERROR(VLOOKUP(A13,horses!A:D,4,FALSE),\"\")","v":""},{"$f":"IFERROR(VLOOKUP(A13,horses!A:D,2,FALSE),\"\")","v":""},{"$f":"IFERROR(VLOOKUP(A13,horses!A:D,3,FALSE),\"\")","v":""},{"$f":"IFERROR(IF(OR(AND(D13=\"D\",C13<0.2*control!$B$4),AND(D13=\"M\",C13<0.06*control!$B$4)),1,IF(AND(D13=\"M\",C13<0.33*control!$B$4),2,MIN(3,B13))),\"\")","v":0},{"$f":"IFERROR(IF(G13=0,RANDBETWEEN(IF(horses!$L$7=\"Yes\",Y13,ROUNDUP(E13*0.25,0)),ROUNDUP(E13*0.25,0)),RANDBETWEEN(IF(horses!$L$7=\"Yes\",Y13,ROUNDUP(E13*G13/3,0)),ROUNDUP(E13*G13/3,0))),\"\")","v":""},0,{"$f":"IFERROR(MIN(control!$B$4,C13+H13+IF(AND(X13=1,horses!$L$7=\"Yes\"),ROUNDUP(SQRT(B55),0),0)),\"\")","v":""},null,{"$f":"IF(ROW()-1<=number_horses,IF(X34=\"\",INDIRECT(ADDRESS(RANDBETWEEN(2,horses!$G$19),1,1,1,\"horses\"),TRUE),X34),\"\")","v":""},0,null,null,{"$f":"IFERROR(VLOOKUP(A13,horses!A:E,5,FALSE),\"\")","v":""},null,{"$f":"IFERROR(STANDARDIZE(P13,control!$B$1,control!$B$2),\"\")","v":""},"","","","","",null,4,"",1.2999999999999999E-3,14,"",""]
[null,0,null,{"$f":"IFERROR(VLOOKUP(A14,horses!A:D,4,FALSE),\"\")","v":""},{"$f":"IFERROR(VLOOKUP(A14,horses!A:D,2,FALSE),\"\")","v":""},{"$f":"IFERROR(VLOOKUP(A14,horses!A:D,3,FALSE),\"\")","v":""},{"$f":"IFERROR(IF(OR(AND(D14=\"D\",C14<0.2*control!$B$4),AND(D14=\"M\",C14<0.06*control!$B$4)),1,IF(AND(D14=\"M\",C14<0.33*control!$B$4),2,MIN(3,B14))),\"\")","v":0},{"$f":"IFERROR(IF(G14=0,RANDBETWEEN(IF(horses!$L$7=\"Yes\",Y14,ROUNDUP(E14*0.25,0)),ROUNDUP(E14*0.25,0)),RANDBETWEEN(IF(horses!$L$7=\"Yes\",Y14,ROUNDUP(E14*G14/3,0)),ROUNDUP(E14*G14/3,0))),\"\")","v":""},0,{"$f":"IFERROR(MIN(control!$B$4,C14+H14+IF(AND(X14=1,horses!$L$7=\"Yes\"),ROUNDUP(SQRT(B56),0),0)),\"\")","v":""},null,{"$f":"IF(ROW()-1<=number_horses,IF(X35=\"\",INDIRECT(ADDRESS(RANDBETWEEN(2,horses!$G$19),1,1,1,\"horses\"),TRUE),X35),\"\")","v":""},0,null,null,{"$f":"IFERROR(VLOOKUP(A14,horses!A:E,5,FALSE),\"\")","v":""},null,{"$f":"IFERROR(STANDARDIZE(P14,control!$B$1,control!$B$2),\"\")","v":""},"","","","","",null,4,"",1.4E-3,13,"",""]
[null,0,null,{"$f":"IFERROR(VLOOKUP(A15,horses!A:D,4,FALSE),\"\")","v":""},{"$f":"IFERROR(VLOOKUP(A15,horses!A:D,2,FALSE),\"\")","v":""},{"$f":"IFERROR(VLOOKUP(A15,horses!A:D,3,FALSE),\"\")","v":""},{"$f":"IFERROR(IF(OR(AND(D15=\"D\",C15<0.2*control!$B$4),AND(D15=\"M\",C15<0.06*control!$B$4)),1,IF(AND(D15=\"M\",C15<0.33*control!$B$4),2,MIN(3,B15))),\"\")","v":0},{"$f":"IFERROR(IF(G15=0,RANDBETWEEN(IF(horses!$L$7=\"Yes\",Y15,ROUNDUP(E15*0.25,0)),ROUNDUP(E15*0.25,0)),RANDBETWEEN(IF(horses!$L$7=\"Yes\",Y15,ROUNDUP(E15*G15/3,0)),ROUNDUP(E15*G15/3,0))),\"\")","v":""},0,{"$f":"IFERROR(MIN(control!$B$4,C15+H15+IF(AND(X15=1,horses!$L$7=\"Yes\"),ROUNDUP(SQRT(B57),0),0)),\"\")","v":""},null,{"$f":"IF(ROW()-1<=number_horses,IF(X36=\"\",INDIRECT(ADDRESS(RANDBETWEEN(2,horses!$G$19),1,1,1,\"horses\"),TRUE),X36),\"\")","v":""},0,null,null,{"$f":"IFERROR(VLOOKUP(A15,horses!A:E,5,FALSE),\"\")","v":""},null,{"$f":"IFERROR(STANDARDIZE(P15,control!$B$1,control!$B$2),\"\")","v":""},"","","","","",null,4,"",1.5E-3,12,"",""]
[null,0,null,{"$f":"IFERROR(VLOOKUP(A16,horses!A:D,4,FALSE),\"\")","v":""},{"$f":"IFERROR(VLOOKUP(A16,horses!A:D,2,FALSE),\"\")","v":""},{"$f":"IFERROR(VLOOKUP(A16,horses!A:D,3,FALSE),\"\")","v":""},{"$f":"IFERROR(IF(OR(AND(D16=\"D\",C16<0.2*control!$B$4),AND(D16=\"M\",C16<0.06*control!$B$4)),1,IF(AND(D16=\"M\",C16<0.33*control!$B$4),2,MIN(3,B16))),\"\")","v":0},{"$f":"IFERROR(IF(G16=0,RANDBETWEEN(IF(horses!$L$7=\"Yes\",Y16,ROUNDUP(E16*0.25,0)),ROUNDUP(E16*0.25,0)),RANDBETWEEN(IF(horses!$L$7=\"Yes\",Y16,ROUNDUP(E16*G16/3,0)),ROUNDUP(E16*G16/3,0))),\"\")","v":""},0,{"$f":"IFERROR(MIN(control!$B$4,C16+H16+IF(AND(X16=1,horses!$L$7=\"Yes\"),ROUNDUP(SQRT(B58),0),0)),\"\")","v":""},null,{"$f":"IF(ROW()-1<=number_horses,IF(X37=\"\",INDIRECT(ADDRESS(RANDBETWEEN(2,horses!$G$19),1,1,1,\"horses\"),TRUE),X37),\"\")","v":""},0,null,null,{"$f":"IFERROR(VLOOKUP(A16,horses!A:E,5,FALSE),\"\")","v":""},null,{"$f":"IFERROR(STANDARDIZE(P16,control!$B$1,control!$B$2),\"\")","v":""},"","","","","",null,4,"",1.6000000000000001E-3,11,"",""]
[null,0,null,{"$f":"IFERROR(VLOOKUP(A17,horses!A:D,4,FALSE),\"\")","v":""},{"$f":"IFERROR(VLOOKUP(A17,horses!A:D,2,FALSE),\"\")","v":""},{"$f":"IFERROR(VLOOKUP(A17,horses!A:D,3,FALSE),\"\")","v":""},{"$f":"IFERROR(IF(OR(AND(D17=\"D\",C17<0.2*control!$B$4),AND(D17=\"M\",C17<0.06*control!$B$4)),1,IF(AND(D17=\"M\",C17<0.33*control!$B$4),2,MIN(3,B17))),\"\")","v":0},{"$f":"IFERROR(IF(G17=0,RANDBETWEEN(IF(horses!$L$7=\"Yes\",Y17,ROUNDUP(E17*0.25,0)),ROUNDUP(E17*0.25,0)),RANDBETWEEN(IF(horses!$L$7=\"Yes\",Y17,ROUNDUP(E17*G17/3,0)),ROUNDUP(E17*G17/3,0))),\"\")","v":""},0,{"$f":"IFERROR(MIN(control!$B$4,C17+H17+IF(AND(X17=1,horses!$L$7=\"Yes\"),ROUNDUP(SQRT(B59),0),0)),\"\")","v":""},null,{"$f":"IF(ROW()-1<=number_horses,IF(X38=\"\",INDIRECT(ADDRESS(RANDBETWEEN(2,horses!$G$19),1,1,1,\"horses\"),TRUE),X38),\"\")","v":""},0,null,null,{"$f":"IFERROR(VLOOKUP(A17,horses!A:E,5,FALSE),\"\")","v":""},null,{"$f":"IFERROR(STANDARDIZE(P17,control!$B$1,control!$B$2),\"\")","v":""},"","","","","",null,4,"",1.6999999999999999E-3,10,"",""]
[null,0,null,{"$f":"IFERROR(VLOOKUP(A18,horses!A:D,4,FALSE),\"\")","v":""},{"$f":"IFERROR(VLOOKUP(A18,horses!A:D,2,FALSE),\"\")","v":""},{"$f":"IFERROR(VLOOKUP(A18,horses!A:D,3,FALSE),\"\")","v":""},{"$f":"IFERROR(IF(OR(AND(D18=\"D\",C18<0.2*control!$B$4),AND(D18=\"M\",C18<0.06*control!$B$4)),1,IF(AND(D18=\"M\",C18<0.33*control!$B$4),2,MIN(3,B18))),\"\")","v":0},{"$f":"IFERROR(IF(G18=0,RANDBETWEEN(IF(horses!$L$7=\"Yes\",Y18,ROUNDUP(E18*0.25,0)),ROUNDUP(E18*0.25,0)),RANDBETWEEN(IF(horses!$L$7=\"Yes\",Y18,ROUNDUP(E18*G18/3,0)),ROUNDUP(E18*G18/3,0))),\"\")","v":""},0,{"$f":"IFERROR(MIN(control!$B$4,C18+H18+IF(AND(X18=1,horses!$L$7=\"Yes\"),ROUNDUP(SQRT(B60),0),0)),\"\")","v":""},null,{"$f":"IF(ROW()-1<=number_horses,IF(X39=\"\",INDIRECT(ADDRESS(RANDBETWEEN(2,horses!$G$19),1,1,1,\"horses\"),TRUE),X39),\"\")","v":""},0,null,null,{"$f":"IFERROR(VLOOKUP(A18,horses!A:E,5,FALSE),\"\")","v":""},null,{"$f":"IFERROR(STANDARDIZE(P18,control!$B$1,control!$B$2),\"\")","v":""},"","","","","",null,4,"",1.8E-3,9,"",""]
[null,0,null,{"$f":"IFERROR(VLOOKUP(A19,horses!A:D,4,FALSE),\"\")","v":""},{"$f":"IFERROR(VLOOKUP(A19,horses!A:D,2,FALSE),\"\")","v":""},{"$f":"IFERROR(VLOOKUP(A19,horses!A:D,3,FALSE),\"\")","v":""},{"$f":"IFERROR(IF(OR(AND(D19=\"D\",C19<0.2*control!$B$4),AND(D19=\"M\",C19<0.06*control!$B$4)),1,IF(AND(D19=\"M\",C19<0.33*control!$B$4),2,MIN(3,B19))),\"\")","v":0},{"$f":"IFERROR(IF(G19=0,RANDBETWEEN(IF(horses!$L$7=\"Yes\",Y19,ROUNDUP(E19*0.25,0)),ROUNDUP(E19*0.25,0)),RANDBETWEEN(IF(horses!$L$7=\"Yes\",Y19,ROUNDUP(E19*G19/3,0)),ROUNDUP(E19*G19/3,0))),\"\")","v":""},0,{"$f":"IFERROR(MIN(control!$B$4,C19+H19+IF(AND(X19=1,horses!$L$7=\"Yes\"),ROUNDUP(SQRT(B61),0),0)),\"\")","v":""},null,{"$f":"IF(ROW()-1<=number_horses,IF(X40=\"\",INDIRECT(ADDRESS(RANDBETWEEN(2,horses!$G$19),1,1,1,\"horses\"),TRUE),X40),\"\")","v":""},0,null,null,{"$f":"IFERROR(VLOOKUP(A19,horses!A:E,5,FALSE),\"\")","v":""},null,{"$f":"IFERROR(STANDARDIZE(P19,control!$B$1,control!$B$2),\"\")","v":""},"","","","","",null,4,"",1.9E-3,8,"",""]
[null,0,null,{"$f":"IFERROR(VLOOKUP(A20,horses!A:D,4,FALSE),\"\")","v":""},{"$f":"IFERROR(VLOOKUP(A20,horses!A:D,2,FALSE),\"\")","v":""},{"$f":"IFERROR(VLOOKUP(A20,horses!A:D,3,FALSE),\"\")","v":""},{"$f":"IFERROR(IF(OR(AND(D20=\"D\",C20<0.2*control!$B$4),AND(D20=\"M\",C20<0.06*control!$B$4)),1,IF(AND(D20=\"M\",C20<0.33*control!$B$4),2,MIN(3,B20))),\"\")","v":0},{"$f":"IFERROR(IF(G20=0,RANDBETWEEN(IF(horses!$L$7=\"Yes\",Y20,ROUNDUP(E20*0.25,0)),ROUNDUP(E20*0.25,0)),RANDBETWEEN(IF(horses!$L$7=\"Yes\",Y20,ROUNDUP(E20*G20/3,0)),ROUNDUP(E20*G20/3,0))),\"\")","v":""},0,{"$f":"IFERROR(MIN(control!$B$4,C20+H20+IF(AND(X20=1,horses!$L$7=\"Yes\"),ROUNDUP(SQRT(B62),0),0)),\"\")","v":""},null,{"$f":"IF(ROW()-1<=number_horses,IF(X41=\"\",INDIRECT(ADDRESS(RANDBETWEEN(2,horses!$G$19),1,1,1,\"horses\"),TRUE),X41),\"\")","v":""},0,null,null,{"$f":"IFERROR(VLOOKUP(A20,horses!A:E,5,FALSE),\"\")","v":""},null,{"$f":"IFERROR(STANDARDIZE(P20,control!$B$1,control!$B$2),\"\")","v":""},"","","","","",null,4,"",2E-3,7,"",""]
[null,0,null,{"$f":"IFERROR(VLOOKUP(A21,horses!A:D,4,FALSE),\"\")","v":""},{"$f":"IFERROR(VLOOKUP(A21,horses!A:D,2,FALSE),\"\")","v":""},{"$f":"IFERROR(VLOOKUP(A21,horses!A:D,3,FALSE),\"\")","v":""},{"$f":"IFERROR(IF(OR(AND(D21=\"D\",C21<0.2*control!$B$4),AND(D21=\"M\",C21<0.06*control!$B$4)),1,IF(AND(D21=\"M\",C21<0.33*control!$B$4),2,MIN(3,B21))),\"\")","v":0},{"$f":"IFERROR(IF(G21=0,RANDBETWEEN(IF(horses!$L$7=\"Yes\",Y21,ROUNDUP(E21*0.25,0)),ROUNDUP(E21*0.25,0)),RANDBETWEEN(IF(horses!$L$7=\"Yes\",Y21,ROUNDUP(E21*G21/3,0)),ROUNDUP(E21*G21/3,0))),\"\")","v":""},0,{"$f":"IFERROR(MIN(control!$B$4,C21+H21+IF(AND(X21=1,horses!$L$7=\"Yes\"),ROUNDUP(SQRT(B63),0),0)),\"\")","v":""},null,{"$f":"IF(ROW()-1<=number_horses,IF(X42=\"\",INDIRECT(ADDRESS(RANDBETWEEN(2,horses!$G$19),1,1,1,\"horses\"),TRUE),X42),\"\")","v":""},0,null,null,{"$f":"IFERROR(VLOOKUP(A21,horses!A:E,5,FALSE),\"\")","v":""},null,{"$f":"IFERROR(STANDARDIZE(P21,control!$B$1,control!$B$2),\"\")","v":""},"","","","","",null,4,"",2.0999999999999999E-3,6,"",""]
[null,null,null,null,null,null,null,null,null,null,null,null,null,null,null,null,null,null,null,null,null,null,null,"Select Horses for Race"]
[{"$f":"IF(A2=0,\"\",A2)","v":"Wills"},{"$f":"C2*400/$G$71","v":400},null,null,null,null,null,null,null,null,null,null,null,null,{"$f":"IF(ROW()-ROW($O$22)<=number_horses,ROW()-ROW($O$22),\"\")","v":1},{"$f":"IFERROR(VLOOKUP(O23,$AB$2:$AC$21,2,FALSE),\"\")","v":"Dame de Pique"},null,null,null,null,null,null,"leave blank for random horses >"]
[{"$f":"IF(A3=0,\"\",A3)","v":"Doris"},400,null,null,null,null,null,null,null,null,null,null,null,null,2,{"$f":"IFERROR(VLOOKUP(O24,$AB$2:$AC$21,2,FALSE),\"\")","v":"Damien"}]
["Greased Lightning",400,null,null,null,null,null,null,null,null,null,null,null,null,3,"Wills"]
["Damien",400,null,null,null,null,null,null,null,null,null,null,null,null,4,"Greased Lightning"]
["Dame de Pique",400,null,null,null,null,null,null,null,null,null,null,null,null,5,"Doris"]
["",0,null,null,null,null,null,null,null,null,null,null,null,null,"",""]
["",0,null,null,null,null,null,null,null,null,null,null,null,null,"","",null,null,null,null,null,null,null,null,0.1]
["",0,null,null,null,null,null,null,null,null,null,null,null,null,"","",null,null,null,null,null,null,null,null,400,"meters"]
["",0,null,null,null,null,null,null,null,null,null,null,null,null,"","",null,null,null,null,null,null,null,null,5]
["",{"$f":"C11*400/$G$71","v":0},null,null,null,null,null,null,null,null,null,null,null,null,"",""]
["",0,null,null,null,null,null,null,null,null,null,null,null,null,"",""]
["",0,null,null,null,null,null,null,null,null,null,null,null,null,"",""]
["",0,null,null,null,null,null,null,null,null,null,null,null,null,"",""]
["",0,null,null,null,null,null,null,null,null,null,null,null,null,"",""]
["",0,null,null,null,null,null,null,null,null,null,null,null,null,"",""]
["",0,null,null,null,null,null,null,null,null,null,null,null,null,"",""]
["",0,null,null,null,null,null,null,null,null,null,null,null,null,"",""]
["",0,null,null,null,null,null,null,null,null,null,null,null,null,"",""]
["",0,null,null,null,null,null,null,null,null,null,null,null,null,"",""]
["",0,null,null,null,null,null,null,null,null,null,null,null,null,"",""]
["BETS","Odds","Time","Position",null,null,null,null,null,null,null,null,null,null,null,null,null,null,null,null,null,"Player",null,"ENTER NAME"]
[{"$f":"IF(A23=\"\",\"\",A23)","v":"Wills"},{"$f":"V2","v":30},{"$f":"IF(A44=\"\",\"\",IF(control!$B$3=0,\"\",IF(M2=\"\",\"\",M2)))","v":51},{"$f":"IF(A44=\"\",\"\",IFERROR(RANK(C44,$C$44:$C$48,1),\"\"))","v":3},null,null,null,null,null,null,null,null,null,null,null,null,null,null,null,null,null,"Cash",null,{"$f":"IFERROR(IF($X$43=\"ENTER NAME\",\"\",VLOOKUP($X$43,players!A:H,ROW()-ROW($X$43)+1,FALSE)),\"\")","v":""}]
[{"$f":"IF(A24=\"\",\"\",A24)","v":"Doris"},{"$f":"V3","v":4},{"$f":"IF(A45=\"\",\"\",IF(control!$B$3=0,\"\",IF(M3=\"\",\"\",M3)))","v":63.6},{"$f":"IF(A45=\"\",\"\",IFERROR(RANK(C45,$C$44:$C$48,1),\"\"))","v":5},null,null,null,null,null,null,null,null,null,null,null,null,null,null,null,null,null,"Number of Bets",null,{"$f":"IFERROR(IF($X$43=\"ENTER NAME\",\"\",VLOOKUP($X$43,players!A:H,ROW()-ROW($X$43)+1,FALSE)),\"\")","v":""}]
["Greased Lightning",3,{"$f":"IF(A46=\"\",\"\",IF(control!$B$3=0,\"\",IF(M4=\"\",\"\",M4)))","v":61.2},{"$f":"IF(A46=\"\",\"\",IFERROR(RANK(C46,$C$44:$C$48,1),\"\"))","v":4},null,null,null,null,null,null,null,null,null,null,null,null,null,null,null,null,null,"Average Winnings",null,{"$f":"IFERROR(IF($X$43=\"ENTER NAME\",\"\",VLOOKUP($X$43,players!A:H,ROW()-ROW($X$43)+1,FALSE)),\"\")","v":""}]
["Damien",3,{"$f":"IF(A47=\"\",\"\",IF(control!$B$3=0,\"\",IF(M5=\"\",\"\",M5)))","v":31.1},{"$f":"IF(A47=\"\",\"\",IFERROR(RANK(C47,$C$44:$C$48,1),\"\"))","v":2},null,null,null,null,null,null,null,null,null,null,null,null,null,null,null,null,null,"Biggest Win",null,{"$f":"IFERROR(IF($X$43=\"ENTER NAME\",\"\",VLOOKUP($X$43,players!A:H,ROW()-ROW($X$43)+1,FALSE)),\"\")","v":""}]
["Dame de Pique",2,{"$f":"IF(A48=\"\",\"\",IF(control!$B$3=0,\"\",IF(M6=\"\",\"\",M6)))","v":26.294117647058822},{"$f":"IF(A48=\"\",\"\",IFERROR(RANK(C48,$C$44:$C$48,1),\"\"))","v":1}]
["","",{"$f":"IF(A49=\"\",\"\",IF(control!$B$3=0,\"\",IF(M7=\"\",\"\",M7)))","v":""},{"$f":"IF(A49=\"\",\"\",IFERROR(RANK(C49,$C$44:$C$63,1),\"\"))","v":""},null,null,null,null,null,null,null,null,null,null,null,null,null,null,null,null,null,"CREATE A HORSE"]
["","",{"$f":"IF(A50=\"\",\"\",IF(control!$B$3=0,\"\",IF(M8=\"\",\"\",M8)))","v":""},"",null,null,null,null,null,null,null,null,null,null,null,null,null,null,null,null,null,"Name","Name",null,null,{"$f":"IF(COUNTIF(horses!A:A,'the race'!X50)>0,\"Duplicate\",IF(X50=\"\",\"Invalid\",\"\"))","v":"Invalid"}]
["","",{"$f":"IF(A51=\"\",\"\",IF(control!$B$3=0,\"\",IF(M9=\"\",\"\",M9)))","v":""},"",null,null,null,null,null,null,null,null,null,null,null,null,null,null,null,null,null,"Speed","Speed",null,null,{"$f":"IF(X51<=0,\"Invalid\",\"\")","v":"Invalid"}]
["","",{"$f":"IF(A52=\"\",\"\",IF(control!$B$3=0,\"\",IF(M10=\"\",\"\",M10)))","v":""},"",null,null,null,null,null,null,null,null,null,null,null,null,null,null,null,null,null,"Speed Units",null,null,null,{"$f":"IF(OR(X52=\"mph\",X52=\"m/s\"),\"\",\"Invalid\")","v":"Invalid"}]
["","",{"$f":"IF(A53=\"\",\"\",IF(control!$B$3=0,\"\",IF(M11=\"\",\"\",M11)))","v":""},"",null,null,null,null,null,null,null,null,null,null,null,null,null,null,null,null,null,"Stamina","Stamina",null,null,{"$f":"IF(X53<=0,\"Invalid\",\"\")","v":"Invalid"}]
["","",{"$f":"IF(A54=\"\",\"\",IF(control!$B$3=0,\"\",IF(M12=\"\",\"\",M12)))","v":""},"",null,null,null,null,null,null,null,null,null,null,null,null,null,null,null,null,null,"Strategy",null,null,null,{"$f":"IF(OR(X54=\"D\",X54=\"M\",X54=\"S\"),\"\",\"Invalid\")","v":"Invalid"}]
["","",{"$f":"IF(A55=\"\",\"\",IF(control!$B$3=0,\"\",IF(M13=\"\",\"\",M13)))","v":""},""]
["","",{"$f":"IF(A56=\"\",\"\",IF(control!$B$3=0,\"\",IF(M14=\"\",\"\",M14)))","v":""},""]
["","",{"$f":"IF(A57=\"\",\"\",IF(control!$B$3=0,\"\",IF(M15=\"\",\"\",M15)))","v":""},""]
["","",{"$f":"IF(A58=\"\",\"\",IF(control!$B$3=0,\"\",IF(M16=\"\",\"\",M16)))","v":""},""]
["","",{"$f":"IF(A59=\"\",\"\",IF(control!$B$3=0,\"\",IF(M17=\"\",\"\",M17)))","v":""},""]
["","",{"$f":"IF(A60=\"\",\"\",IF(control!$B$3=0,\"\",IF(M18=\"\",\"\",M18)))","v":""},""]
["","",{"$f":"IF(A61=\"\",\"\",IF(control!$B$3=0,\"\",IF(M19=\"\",\"\",M19)))","v":""},""]
["","",{"$f":"IF(A62=\"\",\"\",IF(control!$B$3=0,\"\",IF(M20=\"\",\"\",M20)))","v":""},""]
["","",{"$f":"IF(A63=\"\",\"\",IF(control!$B$3=0,\"\",IF(M21=\"\",\"\",M21)))","v":""},""]
["PLAYER SUMMARY","Payout",null,{"$f":"IFERROR(IFERROR(D44*$A$65*$B$44,0)+IFERROR(D45*$A$66*$B$45,0)+IFERROR(D46*$A$67*$B$46,0)+IFERROR(D47*$A$68*$B$47,0)+IFERROR(D48*$A$69*$B$48,0)+IFERROR(D49*$A$70*$B$49,0)+IFERROR(D50*$A$71*$B$50,0)+IFERROR(D51*$A$72*$B$51,0)+IFERROR(D52*$A$73*$B$52,0)+IFERROR(D53*$A$74*$B$53,0)+IFERROR(D54*$A$75*$B$54,0)+IFERROR(D55*$A$76*$B$55,0)+IFERROR(D56*$A$77*$B$56,0)+IFERROR(D57*$A$78*$B$57,0)+IFERROR(D58*$A$79*$B$58,0)+IFERROR(D59*$A$80*$B$59,0)+IFERROR(D60*$A$81*$B$60,0)+IFERROR(D61*$A$82*$B$61,0)+IFERROR(D62*$A$83*$B$62,0)+IFERROR(D63*$A$84*$B$63,0),\"\")","v":35},{"$f":"IFERROR(IFERROR(E44*$A$65*$B$44,0)+IFERROR(E45*$A$66*$B$45,0)+IFERROR(E46*$A$67*$B$46,0)+IFERROR(E47*$A$68*$B$47,0)+IFERROR(E48*$A$69*$B$48,0)+IFERROR(E49*$A$70*$B$49,0)+IFERROR(E50*$A$71*$B$50,0)+IFERROR(E51*$A$72*$B$51,0)+IFERROR(E52*$A$73*$B$52,0)+IFERROR(E53*$A$74*$B$53,0)+IFERROR(E54*$A$75*$B$54,0)+IFERROR(E55*$A$76*$B$55,0)+IFERROR(E56*$A$77*$B$56,0)+IFERROR(E57*$A$78*$B$57,0)+IFERROR(E58*$A$79*$B$58,0)+IFERROR(E59*$A$80*$B$59,0)+IFERROR(E60*$A$81*$B$60,0)+IFERROR(E61*$A$82*$B$61,0)+IFERROR(E62*$A$83*$B$62,0)+IFERROR(E63*$A$84*$B$63,0),\"\")","v":0},0,0,0,0,0,0,0,0,0,0,0,{"$f":"IFERROR(IFERROR(Q44*$A$65*$B$44,0)+IFERROR(Q45*$A$66*$B$45,0)+IFERROR(Q46*$A$67*$B$46,0)+IFERROR(Q47*$A$68*$B$47,0)+IFERROR(Q48*$A$69*$B$48,0)+IFERROR(Q49*$A$70*$B$49,0)+IFERROR(Q50*$A$71*$B$50,0)+IFERROR(Q51*$A$72*$B$51,0)+IFERROR(Q52*$A$73*$B$52,0)+IFERROR(Q53*$A$74*$B$53,0)+IFERROR(Q54*$A$75*$B$54,0)+IFERROR(Q55*$A$76*$B$55,0)+IFERROR(Q56*$A$77*$B$56,0)+IFERROR(Q57*$A$78*$B$57,0)+IFERROR(Q58*$A$79*$B$58,0)+IFERROR(Q59*$A$80*$B$59,0)+IFERROR(Q60*$A$81*$B$60,0)+IFERROR(Q61*$A$82*$B$61,0)+IFERROR(Q62*$A$83*$B$62,0)+IFERROR(Q63*$A$84*$B$63,0),\"\")","v":0},0,{"$f":"IFERROR(IFERROR(S44*$A$65*$B$44,0)+IFERROR(S45*$A$66*$B$45,0)+IFERROR(S46*$A$67*$B$46,0)+IFERROR(S47*$A$68*$B$47,0)+IFERROR(S48*$A$69*$B$48,0)+IFERROR(S49*$A$70*$B$49,0)+IFERROR(S50*$A$71*$B$50,0)+IFERROR(S51*$A$72*$B$51,0)+IFERROR(S52*$A$73*$B$52,0)+IFERROR(S53*$A$74*$B$53,0)+IFERROR(S54*$A$75*$B$54,0)+IFERROR(S55*$A$76*$B$55,0)+IFERROR(S56*$A$77*$B$56,0)+IFERROR(S57*$A$78*$B$57,0)+IFERROR(S58*$A$79*$B$58,0)+IFERROR(S59*$A$80*$B$59,0)+IFERROR(S60*$A$81*$B$60,0)+IFERROR(S61*$A$82*$B$61,0)+IFERROR(S62*$A$83*$B$62,0)+IFERROR(S63*$A$84*$B$63,0),\"\")","v":0}]
[{"$f":"IFERROR(IF(RANK(C44,$C$44:$C$63,1)=1,1,IF(RANK(C44,$C$44:$C$63,1)=2,0.5,IF(RANK(C44,$C$44:$C$63,1)=3,1/3,0))),\"\")","v":0.33333333333333331},null,null,"*1st place: full payout; 2nd place: 1/2 payout; 3rd place: 1/3 payout"]
[0,null,null,null,null,null,{"$f":"IF(race_set=\"Y\",G72&\" horse race set for \"&G71&\" \"&H71&\"!\",\"\")","v":""}]
[0]
[0.5]
[1]
["","Speed",0.1,"* actual time",null,"Speed",0.1,"* actual time"]
["","Distance",400,"meters",null,"Distance",400,"meters",null,"Enter name in box above then press button"]
[{"$f":"IFERROR(IF(RANK(C51,$C$44:$C$63,1)=1,1,IF(RANK(C51,$C$44:$C$63,1)=2,0.5,IF(RANK(C51,$C$44:$C$63,1)=3,1/3,0))),\"\")","v":""},"# Horses",5,null,null,"# of Horses",5,"N"]
[{"$f":"IFERROR(IF(RANK(C52,$C$44:$C$63,1)=1,1,IF(RANK(C52,$C$44:$C$63,1)=2,0.5,IF(RANK(C52,$C$44:$C$63,1)=3,1/3,0))),\"\")","v":""},null,"Player",null,{"$f":"IF(E43=0,\"\",E43)","v":""},"","","","","","","","","","","",{"$f":"IF(Q43=0,\"\",Q43)","v":""},"",""]
["",null,"Cash",null,{"$f":"IFERROR(VLOOKUP(E73,players!$A:$D,2,FALSE),\"\")","v":""},{"$f":"IFERROR(VLOOKUP(F73,players!$A:$D,2,FALSE),\"\")","v":""},{"$f":"IFERROR(VLOOKUP(G73,players!$A:$D,2,FALSE),\"\")","v":""},{"$f":"IFERROR(VLOOKUP(H73,players!$A:$D,2,FALSE),\"\")","v":""},{"$f":"IFERROR(VLOOKUP(I73,players!$A:$D,2,FALSE),\"\")","v":""},{"$f":"IFERROR(VLOOKUP(J73,players!$A:$D,2,FALSE),\"\")","v":""},{"$f":"IFERROR(VLOOKUP(K73,players!$A:$D,2,FALSE),\"\")","v":""},{"$f":"IFERROR(VLOOKUP(L73,players!$A:$D,2,FALSE),\"\")","v":""},{"$f":"IFERROR(VLOOKUP(M73,players!$A:$D,2,FALSE),\"\")","v":""},{"$f":"IFERROR(VLOOKUP(N73,players!$A:$D,2,FALSE),\"\")","v":""},{"$f":"IFERROR(VLOOKUP(O73,players!$A:$D,2,FALSE),\"\")","v":""},{"$f":"IFERROR(VLOOKUP(P73,players!$A:$D,2,FALSE),\"\")","v":""},{"$f":"IFERROR(VLOOKUP(Q73,players!$A:$D,2,FALSE),\"\")","v":""},{"$f":"IFERROR(VLOOKUP(R73,players!$A:$D,2,FALSE),\"\")","v":""},{"$f":"IFERROR(VLOOKUP(S73,players!$A:$D,2,FALSE),\"\")","v":""}]
["",null,"Average Winnings",null,{"$f":"IFERROR(VLOOKUP(E43,players!$A:$D,4,FALSE),\"\")","v":""},{"$f":"IFERROR(VLOOKUP(F43,players!$A:$D,4,FALSE),\"\")","v":""},{"$f":"IFERROR(VLOOKUP(G43,players!$A:$D,4,FALSE),\"\")","v":""},{"$f":"IFERROR(VLOOKUP(H43,players!$A:$D,4,FALSE),\"\")","v":""},{"$f":"IFERROR(VLOOKUP(I43,players!$A:$D,4,FALSE),\"\")","v":""},{"$f":"IFERROR(VLOOKUP(J43,players!$A:$D,4,FALSE),\"\")","v":""},{"$f":"IFERROR(VLOOKUP(K43,players!$A:$D,4,FALSE),\"\")","v":""},{"$f":"IFERROR(VLOOKUP(L43,players!$A:$D,4,FALSE),\"\")","v":""},{"$f":"IFERROR(VLOOKUP(M43,players!$A:$D,4,FALSE),\"\")","v":""},{"$f":"IFERROR(VLOOKUP(N43,players!$A:$D,4,FALSE),\"\")","v":""},{"$f":"IFERROR(VLOOKUP(O43,players!$A:$D,4,FALSE),\"\")","v":""},{"$f":"IFERROR(VLOOKUP(P43,players!$A:$D,4,FALSE),\"\")","v":""},{"$f":"IFERROR(VLOOKUP(Q43,players!$A:$D,4,FALSE),\"\")","v":""},{"$f":"IFERROR(VLOOKUP(R43,players!$A:$D,4,FALSE),\"\")","v":""},{"$f":"IFERROR(VLOOKUP(S43,players!$A:$D,4,FALSE),\"\")","v":""}]
["",null,"Biggest Win",null,{"$f":"IFERROR(VLOOKUP(E43,players!$A:$E,5,FALSE),\"\")","v":""},{"$f":"IFERROR(VLOOKUP(F43,players!$A:$E,5,FALSE),\"\")","v":""},{"$f":"IFERROR(VLOOKUP(G43,players!$A:$E,5,FALSE),\"\")","v":""},{"$f":"IFERROR(VLOOKUP(H43,players!$A:$E,5,FALSE),\"\")","v":""},{"$f":"IFERROR(VLOOKUP(I43,players!$A:$E,5,FALSE),\"\")","v":""},{"$f":"IFERROR(VLOOKUP(J43,players!$A:$E,5,FALSE),\"\")","v":""},{"$f":"IFERROR(VLOOKUP(K43,players!$A:$E,5,FALSE),\"\")","v":""},{"$f":"IFERROR(VLOOKUP(L43,players!$A:$E,5,FALSE),\"\")","v":""},{"$f":"IFERROR(VLOOKUP(M43,players!$A:$E,5,FALSE),\"\")","v":""},{"$f":"IFERROR(VLOOKUP(N43,players!$A:$E,5,FALSE),\"\")","v":""},{"$f":"IFERROR(VLOOKUP(O43,players!$A:$E,5,FALSE),\"\")","v":""},{"$f":"IFERROR(VLOOKUP(P43,players!$A:$E,5,FALSE),\"\")","v":""},{"$f":"IFERROR(VLOOKUP(Q43,players!$A:$E,5,FALSE),\"\")","v":""},{"$f":"IFERROR(VLOOKUP(R43,players!$A:$E,5,FALSE),\"\")","v":""},{"$f":"IFERROR(VLOOKUP(S43,players!$A:$E,5,FALSE),\"\")","v":""}]
["",null,null,{"$f":"COUNTIF(E77:P77,FALSE)","v":0},{"$f":"SUM(E44:E63)<=E74","v":true},{"$f":"SUM(F44:F63)<=F74","v":true},true,true,true,true,true,true,true,true,true,true]
[""]
[""]
[""]
[{"$f":"IFERROR(IF(RANK(C60,$C$44:$C$63,1)=1,1,IF(RANK(C60,$C$44:$C$63,1)=2,0.5,IF(RANK(C60,$C$44:$C$63,1)=3,1/3,0))),\"\")","v":""}]
[""]
[""]
[{"$f":"IFERROR(IF(RANK(C63,$C$44:$C$63,1)=1,1,IF(RANK(C63,$C$44:$C$63,1)=2,0.5,IF(RANK(C63,$C$44:$C$63,1)=3,1/3,0))),\"\")","v":""}]

{"sheet":"control","index":2,"n_rows":25,"n_cols":20,"rows_kept":25,"cut":false,"hidden":true,"merged":[]}
["avg",{"$f":"AVERAGE('the race'!P2:P21)","v":63.195800902706267}]
["stdev",{"$f":"STDEV('the race'!P2:P21)","v":19.444747140221455}]
["in race?",1,"*set this to 1 when race starts, set to 0 once 'setup race' has been run"]
["length of race (m)",{"$f":"C12","v":400},"*this will change when alternate race types are selected. Default is/was 400 m"]
[]
[]
[null,"meters","length"]
["furlongs",{"$f":"1/200","v":5.0000000000000001E-3},{"$f":"IF('the race'!$H$71=control!A8,'the race'!$G$71*control!B8,\"\")","v":""}]
["miles",{"$f":"B8/8","v":6.2500000000000001E-4},{"$f":"IF('the race'!$H$71=control!A9,'the race'!$G$71*control!B9,\"\")","v":""}]
["yards",{"$f":"B8*220","v":1.1000000000000001},{"$f":"IF('the race'!$H$71=control!A10,'the race'!$G$71*control!B10,\"\")","v":""}]
["meters",{"$f":"B8*200","v":1},{"$f":"IF('the race'!$H$71=control!A11,'the race'!$G$71*control!B11,\"\")","v":400}]
[null,null,{"$f":"MAX(C8:C11)","v":400}]
[]
[]
[null,null,null,null,null,"duplicate player?"]
[null,"m/s",null,null,null,{"$f":"IF('the race'!J70=\"\",\"Invalid\",IF(COUNTIF(players!A:A,'the race'!J70)>0,\"Duplicate\",\"Valid\"))","v":"Invalid"}]
["m/s",1]
["mph",0.44703999999999999,null,null,null,"race valid names?"]
[null,null,null,null,null,{"$f":"IF('the race'!E43=\"\",1,IF(COUNTIF('the race'!$E$43:$S$43,'the race'!E43)>1,0,COUNTIF(players!$A:$A,'the race'!E43)))","v":1},{"$f":"IF('the race'!F43=\"\",1,IF(COUNTIF('the race'!$E$43:$S$43,'the race'!F43)>1,0,COUNTIF(players!$A:$A,'the race'!F43)))","v":1},{"$f":"IF('the race'!G43=\"\",1,IF(COUNTIF('the race'!$E$43:$S$43,'the race'!G43)>1,0,COUNTIF(players!$A:$A,'the race'!G43)))","v":1},{"$f":"IF('the race'!H43=\"\",1,IF(COUNTIF('the race'!$E$43:$S$43,'the race'!H43)>1,0,COUNTIF(players!$A:$A,'the race'!H43)))","v":1},{"$f":"IF('the race'!I43=\"\",1,IF(COUNTIF('the race'!$E$43:$S$43,'the race'!I43)>1,0,COUNTIF(players!$A:$A,'the race'!I43)))","v":1},{"$f":"IF('the race'!J43=\"\",1,IF(COUNTIF('the race'!$E$43:$S$43,'the race'!J43)>1,0,COUNTIF(players!$A:$A,'the race'!J43)))","v":1},{"$f":"IF('the race'!K43=\"\",1,IF(COUNTIF('the race'!$E$43:$S$43,'the race'!K43)>1,0,COUNTIF(players!$A:$A,'the race'!K43)))","v":1},{"$f":"IF('the race'!L43=\"\",1,IF(COUNTIF('the race'!$E$43:$S$43,'the race'!L43)>1,0,COUNTIF(players!$A:$A,'the race'!L43)))","v":1},{"$f":"IF('the race'!M43=\"\",1,IF(COUNTIF('the race'!$E$43:$S$43,'the race'!M43)>1,0,COUNTIF(players!$A:$A,'the race'!M43)))","v":1},{"$f":"IF('the race'!N43=\"\",1,IF(COUNTIF('the race'!$E$43:$S$43,'the race'!N43)>1,0,COUNTIF(players!$A:$A,'the race'!N43)))","v":1},{"$f":"IF('the race'!O43=\"\",1,IF(COUNTIF('the race'!$E$43:$S$43,'the race'!O43)>1,0,COUNTIF(players!$A:$A,'the race'!O43)))","v":1},{"$f":"IF('the race'!P43=\"\",1,IF(COUNTIF('the race'!$E$43:$S$43,'the race'!P43)>1,0,COUNTIF(players!$A:$A,'the race'!P43)))","v":1},{"$f":"IF('the race'!Q43=\"\",1,IF(COUNTIF('the race'!$E$43:$S$43,'the race'!Q43)>1,0,COUNTIF(players!$A:$A,'the race'!Q43)))","v":1},{"$f":"IF('the race'!R43=\"\",1,IF(COUNTIF('the race'!$E$43:$S$43,'the race'!R43)>1,0,COUNTIF(players!$A:$A,'the race'!R43)))","v":1},{"$f":"IF('the race'!S43=\"\",1,IF(COUNTIF('the race'!$E$43:$S$43,'the race'!S43)>1,0,COUNTIF(players!$A:$A,'the race'!S43)))","v":1}]
["CREATE HORSE",null,null,null,null,{"$f":"IF(COUNTIF(F19:T19,0)>0,\"Invalid\",\"Valid\")","v":"Valid"}]
["name",{"$f":"'the race'!X50","v":0},null,"D"]
["speed",{"$f":"'the race'!X51*IF('the race'!X52=\"mph\",control!B18,control!B17)","v":0},null,"M"]
["stamina",{"$f":"'the race'!X53","v":0},null,"S"]
["strategy",{"$f":"'the race'!X54","v":0}]
["valid?",{"$f":"IF(OR('the race'!X50=\"\",'the race'!Z50=\"Duplicate\",control!B22<=0,control!B23<=0,COUNTIF(control!D21:D23,control!B24)=0),\"N\",\"Y\")","v":"N"}]

{"sheet":"players","index":3,"n_rows":2,"n_cols":8,"rows_kept":2,"cut":false,"hidden":false,"merged":[]}
["ENTER NAME","Cash","Number of Bets","Average Winnings","Biggest Win","Cash","Number of Bets","Biggest Win"]
["TEMPLATE",1000,0,{"$f":"IFERROR((B2-1000)/C2,0)","v":0},0,{"$f":"B2+IFERROR(HLOOKUP(A2,'the race'!$D$43:$P$64,22,FALSE),0)-SUM(INDIRECT(ADDRESS(ROW('the race'!$E$44),IFERROR(MATCH(A2,'the race'!$A$43:$P$43,0),1),1,1,\"the race\")&\":\"&ADDRESS(ROW('the race'!$E$63),IFERROR(MATCH(A2,'the race'!$A$43:$P$43,0),1),1,1),TRUE))","v":1000},{"$f":"C2+IF(COUNTIF('the race'!$D$43:$P$43,players!A2)>0,1,0)","v":0},{"$f":"MAX(E2,IFERROR(HLOOKUP(A2,'the race'!$D$43:$P$64,22,FALSE),0)-SUM(INDIRECT(ADDRESS(ROW('the race'!$E$44),IFERROR(MATCH(A2,'the race'!$A$43:$P$43,0),1),1,1,\"the race\")&\":\"&ADDRESS(ROW('the race'!$E$63),IFERROR(MATCH(A2,'the race'!$A$43:$P$43,0),1),1,1),TRUE)))","v":0}]